{"text_format":"1","workbook":"xlsx","n_sheets":12,"sheets":["Ark1","Innstillinger","Startside","r20","r50","r51","BASE50","BASE20","BASE51","Hjelp","Feilliste","Kontroll"],"not_rendered":{"charts":0,"images":24,"macros":1,"external_links":2,"defined_names":1266,"comments":1,"pivot_tables":0},"unopened":[],"bounds":{"document_bytes":16777216,"sheet_cells":100000,"rows_first":2000,"rows_last":500,"rows_between":2000,"halvings":0,"cell_chars":16384,"cell_head_chars":4096},"cells_cut":0,"cells_raw":0,"read":"whole","date_system":"1900"}

{"sheet":"Ark1","index":0,"n_rows":0,"n_cols":0,"rows_kept":0,"cut":false,"hidden":true,"merged":[]}

{"sheet":"Innstillinger","index":1,"n_rows":10,"n_cols":16,"rows_kept":10,"cut":false,"hidden":true,"merged":[]}
[null,null,null,null,null,null,null,null,null,null,null,"Valgt Måned","Valgt år",null,"Versjonsnummer"]
[null,"Verktøylinjer","Beskrivelse","Innstillinger","Beskrivelse","Kommentarer","Ark som skal valideres","Celler som skal valideres","Celle beskrivelse","Måned","År","Måned","År",null,"05","r51"]
[null,"Reviewing","SSB Meny","SSB UT_1_1_1_1_1_1_1_1_1_1_1_1_1_1_1_1_1_1_1_1_1_1_1_1_1_1_1_1_1_1_1_1_1_1_1_1_1_1_2_1_1_1_1_1_1_1_1_1_1_1_1_1_1_1_1_1_1_1_1_1_2_1_2_1_1_1_1_1_1_1_1_1_1_1_1_1_1_1_1_1_1_1_1_1_1_1_1_1_1_1_1_1_1_1_1_1_1_1_1_1_1_1_1_1_1_1_1_1_1_1_1_1_1_1_1_1_1_1_1_1_1_1_1_1","Dette er navnet på menyen",null,"Balanseposter","orgnr","Org.nummer","Januar",2008]
[null,"Formula Auditing","Aktivt Ark","Startside","Dette er aktivt ark",null,null,null,null,"Februar",2009]
[null,"Drawing",null,"2010-12-31","Hvor lenge denne boken er gyldig",null,null,null,null,"April"]
[null,null,null,null,null,null,null,null,null,"Mai"]
[null,null,null,null,null,null,null,null,null,"Juli"]
[null,null,null,null,null,null,null,null,null,"August"]
[null,null,null,null,null,"halla",null,null,null,"Oktober"]
[null,null,null,null,null,null,null,null,null,"November"]

{"sheet":"Startside","index":2,"n_rows":23,"n_cols":5,"rows_kept":23,"cut":false,"hidden":false,"merged":[[70,2,70,7],[72,2,72,7],[68,2,68,7],[6,1,7,2],[22,1,22,6],[16,1,16,5],[15,1,15,6],[14,1,14,6],[11,4,11,6],[10,4,10,6],[21,1,21,5]]}
[]
[]
[]
[]
[]
[]
[]
[null,null,null,null,"Vennligst fyll inn orgnr. (9 siffer)"]
[null,"Pensjonskassenes offentlige regnskaps- og tilsynsrapportering (PORT)"]
[]
[null,null,null,null,"Veiledningsmateriale til PORT-rapporteringen:"]
[null,"  Bruksanvisning for bruk av regnearksmalen",null,null,"http://www.ssb.no/pensjonskasser/rapportering/"]
[]
[]
[null,"Innrapporteringsskjemaet består av tre rapporter som bes fylles ut. En kan bevege seg mellom arkene ved å trykke på arkfanen nederst på skjermen, eller benytte knappene \"neste ark\" eller \"forrige ark\" som befinner seg øverst i den egendefinerte verktøylinjen. Hvis  Excel 2007 benyttes må en trykke på menyknappen \"Tillegg\" for å få frem den egendefinerte verktøylinjen.\n\nDenne regnearksmalen bruker makroer. Ved problemer med funksjonalitet i regnearksmalen etter nedlasting, sett makrosikkerheten til middels. For nærmere forklaring på hvordan dette gjøres, se \"Veiledning til regnearksmalen\". Om en feilmelding dukker opp i forbindelse med utfylling av skjemaet,  velg \"End\". Dersom regnearksmalen ikke fungerer normalt, velg lagre for deretter å avslutte regnearket. Når en da åpner regnearket på nytt vil utfylt data være intakt, og funksjonaliteten vil være tilbake. For en detaljert beskrivelse av regnearket og evt. feil som kan inntre, se \"Veiledning til regnearksmalen\". Ved gjentatte feil, vennligst kontakt SSB (epost: kreditt250@ssb.no, tlf: 21 09 46 99).\n"]
[null,"Gå gjennom ark for ark i regnearksmalen og fyll ut rapportene. For mer informasjon rundt dette, trykk på \"Hjelp til utfylling\" på verktøylinjen. Etter at hver enkelt rapport er ferdig fylt ut, kjør tilhørende kontroll (kontroll r20 for rapport 20 osv.) ved å trykke på knappen på den egendefinerte verktøylinjen. Når alle tre rapporter er fylt ut, kjør avstemmingskontrollen. Vær oppmerksom på at alle kontrollene må kjøres til man får melding om at kontrollen er kjørt uten feil. De fire kontrollene må være feilfrie for å få klargjort filen for sending. Det er heller ikke mulig å klargjøre filen om aktiva - passiva ≠ 0 og inntekter - kostnader ≠ 0. Om det forekommer tomme felter eller dubletter (identiske poster) i selve rapporten vil også lagring avbrytes. \n"]
[null,"Når alle tre rapportene er fullstendig utfylt skal regnearket lagres i dat-format. Denne dat-filen skal sendes til SSB. \nFor å generere de utfylte dataene til dat-fil trykker en på knappen \"Klargjøring for sending\", som en finner \nøverst i den egendefinerte verktøylinjen. Da filen skal leses maskinelt må den være lagret i dat-format. Om ikke annet er avtalt på forhånd, vil alle XLS-filer vil bli avvist og returnert. Den endelige filen skal sendes til SSB via Altinn portalen. \n\n\n"]
[null,"Nærmere beskrivelse av fremgangsmåten for å sende filen via Altinn finner en ved å trykke på linken oppe til "]
[null,"høyre på denne siden, for deretter å velge \"Innsending - Altinn\" i menyen til venstre på SSB sine nettsider for pensjonskasser."]
[]
[null,"Følgende kontroller må kjøres og være feilfrie før filen kan lagres i dat-format og sendes inn til SSB:"]
[null,"\n(For en detaljert beskrivelse av kontrollene, se \"Feilkontroller i regnearksmalen og ved mottak\" tilgjengelig på hjemmesiden for PORT)\n"]
[null,"\n1) Kontroll r20: Sjekker at minst en resultatpost er ført i rapporten. \nSjekker at de postene som ifølge kodelisten skal føres med negativt beløp faktisk er negative\n\n2) Kontroll r50: Sjekker at summen av finansielle derivater er positiv, at de postene som ifølge \nkodelisten skal føres med negativt beløp faktisk er negative og at postene som skal ha sektortype \nA1 ikke er ført med en ugyldig sektorkode.\n\n3) Kontroll r51: Sjekker at nøkkeltall- og bestandspostene er fylt ut, at finansielle derivater kun er ført \nmed positive beløp, at de postene som ifølge kodelisten skal føres med negativt beløp faktisk \ner negative, at postene som skal ha sektortype A1 ikke er ført med en ugyldig sektorkode, \nog at alle 60-poster er landfordelt.\n\n4) Avstemming: Sjekker at de postene i rapport 20 og rapport 50 som skal fordeles i rapport 51 \nfaktisk er fordelt og at det er samsvar mellom beløpene i rapport 20/50 og i rapport 51. \n"]

{"sheet":"r20","index":3,"n_rows":4500,"n_cols":5,"rows_kept":4500,"cut":false,"hidden":false,"merged":[]}
[]
[]
["Datasentralnummer (3 siffer)",43]
["Organisasjonsnr. (9 siffer)",{"$f":"Startside!G8","v":0}]
["Rapport nr. (20, 2 siffer)",20]
["Periode (år og måned; ååååmm, 6 siffer)  ",202112]
[]
[]
["Kontroll ( Inntekter - Kostnader )",{"$f":"Kontroll!G392","v":0}]
[]
["POSTER I ÅRSRESULTATREGNSKAPET","KODE","PORTEFØLJE","SEKTOR","BELØP"]
["",null,"",""]
[null,{"$f":"IF(ISBLANK(A13),\"\",VLOOKUP(A13,base_itens_20,2,FALSE))","v":""}]
[null,{"$f":"IF(ISBLANK(A14),\"\",VLOOKUP(A14,base_itens_20,2,FALSE))","v":""}]
[null,{"$f":"IF(ISBLANK(A15),\"\",VLOOKUP(A15,base_itens_20,2,FALSE))","v":""}]
[null,{"$f":"IF(ISBLANK(A16),\"\",VLOOKUP(A16,base_itens_20,2,FALSE))","v":""}]
[null,{"$f":"IF(ISBLANK(A17),\"\",VLOOKUP(A17,base_itens_20,2,FALSE))","v":""}]
[null,{"$f":"IF(ISBLANK(A18),\"\",VLOOKUP(A18,base_itens_20,2,FALSE))","v":""}]
[null,{"$f":"IF(ISBLANK(A19),\"\",VLOOKUP(A19,base_itens_20,2,FALSE))","v":""}]
[null,{"$f":"IF(ISBLANK(A20),\"\",VLOOKUP(A20,base_itens_20,2,FALSE))","v":""}]
[null,{"$f":"IF(ISBLANK(A21),\"\",VLOOKUP(A21,base_itens_20,2,FALSE))","v":""}]
[null,{"$f":"IF(ISBLANK(A22),\"\",VLOOKUP(A22,base_itens_20,2,FALSE))","v":""}]
[null,{"$f":"IF(ISBLANK(A23),\"\",VLOOKUP(A23,base_itens_20,2,FALSE))","v":""}]
[null,{"$f":"IF(ISBLANK(A24),\"\",VLOOKUP(A24,base_itens_20,2,FALSE))","v":""}]
[null,{"$f":"IF(ISBLANK(A25),\"\",VLOOKUP(A25,base_itens_20,2,FALSE))","v":""}]
[null,{"$f":"IF(ISBLANK(A26),\"\",VLOOKUP(A26,base_itens_20,2,FALSE))","v":""}]
[null,{"$f":"IF(ISBLANK(A27),\"\",VLOOKUP(A27,base_itens_20,2,FALSE))","v":""}]
[null,{"$f":"IF(ISBLANK(A28),\"\",VLOOKUP(A28,base_itens_20,2,FALSE))","v":""}]
[null,{"$f":"IF(ISBLANK(A29),\"\",VLOOKUP(A29,base_itens_20,2,FALSE))","v":""}]
[null,{"$f":"IF(ISBLANK(A30),\"\",VLOOKUP(A30,base_itens_20,2,FALSE))","v":""}]
[null,{"$f":"IF(ISBLANK(A31),\"\",VLOOKUP(A31,base_itens_20,2,FALSE))","v":""}]
[null,{"$f":"IF(ISBLANK(A32),\"\",VLOOKUP(A32,base_itens_20,2,FALSE))","v":""}]
[null,{"$f":"IF(ISBLANK(A33),\"\",VLOOKUP(A33,base_itens_20,2,FALSE))","v":""}]
[null,{"$f":"IF(ISBLANK(A34),\"\",VLOOKUP(A34,base_itens_20,2,FALSE))","v":""}]
[null,{"$f":"IF(ISBLANK(A35),\"\",VLOOKUP(A35,base_itens_20,2,FALSE))","v":""}]
[null,{"$f":"IF(ISBLANK(A36),\"\",VLOOKUP(A36,base_itens_20,2,FALSE))","v":""}]
[null,{"$f":"IF(ISBLANK(A37),\"\",VLOOKUP(A37,base_itens_20,2,FALSE))","v":""}]
[null,{"$f":"IF(ISBLANK(A38),\"\",VLOOKUP(A38,base_itens_20,2,FALSE))","v":""}]
[null,{"$f":"IF(ISBLANK(A39),\"\",VLOOKUP(A39,base_itens_20,2,FALSE))","v":""}]
[null,{"$f":"IF(ISBLANK(A40),\"\",VLOOKUP(A40,base_itens_20,2,FALSE))","v":""}]
[null,{"$f":"IF(ISBLANK(A41),\"\",VLOOKUP(A41,base_itens_20,2,FALSE))","v":""}]
[null,{"$f":"IF(ISBLANK(A42),\"\",VLOOKUP(A42,base_itens_20,2,FALSE))","v":""}]
[null,{"$f":"IF(ISBLANK(A43),\"\",VLOOKUP(A43,base_itens_20,2,FALSE))","v":""}]
[null,{"$f":"IF(ISBLANK(A44),\"\",VLOOKUP(A44,base_itens_20,2,FALSE))","v":""}]
[null,{"$f":"IF(ISBLANK(A45),\"\",VLOOKUP(A45,base_itens_20,2,FALSE))","v":""}]
[null,{"$f":"IF(ISBLANK(A46),\"\",VLOOKUP(A46,base_itens_20,2,FALSE))","v":""}]
[null,{"$f":"IF(ISBLANK(A47),\"\",VLOOKUP(A47,base_itens_20,2,FALSE))","v":""}]
[null,{"$f":"IF(ISBLANK(A48),\"\",VLOOKUP(A48,base_itens_20,2,FALSE))","v":""}]
[null,{"$f":"IF(ISBLANK(A49),\"\",VLOOKUP(A49,base_itens_20,2,FALSE))","v":""}]
[null,{"$f":"IF(ISBLANK(A50),\"\",VLOOKUP(A50,base_itens_20,2,FALSE))","v":""}]
[null,{"$f":"IF(ISBLANK(A51),\"\",VLOOKUP(A51,base_itens_20,2,FALSE))","v":""}]
[null,{"$f":"IF(ISBLANK(A52),\"\",VLOOKUP(A52,base_itens_20,2,FALSE))","v":""}]
[null,{"$f":"IF(ISBLANK(A53),\"\",VLOOKUP(A53,base_itens_20,2,FALSE))","v":""}]
[null,{"$f":"IF(ISBLANK(A54),\"\",VLOOKUP(A54,base_itens_20,2,FALSE))","v":""}]
[null,{"$f":"IF(ISBLANK(A55),\"\",VLOOKUP(A55,base_itens_20,2,FALSE))","v":""}]
[null,{"$f":"IF(ISBLANK(A56),\"\",VLOOKUP(A56,base_itens_20,2,FALSE))","v":""}]
[null,{"$f":"IF(ISBLANK(A57),\"\",VLOOKUP(A57,base_itens_20,2,FALSE))","v":""}]
[null,{"$f":"IF(ISBLANK(A58),\"\",VLOOKUP(A58,base_itens_20,2,FALSE))","v":""}]
[null,{"$f":"IF(ISBLANK(A59),\"\",VLOOKUP(A59,base_itens_20,2,FALSE))","v":""}]
[null,{"$f":"IF(ISBLANK(A60),\"\",VLOOKUP(A60,base_itens_20,2,FALSE))","v":""}]
[null,{"$f":"IF(ISBLANK(A61),\"\",VLOOKUP(A61,base_itens_20,2,FALSE))","v":""}]
[null,{"$f":"IF(ISBLANK(A62),\"\",VLOOKUP(A62,base_itens_20,2,FALSE))","v":""}]
[null,{"$f":"IF(ISBLANK(A63),\"\",VLOOKUP(A63,base_itens_20,2,FALSE))","v":""}]
[null,{"$f":"IF(ISBLANK(A64),\"\",VLOOKUP(A64,base_itens_20,2,FALSE))","v":""}]
[null,{"$f":"IF(ISBLANK(A65),\"\",VLOOKUP(A65,base_itens_20,2,FALSE))","v":""}]
[null,{"$f":"IF(ISBLANK(A66),\"\",VLOOKUP(A66,base_itens_20,2,FALSE))","v":""}]
[null,{"$f":"IF(ISBLANK(A67),\"\",VLOOKUP(A67,base_itens_20,2,FALSE))","v":""}]
[null,{"$f":"IF(ISBLANK(A68),\"\",VLOOKUP(A68,base_itens_20,2,FALSE))","v":""}]
[null,{"$f":"IF(ISBLANK(A69),\"\",VLOOKUP(A69,base_itens_20,2,FALSE))","v":""}]
[null,{"$f":"IF(ISBLANK(A70),\"\",VLOOKUP(A70,base_itens_20,2,FALSE))","v":""}]
[null,{"$f":"IF(ISBLANK(A71),\"\",VLOOKUP(A71,base_itens_20,2,FALSE))","v":""}]
[null,{"$f":"IF(ISBLANK(A72),\"\",VLOOKUP(A72,base_itens_20,2,FALSE))","v":""}]
[null,{"$f":"IF(ISBLANK(A73),\"\",VLOOKUP(A73,base_itens_20,2,FALSE))","v":""}]
[null,{"$f":"IF(ISBLANK(A74),\"\",VLOOKUP(A74,base_itens_20,2,FALSE))","v":""}]
[null,{"$f":"IF(ISBLANK(A75),\"\",VLOOKUP(A75,base_itens_20,2,FALSE))","v":""}]
[null,{"$f":"IF(ISBLANK(A76),\"\",VLOOKUP(A76,base_itens_20,2,FALSE))","v":""}]
[null,{"$f":"IF(ISBLANK(A77),\"\",VLOOKUP(A77,base_itens_20,2,FALSE))","v":""}]
[null,{"$f":"IF(ISBLANK(A78),\"\",VLOOKUP(A78,base_itens_20,2,FALSE))","v":""}]
[null,{"$f":"IF(ISBLANK(A79),\"\",VLOOKUP(A79,base_itens_20,2,FALSE))","v":""}]
[null,{"$f":"IF(ISBLANK(A80),\"\",VLOOKUP(A80,base_itens_20,2,FALSE))","v":""}]
[null,{"$f":"IF(ISBLANK(A81),\"\",VLOOKUP(A81,base_itens_20,2,FALSE))","v":""}]
[null,{"$f":"IF(ISBLANK(A82),\"\",VLOOKUP(A82,base_itens_20,2,FALSE))","v":""}]
[null,{"$f":"IF(ISBLANK(A83),\"\",VLOOKUP(A83,base_itens_20,2,FALSE))","v":""}]
[null,{"$f":"IF(ISBLANK(A84),\"\",VLOOKUP(A84,base_itens_20,2,FALSE))","v":""}]
[null,{"$f":"IF(ISBLANK(A85),\"\",VLOOKUP(A85,base_itens_20,2,FALSE))","v":""}]
[null,{"$f":"IF(ISBLANK(A86),\"\",VLOOKUP(A86,base_itens_20,2,FALSE))","v":""}]
[null,{"$f":"IF(ISBLANK(A87),\"\",VLOOKUP(A87,base_itens_20,2,FALSE))","v":""}]
[null,{"$f":"IF(ISBLANK(A88),\"\",VLOOKUP(A88,base_itens_20,2,FALSE))","v":""}]
[null,{"$f":"IF(ISBLANK(A89),\"\",VLOOKUP(A89,base_itens_20,2,FALSE))","v":""}]
[null,{"$f":"IF(ISBLANK(A90),\"\",VLOOKUP(A90,base_itens_20,2,FALSE))","v":""}]
[null,{"$f":"IF(ISBLANK(A91),\"\",VLOOKUP(A91,base_itens_20,2,FALSE))","v":""}]
[null,{"$f":"IF(ISBLANK(A92),\"\",VLOOKUP(A92,base_itens_20,2,FALSE))","v":""}]
[null,{"$f":"IF(ISBLANK(A93),\"\",VLOOKUP(A93,base_itens_20,2,FALSE))","v":""}]
[null,{"$f":"IF(ISBLANK(A94),\"\",VLOOKUP(A94,base_itens_20,2,FALSE))","v":""}]
[null,{"$f":"IF(ISBLANK(A95),\"\",VLOOKUP(A95,base_itens_20,2,FALSE))","v":""}]
[null,{"$f":"IF(ISBLANK(A96),\"\",VLOOKUP(A96,base_itens_20,2,FALSE))","v":""}]
[null,{"$f":"IF(ISBLANK(A97),\"\",VLOOKUP(A97,base_itens_20,2,FALSE))","v":""}]
[null,{"$f":"IF(ISBLANK(A98),\"\",VLOOKUP(A98,base_itens_20,2,FALSE))","v":""}]
[null,{"$f":"IF(ISBLANK(A99),\"\",VLOOKUP(A99,base_itens_20,2,FALSE))","v":""}]
[null,{"$f":"IF(ISBLANK(A100),\"\",VLOOKUP(A100,base_itens_20,2,FALSE))","v":""}]
[null,{"$f":"IF(ISBLANK(A101),\"\",VLOOKUP(A101,base_itens_20,2,FALSE))","v":""}]
[null,{"$f":"IF(ISBLANK(A102),\"\",VLOOKUP(A102,base_itens_20,2,FALSE))","v":""}]
[null,{"$f":"IF(ISBLANK(A103),\"\",VLOOKUP(A103,base_itens_20,2,FALSE))","v":""}]
[null,{"$f":"IF(ISBLANK(A104),\"\",VLOOKUP(A104,base_itens_20,2,FALSE))","v":""}]
[null,{"$f":"IF(ISBLANK(A105),\"\",VLOOKUP(A105,base_itens_20,2,FALSE))","v":""}]
[null,{"$f":"IF(ISBLANK(A106),\"\",VLOOKUP(A106,base_itens_20,2,FALSE))","v":""}]
[null,{"$f":"IF(ISBLANK(A107),\"\",VLOOKUP(A107,base_itens_20,2,FALSE))","v":""}]
[null,{"$f":"IF(ISBLANK(A108),\"\",VLOOKUP(A108,base_itens_20,2,FALSE))","v":""}]
[null,{"$f":"IF(ISBLANK(A109),\"\",VLOOKUP(A109,base_itens_20,2,FALSE))","v":""}]
[null,{"$f":"IF(ISBLANK(A110),\"\",VLOOKUP(A110,base_itens_20,2,FALSE))","v":""}]
[null,{"$f":"IF(ISBLANK(A111),\"\",VLOOKUP(A111,base_itens_20,2,FALSE))","v":""}]
[null,{"$f":"IF(ISBLANK(A112),\"\",VLOOKUP(A112,base_itens_20,2,FALSE))","v":""}]
[null,{"$f":"IF(ISBLANK(A113),\"\",VLOOKUP(A113,base_itens_20,2,FALSE))","v":""}]
[null,{"$f":"IF(ISBLANK(A114),\"\",VLOOKUP(A114,base_itens_20,2,FALSE))","v":""}]
[null,{"$f":"IF(ISBLANK(A115),\"\",VLOOKUP(A115,base_itens_20,2,FALSE))","v":""}]
[null,{"$f":"IF(ISBLANK(A116),\"\",VLOOKUP(A116,base_itens_20,2,FALSE))","v":""}]
[null,{"$f":"IF(ISBLANK(A117),\"\",VLOOKUP(A117,base_itens_20,2,FALSE))","v":""}]
[null,{"$f":"IF(ISBLANK(A118),\"\",VLOOKUP(A118,base_itens_20,2,FALSE))","v":""}]
[null,{"$f":"IF(ISBLANK(A119),\"\",VLOOKUP(A119,base_itens_20,2,FALSE))","v":""}]
[null,{"$f":"IF(ISBLANK(A120),\"\",VLOOKUP(A120,base_itens_20,2,FALSE))","v":""}]
[null,{"$f":"IF(ISBLANK(A121),\"\",VLOOKUP(A121,base_itens_20,2,FALSE))","v":""}]
[null,{"$f":"IF(ISBLANK(A122),\"\",VLOOKUP(A122,base_itens_20,2,FALSE))","v":""}]
[null,{"$f":"IF(ISBLANK(A123),\"\",VLOOKUP(A123,base_itens_20,2,FALSE))","v":""}]
[null,{"$f":"IF(ISBLANK(A124),\"\",VLOOKUP(A124,base_itens_20,2,FALSE))","v":""}]
[null,{"$f":"IF(ISBLANK(A125),\"\",VLOOKUP(A125,base_itens_20,2,FALSE))","v":""}]
[null,{"$f":"IF(ISBLANK(A126),\"\",VLOOKUP(A126,base_itens_20,2,FALSE))","v":""}]
[null,{"$f":"IF(ISBLANK(A127),\"\",VLOOKUP(A127,base_itens_20,2,FALSE))","v":""}]
[null,{"$f":"IF(ISBLANK(A128),\"\",VLOOKUP(A128,base_itens_20,2,FALSE))","v":""}]
[null,{"$f":"IF(ISBLANK(A129),\"\",VLOOKUP(A129,base_itens_20,2,FALSE))","v":""}]
[null,{"$f":"IF(ISBLANK(A130),\"\",VLOOKUP(A130,base_itens_20,2,FALSE))","v":""}]
[null,{"$f":"IF(ISBLANK(A131),\"\",VLOOKUP(A131,base_itens_20,2,FALSE))","v":""}]
[null,{"$f":"IF(ISBLANK(A132),\"\",VLOOKUP(A132,base_itens_20,2,FALSE))","v":""}]
[null,{"$f":"IF(ISBLANK(A133),\"\",VLOOKUP(A133,base_itens_20,2,FALSE))","v":""}]
[null,{"$f":"IF(ISBLANK(A134),\"\",VLOOKUP(A134,base_itens_20,2,FALSE))","v":""}]
[null,{"$f":"IF(ISBLANK(A135),\"\",VLOOKUP(A135,base_itens_20,2,FALSE))","v":""}]
[null,{"$f":"IF(ISBLANK(A136),\"\",VLOOKUP(A136,base_itens_20,2,FALSE))","v":""}]
[null,{"$f":"IF(ISBLANK(A137),\"\",VLOOKUP(A137,base_itens_20,2,FALSE))","v":""}]
[null,{"$f":"IF(ISBLANK(A138),\"\",VLOOKUP(A138,base_itens_20,2,FALSE))","v":""}]
[null,{"$f":"IF(ISBLANK(A139),\"\",VLOOKUP(A139,base_itens_20,2,FALSE))","v":""}]
[null,{"$f":"IF(ISBLANK(A140),\"\",VLOOKUP(A140,base_itens_20,2,FALSE))","v":""}]
[null,{"$f":"IF(ISBLANK(A141),\"\",VLOOKUP(A141,base_itens_20,2,FALSE))","v":""}]
[null,{"$f":"IF(ISBLANK(A142),\"\",VLOOKUP(A142,base_itens_20,2,FALSE))","v":""}]
[null,{"$f":"IF(ISBLANK(A143),\"\",VLOOKUP(A143,base_itens_20,2,FALSE))","v":""}]
[null,{"$f":"IF(ISBLANK(A144),\"\",VLOOKUP(A144,base_itens_20,2,FALSE))","v":""}]
[null,{"$f":"IF(ISBLANK(A145),\"\",VLOOKUP(A145,base_itens_20,2,FALSE))","v":""}]
[null,{"$f":"IF(ISBLANK(A146),\"\",VLOOKUP(A146,base_itens_20,2,FALSE))","v":""}]
[null,{"$f":"IF(ISBLANK(A147),\"\",VLOOKUP(A147,base_itens_20,2,FALSE))","v":""}]
[null,{"$f":"IF(ISBLANK(A148),\"\",VLOOKUP(A148,base_itens_20,2,FALSE))","v":""}]
[null,{"$f":"IF(ISBLANK(A149),\"\",VLOOKUP(A149,base_itens_20,2,FALSE))","v":""}]
[null,{"$f":"IF(ISBLANK(A150),\"\",VLOOKUP(A150,base_itens_20,2,FALSE))","v":""}]
[null,{"$f":"IF(ISBLANK(A151),\"\",VLOOKUP(A151,base_itens_20,2,FALSE))","v":""}]
[null,{"$f":"IF(ISBLANK(A152),\"\",VLOOKUP(A152,base_itens_20,2,FALSE))","v":""}]
[null,{"$f":"IF(ISBLANK(A153),\"\",VLOOKUP(A153,base_itens_20,2,FALSE))","v":""}]
[null,{"$f":"IF(ISBLANK(A154),\"\",VLOOKUP(A154,base_itens_20,2,FALSE))","v":""}]
[null,{"$f":"IF(ISBLANK(A155),\"\",VLOOKUP(A155,base_itens_20,2,FALSE))","v":""}]
[null,{"$f":"IF(ISBLANK(A156),\"\",VLOOKUP(A156,base_itens_20,2,FALSE))","v":""}]
[null,{"$f":"IF(ISBLANK(A157),\"\",VLOOKUP(A157,base_itens_20,2,FALSE))","v":""}]
[null,{"$f":"IF(ISBLANK(A158),\"\",VLOOKUP(A158,base_itens_20,2,FALSE))","v":""}]
[null,{"$f":"IF(ISBLANK(A159),\"\",VLOOKUP(A159,base_itens_20,2,FALSE))","v":""}]
[null,{"$f":"IF(ISBLANK(A160),\"\",VLOOKUP(A160,base_itens_20,2,FALSE))","v":""}]
[null,{"$f":"IF(ISBLANK(A161),\"\",VLOOKUP(A161,base_itens_20,2,FALSE))","v":""}]
[null,{"$f":"IF(ISBLANK(A162),\"\",VLOOKUP(A162,base_itens_20,2,FALSE))","v":""}]
[null,{"$f":"IF(ISBLANK(A163),\"\",VLOOKUP(A163,base_itens_20,2,FALSE))","v":""}]
[null,{"$f":"IF(ISBLANK(A164),\"\",VLOOKUP(A164,base_itens_20,2,FALSE))","v":""}]
[null,{"$f":"IF(ISBLANK(A165),\"\",VLOOKUP(A165,base_itens_20,2,FALSE))","v":""}]
[null,{"$f":"IF(ISBLANK(A166),\"\",VLOOKUP(A166,base_itens_20,2,FALSE))","v":""}]
[null,{"$f":"IF(ISBLANK(A167),\"\",VLOOKUP(A167,base_itens_20,2,FALSE))","v":""}]
[null,{"$f":"IF(ISBLANK(A168),\"\",VLOOKUP(A168,base_itens_20,2,FALSE))","v":""}]
[null,{"$f":"IF(ISBLANK(A169),\"\",VLOOKUP(A169,base_itens_20,2,FALSE))","v":""}]
[null,{"$f":"IF(ISBLANK(A170),\"\",VLOOKUP(A170,base_itens_20,2,FALSE))","v":""}]
[null,{"$f":"IF(ISBLANK(A171),\"\",VLOOKUP(A171,base_itens_20,2,FALSE))","v":""}]
[null,{"$f":"IF(ISBLANK(A172),\"\",VLOOKUP(A172,base_itens_20,2,FALSE))","v":""}]
[null,{"$f":"IF(ISBLANK(A173),\"\",VLOOKUP(A173,base_itens_20,2,FALSE))","v":""}]
[null,{"$f":"IF(ISBLANK(A174),\"\",VLOOKUP(A174,base_itens_20,2,FALSE))","v":""}]
[null,{"$f":"IF(ISBLANK(A175),\"\",VLOOKUP(A175,base_itens_20,2,FALSE))","v":""}]
[null,{"$f":"IF(ISBLANK(A176),\"\",VLOOKUP(A176,base_itens_20,2,FALSE))","v":""}]
[null,{"$f":"IF(ISBLANK(A177),\"\",VLOOKUP(A177,base_itens_20,2,FALSE))","v":""}]
[null,{"$f":"IF(ISBLANK(A178),\"\",VLOOKUP(A178,base_itens_20,2,FALSE))","v":""}]
[null,{"$f":"IF(ISBLANK(A179),\"\",VLOOKUP(A179,base_itens_20,2,FALSE))","v":""}]
[null,{"$f":"IF(ISBLANK(A180),\"\",VLOOKUP(A180,base_itens_20,2,FALSE))","v":""}]
[null,{"$f":"IF(ISBLANK(A181),\"\",VLOOKUP(A181,base_itens_20,2,FALSE))","v":""}]
[null,{"$f":"IF(ISBLANK(A182),\"\",VLOOKUP(A182,base_itens_20,2,FALSE))","v":""}]
[null,{"$f":"IF(ISBLANK(A183),\"\",VLOOKUP(A183,base_itens_20,2,FALSE))","v":""}]
[null,{"$f":"IF(ISBLANK(A184),\"\",VLOOKUP(A184,base_itens_20,2,FALSE))","v":""}]
[null,{"$f":"IF(ISBLANK(A185),\"\",VLOOKUP(A185,base_itens_20,2,FALSE))","v":""}]
[null,{"$f":"IF(ISBLANK(A186),\"\",VLOOKUP(A186,base_itens_20,2,FALSE))","v":""}]
[null,{"$f":"IF(ISBLANK(A187),\"\",VLOOKUP(A187,base_itens_20,2,FALSE))","v":""}]
[null,{"$f":"IF(ISBLANK(A188),\"\",VLOOKUP(A188,base_itens_20,2,FALSE))","v":""}]
[null,{"$f":"IF(ISBLANK(A189),\"\",VLOOKUP(A189,base_itens_20,2,FALSE))","v":""}]
[null,{"$f":"IF(ISBLANK(A190),\"\",VLOOKUP(A190,base_itens_20,2,FALSE))","v":""}]
[null,{"$f":"IF(ISBLANK(A191),\"\",VLOOKUP(A191,base_itens_20,2,FALSE))","v":""}]
[null,{"$f":"IF(ISBLANK(A192),\"\",VLOOKUP(A192,base_itens_20,2,FALSE))","v":""}]
[null,{"$f":"IF(ISBLANK(A193),\"\",VLOOKUP(A193,base_itens_20,2,FALSE))","v":""}]
[null,{"$f":"IF(ISBLANK(A194),\"\",VLOOKUP(A194,base_itens_20,2,FALSE))","v":""}]
[null,{"$f":"IF(ISBLANK(A195),\"\",VLOOKUP(A195,base_itens_20,2,FALSE))","v":""}]
[null,{"$f":"IF(ISBLANK(A196),\"\",VLOOKUP(A196,base_itens_20,2,FALSE))","v":""}]
[null,{"$f":"IF(ISBLANK(A197),\"\",VLOOKUP(A197,base_itens_20,2,FALSE))","v":""}]
[null,{"$f":"IF(ISBLANK(A198),\"\",VLOOKUP(A198,base_itens_20,2,FALSE))","v":""}]
[null,{"$f":"IF(ISBLANK(A199),\"\",VLOOKUP(A199,base_itens_20,2,FALSE))","v":""}]
[null,{"$f":"IF(ISBLANK(A200),\"\",VLOOKUP(A200,base_itens_20,2,FALSE))","v":""}]
[null,{"$f":"IF(ISBLANK(A201),\"\",VLOOKUP(A201,base_itens_20,2,FALSE))","v":""}]
[null,{"$f":"IF(ISBLANK(A202),\"\",VLOOKUP(A202,base_itens_20,2,FALSE))","v":""}]
[null,{"$f":"IF(ISBLANK(A203),\"\",VLOOKUP(A203,base_itens_20,2,FALSE))","v":""}]
[null,{"$f":"IF(ISBLANK(A204),\"\",VLOOKUP(A204,base_itens_20,2,FALSE))","v":""}]
[null,{"$f":"IF(ISBLANK(A205),\"\",VLOOKUP(A205,base_itens_20,2,FALSE))","v":""}]
[null,{"$f":"IF(ISBLANK(A206),\"\",VLOOKUP(A206,base_itens_20,2,FALSE))","v":""}]
[null,{"$f":"IF(ISBLANK(A207),\"\",VLOOKUP(A207,base_itens_20,2,FALSE))","v":""}]
[null,{"$f":"IF(ISBLANK(A208),\"\",VLOOKUP(A208,base_itens_20,2,FALSE))","v":""}]
[null,{"$f":"IF(ISBLANK(A209),\"\",VLOOKUP(A209,base_itens_20,2,FALSE))","v":""}]
[null,{"$f":"IF(ISBLANK(A210),\"\",VLOOKUP(A210,base_itens_20,2,FALSE))","v":""}]
[null,{"$f":"IF(ISBLANK(A211),\"\",VLOOKUP(A211,base_itens_20,2,FALSE))","v":""}]
[null,{"$f":"IF(ISBLANK(A212),\"\",VLOOKUP(A212,base_itens_20,2,FALSE))","v":""}]
[null,{"$f":"IF(ISBLANK(A213),\"\",VLOOKUP(A213,base_itens_20,2,FALSE))","v":""}]
[null,{"$f":"IF(ISBLANK(A214),\"\",VLOOKUP(A214,base_itens_20,2,FALSE))","v":""}]
[null,{"$f":"IF(ISBLANK(A215),\"\",VLOOKUP(A215,base_itens_20,2,FALSE))","v":""}]
[null,{"$f":"IF(ISBLANK(A216),\"\",VLOOKUP(A216,base_itens_20,2,FALSE))","v":""}]
[null,{"$f":"IF(ISBLANK(A217),\"\",VLOOKUP(A217,base_itens_20,2,FALSE))","v":""}]
[null,{"$f":"IF(ISBLANK(A218),\"\",VLOOKUP(A218,base_itens_20,2,FALSE))","v":""}]
[null,{"$f":"IF(ISBLANK(A219),\"\",VLOOKUP(A219,base_itens_20,2,FALSE))","v":""}]
[null,{"$f":"IF(ISBLANK(A220),\"\",VLOOKUP(A220,base_itens_20,2,FALSE))","v":""}]
[null,{"$f":"IF(ISBLANK(A221),\"\",VLOOKUP(A221,base_itens_20,2,FALSE))","v":""}]
[null,{"$f":"IF(ISBLANK(A222),\"\",VLOOKUP(A222,base_itens_20,2,FALSE))","v":""}]
[null,{"$f":"IF(ISBLANK(A223),\"\",VLOOKUP(A223,base_itens_20,2,FALSE))","v":""}]
[null,{"$f":"IF(ISBLANK(A224),\"\",VLOOKUP(A224,base_itens_20,2,FALSE))","v":""}]
[null,{"$f":"IF(ISBLANK(A225),\"\",VLOOKUP(A225,base_itens_20,2,FALSE))","v":""}]
[null,{"$f":"IF(ISBLANK(A226),\"\",VLOOKUP(A226,base_itens_20,2,FALSE))","v":""}]
[null,{"$f":"IF(ISBLANK(A227),\"\",VLOOKUP(A227,base_itens_20,2,FALSE))","v":""}]
[null,{"$f":"IF(ISBLANK(A228),\"\",VLOOKUP(A228,base_itens_20,2,FALSE))","v":""}]
[null,{"$f":"IF(ISBLANK(A229),\"\",VLOOKUP(A229,base_itens_20,2,FALSE))","v":""}]
[null,{"$f":"IF(ISBLANK(A230),\"\",VLOOKUP(A230,base_itens_20,2,FALSE))","v":""}]
[null,{"$f":"IF(ISBLANK(A231),\"\",VLOOKUP(A231,base_itens_20,2,FALSE))","v":""}]
[null,{"$f":"IF(ISBLANK(A232),\"\",VLOOKUP(A232,base_itens_20,2,FALSE))","v":""}]
[null,{"$f":"IF(ISBLANK(A233),\"\",VLOOKUP(A233,base_itens_20,2,FALSE))","v":""}]
[null,{"$f":"IF(ISBLANK(A234),\"\",VLOOKUP(A234,base_itens_20,2,FALSE))","v":""}]
[null,{"$f":"IF(ISBLANK(A235),\"\",VLOOKUP(A235,base_itens_20,2,FALSE))","v":""}]
[null,{"$f":"IF(ISBLANK(A236),\"\",VLOOKUP(A236,base_itens_20,2,FALSE))","v":""}]
[null,{"$f":"IF(ISBLANK(A237),\"\",VLOOKUP(A237,base_itens_20,2,FALSE))","v":""}]
[null,{"$f":"IF(ISBLANK(A238),\"\",VLOOKUP(A238,base_itens_20,2,FALSE))","v":""}]
[null,{"$f":"IF(ISBLANK(A239),\"\",VLOOKUP(A239,base_itens_20,2,FALSE))","v":""}]
[null,{"$f":"IF(ISBLANK(A240),\"\",VLOOKUP(A240,base_itens_20,2,FALSE))","v":""}]
[null,{"$f":"IF(ISBLANK(A241),\"\",VLOOKUP(A241,base_itens_20,2,FALSE))","v":""}]
[null,{"$f":"IF(ISBLANK(A242),\"\",VLOOKUP(A242,base_itens_20,2,FALSE))","v":""}]
[null,{"$f":"IF(ISBLANK(A243),\"\",VLOOKUP(A243,base_itens_20,2,FALSE))","v":""}]
[null,{"$f":"IF(ISBLANK(A244),\"\",VLOOKUP(A244,base_itens_20,2,FALSE))","v":""}]
[null,{"$f":"IF(ISBLANK(A245),\"\",VLOOKUP(A245,base_itens_20,2,FALSE))","v":""}]
[null,{"$f":"IF(ISBLANK(A246),\"\",VLOOKUP(A246,base_itens_20,2,FALSE))","v":""}]
[null,{"$f":"IF(ISBLANK(A247),\"\",VLOOKUP(A247,base_itens_20,2,FALSE))","v":""}]
[null,{"$f":"IF(ISBLANK(A248),\"\",VLOOKUP(A248,base_itens_20,2,FALSE))","v":""}]
[null,{"$f":"IF(ISBLANK(A249),\"\",VLOOKUP(A249,base_itens_20,2,FALSE))","v":""}]
[null,{"$f":"IF(ISBLANK(A250),\"\",VLOOKUP(A250,base_itens_20,2,FALSE))","v":""}]
[null,{"$f":"IF(ISBLANK(A251),\"\",VLOOKUP(A251,base_itens_20,2,FALSE))","v":""}]
[null,{"$f":"IF(ISBLANK(A252),\"\",VLOOKUP(A252,base_itens_20,2,FALSE))","v":""}]
[null,{"$f":"IF(ISBLANK(A253),\"\",VLOOKUP(A253,base_itens_20,2,FALSE))","v":""}]
[null,{"$f":"IF(ISBLANK(A254),\"\",VLOOKUP(A254,base_itens_20,2,FALSE))","v":""}]
[null,{"$f":"IF(ISBLANK(A255),\"\",VLOOKUP(A255,base_itens_20,2,FALSE))","v":""}]
[null,{"$f":"IF(ISBLANK(A256),\"\",VLOOKUP(A256,base_itens_20,2,FALSE))","v":""}]
[null,{"$f":"IF(ISBLANK(A257),\"\",VLOOKUP(A257,base_itens_20,2,FALSE))","v":""}]
[null,{"$f":"IF(ISBLANK(A258),\"\",VLOOKUP(A258,base_itens_20,2,FALSE))","v":""}]
[null,{"$f":"IF(ISBLANK(A259),\"\",VLOOKUP(A259,base_itens_20,2,FALSE))","v":""}]
[null,{"$f":"IF(ISBLANK(A260),\"\",VLOOKUP(A260,base_itens_20,2,FALSE))","v":""}]
[null,{"$f":"IF(ISBLANK(A261),\"\",VLOOKUP(A261,base_itens_20,2,FALSE))","v":""}]
[null,{"$f":"IF(ISBLANK(A262),\"\",VLOOKUP(A262,base_itens_20,2,FALSE))","v":""}]
[null,{"$f":"IF(ISBLANK(A263),\"\",VLOOKUP(A263,base_itens_20,2,FALSE))","v":""}]
[null,{"$f":"IF(ISBLANK(A264),\"\",VLOOKUP(A264,base_itens_20,2,FALSE))","v":""}]
[null,{"$f":"IF(ISBLANK(A265),\"\",VLOOKUP(A265,base_itens_20,2,FALSE))","v":""}]
[null,{"$f":"IF(ISBLANK(A266),\"\",VLOOKUP(A266,base_itens_20,2,FALSE))","v":""}]
[null,{"$f":"IF(ISBLANK(A267),\"\",VLOOKUP(A267,base_itens_20,2,FALSE))","v":""}]
[null,{"$f":"IF(ISBLANK(A268),\"\",VLOOKUP(A268,base_itens_20,2,FALSE))","v":""}]
[null,{"$f":"IF(ISBLANK(A269),\"\",VLOOKUP(A269,base_itens_20,2,FALSE))","v":""}]
[null,{"$f":"IF(ISBLANK(A270),\"\",VLOOKUP(A270,base_itens_20,2,FALSE))","v":""}]
[null,{"$f":"IF(ISBLANK(A271),\"\",VLOOKUP(A271,base_itens_20,2,FALSE))","v":""}]
[null,{"$f":"IF(ISBLANK(A272),\"\",VLOOKUP(A272,base_itens_20,2,FALSE))","v":""}]
[null,{"$f":"IF(ISBLANK(A273),\"\",VLOOKUP(A273,base_itens_20,2,FALSE))","v":""}]
[null,{"$f":"IF(ISBLANK(A274),\"\",VLOOKUP(A274,base_itens_20,2,FALSE))","v":""}]
[null,{"$f":"IF(ISBLANK(A275),\"\",VLOOKUP(A275,base_itens_20,2,FALSE))","v":""}]
[null,{"$f":"IF(ISBLANK(A276),\"\",VLOOKUP(A276,base_itens_20,2,FALSE))","v":""}]
[null,{"$f":"IF(ISBLANK(A277),\"\",VLOOKUP(A277,base_itens_20,2,FALSE))","v":""}]
[null,{"$f":"IF(ISBLANK(A278),\"\",VLOOKUP(A278,base_itens_20,2,FALSE))","v":""}]
[null,{"$f":"IF(ISBLANK(A279),\"\",VLOOKUP(A279,base_itens_20,2,FALSE))","v":""}]
[null,{"$f":"IF(ISBLANK(A280),\"\",VLOOKUP(A280,base_itens_20,2,FALSE))","v":""}]
[null,{"$f":"IF(ISBLANK(A281),\"\",VLOOKUP(A281,base_itens_20,2,FALSE))","v":""}]
[null,{"$f":"IF(ISBLANK(A282),\"\",VLOOKUP(A282,base_itens_20,2,FALSE))","v":""}]
[null,{"$f":"IF(ISBLANK(A283),\"\",VLOOKUP(A283,base_itens_20,2,FALSE))","v":""}]
[null,{"$f":"IF(ISBLANK(A284),\"\",VLOOKUP(A284,base_itens_20,2,FALSE))","v":""}]
[null,{"$f":"IF(ISBLANK(A285),\"\",VLOOKUP(A285,base_itens_20,2,FALSE))","v":""}]
[null,{"$f":"IF(ISBLANK(A286),\"\",VLOOKUP(A286,base_itens_20,2,FALSE))","v":""}]
[null,{"$f":"IF(ISBLANK(A287),\"\",VLOOKUP(A287,base_itens_20,2,FALSE))","v":""}]
[null,{"$f":"IF(ISBLANK(A288),\"\",VLOOKUP(A288,base_itens_20,2,FALSE))","v":""}]
[null,{"$f":"IF(ISBLANK(A289),\"\",VLOOKUP(A289,base_itens_20,2,FALSE))","v":""}]
[null,{"$f":"IF(ISBLANK(A290),\"\",VLOOKUP(A290,base_itens_20,2,FALSE))","v":""}]
[null,{"$f":"IF(ISBLANK(A291),\"\",VLOOKUP(A291,base_itens_20,2,FALSE))","v":""}]
[null,{"$f":"IF(ISBLANK(A292),\"\",VLOOKUP(A292,base_itens_20,2,FALSE))","v":""}]
[null,{"$f":"IF(ISBLANK(A293),\"\",VLOOKUP(A293,base_itens_20,2,FALSE))","v":""}]
[null,{"$f":"IF(ISBLANK(A294),\"\",VLOOKUP(A294,base_itens_20,2,FALSE))","v":""}]
[null,{"$f":"IF(ISBLANK(A295),\"\",VLOOKUP(A295,base_itens_20,2,FALSE))","v":""}]
[null,{"$f":"IF(ISBLANK(A296),\"\",VLOOKUP(A296,base_itens_20,2,FALSE))","v":""}]
[null,{"$f":"IF(ISBLANK(A297),\"\",VLOOKUP(A297,base_itens_20,2,FALSE))","v":""}]
[null,{"$f":"IF(ISBLANK(A298),\"\",VLOOKUP(A298,base_itens_20,2,FALSE))","v":""}]
[null,{"$f":"IF(ISBLANK(A299),\"\",VLOOKUP(A299,base_itens_20,2,FALSE))","v":""}]
[null,{"$f":"IF(ISBLANK(A300),\"\",VLOOKUP(A300,base_itens_20,2,FALSE))","v":""}]
[null,{"$f":"IF(ISBLANK(A301),\"\",VLOOKUP(A301,base_itens_20,2,FALSE))","v":""}]
[null,{"$f":"IF(ISBLANK(A302),\"\",VLOOKUP(A302,base_itens_20,2,FALSE))","v":""}]
[null,{"$f":"IF(ISBLANK(A303),\"\",VLOOKUP(A303,base_itens_20,2,FALSE))","v":""}]
[null,{"$f":"IF(ISBLANK(A304),\"\",VLOOKUP(A304,base_itens_20,2,FALSE))","v":""}]
[null,{"$f":"IF(ISBLANK(A305),\"\",VLOOKUP(A305,base_itens_20,2,FALSE))","v":""}]
[null,{"$f":"IF(ISBLANK(A306),\"\",VLOOKUP(A306,base_itens_20,2,FALSE))","v":""}]
[null,{"$f":"IF(ISBLANK(A307),\"\",VLOOKUP(A307,base_itens_20,2,FALSE))","v":""}]
[null,{"$f":"IF(ISBLANK(A308),\"\",VLOOKUP(A308,base_itens_20,2,FALSE))","v":""}]
[null,{"$f":"IF(ISBLANK(A309),\"\",VLOOKUP(A309,base_itens_20,2,FALSE))","v":""}]
[null,{"$f":"IF(ISBLANK(A310),\"\",VLOOKUP(A310,base_itens_20,2,FALSE))","v":""}]
[null,{"$f":"IF(ISBLANK(A311),\"\",VLOOKUP(A311,base_itens_20,2,FALSE))","v":""}]
[null,{"$f":"IF(ISBLANK(A312),\"\",VLOOKUP(A312,base_itens_20,2,FALSE))","v":""}]
[null,{"$f":"IF(ISBLANK(A313),\"\",VLOOKUP(A313,base_itens_20,2,FALSE))","v":""}]
[null,{"$f":"IF(ISBLANK(A314),\"\",VLOOKUP(A314,base_itens_20,2,FALSE))","v":""}]
[null,{"$f":"IF(ISBLANK(A315),\"\",VLOOKUP(A315,base_itens_20,2,FALSE))","v":""}]
[null,{"$f":"IF(ISBLANK(A316),\"\",VLOOKUP(A316,base_itens_20,2,FALSE))","v":""}]
[null,{"$f":"IF(ISBLANK(A317),\"\",VLOOKUP(A317,base_itens_20,2,FALSE))","v":""}]
[null,{"$f":"IF(ISBLANK(A318),\"\",VLOOKUP(A318,base_itens_20,2,FALSE))","v":""}]
[null,{"$f":"IF(ISBLANK(A319),\"\",VLOOKUP(A319,base_itens_20,2,FALSE))","v":""}]
[null,{"$f":"IF(ISBLANK(A320),\"\",VLOOKUP(A320,base_itens_20,2,FALSE))","v":""}]
[null,{"$f":"IF(ISBLANK(A321),\"\",VLOOKUP(A321,base_itens_20,2,FALSE))","v":""}]
[null,{"$f":"IF(ISBLANK(A322),\"\",VLOOKUP(A322,base_itens_20,2,FALSE))","v":""}]
[null,{"$f":"IF(ISBLANK(A323),\"\",VLOOKUP(A323,base_itens_20,2,FALSE))","v":""}]
[null,{"$f":"IF(ISBLANK(A324),\"\",VLOOKUP(A324,base_itens_20,2,FALSE))","v":""}]
[null,{"$f":"IF(ISBLANK(A325),\"\",VLOOKUP(A325,base_itens_20,2,FALSE))","v":""}]
[null,{"$f":"IF(ISBLANK(A326),\"\",VLOOKUP(A326,base_itens_20,2,FALSE))","v":""}]
[null,{"$f":"IF(ISBLANK(A327),\"\",VLOOKUP(A327,base_itens_20,2,FALSE))","v":""}]
[null,{"$f":"IF(ISBLANK(A328),\"\",VLOOKUP(A328,base_itens_20,2,FALSE))","v":""}]
[null,{"$f":"IF(ISBLANK(A329),\"\",VLOOKUP(A329,base_itens_20,2,FALSE))","v":""}]
[null,{"$f":"IF(ISBLANK(A330),\"\",VLOOKUP(A330,base_itens_20,2,FALSE))","v":""}]
[null,{"$f":"IF(ISBLANK(A331),\"\",VLOOKUP(A331,base_itens_20,2,FALSE))","v":""}]
[null,{"$f":"IF(ISBLANK(A332),\"\",VLOOKUP(A332,base_itens_20,2,FALSE))","v":""}]
[null,{"$f":"IF(ISBLANK(A333),\"\",VLOOKUP(A333,base_itens_20,2,FALSE))","v":""}]
[null,{"$f":"IF(ISBLANK(A334),\"\",VLOOKUP(A334,base_itens_20,2,FALSE))","v":""}]
[null,{"$f":"IF(ISBLANK(A335),\"\",VLOOKUP(A335,base_itens_20,2,FALSE))","v":""}]
[null,{"$f":"IF(ISBLANK(A336),\"\",VLOOKUP(A336,base_itens_20,2,FALSE))","v":""}]
[null,{"$f":"IF(ISBLANK(A337),\"\",VLOOKUP(A337,base_itens_20,2,FALSE))","v":""}]
[null,{"$f":"IF(ISBLANK(A338),\"\",VLOOKUP(A338,base_itens_20,2,FALSE))","v":""}]
[null,{"$f":"IF(ISBLANK(A339),\"\",VLOOKUP(A339,base_itens_20,2,FALSE))","v":""}]
[null,{"$f":"IF(ISBLANK(A340),\"\",VLOOKUP(A340,base_itens_20,2,FALSE))","v":""}]
[null,{"$f":"IF(ISBLANK(A341),\"\",VLOOKUP(A341,base_itens_20,2,FALSE))","v":""}]
[null,{"$f":"IF(ISBLANK(A342),\"\",VLOOKUP(A342,base_itens_20,2,FALSE))","v":""}]
[null,{"$f":"IF(ISBLANK(A343),\"\",VLOOKUP(A343,base_itens_20,2,FALSE))","v":""}]
[null,{"$f":"IF(ISBLANK(A344),\"\",VLOOKUP(A344,base_itens_20,2,FALSE))","v":""}]
[null,{"$f":"IF(ISBLANK(A345),\"\",VLOOKUP(A345,base_itens_20,2,FALSE))","v":""}]
[null,{"$f":"IF(ISBLANK(A346),\"\",VLOOKUP(A346,base_itens_20,2,FALSE))","v":""}]
[null,{"$f":"IF(ISBLANK(A347),\"\",VLOOKUP(A347,base_itens_20,2,FALSE))","v":""}]
[null,{"$f":"IF(ISBLANK(A348),\"\",VLOOKUP(A348,base_itens_20,2,FALSE))","v":""}]
[null,{"$f":"IF(ISBLANK(A349),\"\",VLOOKUP(A349,base_itens_20,2,FALSE))","v":""}]
[null,{"$f":"IF(ISBLANK(A350),\"\",VLOOKUP(A350,base_itens_20,2,FALSE))","v":""}]
[null,{"$f":"IF(ISBLANK(A351),\"\",VLOOKUP(A351,base_itens_20,2,FALSE))","v":""}]
[null,{"$f":"IF(ISBLANK(A352),\"\",VLOOKUP(A352,base_itens_20,2,FALSE))","v":""}]
[null,{"$f":"IF(ISBLANK(A353),\"\",VLOOKUP(A353,base_itens_20,2,FALSE))","v":""}]
[null,{"$f":"IF(ISBLANK(A354),\"\",VLOOKUP(A354,base_itens_20,2,FALSE))","v":""}]
[null,{"$f":"IF(ISBLANK(A355),\"\",VLOOKUP(A355,base_itens_20,2,FALSE))","v":""}]
[null,{"$f":"IF(ISBLANK(A356),\"\",VLOOKUP(A356,base_itens_20,2,FALSE))","v":""}]
[null,{"$f":"IF(ISBLANK(A357),\"\",VLOOKUP(A357,base_itens_20,2,FALSE))","v":""}]
[null,{"$f":"IF(ISBLANK(A358),\"\",VLOOKUP(A358,base_itens_20,2,FALSE))","v":""}]
[null,{"$f":"IF(ISBLANK(A359),\"\",VLOOKUP(A359,base_itens_20,2,FALSE))","v":""}]
[null,{"$f":"IF(ISBLANK(A360),\"\",VLOOKUP(A360,base_itens_20,2,FALSE))","v":""}]
[null,{"$f":"IF(ISBLANK(A361),\"\",VLOOKUP(A361,base_itens_20,2,FALSE))","v":""}]
[null,{"$f":"IF(ISBLANK(A362),\"\",VLOOKUP(A362,base_itens_20,2,FALSE))","v":""}]
[null,{"$f":"IF(ISBLANK(A363),\"\",VLOOKUP(A363,base_itens_20,2,FALSE))","v":""}]
[null,{"$f":"IF(ISBLANK(A364),\"\",VLOOKUP(A364,base_itens_20,2,FALSE))","v":""}]
[null,{"$f":"IF(ISBLANK(A365),\"\",VLOOKUP(A365,base_itens_20,2,FALSE))","v":""}]
[null,{"$f":"IF(ISBLANK(A366),\"\",VLOOKUP(A366,base_itens_20,2,FALSE))","v":""}]
[null,{"$f":"IF(ISBLANK(A367),\"\",VLOOKUP(A367,base_itens_20,2,FALSE))","v":""}]
[null,{"$f":"IF(ISBLANK(A368),\"\",VLOOKUP(A368,base_itens_20,2,FALSE))","v":""}]
[null,{"$f":"IF(ISBLANK(A369),\"\",VLOOKUP(A369,base_itens_20,2,FALSE))","v":""}]
[null,{"$f":"IF(ISBLANK(A370),\"\",VLOOKUP(A370,base_itens_20,2,FALSE))","v":""}]
[null,{"$f":"IF(ISBLANK(A371),\"\",VLOOKUP(A371,base_itens_20,2,FALSE))","v":""}]
[null,{"$f":"IF(ISBLANK(A372),\"\",VLOOKUP(A372,base_itens_20,2,FALSE))","v":""}]
[null,{"$f":"IF(ISBLANK(A373),\"\",VLOOKUP(A373,base_itens_20,2,FALSE))","v":""}]
[null,{"$f":"IF(ISBLANK(A374),\"\",VLOOKUP(A374,base_itens_20,2,FALSE))","v":""}]
[null,{"$f":"IF(ISBLANK(A375),\"\",VLOOKUP(A375,base_itens_20,2,FALSE))","v":""}]
[null,{"$f":"IF(ISBLANK(A376),\"\",VLOOKUP(A376,base_itens_20,2,FALSE))","v":""}]
[null,{"$f":"IF(ISBLANK(A377),\"\",VLOOKUP(A377,base_itens_20,2,FALSE))","v":""}]
[null,{"$f":"IF(ISBLANK(A378),\"\",VLOOKUP(A378,base_itens_20,2,FALSE))","v":""}]
[null,{"$f":"IF(ISBLANK(A379),\"\",VLOOKUP(A379,base_itens_20,2,FALSE))","v":""}]
[null,{"$f":"IF(ISBLANK(A380),\"\",VLOOKUP(A380,base_itens_20,2,FALSE))","v":""}]
[null,{"$f":"IF(ISBLANK(A381),\"\",VLOOKUP(A381,base_itens_20,2,FALSE))","v":""}]
[null,{"$f":"IF(ISBLANK(A382),\"\",VLOOKUP(A382,base_itens_20,2,FALSE))","v":""}]
[null,{"$f":"IF(ISBLANK(A383),\"\",VLOOKUP(A383,base_itens_20,2,FALSE))","v":""}]
[null,{"$f":"IF(ISBLANK(A384),\"\",VLOOKUP(A384,base_itens_20,2,FALSE))","v":""}]
[null,{"$f":"IF(ISBLANK(A385),\"\",VLOOKUP(A385,base_itens_20,2,FALSE))","v":""}]
[null,{"$f":"IF(ISBLANK(A386),\"\",VLOOKUP(A386,base_itens_20,2,FALSE))","v":""}]
[null,{"$f":"IF(ISBLANK(A387),\"\",VLOOKUP(A387,base_itens_20,2,FALSE))","v":""}]
[null,{"$f":"IF(ISBLANK(A388),\"\",VLOOKUP(A388,base_itens_20,2,FALSE))","v":""}]
[null,{"$f":"IF(ISBLANK(A389),\"\",VLOOKUP(A389,base_itens_20,2,FALSE))","v":""}]
[null,{"$f":"IF(ISBLANK(A390),\"\",VLOOKUP(A390,base_itens_20,2,FALSE))","v":""}]
[null,{"$f":"IF(ISBLANK(A391),\"\",VLOOKUP(A391,base_itens_20,2,FALSE))","v":""}]
[null,{"$f":"IF(ISBLANK(A392),\"\",VLOOKUP(A392,base_itens_20,2,FALSE))","v":""}]
[null,{"$f":"IF(ISBLANK(A393),\"\",VLOOKUP(A393,base_itens_20,2,FALSE))","v":""}]
[null,{"$f":"IF(ISBLANK(A394),\"\",VLOOKUP(A394,base_itens_20,2,FALSE))","v":""}]
[null,{"$f":"IF(ISBLANK(A395),\"\",VLOOKUP(A395,base_itens_20,2,FALSE))","v":""}]
[null,{"$f":"IF(ISBLANK(A396),\"\",VLOOKUP(A396,base_itens_20,2,FALSE))","v":""}]
[null,{"$f":"IF(ISBLANK(A397),\"\",VLOOKUP(A397,base_itens_20,2,FALSE))","v":""}]
[null,{"$f":"IF(ISBLANK(A398),\"\",VLOOKUP(A398,base_itens_20,2,FALSE))","v":""}]
[null,{"$f":"IF(ISBLANK(A399),\"\",VLOOKUP(A399,base_itens_20,2,FALSE))","v":""}]
[null,{"$f":"IF(ISBLANK(A400),\"\",VLOOKUP(A400,base_itens_20,2,FALSE))","v":""}]
[null,{"$f":"IF(ISBLANK(A401),\"\",VLOOKUP(A401,base_itens_20,2,FALSE))","v":""}]
[null,{"$f":"IF(ISBLANK(A402),\"\",VLOOKUP(A402,base_itens_20,2,FALSE))","v":""}]
[null,{"$f":"IF(ISBLANK(A403),\"\",VLOOKUP(A403,base_itens_20,2,FALSE))","v":""}]
[null,{"$f":"IF(ISBLANK(A404),\"\",VLOOKUP(A404,base_itens_20,2,FALSE))","v":""}]
[null,{"$f":"IF(ISBLANK(A405),\"\",VLOOKUP(A405,base_itens_20,2,FALSE))","v":""}]
[null,{"$f":"IF(ISBLANK(A406),\"\",VLOOKUP(A406,base_itens_20,2,FALSE))","v":""}]
[null,{"$f":"IF(ISBLANK(A407),\"\",VLOOKUP(A407,base_itens_20,2,FALSE))","v":""}]
[null,{"$f":"IF(ISBLANK(A408),\"\",VLOOKUP(A408,base_itens_20,2,FALSE))","v":""}]
[null,{"$f":"IF(ISBLANK(A409),\"\",VLOOKUP(A409,base_itens_20,2,FALSE))","v":""}]
[null,{"$f":"IF(ISBLANK(A410),\"\",VLOOKUP(A410,base_itens_20,2,FALSE))","v":""}]
[null,{"$f":"IF(ISBLANK(A411),\"\",VLOOKUP(A411,base_itens_20,2,FALSE))","v":""}]
[null,{"$f":"IF(ISBLANK(A412),\"\",VLOOKUP(A412,base_itens_20,2,FALSE))","v":""}]
[null,{"$f":"IF(ISBLANK(A413),\"\",VLOOKUP(A413,base_itens_20,2,FALSE))","v":""}]
[null,{"$f":"IF(ISBLANK(A414),\"\",VLOOKUP(A414,base_itens_20,2,FALSE))","v":""}]
[null,{"$f":"IF(ISBLANK(A415),\"\",VLOOKUP(A415,base_itens_20,2,FALSE))","v":""}]
[null,{"$f":"IF(ISBLANK(A416),\"\",VLOOKUP(A416,base_itens_20,2,FALSE))","v":""}]
[null,{"$f":"IF(ISBLANK(A417),\"\",VLOOKUP(A417,base_itens_20,2,FALSE))","v":""}]
[null,{"$f":"IF(ISBLANK(A418),\"\",VLOOKUP(A418,base_itens_20,2,FALSE))","v":""}]
[null,{"$f":"IF(ISBLANK(A419),\"\",VLOOKUP(A419,base_itens_20,2,FALSE))","v":""}]
[null,{"$f":"IF(ISBLANK(A420),\"\",VLOOKUP(A420,base_itens_20,2,FALSE))","v":""}]
[null,{"$f":"IF(ISBLANK(A421),\"\",VLOOKUP(A421,base_itens_20,2,FALSE))","v":""}]
[null,{"$f":"IF(ISBLANK(A422),\"\",VLOOKUP(A422,base_itens_20,2,FALSE))","v":""}]
[null,{"$f":"IF(ISBLANK(A423),\"\",VLOOKUP(A423,base_itens_20,2,FALSE))","v":""}]
[null,{"$f":"IF(ISBLANK(A424),\"\",VLOOKUP(A424,base_itens_20,2,FALSE))","v":""}]
[null,{"$f":"IF(ISBLANK(A425),\"\",VLOOKUP(A425,base_itens_20,2,FALSE))","v":""}]
[null,{"$f":"IF(ISBLANK(A426),\"\",VLOOKUP(A426,base_itens_20,2,FALSE))","v":""}]
[null,{"$f":"IF(ISBLANK(A427),\"\",VLOOKUP(A427,base_itens_20,2,FALSE))","v":""}]
[null,{"$f":"IF(ISBLANK(A428),\"\",VLOOKUP(A428,base_itens_20,2,FALSE))","v":""}]
[null,{"$f":"IF(ISBLANK(A429),\"\",VLOOKUP(A429,base_itens_20,2,FALSE))","v":""}]
[null,{"$f":"IF(ISBLANK(A430),\"\",VLOOKUP(A430,base_itens_20,2,FALSE))","v":""}]
[null,{"$f":"IF(ISBLANK(A431),\"\",VLOOKUP(A431,base_itens_20,2,FALSE))","v":""}]
[null,{"$f":"IF(ISBLANK(A432),\"\",VLOOKUP(A432,base_itens_20,2,FALSE))","v":""}]
[null,{"$f":"IF(ISBLANK(A433),\"\",VLOOKUP(A433,base_itens_20,2,FALSE))","v":""}]
[null,{"$f":"IF(ISBLANK(A434),\"\",VLOOKUP(A434,base_itens_20,2,FALSE))","v":""}]
[null,{"$f":"IF(ISBLANK(A435),\"\",VLOOKUP(A435,base_itens_20,2,FALSE))","v":""}]
[null,{"$f":"IF(ISBLANK(A436),\"\",VLOOKUP(A436,base_itens_20,2,FALSE))","v":""}]
[null,{"$f":"IF(ISBLANK(A437),\"\",VLOOKUP(A437,base_itens_20,2,FALSE))","v":""}]
[null,{"$f":"IF(ISBLANK(A438),\"\",VLOOKUP(A438,base_itens_20,2,FALSE))","v":""}]
[null,{"$f":"IF(ISBLANK(A439),\"\",VLOOKUP(A439,base_itens_20,2,FALSE))","v":""}]
[null,{"$f":"IF(ISBLANK(A440),\"\",VLOOKUP(A440,base_itens_20,2,FALSE))","v":""}]
[null,{"$f":"IF(ISBLANK(A441),\"\",VLOOKUP(A441,base_itens_20,2,FALSE))","v":""}]
[null,{"$f":"IF(ISBLANK(A442),\"\",VLOOKUP(A442,base_itens_20,2,FALSE))","v":""}]
[null,{"$f":"IF(ISBLANK(A443),\"\",VLOOKUP(A443,base_itens_20,2,FALSE))","v":""}]
[null,{"$f":"IF(ISBLANK(A444),\"\",VLOOKUP(A444,base_itens_20,2,FALSE))","v":""}]
[null,{"$f":"IF(ISBLANK(A445),\"\",VLOOKUP(A445,base_itens_20,2,FALSE))","v":""}]
[null,{"$f":"IF(ISBLANK(A446),\"\",VLOOKUP(A446,base_itens_20,2,FALSE))","v":""}]
[null,{"$f":"IF(ISBLANK(A447),\"\",VLOOKUP(A447,base_itens_20,2,FALSE))","v":""}]
[null,{"$f":"IF(ISBLANK(A448),\"\",VLOOKUP(A448,base_itens_20,2,FALSE))","v":""}]
[null,{"$f":"IF(ISBLANK(A449),\"\",VLOOKUP(A449,base_itens_20,2,FALSE))","v":""}]
[null,{"$f":"IF(ISBLANK(A450),\"\",VLOOKUP(A450,base_itens_20,2,FALSE))","v":""}]
[null,{"$f":"IF(ISBLANK(A451),\"\",VLOOKUP(A451,base_itens_20,2,FALSE))","v":""}]
[null,{"$f":"IF(ISBLANK(A452),\"\",VLOOKUP(A452,base_itens_20,2,FALSE))","v":""}]
[null,{"$f":"IF(ISBLANK(A453),\"\",VLOOKUP(A453,base_itens_20,2,FALSE))","v":""}]
[null,{"$f":"IF(ISBLANK(A454),\"\",VLOOKUP(A454,base_itens_20,2,FALSE))","v":""}]
[null,{"$f":"IF(ISBLANK(A455),\"\",VLOOKUP(A455,base_itens_20,2,FALSE))","v":""}]
[null,{"$f":"IF(ISBLANK(A456),\"\",VLOOKUP(A456,base_itens_20,2,FALSE))","v":""}]
[null,{"$f":"IF(ISBLANK(A457),\"\",VLOOKUP(A457,base_itens_20,2,FALSE))","v":""}]
[null,{"$f":"IF(ISBLANK(A458),\"\",VLOOKUP(A458,base_itens_20,2,FALSE))","v":""}]
[null,{"$f":"IF(ISBLANK(A459),\"\",VLOOKUP(A459,base_itens_20,2,FALSE))","v":""}]
[null,{"$f":"IF(ISBLANK(A460),\"\",VLOOKUP(A460,base_itens_20,2,FALSE))","v":""}]
[null,{"$f":"IF(ISBLANK(A461),\"\",VLOOKUP(A461,base_itens_20,2,FALSE))","v":""}]
[null,{"$f":"IF(ISBLANK(A462),\"\",VLOOKUP(A462,base_itens_20,2,FALSE))","v":""}]
[null,{"$f":"IF(ISBLANK(A463),\"\",VLOOKUP(A463,base_itens_20,2,FALSE))","v":""}]
[null,{"$f":"IF(ISBLANK(A464),\"\",VLOOKUP(A464,base_itens_20,2,FALSE))","v":""}]
[null,{"$f":"IF(ISBLANK(A465),\"\",VLOOKUP(A465,base_itens_20,2,FALSE))","v":""}]
[null,{"$f":"IF(ISBLANK(A466),\"\",VLOOKUP(A466,base_itens_20,2,FALSE))","v":""}]
[null,{"$f":"IF(ISBLANK(A467),\"\",VLOOKUP(A467,base_itens_20,2,FALSE))","v":""}]
[null,{"$f":"IF(ISBLANK(A468),\"\",VLOOKUP(A468,base_itens_20,2,FALSE))","v":""}]
[null,{"$f":"IF(ISBLANK(A469),\"\",VLOOKUP(A469,base_itens_20,2,FALSE))","v":""}]
[null,{"$f":"IF(ISBLANK(A470),\"\",VLOOKUP(A470,base_itens_20,2,FALSE))","v":""}]
[null,{"$f":"IF(ISBLANK(A471),\"\",VLOOKUP(A471,base_itens_20,2,FALSE))","v":""}]
[null,{"$f":"IF(ISBLANK(A472),\"\",VLOOKUP(A472,base_itens_20,2,FALSE))","v":""}]
[null,{"$f":"IF(ISBLANK(A473),\"\",VLOOKUP(A473,base_itens_20,2,FALSE))","v":""}]
[null,{"$f":"IF(ISBLANK(A474),\"\",VLOOKUP(A474,base_itens_20,2,FALSE))","v":""}]
[null,{"$f":"IF(ISBLANK(A475),\"\",VLOOKUP(A475,base_itens_20,2,FALSE))","v":""}]
[null,{"$f":"IF(ISBLANK(A476),\"\",VLOOKUP(A476,base_itens_20,2,FALSE))","v":""}]
[null,{"$f":"IF(ISBLANK(A477),\"\",VLOOKUP(A477,base_itens_20,2,FALSE))","v":""}]
[null,{"$f":"IF(ISBLANK(A478),\"\",VLOOKUP(A478,base_itens_20,2,FALSE))","v":""}]
[null,{"$f":"IF(ISBLANK(A479),\"\",VLOOKUP(A479,base_itens_20,2,FALSE))","v":""}]
[null,{"$f":"IF(ISBLANK(A480),\"\",VLOOKUP(A480,base_itens_20,2,FALSE))","v":""}]
[null,{"$f":"IF(ISBLANK(A481),\"\",VLOOKUP(A481,base_itens_20,2,FALSE))","v":""}]
[null,{"$f":"IF(ISBLANK(A482),\"\",VLOOKUP(A482,base_itens_20,2,FALSE))","v":""}]
[null,{"$f":"IF(ISBLANK(A483),\"\",VLOOKUP(A483,base_itens_20,2,FALSE))","v":""}]
[null,{"$f":"IF(ISBLANK(A484),\"\",VLOOKUP(A484,base_itens_20,2,FALSE))","v":""}]
[null,{"$f":"IF(ISBLANK(A485),\"\",VLOOKUP(A485,base_itens_20,2,FALSE))","v":""}]
[null,{"$f":"IF(ISBLANK(A486),\"\",VLOOKUP(A486,base_itens_20,2,FALSE))","v":""}]
[null,{"$f":"IF(ISBLANK(A487),\"\",VLOOKUP(A487,base_itens_20,2,FALSE))","v":""}]
[null,{"$f":"IF(ISBLANK(A488),\"\",VLOOKUP(A488,base_itens_20,2,FALSE))","v":""}]
[null,{"$f":"IF(ISBLANK(A489),\"\",VLOOKUP(A489,base_itens_20,2,FALSE))","v":""}]
[null,{"$f":"IF(ISBLANK(A490),\"\",VLOOKUP(A490,base_itens_20,2,FALSE))","v":""}]
[null,{"$f":"IF(ISBLANK(A491),\"\",VLOOKUP(A491,base_itens_20,2,FALSE))","v":""}]
[null,{"$f":"IF(ISBLANK(A492),\"\",VLOOKUP(A492,base_itens_20,2,FALSE))","v":""}]
[null,{"$f":"IF(ISBLANK(A493),\"\",VLOOKUP(A493,base_itens_20,2,FALSE))","v":""}]
[null,{"$f":"IF(ISBLANK(A494),\"\",VLOOKUP(A494,base_itens_20,2,FALSE))","v":""}]
[null,{"$f":"IF(ISBLANK(A495),\"\",VLOOKUP(A495,base_itens_20,2,FALSE))","v":""}]
[null,{"$f":"IF(ISBLANK(A496),\"\",VLOOKUP(A496,base_itens_20,2,FALSE))","v":""}]
[null,{"$f":"IF(ISBLANK(A497),\"\",VLOOKUP(A497,base_itens_20,2,FALSE))","v":""}]
[null,{"$f":"IF(ISBLANK(A498),\"\",VLOOKUP(A498,base_itens_20,2,FALSE))","v":""}]
[null,{"$f":"IF(ISBLANK(A499),\"\",VLOOKUP(A499,base_itens_20,2,FALSE))","v":""}]
[null,{"$f":"IF(ISBLANK(A500),\"\",VLOOKUP(A500,base_itens_20,2,FALSE))","v":""}]
[null,{"$f":"IF(ISBLANK(A501),\"\",VLOOKUP(A501,base_itens_20,2,FALSE))","v":""}]
[null,{"$f":"IF(ISBLANK(A502),\"\",VLOOKUP(A502,base_itens_20,2,FALSE))","v":""}]
[null,{"$f":"IF(ISBLANK(A503),\"\",VLOOKUP(A503,base_itens_20,2,FALSE))","v":""}]
[null,{"$f":"IF(ISBLANK(A504),\"\",VLOOKUP(A504,base_itens_20,2,FALSE))","v":""}]
[null,{"$f":"IF(ISBLANK(A505),\"\",VLOOKUP(A505,base_itens_20,2,FALSE))","v":""}]
[null,{"$f":"IF(ISBLANK(A506),\"\",VLOOKUP(A506,base_itens_20,2,FALSE))","v":""}]
[null,{"$f":"IF(ISBLANK(A507),\"\",VLOOKUP(A507,base_itens_20,2,FALSE))","v":""}]
[null,{"$f":"IF(ISBLANK(A508),\"\",VLOOKUP(A508,base_itens_20,2,FALSE))","v":""}]
[null,{"$f":"IF(ISBLANK(A509),\"\",VLOOKUP(A509,base_itens_20,2,FALSE))","v":""}]
[null,{"$f":"IF(ISBLANK(A510),\"\",VLOOKUP(A510,base_itens_20,2,FALSE))","v":""}]
[null,{"$f":"IF(ISBLANK(A511),\"\",VLOOKUP(A511,base_itens_20,2,FALSE))","v":""}]
[null,{"$f":"IF(ISBLANK(A512),\"\",VLOOKUP(A512,base_itens_20,2,FALSE))","v":""}]
[null,{"$f":"IF(ISBLANK(A513),\"\",VLOOKUP(A513,base_itens_20,2,FALSE))","v":""}]
[null,{"$f":"IF(ISBLANK(A514),\"\",VLOOKUP(A514,base_itens_20,2,FALSE))","v":""}]
[null,{"$f":"IF(ISBLANK(A515),\"\",VLOOKUP(A515,base_itens_20,2,FALSE))","v":""}]
[null,{"$f":"IF(ISBLANK(A516),\"\",VLOOKUP(A516,base_itens_20,2,FALSE))","v":""}]
[null,{"$f":"IF(ISBLANK(A517),\"\",VLOOKUP(A517,base_itens_20,2,FALSE))","v":""}]
[null,{"$f":"IF(ISBLANK(A518),\"\",VLOOKUP(A518,base_itens_20,2,FALSE))","v":""}]
[null,{"$f":"IF(ISBLANK(A519),\"\",VLOOKUP(A519,base_itens_20,2,FALSE))","v":""}]
[null,{"$f":"IF(ISBLANK(A520),\"\",VLOOKUP(A520,base_itens_20,2,FALSE))","v":""}]
[null,{"$f":"IF(ISBLANK(A521),\"\",VLOOKUP(A521,base_itens_20,2,FALSE))","v":""}]
[null,{"$f":"IF(ISBLANK(A522),\"\",VLOOKUP(A522,base_itens_20,2,FALSE))","v":""}]
[null,{"$f":"IF(ISBLANK(A523),\"\",VLOOKUP(A523,base_itens_20,2,FALSE))","v":""}]
[null,{"$f":"IF(ISBLANK(A524),\"\",VLOOKUP(A524,base_itens_20,2,FALSE))","v":""}]
[null,{"$f":"IF(ISBLANK(A525),\"\",VLOOKUP(A525,base_itens_20,2,FALSE))","v":""}]
[null,{"$f":"IF(ISBLANK(A526),\"\",VLOOKUP(A526,base_itens_20,2,FALSE))","v":""}]
[null,{"$f":"IF(ISBLANK(A527),\"\",VLOOKUP(A527,base_itens_20,2,FALSE))","v":""}]
[null,{"$f":"IF(ISBLANK(A528),\"\",VLOOKUP(A528,base_itens_20,2,FALSE))","v":""}]
[null,{"$f":"IF(ISBLANK(A529),\"\",VLOOKUP(A529,base_itens_20,2,FALSE))","v":""}]
[null,{"$f":"IF(ISBLANK(A530),\"\",VLOOKUP(A530,base_itens_20,2,FALSE))","v":""}]
[null,{"$f":"IF(ISBLANK(A531),\"\",VLOOKUP(A531,base_itens_20,2,FALSE))","v":""}]
[null,{"$f":"IF(ISBLANK(A532),\"\",VLOOKUP(A532,base_itens_20,2,FALSE))","v":""}]
[null,{"$f":"IF(ISBLANK(A533),\"\",VLOOKUP(A533,base_itens_20,2,FALSE))","v":""}]
[null,{"$f":"IF(ISBLANK(A534),\"\",VLOOKUP(A534,base_itens_20,2,FALSE))","v":""}]
[null,{"$f":"IF(ISBLANK(A535),\"\",VLOOKUP(A535,base_itens_20,2,FALSE))","v":""}]
[null,{"$f":"IF(ISBLANK(A536),\"\",VLOOKUP(A536,base_itens_20,2,FALSE))","v":""}]
[null,{"$f":"IF(ISBLANK(A537),\"\",VLOOKUP(A537,base_itens_20,2,FALSE))","v":""}]
[null,{"$f":"IF(ISBLANK(A538),\"\",VLOOKUP(A538,base_itens_20,2,FALSE))","v":""}]
[null,{"$f":"IF(ISBLANK(A539),\"\",VLOOKUP(A539,base_itens_20,2,FALSE))","v":""}]
[null,{"$f":"IF(ISBLANK(A540),\"\",VLOOKUP(A540,base_itens_20,2,FALSE))","v":""}]
[null,{"$f":"IF(ISBLANK(A541),\"\",VLOOKUP(A541,base_itens_20,2,FALSE))","v":""}]
[null,{"$f":"IF(ISBLANK(A542),\"\",VLOOKUP(A542,base_itens_20,2,FALSE))","v":""}]
[null,{"$f":"IF(ISBLANK(A543),\"\",VLOOKUP(A543,base_itens_20,2,FALSE))","v":""}]
[null,{"$f":"IF(ISBLANK(A544),\"\",VLOOKUP(A544,base_itens_20,2,FALSE))","v":""}]
[null,{"$f":"IF(ISBLANK(A545),\"\",VLOOKUP(A545,base_itens_20,2,FALSE))","v":""}]
[null,{"$f":"IF(ISBLANK(A546),\"\",VLOOKUP(A546,base_itens_20,2,FALSE))","v":""}]
[null,{"$f":"IF(ISBLANK(A547),\"\",VLOOKUP(A547,base_itens_20,2,FALSE))","v":""}]
[null,{"$f":"IF(ISBLANK(A548),\"\",VLOOKUP(A548,base_itens_20,2,FALSE))","v":""}]
[null,{"$f":"IF(ISBLANK(A549),\"\",VLOOKUP(A549,base_itens_20,2,FALSE))","v":""}]
[null,{"$f":"IF(ISBLANK(A550),\"\",VLOOKUP(A550,base_itens_20,2,FALSE))","v":""}]
[null,{"$f":"IF(ISBLANK(A551),\"\",VLOOKUP(A551,base_itens_20,2,FALSE))","v":""}]
[null,{"$f":"IF(ISBLANK(A552),\"\",VLOOKUP(A552,base_itens_20,2,FALSE))","v":""}]
[null,{"$f":"IF(ISBLANK(A553),\"\",VLOOKUP(A553,base_itens_20,2,FALSE))","v":""}]
[null,{"$f":"IF(ISBLANK(A554),\"\",VLOOKUP(A554,base_itens_20,2,FALSE))","v":""}]
[null,{"$f":"IF(ISBLANK(A555),\"\",VLOOKUP(A555,base_itens_20,2,FALSE))","v":""}]
[null,{"$f":"IF(ISBLANK(A556),\"\",VLOOKUP(A556,base_itens_20,2,FALSE))","v":""}]
[null,{"$f":"IF(ISBLANK(A557),\"\",VLOOKUP(A557,base_itens_20,2,FALSE))","v":""}]
[null,{"$f":"IF(ISBLANK(A558),\"\",VLOOKUP(A558,base_itens_20,2,FALSE))","v":""}]
[null,{"$f":"IF(ISBLANK(A559),\"\",VLOOKUP(A559,base_itens_20,2,FALSE))","v":""}]
[null,{"$f":"IF(ISBLANK(A560),\"\",VLOOKUP(A560,base_itens_20,2,FALSE))","v":""}]
[null,{"$f":"IF(ISBLANK(A561),\"\",VLOOKUP(A561,base_itens_20,2,FALSE))","v":""}]
[null,{"$f":"IF(ISBLANK(A562),\"\",VLOOKUP(A562,base_itens_20,2,FALSE))","v":""}]
[null,{"$f":"IF(ISBLANK(A563),\"\",VLOOKUP(A563,base_itens_20,2,FALSE))","v":""}]
[null,{"$f":"IF(ISBLANK(A564),\"\",VLOOKUP(A564,base_itens_20,2,FALSE))","v":""}]
[null,{"$f":"IF(ISBLANK(A565),\"\",VLOOKUP(A565,base_itens_20,2,FALSE))","v":""}]
[null,{"$f":"IF(ISBLANK(A566),\"\",VLOOKUP(A566,base_itens_20,2,FALSE))","v":""}]
[null,{"$f":"IF(ISBLANK(A567),\"\",VLOOKUP(A567,base_itens_20,2,FALSE))","v":""}]
[null,{"$f":"IF(ISBLANK(A568),\"\",VLOOKUP(A568,base_itens_20,2,FALSE))","v":""}]
[null,{"$f":"IF(ISBLANK(A569),\"\",VLOOKUP(A569,base_itens_20,2,FALSE))","v":""}]
[null,{"$f":"IF(ISBLANK(A570),\"\",VLOOKUP(A570,base_itens_20,2,FALSE))","v":""}]
[null,{"$f":"IF(ISBLANK(A571),\"\",VLOOKUP(A571,base_itens_20,2,FALSE))","v":""}]
[null,{"$f":"IF(ISBLANK(A572),\"\",VLOOKUP(A572,base_itens_20,2,FALSE))","v":""}]
[null,{"$f":"IF(ISBLANK(A573),\"\",VLOOKUP(A573,base_itens_20,2,FALSE))","v":""}]
[null,{"$f":"IF(ISBLANK(A574),\"\",VLOOKUP(A574,base_itens_20,2,FALSE))","v":""}]
[null,{"$f":"IF(ISBLANK(A575),\"\",VLOOKUP(A575,base_itens_20,2,FALSE))","v":""}]
[null,{"$f":"IF(ISBLANK(A576),\"\",VLOOKUP(A576,base_itens_20,2,FALSE))","v":""}]
[null,{"$f":"IF(ISBLANK(A577),\"\",VLOOKUP(A577,base_itens_20,2,FALSE))","v":""}]
[null,{"$f":"IF(ISBLANK(A578),\"\",VLOOKUP(A578,base_itens_20,2,FALSE))","v":""}]
[null,{"$f":"IF(ISBLANK(A579),\"\",VLOOKUP(A579,base_itens_20,2,FALSE))","v":""}]
[null,{"$f":"IF(ISBLANK(A580),\"\",VLOOKUP(A580,base_itens_20,2,FALSE))","v":""}]
[null,{"$f":"IF(ISBLANK(A581),\"\",VLOOKUP(A581,base_itens_20,2,FALSE))","v":""}]
[null,{"$f":"IF(ISBLANK(A582),\"\",VLOOKUP(A582,base_itens_20,2,FALSE))","v":""}]
[null,{"$f":"IF(ISBLANK(A583),\"\",VLOOKUP(A583,base_itens_20,2,FALSE))","v":""}]
[null,{"$f":"IF(ISBLANK(A584),\"\",VLOOKUP(A584,base_itens_20,2,FALSE))","v":""}]
[null,{"$f":"IF(ISBLANK(A585),\"\",VLOOKUP(A585,base_itens_20,2,FALSE))","v":""}]
[null,{"$f":"IF(ISBLANK(A586),\"\",VLOOKUP(A586,base_itens_20,2,FALSE))","v":""}]
[null,{"$f":"IF(ISBLANK(A587),\"\",VLOOKUP(A587,base_itens_20,2,FALSE))","v":""}]
[null,{"$f":"IF(ISBLANK(A588),\"\",VLOOKUP(A588,base_itens_20,2,FALSE))","v":""}]
[null,{"$f":"IF(ISBLANK(A589),\"\",VLOOKUP(A589,base_itens_20,2,FALSE))","v":""}]
[null,{"$f":"IF(ISBLANK(A590),\"\",VLOOKUP(A590,base_itens_20,2,FALSE))","v":""}]
[null,{"$f":"IF(ISBLANK(A591),\"\",VLOOKUP(A591,base_itens_20,2,FALSE))","v":""}]
[null,{"$f":"IF(ISBLANK(A592),\"\",VLOOKUP(A592,base_itens_20,2,FALSE))","v":""}]
[null,{"$f":"IF(ISBLANK(A593),\"\",VLOOKUP(A593,base_itens_20,2,FALSE))","v":""}]
[null,{"$f":"IF(ISBLANK(A594),\"\",VLOOKUP(A594,base_itens_20,2,FALSE))","v":""}]
[null,{"$f":"IF(ISBLANK(A595),\"\",VLOOKUP(A595,base_itens_20,2,FALSE))","v":""}]
[null,{"$f":"IF(ISBLANK(A596),\"\",VLOOKUP(A596,base_itens_20,2,FALSE))","v":""}]
[null,{"$f":"IF(ISBLANK(A597),\"\",VLOOKUP(A597,base_itens_20,2,FALSE))","v":""}]
[null,{"$f":"IF(ISBLANK(A598),\"\",VLOOKUP(A598,base_itens_20,2,FALSE))","v":""}]
[null,{"$f":"IF(ISBLANK(A599),\"\",VLOOKUP(A599,base_itens_20,2,FALSE))","v":""}]
[null,{"$f":"IF(ISBLANK(A600),\"\",VLOOKUP(A600,base_itens_20,2,FALSE))","v":""}]
[null,{"$f":"IF(ISBLANK(A601),\"\",VLOOKUP(A601,base_itens_20,2,FALSE))","v":""}]
[null,{"$f":"IF(ISBLANK(A602),\"\",VLOOKUP(A602,base_itens_20,2,FALSE))","v":""}]
[null,{"$f":"IF(ISBLANK(A603),\"\",VLOOKUP(A603,base_itens_20,2,FALSE))","v":""}]
[null,{"$f":"IF(ISBLANK(A604),\"\",VLOOKUP(A604,base_itens_20,2,FALSE))","v":""}]
[null,{"$f":"IF(ISBLANK(A605),\"\",VLOOKUP(A605,base_itens_20,2,FALSE))","v":""}]
[null,{"$f":"IF(ISBLANK(A606),\"\",VLOOKUP(A606,base_itens_20,2,FALSE))","v":""}]
[null,{"$f":"IF(ISBLANK(A607),\"\",VLOOKUP(A607,base_itens_20,2,FALSE))","v":""}]
[null,{"$f":"IF(ISBLANK(A608),\"\",VLOOKUP(A608,base_itens_20,2,FALSE))","v":""}]
[null,{"$f":"IF(ISBLANK(A609),\"\",VLOOKUP(A609,base_itens_20,2,FALSE))","v":""}]
[null,{"$f":"IF(ISBLANK(A610),\"\",VLOOKUP(A610,base_itens_20,2,FALSE))","v":""}]
[null,{"$f":"IF(ISBLANK(A611),\"\",VLOOKUP(A611,base_itens_20,2,FALSE))","v":""}]
[null,{"$f":"IF(ISBLANK(A612),\"\",VLOOKUP(A612,base_itens_20,2,FALSE))","v":""}]
[null,{"$f":"IF(ISBLANK(A613),\"\",VLOOKUP(A613,base_itens_20,2,FALSE))","v":""}]
[null,{"$f":"IF(ISBLANK(A614),\"\",VLOOKUP(A614,base_itens_20,2,FALSE))","v":""}]
[null,{"$f":"IF(ISBLANK(A615),\"\",VLOOKUP(A615,base_itens_20,2,FALSE))","v":""}]
[null,{"$f":"IF(ISBLANK(A616),\"\",VLOOKUP(A616,base_itens_20,2,FALSE))","v":""}]
[null,{"$f":"IF(ISBLANK(A617),\"\",VLOOKUP(A617,base_itens_20,2,FALSE))","v":""}]
[null,{"$f":"IF(ISBLANK(A618),\"\",VLOOKUP(A618,base_itens_20,2,FALSE))","v":""}]
[null,{"$f":"IF(ISBLANK(A619),\"\",VLOOKUP(A619,base_itens_20,2,FALSE))","v":""}]
[null,{"$f":"IF(ISBLANK(A620),\"\",VLOOKUP(A620,base_itens_20,2,FALSE))","v":""}]
[null,{"$f":"IF(ISBLANK(A621),\"\",VLOOKUP(A621,base_itens_20,2,FALSE))","v":""}]
[null,{"$f":"IF(ISBLANK(A622),\"\",VLOOKUP(A622,base_itens_20,2,FALSE))","v":""}]
[null,{"$f":"IF(ISBLANK(A623),\"\",VLOOKUP(A623,base_itens_20,2,FALSE))","v":""}]
[null,{"$f":"IF(ISBLANK(A624),\"\",VLOOKUP(A624,base_itens_20,2,FALSE))","v":""}]
[null,{"$f":"IF(ISBLANK(A625),\"\",VLOOKUP(A625,base_itens_20,2,FALSE))","v":""}]
[null,{"$f":"IF(ISBLANK(A626),\"\",VLOOKUP(A626,base_itens_20,2,FALSE))","v":""}]
[null,{"$f":"IF(ISBLANK(A627),\"\",VLOOKUP(A627,base_itens_20,2,FALSE))","v":""}]
[null,{"$f":"IF(ISBLANK(A628),\"\",VLOOKUP(A628,base_itens_20,2,FALSE))","v":""}]
[null,{"$f":"IF(ISBLANK(A629),\"\",VLOOKUP(A629,base_itens_20,2,FALSE))","v":""}]
[null,{"$f":"IF(ISBLANK(A630),\"\",VLOOKUP(A630,base_itens_20,2,FALSE))","v":""}]
[null,{"$f":"IF(ISBLANK(A631),\"\",VLOOKUP(A631,base_itens_20,2,FALSE))","v":""}]
[null,{"$f":"IF(ISBLANK(A632),\"\",VLOOKUP(A632,base_itens_20,2,FALSE))","v":""}]
[null,{"$f":"IF(ISBLANK(A633),\"\",VLOOKUP(A633,base_itens_20,2,FALSE))","v":""}]
[null,{"$f":"IF(ISBLANK(A634),\"\",VLOOKUP(A634,base_itens_20,2,FALSE))","v":""}]
[null,{"$f":"IF(ISBLANK(A635),\"\",VLOOKUP(A635,base_itens_20,2,FALSE))","v":""}]
[null,{"$f":"IF(ISBLANK(A636),\"\",VLOOKUP(A636,base_itens_20,2,FALSE))","v":""}]
[null,{"$f":"IF(ISBLANK(A637),\"\",VLOOKUP(A637,base_itens_20,2,FALSE))","v":""}]
[null,{"$f":"IF(ISBLANK(A638),\"\",VLOOKUP(A638,base_itens_20,2,FALSE))","v":""}]
[null,{"$f":"IF(ISBLANK(A639),\"\",VLOOKUP(A639,base_itens_20,2,FALSE))","v":""}]
[null,{"$f":"IF(ISBLANK(A640),\"\",VLOOKUP(A640,base_itens_20,2,FALSE))","v":""}]
[null,{"$f":"IF(ISBLANK(A641),\"\",VLOOKUP(A641,base_itens_20,2,FALSE))","v":""}]
[null,{"$f":"IF(ISBLANK(A642),\"\",VLOOKUP(A642,base_itens_20,2,FALSE))","v":""}]
[null,{"$f":"IF(ISBLANK(A643),\"\",VLOOKUP(A643,base_itens_20,2,FALSE))","v":""}]
[null,{"$f":"IF(ISBLANK(A644),\"\",VLOOKUP(A644,base_itens_20,2,FALSE))","v":""}]
[null,{"$f":"IF(ISBLANK(A645),\"\",VLOOKUP(A645,base_itens_20,2,FALSE))","v":""}]
[null,{"$f":"IF(ISBLANK(A646),\"\",VLOOKUP(A646,base_itens_20,2,FALSE))","v":""}]
[null,{"$f":"IF(ISBLANK(A647),\"\",VLOOKUP(A647,base_itens_20,2,FALSE))","v":""}]
[null,{"$f":"IF(ISBLANK(A648),\"\",VLOOKUP(A648,base_itens_20,2,FALSE))","v":""}]
[null,{"$f":"IF(ISBLANK(A649),\"\",VLOOKUP(A649,base_itens_20,2,FALSE))","v":""}]
[null,{"$f":"IF(ISBLANK(A650),\"\",VLOOKUP(A650,base_itens_20,2,FALSE))","v":""}]
[null,{"$f":"IF(ISBLANK(A651),\"\",VLOOKUP(A651,base_itens_20,2,FALSE))","v":""}]
[null,{"$f":"IF(ISBLANK(A652),\"\",VLOOKUP(A652,base_itens_20,2,FALSE))","v":""}]
[null,{"$f":"IF(ISBLANK(A653),\"\",VLOOKUP(A653,base_itens_20,2,FALSE))","v":""}]
[null,{"$f":"IF(ISBLANK(A654),\"\",VLOOKUP(A654,base_itens_20,2,FALSE))","v":""}]
[null,{"$f":"IF(ISBLANK(A655),\"\",VLOOKUP(A655,base_itens_20,2,FALSE))","v":""}]
[null,{"$f":"IF(ISBLANK(A656),\"\",VLOOKUP(A656,base_itens_20,2,FALSE))","v":""}]
[null,{"$f":"IF(ISBLANK(A657),\"\",VLOOKUP(A657,base_itens_20,2,FALSE))","v":""}]
[null,{"$f":"IF(ISBLANK(A658),\"\",VLOOKUP(A658,base_itens_20,2,FALSE))","v":""}]
[null,{"$f":"IF(ISBLANK(A659),\"\",VLOOKUP(A659,base_itens_20,2,FALSE))","v":""}]
[null,{"$f":"IF(ISBLANK(A660),\"\",VLOOKUP(A660,base_itens_20,2,FALSE))","v":""}]
[null,{"$f":"IF(ISBLANK(A661),\"\",VLOOKUP(A661,base_itens_20,2,FALSE))","v":""}]
[null,{"$f":"IF(ISBLANK(A662),\"\",VLOOKUP(A662,base_itens_20,2,FALSE))","v":""}]
[null,{"$f":"IF(ISBLANK(A663),\"\",VLOOKUP(A663,base_itens_20,2,FALSE))","v":""}]
[null,{"$f":"IF(ISBLANK(A664),\"\",VLOOKUP(A664,base_itens_20,2,FALSE))","v":""}]
[null,{"$f":"IF(ISBLANK(A665),\"\",VLOOKUP(A665,base_itens_20,2,FALSE))","v":""}]
[null,{"$f":"IF(ISBLANK(A666),\"\",VLOOKUP(A666,base_itens_20,2,FALSE))","v":""}]
[null,{"$f":"IF(ISBLANK(A667),\"\",VLOOKUP(A667,base_itens_20,2,FALSE))","v":""}]
[null,{"$f":"IF(ISBLANK(A668),\"\",VLOOKUP(A668,base_itens_20,2,FALSE))","v":""}]
[null,{"$f":"IF(ISBLANK(A669),\"\",VLOOKUP(A669,base_itens_20,2,FALSE))","v":""}]
[null,{"$f":"IF(ISBLANK(A670),\"\",VLOOKUP(A670,base_itens_20,2,FALSE))","v":""}]
[null,{"$f":"IF(ISBLANK(A671),\"\",VLOOKUP(A671,base_itens_20,2,FALSE))","v":""}]
[null,{"$f":"IF(ISBLANK(A672),\"\",VLOOKUP(A672,base_itens_20,2,FALSE))","v":""}]
[null,{"$f":"IF(ISBLANK(A673),\"\",VLOOKUP(A673,base_itens_20,2,FALSE))","v":""}]
[null,{"$f":"IF(ISBLANK(A674),\"\",VLOOKUP(A674,base_itens_20,2,FALSE))","v":""}]
[null,{"$f":"IF(ISBLANK(A675),\"\",VLOOKUP(A675,base_itens_20,2,FALSE))","v":""}]
[null,{"$f":"IF(ISBLANK(A676),\"\",VLOOKUP(A676,base_itens_20,2,FALSE))","v":""}]
[null,{"$f":"IF(ISBLANK(A677),\"\",VLOOKUP(A677,base_itens_20,2,FALSE))","v":""}]
[null,{"$f":"IF(ISBLANK(A678),\"\",VLOOKUP(A678,base_itens_20,2,FALSE))","v":""}]
[null,{"$f":"IF(ISBLANK(A679),\"\",VLOOKUP(A679,base_itens_20,2,FALSE))","v":""}]
[null,{"$f":"IF(ISBLANK(A680),\"\",VLOOKUP(A680,base_itens_20,2,FALSE))","v":""}]
[null,{"$f":"IF(ISBLANK(A681),\"\",VLOOKUP(A681,base_itens_20,2,FALSE))","v":""}]
[null,{"$f":"IF(ISBLANK(A682),\"\",VLOOKUP(A682,base_itens_20,2,FALSE))","v":""}]
[null,{"$f":"IF(ISBLANK(A683),\"\",VLOOKUP(A683,base_itens_20,2,FALSE))","v":""}]
[null,{"$f":"IF(ISBLANK(A684),\"\",VLOOKUP(A684,base_itens_20,2,FALSE))","v":""}]
[null,{"$f":"IF(ISBLANK(A685),\"\",VLOOKUP(A685,base_itens_20,2,FALSE))","v":""}]
[null,{"$f":"IF(ISBLANK(A686),\"\",VLOOKUP(A686,base_itens_20,2,FALSE))","v":""}]
[null,{"$f":"IF(ISBLANK(A687),\"\",VLOOKUP(A687,base_itens_20,2,FALSE))","v":""}]
[null,{"$f":"IF(ISBLANK(A688),\"\",VLOOKUP(A688,base_itens_20,2,FALSE))","v":""}]
[null,{"$f":"IF(ISBLANK(A689),\"\",VLOOKUP(A689,base_itens_20,2,FALSE))","v":""}]
[null,{"$f":"IF(ISBLANK(A690),\"\",VLOOKUP(A690,base_itens_20,2,FALSE))","v":""}]
[null,{"$f":"IF(ISBLANK(A691),\"\",VLOOKUP(A691,base_itens_20,2,FALSE))","v":""}]
[null,{"$f":"IF(ISBLANK(A692),\"\",VLOOKUP(A692,base_itens_20,2,FALSE))","v":""}]
[null,{"$f":"IF(ISBLANK(A693),\"\",VLOOKUP(A693,base_itens_20,2,FALSE))","v":""}]
[null,{"$f":"IF(ISBLANK(A694),\"\",VLOOKUP(A694,base_itens_20,2,FALSE))","v":""}]
[null,{"$f":"IF(ISBLANK(A695),\"\",VLOOKUP(A695,base_itens_20,2,FALSE))","v":""}]
[null,{"$f":"IF(ISBLANK(A696),\"\",VLOOKUP(A696,base_itens_20,2,FALSE))","v":""}]
[null,{"$f":"IF(ISBLANK(A697),\"\",VLOOKUP(A697,base_itens_20,2,FALSE))","v":""}]
[null,{"$f":"IF(ISBLANK(A698),\"\",VLOOKUP(A698,base_itens_20,2,FALSE))","v":""}]
[null,{"$f":"IF(ISBLANK(A699),\"\",VLOOKUP(A699,base_itens_20,2,FALSE))","v":""}]
[null,{"$f":"IF(ISBLANK(A700),\"\",VLOOKUP(A700,base_itens_20,2,FALSE))","v":""}]
[null,{"$f":"IF(ISBLANK(A701),\"\",VLOOKUP(A701,base_itens_20,2,FALSE))","v":""}]
[null,{"$f":"IF(ISBLANK(A702),\"\",VLOOKUP(A702,base_itens_20,2,FALSE))","v":""}]
[null,{"$f":"IF(ISBLANK(A703),\"\",VLOOKUP(A703,base_itens_20,2,FALSE))","v":""}]
[null,{"$f":"IF(ISBLANK(A704),\"\",VLOOKUP(A704,base_itens_20,2,FALSE))","v":""}]
[null,{"$f":"IF(ISBLANK(A705),\"\",VLOOKUP(A705,base_itens_20,2,FALSE))","v":""}]
[null,{"$f":"IF(ISBLANK(A706),\"\",VLOOKUP(A706,base_itens_20,2,FALSE))","v":""}]
[null,{"$f":"IF(ISBLANK(A707),\"\",VLOOKUP(A707,base_itens_20,2,FALSE))","v":""}]
[null,{"$f":"IF(ISBLANK(A708),\"\",VLOOKUP(A708,base_itens_20,2,FALSE))","v":""}]
[null,{"$f":"IF(ISBLANK(A709),\"\",VLOOKUP(A709,base_itens_20,2,FALSE))","v":""}]
[null,{"$f":"IF(ISBLANK(A710),\"\",VLOOKUP(A710,base_itens_20,2,FALSE))","v":""}]
[null,{"$f":"IF(ISBLANK(A711),\"\",VLOOKUP(A711,base_itens_20,2,FALSE))","v":""}]
[null,{"$f":"IF(ISBLANK(A712),\"\",VLOOKUP(A712,base_itens_20,2,FALSE))","v":""}]
[null,{"$f":"IF(ISBLANK(A713),\"\",VLOOKUP(A713,base_itens_20,2,FALSE))","v":""}]
[null,{"$f":"IF(ISBLANK(A714),\"\",VLOOKUP(A714,base_itens_20,2,FALSE))","v":""}]
[null,{"$f":"IF(ISBLANK(A715),\"\",VLOOKUP(A715,base_itens_20,2,FALSE))","v":""}]
[null,{"$f":"IF(ISBLANK(A716),\"\",VLOOKUP(A716,base_itens_20,2,FALSE))","v":""}]
[null,{"$f":"IF(ISBLANK(A717),\"\",VLOOKUP(A717,base_itens_20,2,FALSE))","v":""}]
[null,{"$f":"IF(ISBLANK(A718),\"\",VLOOKUP(A718,base_itens_20,2,FALSE))","v":""}]
[null,{"$f":"IF(ISBLANK(A719),\"\",VLOOKUP(A719,base_itens_20,2,FALSE))","v":""}]
[null,{"$f":"IF(ISBLANK(A720),\"\",VLOOKUP(A720,base_itens_20,2,FALSE))","v":""}]
[null,{"$f":"IF(ISBLANK(A721),\"\",VLOOKUP(A721,base_itens_20,2,FALSE))","v":""}]
[null,{"$f":"IF(ISBLANK(A722),\"\",VLOOKUP(A722,base_itens_20,2,FALSE))","v":""}]
[null,{"$f":"IF(ISBLANK(A723),\"\",VLOOKUP(A723,base_itens_20,2,FALSE))","v":""}]
[null,{"$f":"IF(ISBLANK(A724),\"\",VLOOKUP(A724,base_itens_20,2,FALSE))","v":""}]
[null,{"$f":"IF(ISBLANK(A725),\"\",VLOOKUP(A725,base_itens_20,2,FALSE))","v":""}]
[null,{"$f":"IF(ISBLANK(A726),\"\",VLOOKUP(A726,base_itens_20,2,FALSE))","v":""}]
[null,{"$f":"IF(ISBLANK(A727),\"\",VLOOKUP(A727,base_itens_20,2,FALSE))","v":""}]
[null,{"$f":"IF(ISBLANK(A728),\"\",VLOOKUP(A728,base_itens_20,2,FALSE))","v":""}]
[null,{"$f":"IF(ISBLANK(A729),\"\",VLOOKUP(A729,base_itens_20,2,FALSE))","v":""}]
[null,{"$f":"IF(ISBLANK(A730),\"\",VLOOKUP(A730,base_itens_20,2,FALSE))","v":""}]
[null,{"$f":"IF(ISBLANK(A731),\"\",VLOOKUP(A731,base_itens_20,2,FALSE))","v":""}]
[null,{"$f":"IF(ISBLANK(A732),\"\",VLOOKUP(A732,base_itens_20,2,FALSE))","v":""}]
[null,{"$f":"IF(ISBLANK(A733),\"\",VLOOKUP(A733,base_itens_20,2,FALSE))","v":""}]
[null,{"$f":"IF(ISBLANK(A734),\"\",VLOOKUP(A734,base_itens_20,2,FALSE))","v":""}]
[null,{"$f":"IF(ISBLANK(A735),\"\",VLOOKUP(A735,base_itens_20,2,FALSE))","v":""}]
[null,{"$f":"IF(ISBLANK(A736),\"\",VLOOKUP(A736,base_itens_20,2,FALSE))","v":""}]
[null,{"$f":"IF(ISBLANK(A737),\"\",VLOOKUP(A737,base_itens_20,2,FALSE))","v":""}]
[null,{"$f":"IF(ISBLANK(A738),\"\",VLOOKUP(A738,base_itens_20,2,FALSE))","v":""}]
[null,{"$f":"IF(ISBLANK(A739),\"\",VLOOKUP(A739,base_itens_20,2,FALSE))","v":""}]
[null,{"$f":"IF(ISBLANK(A740),\"\",VLOOKUP(A740,base_itens_20,2,FALSE))","v":""}]
[null,{"$f":"IF(ISBLANK(A741),\"\",VLOOKUP(A741,base_itens_20,2,FALSE))","v":""}]
[null,{"$f":"IF(ISBLANK(A742),\"\",VLOOKUP(A742,base_itens_20,2,FALSE))","v":""}]
[null,{"$f":"IF(ISBLANK(A743),\"\",VLOOKUP(A743,base_itens_20,2,FALSE))","v":""}]
[null,{"$f":"IF(ISBLANK(A744),\"\",VLOOKUP(A744,base_itens_20,2,FALSE))","v":""}]
[null,{"$f":"IF(ISBLANK(A745),\"\",VLOOKUP(A745,base_itens_20,2,FALSE))","v":""}]
[null,{"$f":"IF(ISBLANK(A746),\"\",VLOOKUP(A746,base_itens_20,2,FALSE))","v":""}]
[null,{"$f":"IF(ISBLANK(A747),\"\",VLOOKUP(A747,base_itens_20,2,FALSE))","v":""}]
[null,{"$f":"IF(ISBLANK(A748),\"\",VLOOKUP(A748,base_itens_20,2,FALSE))","v":""}]
[null,{"$f":"IF(ISBLANK(A749),\"\",VLOOKUP(A749,base_itens_20,2,FALSE))","v":""}]
[null,{"$f":"IF(ISBLANK(A750),\"\",VLOOKUP(A750,base_itens_20,2,FALSE))","v":""}]
[null,{"$f":"IF(ISBLANK(A751),\"\",VLOOKUP(A751,base_itens_20,2,FALSE))","v":""}]
[null,{"$f":"IF(ISBLANK(A752),\"\",VLOOKUP(A752,base_itens_20,2,FALSE))","v":""}]
[null,{"$f":"IF(ISBLANK(A753),\"\",VLOOKUP(A753,base_itens_20,2,FALSE))","v":""}]
[null,{"$f":"IF(ISBLANK(A754),\"\",VLOOKUP(A754,base_itens_20,2,FALSE))","v":""}]
[null,{"$f":"IF(ISBLANK(A755),\"\",VLOOKUP(A755,base_itens_20,2,FALSE))","v":""}]
[null,{"$f":"IF(ISBLANK(A756),\"\",VLOOKUP(A756,base_itens_20,2,FALSE))","v":""}]
[null,{"$f":"IF(ISBLANK(A757),\"\",VLOOKUP(A757,base_itens_20,2,FALSE))","v":""}]
[null,{"$f":"IF(ISBLANK(A758),\"\",VLOOKUP(A758,base_itens_20,2,FALSE))","v":""}]
[null,{"$f":"IF(ISBLANK(A759),\"\",VLOOKUP(A759,base_itens_20,2,FALSE))","v":""}]
[null,{"$f":"IF(ISBLANK(A760),\"\",VLOOKUP(A760,base_itens_20,2,FALSE))","v":""}]
[null,{"$f":"IF(ISBLANK(A761),\"\",VLOOKUP(A761,base_itens_20,2,FALSE))","v":""}]
[null,{"$f":"IF(ISBLANK(A762),\"\",VLOOKUP(A762,base_itens_20,2,FALSE))","v":""}]
[null,{"$f":"IF(ISBLANK(A763),\"\",VLOOKUP(A763,base_itens_20,2,FALSE))","v":""}]
[null,{"$f":"IF(ISBLANK(A764),\"\",VLOOKUP(A764,base_itens_20,2,FALSE))","v":""}]
[null,{"$f":"IF(ISBLANK(A765),\"\",VLOOKUP(A765,base_itens_20,2,FALSE))","v":""}]
[null,{"$f":"IF(ISBLANK(A766),\"\",VLOOKUP(A766,base_itens_20,2,FALSE))","v":""}]
[null,{"$f":"IF(ISBLANK(A767),\"\",VLOOKUP(A767,base_itens_20,2,FALSE))","v":""}]
[null,{"$f":"IF(ISBLANK(A768),\"\",VLOOKUP(A768,base_itens_20,2,FALSE))","v":""}]
[null,{"$f":"IF(ISBLANK(A769),\"\",VLOOKUP(A769,base_itens_20,2,FALSE))","v":""}]
[null,{"$f":"IF(ISBLANK(A770),\"\",VLOOKUP(A770,base_itens_20,2,FALSE))","v":""}]
[null,{"$f":"IF(ISBLANK(A771),\"\",VLOOKUP(A771,base_itens_20,2,FALSE))","v":""}]
[null,{"$f":"IF(ISBLANK(A772),\"\",VLOOKUP(A772,base_itens_20,2,FALSE))","v":""}]
[null,{"$f":"IF(ISBLANK(A773),\"\",VLOOKUP(A773,base_itens_20,2,FALSE))","v":""}]
[null,{"$f":"IF(ISBLANK(A774),\"\",VLOOKUP(A774,base_itens_20,2,FALSE))","v":""}]
[null,{"$f":"IF(ISBLANK(A775),\"\",VLOOKUP(A775,base_itens_20,2,FALSE))","v":""}]
[null,{"$f":"IF(ISBLANK(A776),\"\",VLOOKUP(A776,base_itens_20,2,FALSE))","v":""}]
[null,{"$f":"IF(ISBLANK(A777),\"\",VLOOKUP(A777,base_itens_20,2,FALSE))","v":""}]
[null,{"$f":"IF(ISBLANK(A778),\"\",VLOOKUP(A778,base_itens_20,2,FALSE))","v":""}]
[null,{"$f":"IF(ISBLANK(A779),\"\",VLOOKUP(A779,base_itens_20,2,FALSE))","v":""}]
[null,{"$f":"IF(ISBLANK(A780),\"\",VLOOKUP(A780,base_itens_20,2,FALSE))","v":""}]
[null,{"$f":"IF(ISBLANK(A781),\"\",VLOOKUP(A781,base_itens_20,2,FALSE))","v":""}]
[null,{"$f":"IF(ISBLANK(A782),\"\",VLOOKUP(A782,base_itens_20,2,FALSE))","v":""}]
[null,{"$f":"IF(ISBLANK(A783),\"\",VLOOKUP(A783,base_itens_20,2,FALSE))","v":""}]
[null,{"$f":"IF(ISBLANK(A784),\"\",VLOOKUP(A784,base_itens_20,2,FALSE))","v":""}]
[null,{"$f":"IF(ISBLANK(A785),\"\",VLOOKUP(A785,base_itens_20,2,FALSE))","v":""}]
[null,{"$f":"IF(ISBLANK(A786),\"\",VLOOKUP(A786,base_itens_20,2,FALSE))","v":""}]
[null,{"$f":"IF(ISBLANK(A787),\"\",VLOOKUP(A787,base_itens_20,2,FALSE))","v":""}]
[null,{"$f":"IF(ISBLANK(A788),\"\",VLOOKUP(A788,base_itens_20,2,FALSE))","v":""}]
[null,{"$f":"IF(ISBLANK(A789),\"\",VLOOKUP(A789,base_itens_20,2,FALSE))","v":""}]
[null,{"$f":"IF(ISBLANK(A790),\"\",VLOOKUP(A790,base_itens_20,2,FALSE))","v":""}]
[null,{"$f":"IF(ISBLANK(A791),\"\",VLOOKUP(A791,base_itens_20,2,FALSE))","v":""}]
[null,{"$f":"IF(ISBLANK(A792),\"\",VLOOKUP(A792,base_itens_20,2,FALSE))","v":""}]
[null,{"$f":"IF(ISBLANK(A793),\"\",VLOOKUP(A793,base_itens_20,2,FALSE))","v":""}]
[null,{"$f":"IF(ISBLANK(A794),\"\",VLOOKUP(A794,base_itens_20,2,FALSE))","v":""}]
[null,{"$f":"IF(ISBLANK(A795),\"\",VLOOKUP(A795,base_itens_20,2,FALSE))","v":""}]
[null,{"$f":"IF(ISBLANK(A796),\"\",VLOOKUP(A796,base_itens_20,2,FALSE))","v":""}]
[null,{"$f":"IF(ISBLANK(A797),\"\",VLOOKUP(A797,base_itens_20,2,FALSE))","v":""}]
[null,{"$f":"IF(ISBLANK(A798),\"\",VLOOKUP(A798,base_itens_20,2,FALSE))","v":""}]
[null,{"$f":"IF(ISBLANK(A799),\"\",VLOOKUP(A799,base_itens_20,2,FALSE))","v":""}]
[null,{"$f":"IF(ISBLANK(A800),\"\",VLOOKUP(A800,base_itens_20,2,FALSE))","v":""}]
[null,{"$f":"IF(ISBLANK(A801),\"\",VLOOKUP(A801,base_itens_20,2,FALSE))","v":""}]
[null,{"$f":"IF(ISBLANK(A802),\"\",VLOOKUP(A802,base_itens_20,2,FALSE))","v":""}]
[null,{"$f":"IF(ISBLANK(A803),\"\",VLOOKUP(A803,base_itens_20,2,FALSE))","v":""}]
[null,{"$f":"IF(ISBLANK(A804),\"\",VLOOKUP(A804,base_itens_20,2,FALSE))","v":""}]
[null,{"$f":"IF(ISBLANK(A805),\"\",VLOOKUP(A805,base_itens_20,2,FALSE))","v":""}]
[null,{"$f":"IF(ISBLANK(A806),\"\",VLOOKUP(A806,base_itens_20,2,FALSE))","v":""}]
[null,{"$f":"IF(ISBLANK(A807),\"\",VLOOKUP(A807,base_itens_20,2,FALSE))","v":""}]
[null,{"$f":"IF(ISBLANK(A808),\"\",VLOOKUP(A808,base_itens_20,2,FALSE))","v":""}]
[null,{"$f":"IF(ISBLANK(A809),\"\",VLOOKUP(A809,base_itens_20,2,FALSE))","v":""}]
[null,{"$f":"IF(ISBLANK(A810),\"\",VLOOKUP(A810,base_itens_20,2,FALSE))","v":""}]
[null,{"$f":"IF(ISBLANK(A811),\"\",VLOOKUP(A811,base_itens_20,2,FALSE))","v":""}]
[null,{"$f":"IF(ISBLANK(A812),\"\",VLOOKUP(A812,base_itens_20,2,FALSE))","v":""}]
[null,{"$f":"IF(ISBLANK(A813),\"\",VLOOKUP(A813,base_itens_20,2,FALSE))","v":""}]
[null,{"$f":"IF(ISBLANK(A814),\"\",VLOOKUP(A814,base_itens_20,2,FALSE))","v":""}]
[null,{"$f":"IF(ISBLANK(A815),\"\",VLOOKUP(A815,base_itens_20,2,FALSE))","v":""}]
[null,{"$f":"IF(ISBLANK(A816),\"\",VLOOKUP(A816,base_itens_20,2,FALSE))","v":""}]
[null,{"$f":"IF(ISBLANK(A817),\"\",VLOOKUP(A817,base_itens_20,2,FALSE))","v":""}]
[null,{"$f":"IF(ISBLANK(A818),\"\",VLOOKUP(A818,base_itens_20,2,FALSE))","v":""}]
[null,{"$f":"IF(ISBLANK(A819),\"\",VLOOKUP(A819,base_itens_20,2,FALSE))","v":""}]
[null,{"$f":"IF(ISBLANK(A820),\"\",VLOOKUP(A820,base_itens_20,2,FALSE))","v":""}]
[null,{"$f":"IF(ISBLANK(A821),\"\",VLOOKUP(A821,base_itens_20,2,FALSE))","v":""}]
[null,{"$f":"IF(ISBLANK(A822),\"\",VLOOKUP(A822,base_itens_20,2,FALSE))","v":""}]
[null,{"$f":"IF(ISBLANK(A823),\"\",VLOOKUP(A823,base_itens_20,2,FALSE))","v":""}]
[null,{"$f":"IF(ISBLANK(A824),\"\",VLOOKUP(A824,base_itens_20,2,FALSE))","v":""}]
[null,{"$f":"IF(ISBLANK(A825),\"\",VLOOKUP(A825,base_itens_20,2,FALSE))","v":""}]
[null,{"$f":"IF(ISBLANK(A826),\"\",VLOOKUP(A826,base_itens_20,2,FALSE))","v":""}]
[null,{"$f":"IF(ISBLANK(A827),\"\",VLOOKUP(A827,base_itens_20,2,FALSE))","v":""}]
[null,{"$f":"IF(ISBLANK(A828),\"\",VLOOKUP(A828,base_itens_20,2,FALSE))","v":""}]
[null,{"$f":"IF(ISBLANK(A829),\"\",VLOOKUP(A829,base_itens_20,2,FALSE))","v":""}]
[null,{"$f":"IF(ISBLANK(A830),\"\",VLOOKUP(A830,base_itens_20,2,FALSE))","v":""}]
[null,{"$f":"IF(ISBLANK(A831),\"\",VLOOKUP(A831,base_itens_20,2,FALSE))","v":""}]
[null,{"$f":"IF(ISBLANK(A832),\"\",VLOOKUP(A832,base_itens_20,2,FALSE))","v":""}]
[null,{"$f":"IF(ISBLANK(A833),\"\",VLOOKUP(A833,base_itens_20,2,FALSE))","v":""}]
[null,{"$f":"IF(ISBLANK(A834),\"\",VLOOKUP(A834,base_itens_20,2,FALSE))","v":""}]
[null,{"$f":"IF(ISBLANK(A835),\"\",VLOOKUP(A835,base_itens_20,2,FALSE))","v":""}]
[null,{"$f":"IF(ISBLANK(A836),\"\",VLOOKUP(A836,base_itens_20,2,FALSE))","v":""}]
[null,{"$f":"IF(ISBLANK(A837),\"\",VLOOKUP(A837,base_itens_20,2,FALSE))","v":""}]
[null,{"$f":"IF(ISBLANK(A838),\"\",VLOOKUP(A838,base_itens_20,2,FALSE))","v":""}]
[null,{"$f":"IF(ISBLANK(A839),\"\",VLOOKUP(A839,base_itens_20,2,FALSE))","v":""}]
[null,{"$f":"IF(ISBLANK(A840),\"\",VLOOKUP(A840,base_itens_20,2,FALSE))","v":""}]
[null,{"$f":"IF(ISBLANK(A841),\"\",VLOOKUP(A841,base_itens_20,2,FALSE))","v":""}]
[null,{"$f":"IF(ISBLANK(A842),\"\",VLOOKUP(A842,base_itens_20,2,FALSE))","v":""}]
[null,{"$f":"IF(ISBLANK(A843),\"\",VLOOKUP(A843,base_itens_20,2,FALSE))","v":""}]
[null,{"$f":"IF(ISBLANK(A844),\"\",VLOOKUP(A844,base_itens_20,2,FALSE))","v":""}]
[null,{"$f":"IF(ISBLANK(A845),\"\",VLOOKUP(A845,base_itens_20,2,FALSE))","v":""}]
[null,{"$f":"IF(ISBLANK(A846),\"\",VLOOKUP(A846,base_itens_20,2,FALSE))","v":""}]
[null,{"$f":"IF(ISBLANK(A847),\"\",VLOOKUP(A847,base_itens_20,2,FALSE))","v":""}]
[null,{"$f":"IF(ISBLANK(A848),\"\",VLOOKUP(A848,base_itens_20,2,FALSE))","v":""}]
[null,{"$f":"IF(ISBLANK(A849),\"\",VLOOKUP(A849,base_itens_20,2,FALSE))","v":""}]
[null,{"$f":"IF(ISBLANK(A850),\"\",VLOOKUP(A850,base_itens_20,2,FALSE))","v":""}]
[null,{"$f":"IF(ISBLANK(A851),\"\",VLOOKUP(A851,base_itens_20,2,FALSE))","v":""}]
[null,{"$f":"IF(ISBLANK(A852),\"\",VLOOKUP(A852,base_itens_20,2,FALSE))","v":""}]
[null,{"$f":"IF(ISBLANK(A853),\"\",VLOOKUP(A853,base_itens_20,2,FALSE))","v":""}]
[null,{"$f":"IF(ISBLANK(A854),\"\",VLOOKUP(A854,base_itens_20,2,FALSE))","v":""}]
[null,{"$f":"IF(ISBLANK(A855),\"\",VLOOKUP(A855,base_itens_20,2,FALSE))","v":""}]
[null,{"$f":"IF(ISBLANK(A856),\"\",VLOOKUP(A856,base_itens_20,2,FALSE))","v":""}]
[null,{"$f":"IF(ISBLANK(A857),\"\",VLOOKUP(A857,base_itens_20,2,FALSE))","v":""}]
[null,{"$f":"IF(ISBLANK(A858),\"\",VLOOKUP(A858,base_itens_20,2,FALSE))","v":""}]
[null,{"$f":"IF(ISBLANK(A859),\"\",VLOOKUP(A859,base_itens_20,2,FALSE))","v":""}]
[null,{"$f":"IF(ISBLANK(A860),\"\",VLOOKUP(A860,base_itens_20,2,FALSE))","v":""}]
[null,{"$f":"IF(ISBLANK(A861),\"\",VLOOKUP(A861,base_itens_20,2,FALSE))","v":""}]
[null,{"$f":"IF(ISBLANK(A862),\"\",VLOOKUP(A862,base_itens_20,2,FALSE))","v":""}]
[null,{"$f":"IF(ISBLANK(A863),\"\",VLOOKUP(A863,base_itens_20,2,FALSE))","v":""}]
[null,{"$f":"IF(ISBLANK(A864),\"\",VLOOKUP(A864,base_itens_20,2,FALSE))","v":""}]
[null,{"$f":"IF(ISBLANK(A865),\"\",VLOOKUP(A865,base_itens_20,2,FALSE))","v":""}]
[null,{"$f":"IF(ISBLANK(A866),\"\",VLOOKUP(A866,base_itens_20,2,FALSE))","v":""}]
[null,{"$f":"IF(ISBLANK(A867),\"\",VLOOKUP(A867,base_itens_20,2,FALSE))","v":""}]
[null,{"$f":"IF(ISBLANK(A868),\"\",VLOOKUP(A868,base_itens_20,2,FALSE))","v":""}]
[null,{"$f":"IF(ISBLANK(A869),\"\",VLOOKUP(A869,base_itens_20,2,FALSE))","v":""}]
[null,{"$f":"IF(ISBLANK(A870),\"\",VLOOKUP(A870,base_itens_20,2,FALSE))","v":""}]
[null,{"$f":"IF(ISBLANK(A871),\"\",VLOOKUP(A871,base_itens_20,2,FALSE))","v":""}]
[null,{"$f":"IF(ISBLANK(A872),\"\",VLOOKUP(A872,base_itens_20,2,FALSE))","v":""}]
[null,{"$f":"IF(ISBLANK(A873),\"\",VLOOKUP(A873,base_itens_20,2,FALSE))","v":""}]
[null,{"$f":"IF(ISBLANK(A874),\"\",VLOOKUP(A874,base_itens_20,2,FALSE))","v":""}]
[null,{"$f":"IF(ISBLANK(A875),\"\",VLOOKUP(A875,base_itens_20,2,FALSE))","v":""}]
[null,{"$f":"IF(ISBLANK(A876),\"\",VLOOKUP(A876,base_itens_20,2,FALSE))","v":""}]
[null,{"$f":"IF(ISBLANK(A877),\"\",VLOOKUP(A877,base_itens_20,2,FALSE))","v":""}]
[null,{"$f":"IF(ISBLANK(A878),\"\",VLOOKUP(A878,base_itens_20,2,FALSE))","v":""}]
[null,{"$f":"IF(ISBLANK(A879),\"\",VLOOKUP(A879,base_itens_20,2,FALSE))","v":""}]
[null,{"$f":"IF(ISBLANK(A880),\"\",VLOOKUP(A880,base_itens_20,2,FALSE))","v":""}]
[null,{"$f":"IF(ISBLANK(A881),\"\",VLOOKUP(A881,base_itens_20,2,FALSE))","v":""}]
[null,{"$f":"IF(ISBLANK(A882),\"\",VLOOKUP(A882,base_itens_20,2,FALSE))","v":""}]
[null,{"$f":"IF(ISBLANK(A883),\"\",VLOOKUP(A883,base_itens_20,2,FALSE))","v":""}]
[null,{"$f":"IF(ISBLANK(A884),\"\",VLOOKUP(A884,base_itens_20,2,FALSE))","v":""}]
[null,{"$f":"IF(ISBLANK(A885),\"\",VLOOKUP(A885,base_itens_20,2,FALSE))","v":""}]
[null,{"$f":"IF(ISBLANK(A886),\"\",VLOOKUP(A886,base_itens_20,2,FALSE))","v":""}]
[null,{"$f":"IF(ISBLANK(A887),\"\",VLOOKUP(A887,base_itens_20,2,FALSE))","v":""}]
[null,{"$f":"IF(ISBLANK(A888),\"\",VLOOKUP(A888,base_itens_20,2,FALSE))","v":""}]
[null,{"$f":"IF(ISBLANK(A889),\"\",VLOOKUP(A889,base_itens_20,2,FALSE))","v":""}]
[null,{"$f":"IF(ISBLANK(A890),\"\",VLOOKUP(A890,base_itens_20,2,FALSE))","v":""}]
[null,{"$f":"IF(ISBLANK(A891),\"\",VLOOKUP(A891,base_itens_20,2,FALSE))","v":""}]
[null,{"$f":"IF(ISBLANK(A892),\"\",VLOOKUP(A892,base_itens_20,2,FALSE))","v":""}]
[null,{"$f":"IF(ISBLANK(A893),\"\",VLOOKUP(A893,base_itens_20,2,FALSE))","v":""}]
[null,{"$f":"IF(ISBLANK(A894),\"\",VLOOKUP(A894,base_itens_20,2,FALSE))","v":""}]
[null,{"$f":"IF(ISBLANK(A895),\"\",VLOOKUP(A895,base_itens_20,2,FALSE))","v":""}]
[null,{"$f":"IF(ISBLANK(A896),\"\",VLOOKUP(A896,base_itens_20,2,FALSE))","v":""}]
[null,{"$f":"IF(ISBLANK(A897),\"\",VLOOKUP(A897,base_itens_20,2,FALSE))","v":""}]
[null,{"$f":"IF(ISBLANK(A898),\"\",VLOOKUP(A898,base_itens_20,2,FALSE))","v":""}]
[null,{"$f":"IF(ISBLANK(A899),\"\",VLOOKUP(A899,base_itens_20,2,FALSE))","v":""}]
[null,{"$f":"IF(ISBLANK(A900),\"\",VLOOKUP(A900,base_itens_20,2,FALSE))","v":""}]
[null,{"$f":"IF(ISBLANK(A901),\"\",VLOOKUP(A901,base_itens_20,2,FALSE))","v":""}]
[null,{"$f":"IF(ISBLANK(A902),\"\",VLOOKUP(A902,base_itens_20,2,FALSE))","v":""}]
[null,{"$f":"IF(ISBLANK(A903),\"\",VLOOKUP(A903,base_itens_20,2,FALSE))","v":""}]
[null,{"$f":"IF(ISBLANK(A904),\"\",VLOOKUP(A904,base_itens_20,2,FALSE))","v":""}]
[null,{"$f":"IF(ISBLANK(A905),\"\",VLOOKUP(A905,base_itens_20,2,FALSE))","v":""}]
[null,{"$f":"IF(ISBLANK(A906),\"\",VLOOKUP(A906,base_itens_20,2,FALSE))","v":""}]
[null,{"$f":"IF(ISBLANK(A907),\"\",VLOOKUP(A907,base_itens_20,2,FALSE))","v":""}]
[null,{"$f":"IF(ISBLANK(A908),\"\",VLOOKUP(A908,base_itens_20,2,FALSE))","v":""}]
[null,{"$f":"IF(ISBLANK(A909),\"\",VLOOKUP(A909,base_itens_20,2,FALSE))","v":""}]
[null,{"$f":"IF(ISBLANK(A910),\"\",VLOOKUP(A910,base_itens_20,2,FALSE))","v":""}]
[null,{"$f":"IF(ISBLANK(A911),\"\",VLOOKUP(A911,base_itens_20,2,FALSE))","v":""}]
[null,{"$f":"IF(ISBLANK(A912),\"\",VLOOKUP(A912,base_itens_20,2,FALSE))","v":""}]
[null,{"$f":"IF(ISBLANK(A913),\"\",VLOOKUP(A913,base_itens_20,2,FALSE))","v":""}]
[null,{"$f":"IF(ISBLANK(A914),\"\",VLOOKUP(A914,base_itens_20,2,FALSE))","v":""}]
[null,{"$f":"IF(ISBLANK(A915),\"\",VLOOKUP(A915,base_itens_20,2,FALSE))","v":""}]
[null,{"$f":"IF(ISBLANK(A916),\"\",VLOOKUP(A916,base_itens_20,2,FALSE))","v":""}]
[null,{"$f":"IF(ISBLANK(A917),\"\",VLOOKUP(A917,base_itens_20,2,FALSE))","v":""}]
[null,{"$f":"IF(ISBLANK(A918),\"\",VLOOKUP(A918,base_itens_20,2,FALSE))","v":""}]
[null,{"$f":"IF(ISBLANK(A919),\"\",VLOOKUP(A919,base_itens_20,2,FALSE))","v":""}]
[null,{"$f":"IF(ISBLANK(A920),\"\",VLOOKUP(A920,base_itens_20,2,FALSE))","v":""}]
[null,{"$f":"IF(ISBLANK(A921),\"\",VLOOKUP(A921,base_itens_20,2,FALSE))","v":""}]
[null,{"$f":"IF(ISBLANK(A922),\"\",VLOOKUP(A922,base_itens_20,2,FALSE))","v":""}]
[null,{"$f":"IF(ISBLANK(A923),\"\",VLOOKUP(A923,base_itens_20,2,FALSE))","v":""}]
[null,{"$f":"IF(ISBLANK(A924),\"\",VLOOKUP(A924,base_itens_20,2,FALSE))","v":""}]
[null,{"$f":"IF(ISBLANK(A925),\"\",VLOOKUP(A925,base_itens_20,2,FALSE))","v":""}]
[null,{"$f":"IF(ISBLANK(A926),\"\",VLOOKUP(A926,base_itens_20,2,FALSE))","v":""}]
[null,{"$f":"IF(ISBLANK(A927),\"\",VLOOKUP(A927,base_itens_20,2,FALSE))","v":""}]
[null,{"$f":"IF(ISBLANK(A928),\"\",VLOOKUP(A928,base_itens_20,2,FALSE))","v":""}]
[null,{"$f":"IF(ISBLANK(A929),\"\",VLOOKUP(A929,base_itens_20,2,FALSE))","v":""}]
[null,{"$f":"IF(ISBLANK(A930),\"\",VLOOKUP(A930,base_itens_20,2,FALSE))","v":""}]
[null,{"$f":"IF(ISBLANK(A931),\"\",VLOOKUP(A931,base_itens_20,2,FALSE))","v":""}]
[null,{"$f":"IF(ISBLANK(A932),\"\",VLOOKUP(A932,base_itens_20,2,FALSE))","v":""}]
[null,{"$f":"IF(ISBLANK(A933),\"\",VLOOKUP(A933,base_itens_20,2,FALSE))","v":""}]
[null,{"$f":"IF(ISBLANK(A934),\"\",VLOOKUP(A934,base_itens_20,2,FALSE))","v":""}]
[null,{"$f":"IF(ISBLANK(A935),\"\",VLOOKUP(A935,base_itens_20,2,FALSE))","v":""}]
[null,{"$f":"IF(ISBLANK(A936),\"\",VLOOKUP(A936,base_itens_20,2,FALSE))","v":""}]
[null,{"$f":"IF(ISBLANK(A937),\"\",VLOOKUP(A937,base_itens_20,2,FALSE))","v":""}]
[null,{"$f":"IF(ISBLANK(A938),\"\",VLOOKUP(A938,base_itens_20,2,FALSE))","v":""}]
[null,{"$f":"IF(ISBLANK(A939),\"\",VLOOKUP(A939,base_itens_20,2,FALSE))","v":""}]
[null,{"$f":"IF(ISBLANK(A940),\"\",VLOOKUP(A940,base_itens_20,2,FALSE))","v":""}]
[null,{"$f":"IF(ISBLANK(A941),\"\",VLOOKUP(A941,base_itens_20,2,FALSE))","v":""}]
[null,{"$f":"IF(ISBLANK(A942),\"\",VLOOKUP(A942,base_itens_20,2,FALSE))","v":""}]
[null,{"$f":"IF(ISBLANK(A943),\"\",VLOOKUP(A943,base_itens_20,2,FALSE))","v":""}]
[null,{"$f":"IF(ISBLANK(A944),\"\",VLOOKUP(A944,base_itens_20,2,FALSE))","v":""}]
[null,{"$f":"IF(ISBLANK(A945),\"\",VLOOKUP(A945,base_itens_20,2,FALSE))","v":""}]
[null,{"$f":"IF(ISBLANK(A946),\"\",VLOOKUP(A946,base_itens_20,2,FALSE))","v":""}]
[null,{"$f":"IF(ISBLANK(A947),\"\",VLOOKUP(A947,base_itens_20,2,FALSE))","v":""}]
[null,{"$f":"IF(ISBLANK(A948),\"\",VLOOKUP(A948,base_itens_20,2,FALSE))","v":""}]
[null,{"$f":"IF(ISBLANK(A949),\"\",VLOOKUP(A949,base_itens_20,2,FALSE))","v":""}]
[null,{"$f":"IF(ISBLANK(A950),\"\",VLOOKUP(A950,base_itens_20,2,FALSE))","v":""}]
[null,{"$f":"IF(ISBLANK(A951),\"\",VLOOKUP(A951,base_itens_20,2,FALSE))","v":""}]
[null,{"$f":"IF(ISBLANK(A952),\"\",VLOOKUP(A952,base_itens_20,2,FALSE))","v":""}]
[null,{"$f":"IF(ISBLANK(A953),\"\",VLOOKUP(A953,base_itens_20,2,FALSE))","v":""}]
[null,{"$f":"IF(ISBLANK(A954),\"\",VLOOKUP(A954,base_itens_20,2,FALSE))","v":""}]
[null,{"$f":"IF(ISBLANK(A955),\"\",VLOOKUP(A955,base_itens_20,2,FALSE))","v":""}]
[null,{"$f":"IF(ISBLANK(A956),\"\",VLOOKUP(A956,base_itens_20,2,FALSE))","v":""}]
[null,{"$f":"IF(ISBLANK(A957),\"\",VLOOKUP(A957,base_itens_20,2,FALSE))","v":""}]
[null,{"$f":"IF(ISBLANK(A958),\"\",VLOOKUP(A958,base_itens_20,2,FALSE))","v":""}]
[null,{"$f":"IF(ISBLANK(A959),\"\",VLOOKUP(A959,base_itens_20,2,FALSE))","v":""}]
[null,{"$f":"IF(ISBLANK(A960),\"\",VLOOKUP(A960,base_itens_20,2,FALSE))","v":""}]
[null,{"$f":"IF(ISBLANK(A961),\"\",VLOOKUP(A961,base_itens_20,2,FALSE))","v":""}]
[null,{"$f":"IF(ISBLANK(A962),\"\",VLOOKUP(A962,base_itens_20,2,FALSE))","v":""}]
[null,{"$f":"IF(ISBLANK(A963),\"\",VLOOKUP(A963,base_itens_20,2,FALSE))","v":""}]
[null,{"$f":"IF(ISBLANK(A964),\"\",VLOOKUP(A964,base_itens_20,2,FALSE))","v":""}]
[null,{"$f":"IF(ISBLANK(A965),\"\",VLOOKUP(A965,base_itens_20,2,FALSE))","v":""}]
[null,{"$f":"IF(ISBLANK(A966),\"\",VLOOKUP(A966,base_itens_20,2,FALSE))","v":""}]
[null,{"$f":"IF(ISBLANK(A967),\"\",VLOOKUP(A967,base_itens_20,2,FALSE))","v":""}]
[null,{"$f":"IF(ISBLANK(A968),\"\",VLOOKUP(A968,base_itens_20,2,FALSE))","v":""}]
[null,{"$f":"IF(ISBLANK(A969),\"\",VLOOKUP(A969,base_itens_20,2,FALSE))","v":""}]
[null,{"$f":"IF(ISBLANK(A970),\"\",VLOOKUP(A970,base_itens_20,2,FALSE))","v":""}]
[null,{"$f":"IF(ISBLANK(A971),\"\",VLOOKUP(A971,base_itens_20,2,FALSE))","v":""}]
[null,{"$f":"IF(ISBLANK(A972),\"\",VLOOKUP(A972,base_itens_20,2,FALSE))","v":""}]
[null,{"$f":"IF(ISBLANK(A973),\"\",VLOOKUP(A973,base_itens_20,2,FALSE))","v":""}]
[null,{"$f":"IF(ISBLANK(A974),\"\",VLOOKUP(A974,base_itens_20,2,FALSE))","v":""}]
[null,{"$f":"IF(ISBLANK(A975),\"\",VLOOKUP(A975,base_itens_20,2,FALSE))","v":""}]
[null,{"$f":"IF(ISBLANK(A976),\"\",VLOOKUP(A976,base_itens_20,2,FALSE))","v":""}]
[null,{"$f":"IF(ISBLANK(A977),\"\",VLOOKUP(A977,base_itens_20,2,FALSE))","v":""}]
[null,{"$f":"IF(ISBLANK(A978),\"\",VLOOKUP(A978,base_itens_20,2,FALSE))","v":""}]
[null,{"$f":"IF(ISBLANK(A979),\"\",VLOOKUP(A979,base_itens_20,2,FALSE))","v":""}]
[null,{"$f":"IF(ISBLANK(A980),\"\",VLOOKUP(A980,base_itens_20,2,FALSE))","v":""}]
[null,{"$f":"IF(ISBLANK(A981),\"\",VLOOKUP(A981,base_itens_20,2,FALSE))","v":""}]
[null,{"$f":"IF(ISBLANK(A982),\"\",VLOOKUP(A982,base_itens_20,2,FALSE))","v":""}]
[null,{"$f":"IF(ISBLANK(A983),\"\",VLOOKUP(A983,base_itens_20,2,FALSE))","v":""}]
[null,{"$f":"IF(ISBLANK(A984),\"\",VLOOKUP(A984,base_itens_20,2,FALSE))","v":""}]
[null,{"$f":"IF(ISBLANK(A985),\"\",VLOOKUP(A985,base_itens_20,2,FALSE))","v":""}]
[null,{"$f":"IF(ISBLANK(A986),\"\",VLOOKUP(A986,base_itens_20,2,FALSE))","v":""}]
[null,{"$f":"IF(ISBLANK(A987),\"\",VLOOKUP(A987,base_itens_20,2,FALSE))","v":""}]
[null,{"$f":"IF(ISBLANK(A988),\"\",VLOOKUP(A988,base_itens_20,2,FALSE))","v":""}]
[null,{"$f":"IF(ISBLANK(A989),\"\",VLOOKUP(A989,base_itens_20,2,FALSE))","v":""}]
[null,{"$f":"IF(ISBLANK(A990),\"\",VLOOKUP(A990,base_itens_20,2,FALSE))","v":""}]
[null,{"$f":"IF(ISBLANK(A991),\"\",VLOOKUP(A991,base_itens_20,2,FALSE))","v":""}]
[null,{"$f":"IF(ISBLANK(A992),\"\",VLOOKUP(A992,base_itens_20,2,FALSE))","v":""}]
[null,{"$f":"IF(ISBLANK(A993),\"\",VLOOKUP(A993,base_itens_20,2,FALSE))","v":""}]
[null,{"$f":"IF(ISBLANK(A994),\"\",VLOOKUP(A994,base_itens_20,2,FALSE))","v":""}]
[null,{"$f":"IF(ISBLANK(A995),\"\",VLOOKUP(A995,base_itens_20,2,FALSE))","v":""}]
[null,{"$f":"IF(ISBLANK(A996),\"\",VLOOKUP(A996,base_itens_20,2,FALSE))","v":""}]
[null,{"$f":"IF(ISBLANK(A997),\"\",VLOOKUP(A997,base_itens_20,2,FALSE))","v":""}]
[null,{"$f":"IF(ISBLANK(A998),\"\",VLOOKUP(A998,base_itens_20,2,FALSE))","v":""}]
[null,{"$f":"IF(ISBLANK(A999),\"\",VLOOKUP(A999,base_itens_20,2,FALSE))","v":""}]
[null,{"$f":"IF(ISBLANK(A1000),\"\",VLOOKUP(A1000,base_itens_20,2,FALSE))","v":""}]
[null,{"$f":"IF(ISBLANK(A1001),\"\",VLOOKUP(A1001,base_itens,2,FALSE))","v":""}]
[null,{"$f":"IF(ISBLANK(A1002),\"\",VLOOKUP(A1002,base_itens,2,FALSE))","v":""}]
[null,{"$f":"IF(ISBLANK(A1003),\"\",VLOOKUP(A1003,base_itens,2,FALSE))","v":""}]
[null,{"$f":"IF(ISBLANK(A1004),\"\",VLOOKUP(A1004,base_itens,2,FALSE))","v":""}]
[null,{"$f":"IF(ISBLANK(A1005),\"\",VLOOKUP(A1005,base_itens,2,FALSE))","v":""}]
[null,{"$f":"IF(ISBLANK(A1006),\"\",VLOOKUP(A1006,base_itens,2,FALSE))","v":""}]
[null,{"$f":"IF(ISBLANK(A1007),\"\",VLOOKUP(A1007,base_itens,2,FALSE))","v":""}]
[null,{"$f":"IF(ISBLANK(A1008),\"\",VLOOKUP(A1008,base_itens,2,FALSE))","v":""}]
[null,{"$f":"IF(ISBLANK(A1009),\"\",VLOOKUP(A1009,base_itens,2,FALSE))","v":""}]
[null,{"$f":"IF(ISBLANK(A1010),\"\",VLOOKUP(A1010,base_itens,2,FALSE))","v":""}]
[null,{"$f":"IF(ISBLANK(A1011),\"\",VLOOKUP(A1011,base_itens,2,FALSE))","v":""}]
[null,{"$f":"IF(ISBLANK(A1012),\"\",VLOOKUP(A1012,base_itens,2,FALSE))","v":""}]
[null,{"$f":"IF(ISBLANK(A1013),\"\",VLOOKUP(A1013,base_itens,2,FALSE))","v":""}]
[null,{"$f":"IF(ISBLANK(A1014),\"\",VLOOKUP(A1014,base_itens,2,FALSE))","v":""}]
[null,{"$f":"IF(ISBLANK(A1015),\"\",VLOOKUP(A1015,base_itens,2,FALSE))","v":""}]
[null,{"$f":"IF(ISBLANK(A1016),\"\",VLOOKUP(A1016,base_itens,2,FALSE))","v":""}]
[null,{"$f":"IF(ISBLANK(A1017),\"\",VLOOKUP(A1017,base_itens,2,FALSE))","v":""}]
[null,{"$f":"IF(ISBLANK(A1018),\"\",VLOOKUP(A1018,base_itens,2,FALSE))","v":""}]
[null,{"$f":"IF(ISBLANK(A1019),\"\",VLOOKUP(A1019,base_itens,2,FALSE))","v":""}]
[null,{"$f":"IF(ISBLANK(A1020),\"\",VLOOKUP(A1020,base_itens,2,FALSE))","v":""}]
[null,{"$f":"IF(ISBLANK(A1021),\"\",VLOOKUP(A1021,base_itens,2,FALSE))","v":""}]
[null,{"$f":"IF(ISBLANK(A1022),\"\",VLOOKUP(A1022,base_itens,2,FALSE))","v":""}]
[null,{"$f":"IF(ISBLANK(A1023),\"\",VLOOKUP(A1023,base_itens,2,FALSE))","v":""}]
[null,{"$f":"IF(ISBLANK(A1024),\"\",VLOOKUP(A1024,base_itens,2,FALSE))","v":""}]
[null,{"$f":"IF(ISBLANK(A1025),\"\",VLOOKUP(A1025,base_itens,2,FALSE))","v":""}]
[null,{"$f":"IF(ISBLANK(A1026),\"\",VLOOKUP(A1026,base_itens,2,FALSE))","v":""}]
[null,{"$f":"IF(ISBLANK(A1027),\"\",VLOOKUP(A1027,base_itens,2,FALSE))","v":""}]
[null,{"$f":"IF(ISBLANK(A1028),\"\",VLOOKUP(A1028,base_itens,2,FALSE))","v":""}]
[null,{"$f":"IF(ISBLANK(A1029),\"\",VLOOKUP(A1029,base_itens,2,FALSE))","v":""}]
[null,{"$f":"IF(ISBLANK(A1030),\"\",VLOOKUP(A1030,base_itens,2,FALSE))","v":""}]
[null,{"$f":"IF(ISBLANK(A1031),\"\",VLOOKUP(A1031,base_itens,2,FALSE))","v":""}]
[null,{"$f":"IF(ISBLANK(A1032),\"\",VLOOKUP(A1032,base_itens,2,FALSE))","v":""}]
[null,{"$f":"IF(ISBLANK(A1033),\"\",VLOOKUP(A1033,base_itens,2,FALSE))","v":""}]
[null,{"$f":"IF(ISBLANK(A1034),\"\",VLOOKUP(A1034,base_itens,2,FALSE))","v":""}]
[null,{"$f":"IF(ISBLANK(A1035),\"\",VLOOKUP(A1035,base_itens,2,FALSE))","v":""}]
[null,{"$f":"IF(ISBLANK(A1036),\"\",VLOOKUP(A1036,base_itens,2,FALSE))","v":""}]
[null,{"$f":"IF(ISBLANK(A1037),\"\",VLOOKUP(A1037,base_itens,2,FALSE))","v":""}]
[null,{"$f":"IF(ISBLANK(A1038),\"\",VLOOKUP(A1038,base_itens,2,FALSE))","v":""}]
[null,{"$f":"IF(ISBLANK(A1039),\"\",VLOOKUP(A1039,base_itens,2,FALSE))","v":""}]
[null,{"$f":"IF(ISBLANK(A1040),\"\",VLOOKUP(A1040,base_itens,2,FALSE))","v":""}]
[null,{"$f":"IF(ISBLANK(A1041),\"\",VLOOKUP(A1041,base_itens,2,FALSE))","v":""}]
[null,{"$f":"IF(ISBLANK(A1042),\"\",VLOOKUP(A1042,base_itens,2,FALSE))","v":""}]
[null,{"$f":"IF(ISBLANK(A1043),\"\",VLOOKUP(A1043,base_itens,2,FALSE))","v":""}]
[null,{"$f":"IF(ISBLANK(A1044),\"\",VLOOKUP(A1044,base_itens,2,FALSE))","v":""}]
[null,{"$f":"IF(ISBLANK(A1045),\"\",VLOOKUP(A1045,base_itens,2,FALSE))","v":""}]
[null,{"$f":"IF(ISBLANK(A1046),\"\",VLOOKUP(A1046,base_itens,2,FALSE))","v":""}]
[null,{"$f":"IF(ISBLANK(A1047),\"\",VLOOKUP(A1047,base_itens,2,FALSE))","v":""}]
[null,{"$f":"IF(ISBLANK(A1048),\"\",VLOOKUP(A1048,base_itens,2,FALSE))","v":""}]
[null,{"$f":"IF(ISBLANK(A1049),\"\",VLOOKUP(A1049,base_itens,2,FALSE))","v":""}]
[null,{"$f":"IF(ISBLANK(A1050),\"\",VLOOKUP(A1050,base_itens,2,FALSE))","v":""}]
[null,{"$f":"IF(ISBLANK(A1051),\"\",VLOOKUP(A1051,base_itens,2,FALSE))","v":""}]
[null,{"$f":"IF(ISBLANK(A1052),\"\",VLOOKUP(A1052,base_itens,2,FALSE))","v":""}]
[null,{"$f":"IF(ISBLANK(A1053),\"\",VLOOKUP(A1053,base_itens,2,FALSE))","v":""}]
[null,{"$f":"IF(ISBLANK(A1054),\"\",VLOOKUP(A1054,base_itens,2,FALSE))","v":""}]
[null,{"$f":"IF(ISBLANK(A1055),\"\",VLOOKUP(A1055,base_itens,2,FALSE))","v":""}]
[null,{"$f":"IF(ISBLANK(A1056),\"\",VLOOKUP(A1056,base_itens,2,FALSE))","v":""}]
[null,{"$f":"IF(ISBLANK(A1057),\"\",VLOOKUP(A1057,base_itens,2,FALSE))","v":""}]
[null,{"$f":"IF(ISBLANK(A1058),\"\",VLOOKUP(A1058,base_itens,2,FALSE))","v":""}]
[null,{"$f":"IF(ISBLANK(A1059),\"\",VLOOKUP(A1059,base_itens,2,FALSE))","v":""}]
[null,{"$f":"IF(ISBLANK(A1060),\"\",VLOOKUP(A1060,base_itens,2,FALSE))","v":""}]
[null,{"$f":"IF(ISBLANK(A1061),\"\",VLOOKUP(A1061,base_itens,2,FALSE))","v":""}]
[null,{"$f":"IF(ISBLANK(A1062),\"\",VLOOKUP(A1062,base_itens,2,FALSE))","v":""}]
[null,{"$f":"IF(ISBLANK(A1063),\"\",VLOOKUP(A1063,base_itens,2,FALSE))","v":""}]
[null,{"$f":"IF(ISBLANK(A1064),\"\",VLOOKUP(A1064,base_itens,2,FALSE))","v":""}]
[null,{"$f":"IF(ISBLANK(A1065),\"\",VLOOKUP(A1065,base_itens,2,FALSE))","v":""}]
[null,{"$f":"IF(ISBLANK(A1066),\"\",VLOOKUP(A1066,base_itens,2,FALSE))","v":""}]
[null,{"$f":"IF(ISBLANK(A1067),\"\",VLOOKUP(A1067,base_itens,2,FALSE))","v":""}]
[null,{"$f":"IF(ISBLANK(A1068),\"\",VLOOKUP(A1068,base_itens,2,FALSE))","v":""}]
[null,{"$f":"IF(ISBLANK(A1069),\"\",VLOOKUP(A1069,base_itens,2,FALSE))","v":""}]
[null,{"$f":"IF(ISBLANK(A1070),\"\",VLOOKUP(A1070,base_itens,2,FALSE))","v":""}]
[null,{"$f":"IF(ISBLANK(A1071),\"\",VLOOKUP(A1071,base_itens,2,FALSE))","v":""}]
[null,{"$f":"IF(ISBLANK(A1072),\"\",VLOOKUP(A1072,base_itens,2,FALSE))","v":""}]
[null,{"$f":"IF(ISBLANK(A1073),\"\",VLOOKUP(A1073,base_itens,2,FALSE))","v":""}]
[null,{"$f":"IF(ISBLANK(A1074),\"\",VLOOKUP(A1074,base_itens,2,FALSE))","v":""}]
[null,{"$f":"IF(ISBLANK(A1075),\"\",VLOOKUP(A1075,base_itens,2,FALSE))","v":""}]
[null,{"$f":"IF(ISBLANK(A1076),\"\",VLOOKUP(A1076,base_itens,2,FALSE))","v":""}]
[null,{"$f":"IF(ISBLANK(A1077),\"\",VLOOKUP(A1077,base_itens,2,FALSE))","v":""}]
[null,{"$f":"IF(ISBLANK(A1078),\"\",VLOOKUP(A1078,base_itens,2,FALSE))","v":""}]
[null,{"$f":"IF(ISBLANK(A1079),\"\",VLOOKUP(A1079,base_itens,2,FALSE))","v":""}]
[null,{"$f":"IF(ISBLANK(A1080),\"\",VLOOKUP(A1080,base_itens,2,FALSE))","v":""}]
[null,{"$f":"IF(ISBLANK(A1081),\"\",VLOOKUP(A1081,base_itens,2,FALSE))","v":""}]
[null,{"$f":"IF(ISBLANK(A1082),\"\",VLOOKUP(A1082,base_itens,2,FALSE))","v":""}]
[null,{"$f":"IF(ISBLANK(A1083),\"\",VLOOKUP(A1083,base_itens,2,FALSE))","v":""}]
[null,{"$f":"IF(ISBLANK(A1084),\"\",VLOOKUP(A1084,base_itens,2,FALSE))","v":""}]
[null,{"$f":"IF(ISBLANK(A1085),\"\",VLOOKUP(A1085,base_itens,2,FALSE))","v":""}]
[null,{"$f":"IF(ISBLANK(A1086),\"\",VLOOKUP(A1086,base_itens,2,FALSE))","v":""}]
[null,{"$f":"IF(ISBLANK(A1087),\"\",VLOOKUP(A1087,base_itens,2,FALSE))","v":""}]
[null,{"$f":"IF(ISBLANK(A1088),\"\",VLOOKUP(A1088,base_itens,2,FALSE))","v":""}]
[null,{"$f":"IF(ISBLANK(A1089),\"\",VLOOKUP(A1089,base_itens,2,FALSE))","v":""}]
[null,{"$f":"IF(ISBLANK(A1090),\"\",VLOOKUP(A1090,base_itens,2,FALSE))","v":""}]
[null,{"$f":"IF(ISBLANK(A1091),\"\",VLOOKUP(A1091,base_itens,2,FALSE))","v":""}]
[null,{"$f":"IF(ISBLANK(A1092),\"\",VLOOKUP(A1092,base_itens,2,FALSE))","v":""}]
[null,{"$f":"IF(ISBLANK(A1093),\"\",VLOOKUP(A1093,base_itens,2,FALSE))","v":""}]
[null,{"$f":"IF(ISBLANK(A1094),\"\",VLOOKUP(A1094,base_itens,2,FALSE))","v":""}]
[null,{"$f":"IF(ISBLANK(A1095),\"\",VLOOKUP(A1095,base_itens,2,FALSE))","v":""}]
[null,{"$f":"IF(ISBLANK(A1096),\"\",VLOOKUP(A1096,base_itens,2,FALSE))","v":""}]
[null,{"$f":"IF(ISBLANK(A1097),\"\",VLOOKUP(A1097,base_itens,2,FALSE))","v":""}]
[null,{"$f":"IF(ISBLANK(A1098),\"\",VLOOKUP(A1098,base_itens,2,FALSE))","v":""}]
[null,{"$f":"IF(ISBLANK(A1099),\"\",VLOOKUP(A1099,base_itens,2,FALSE))","v":""}]
[null,{"$f":"IF(ISBLANK(A1100),\"\",VLOOKUP(A1100,base_itens,2,FALSE))","v":""}]
[null,{"$f":"IF(ISBLANK(A1101),\"\",VLOOKUP(A1101,base_itens,2,FALSE))","v":""}]
[null,{"$f":"IF(ISBLANK(A1102),\"\",VLOOKUP(A1102,base_itens,2,FALSE))","v":""}]
[null,{"$f":"IF(ISBLANK(A1103),\"\",VLOOKUP(A1103,base_itens,2,FALSE))","v":""}]
[null,{"$f":"IF(ISBLANK(A1104),\"\",VLOOKUP(A1104,base_itens,2,FALSE))","v":""}]
[null,{"$f":"IF(ISBLANK(A1105),\"\",VLOOKUP(A1105,base_itens,2,FALSE))","v":""}]
[null,{"$f":"IF(ISBLANK(A1106),\"\",VLOOKUP(A1106,base_itens,2,FALSE))","v":""}]
[null,{"$f":"IF(ISBLANK(A1107),\"\",VLOOKUP(A1107,base_itens,2,FALSE))","v":""}]
[null,{"$f":"IF(ISBLANK(A1108),\"\",VLOOKUP(A1108,base_itens,2,FALSE))","v":""}]
[null,{"$f":"IF(ISBLANK(A1109),\"\",VLOOKUP(A1109,base_itens,2,FALSE))","v":""}]
[null,{"$f":"IF(ISBLANK(A1110),\"\",VLOOKUP(A1110,base_itens,2,FALSE))","v":""}]
[null,{"$f":"IF(ISBLANK(A1111),\"\",VLOOKUP(A1111,base_itens,2,FALSE))","v":""}]
[null,{"$f":"IF(ISBLANK(A1112),\"\",VLOOKUP(A1112,base_itens,2,FALSE))","v":""}]
[null,{"$f":"IF(ISBLANK(A1113),\"\",VLOOKUP(A1113,base_itens,2,FALSE))","v":""}]
[null,{"$f":"IF(ISBLANK(A1114),\"\",VLOOKUP(A1114,base_itens,2,FALSE))","v":""}]
[null,{"$f":"IF(ISBLANK(A1115),\"\",VLOOKUP(A1115,base_itens,2,FALSE))","v":""}]
[null,{"$f":"IF(ISBLANK(A1116),\"\",VLOOKUP(A1116,base_itens,2,FALSE))","v":""}]
[null,{"$f":"IF(ISBLANK(A1117),\"\",VLOOKUP(A1117,base_itens,2,FALSE))","v":""}]
[null,{"$f":"IF(ISBLANK(A1118),\"\",VLOOKUP(A1118,base_itens,2,FALSE))","v":""}]
[null,{"$f":"IF(ISBLANK(A1119),\"\",VLOOKUP(A1119,base_itens,2,FALSE))","v":""}]
[null,{"$f":"IF(ISBLANK(A1120),\"\",VLOOKUP(A1120,base_itens,2,FALSE))","v":""}]
[null,{"$f":"IF(ISBLANK(A1121),\"\",VLOOKUP(A1121,base_itens,2,FALSE))","v":""}]
[null,{"$f":"IF(ISBLANK(A1122),\"\",VLOOKUP(A1122,base_itens,2,FALSE))","v":""}]
[null,{"$f":"IF(ISBLANK(A1123),\"\",VLOOKUP(A1123,base_itens,2,FALSE))","v":""}]
[null,{"$f":"IF(ISBLANK(A1124),\"\",VLOOKUP(A1124,base_itens,2,FALSE))","v":""}]
[null,{"$f":"IF(ISBLANK(A1125),\"\",VLOOKUP(A1125,base_itens,2,FALSE))","v":""}]
[null,{"$f":"IF(ISBLANK(A1126),\"\",VLOOKUP(A1126,base_itens,2,FALSE))","v":""}]
[null,{"$f":"IF(ISBLANK(A1127),\"\",VLOOKUP(A1127,base_itens,2,FALSE))","v":""}]
[null,{"$f":"IF(ISBLANK(A1128),\"\",VLOOKUP(A1128,base_itens,2,FALSE))","v":""}]
[null,{"$f":"IF(ISBLANK(A1129),\"\",VLOOKUP(A1129,base_itens,2,FALSE))","v":""}]
[null,{"$f":"IF(ISBLANK(A1130),\"\",VLOOKUP(A1130,base_itens,2,FALSE))","v":""}]
[null,{"$f":"IF(ISBLANK(A1131),\"\",VLOOKUP(A1131,base_itens,2,FALSE))","v":""}]
[null,{"$f":"IF(ISBLANK(A1132),\"\",VLOOKUP(A1132,base_itens,2,FALSE))","v":""}]
[null,{"$f":"IF(ISBLANK(A1133),\"\",VLOOKUP(A1133,base_itens,2,FALSE))","v":""}]
[null,{"$f":"IF(ISBLANK(A1134),\"\",VLOOKUP(A1134,base_itens,2,FALSE))","v":""}]
[null,{"$f":"IF(ISBLANK(A1135),\"\",VLOOKUP(A1135,base_itens,2,FALSE))","v":""}]
[null,{"$f":"IF(ISBLANK(A1136),\"\",VLOOKUP(A1136,base_itens,2,FALSE))","v":""}]
[null,{"$f":"IF(ISBLANK(A1137),\"\",VLOOKUP(A1137,base_itens,2,FALSE))","v":""}]
[null,{"$f":"IF(ISBLANK(A1138),\"\",VLOOKUP(A1138,base_itens,2,FALSE))","v":""}]
[null,{"$f":"IF(ISBLANK(A1139),\"\",VLOOKUP(A1139,base_itens,2,FALSE))","v":""}]
[null,{"$f":"IF(ISBLANK(A1140),\"\",VLOOKUP(A1140,base_itens,2,FALSE))","v":""}]
[null,{"$f":"IF(ISBLANK(A1141),\"\",VLOOKUP(A1141,base_itens,2,FALSE))","v":""}]
[null,{"$f":"IF(ISBLANK(A1142),\"\",VLOOKUP(A1142,base_itens,2,FALSE))","v":""}]
[null,{"$f":"IF(ISBLANK(A1143),\"\",VLOOKUP(A1143,base_itens,2,FALSE))","v":""}]
[null,{"$f":"IF(ISBLANK(A1144),\"\",VLOOKUP(A1144,base_itens,2,FALSE))","v":""}]
[null,{"$f":"IF(ISBLANK(A1145),\"\",VLOOKUP(A1145,base_itens,2,FALSE))","v":""}]
[null,{"$f":"IF(ISBLANK(A1146),\"\",VLOOKUP(A1146,base_itens,2,FALSE))","v":""}]
[null,{"$f":"IF(ISBLANK(A1147),\"\",VLOOKUP(A1147,base_itens,2,FALSE))","v":""}]
[null,{"$f":"IF(ISBLANK(A1148),\"\",VLOOKUP(A1148,base_itens,2,FALSE))","v":""}]
[null,{"$f":"IF(ISBLANK(A1149),\"\",VLOOKUP(A1149,base_itens,2,FALSE))","v":""}]
[null,{"$f":"IF(ISBLANK(A1150),\"\",VLOOKUP(A1150,base_itens,2,FALSE))","v":""}]
[null,{"$f":"IF(ISBLANK(A1151),\"\",VLOOKUP(A1151,base_itens,2,FALSE))","v":""}]
[null,{"$f":"IF(ISBLANK(A1152),\"\",VLOOKUP(A1152,base_itens,2,FALSE))","v":""}]
[null,{"$f":"IF(ISBLANK(A1153),\"\",VLOOKUP(A1153,base_itens,2,FALSE))","v":""}]
[null,{"$f":"IF(ISBLANK(A1154),\"\",VLOOKUP(A1154,base_itens,2,FALSE))","v":""}]
[null,{"$f":"IF(ISBLANK(A1155),\"\",VLOOKUP(A1155,base_itens,2,FALSE))","v":""}]
[null,{"$f":"IF(ISBLANK(A1156),\"\",VLOOKUP(A1156,base_itens,2,FALSE))","v":""}]
[null,{"$f":"IF(ISBLANK(A1157),\"\",VLOOKUP(A1157,base_itens,2,FALSE))","v":""}]
[null,{"$f":"IF(ISBLANK(A1158),\"\",VLOOKUP(A1158,base_itens,2,FALSE))","v":""}]
[null,{"$f":"IF(ISBLANK(A1159),\"\",VLOOKUP(A1159,base_itens,2,FALSE))","v":""}]
[null,{"$f":"IF(ISBLANK(A1160),\"\",VLOOKUP(A1160,base_itens,2,FALSE))","v":""}]
[null,{"$f":"IF(ISBLANK(A1161),\"\",VLOOKUP(A1161,base_itens,2,FALSE))","v":""}]
[null,{"$f":"IF(ISBLANK(A1162),\"\",VLOOKUP(A1162,base_itens,2,FALSE))","v":""}]
[null,{"$f":"IF(ISBLANK(A1163),\"\",VLOOKUP(A1163,base_itens,2,FALSE))","v":""}]
[null,{"$f":"IF(ISBLANK(A1164),\"\",VLOOKUP(A1164,base_itens,2,FALSE))","v":""}]
[null,{"$f":"IF(ISBLANK(A1165),\"\",VLOOKUP(A1165,base_itens,2,FALSE))","v":""}]
[null,{"$f":"IF(ISBLANK(A1166),\"\",VLOOKUP(A1166,base_itens,2,FALSE))","v":""}]
[null,{"$f":"IF(ISBLANK(A1167),\"\",VLOOKUP(A1167,base_itens,2,FALSE))","v":""}]
[null,{"$f":"IF(ISBLANK(A1168),\"\",VLOOKUP(A1168,base_itens,2,FALSE))","v":""}]
[null,{"$f":"IF(ISBLANK(A1169),\"\",VLOOKUP(A1169,base_itens,2,FALSE))","v":""}]
[null,{"$f":"IF(ISBLANK(A1170),\"\",VLOOKUP(A1170,base_itens,2,FALSE))","v":""}]
[null,{"$f":"IF(ISBLANK(A1171),\"\",VLOOKUP(A1171,base_itens,2,FALSE))","v":""}]
[null,{"$f":"IF(ISBLANK(A1172),\"\",VLOOKUP(A1172,base_itens,2,FALSE))","v":""}]
[null,{"$f":"IF(ISBLANK(A1173),\"\",VLOOKUP(A1173,base_itens,2,FALSE))","v":""}]
[null,{"$f":"IF(ISBLANK(A1174),\"\",VLOOKUP(A1174,base_itens,2,FALSE))","v":""}]
[null,{"$f":"IF(ISBLANK(A1175),\"\",VLOOKUP(A1175,base_itens,2,FALSE))","v":""}]
[null,{"$f":"IF(ISBLANK(A1176),\"\",VLOOKUP(A1176,base_itens,2,FALSE))","v":""}]
[null,{"$f":"IF(ISBLANK(A1177),\"\",VLOOKUP(A1177,base_itens,2,FALSE))","v":""}]
[null,{"$f":"IF(ISBLANK(A1178),\"\",VLOOKUP(A1178,base_itens,2,FALSE))","v":""}]
[null,{"$f":"IF(ISBLANK(A1179),\"\",VLOOKUP(A1179,base_itens,2,FALSE))","v":""}]
[null,{"$f":"IF(ISBLANK(A1180),\"\",VLOOKUP(A1180,base_itens,2,FALSE))","v":""}]
[null,{"$f":"IF(ISBLANK(A1181),\"\",VLOOKUP(A1181,base_itens,2,FALSE))","v":""}]
[null,{"$f":"IF(ISBLANK(A1182),\"\",VLOOKUP(A1182,base_itens,2,FALSE))","v":""}]
[null,{"$f":"IF(ISBLANK(A1183),\"\",VLOOKUP(A1183,base_itens,2,FALSE))","v":""}]
[null,{"$f":"IF(ISBLANK(A1184),\"\",VLOOKUP(A1184,base_itens,2,FALSE))","v":""}]
[null,{"$f":"IF(ISBLANK(A1185),\"\",VLOOKUP(A1185,base_itens,2,FALSE))","v":""}]
[null,{"$f":"IF(ISBLANK(A1186),\"\",VLOOKUP(A1186,base_itens,2,FALSE))","v":""}]
[null,{"$f":"IF(ISBLANK(A1187),\"\",VLOOKUP(A1187,base_itens,2,FALSE))","v":""}]
[null,{"$f":"IF(ISBLANK(A1188),\"\",VLOOKUP(A1188,base_itens,2,FALSE))","v":""}]
[null,{"$f":"IF(ISBLANK(A1189),\"\",VLOOKUP(A1189,base_itens,2,FALSE))","v":""}]
[null,{"$f":"IF(ISBLANK(A1190),\"\",VLOOKUP(A1190,base_itens,2,FALSE))","v":""}]
[null,{"$f":"IF(ISBLANK(A1191),\"\",VLOOKUP(A1191,base_itens,2,FALSE))","v":""}]
[null,{"$f":"IF(ISBLANK(A1192),\"\",VLOOKUP(A1192,base_itens,2,FALSE))","v":""}]
[null,{"$f":"IF(ISBLANK(A1193),\"\",VLOOKUP(A1193,base_itens,2,FALSE))","v":""}]
[null,{"$f":"IF(ISBLANK(A1194),\"\",VLOOKUP(A1194,base_itens,2,FALSE))","v":""}]
[null,{"$f":"IF(ISBLANK(A1195),\"\",VLOOKUP(A1195,base_itens,2,FALSE))","v":""}]
[null,{"$f":"IF(ISBLANK(A1196),\"\",VLOOKUP(A1196,base_itens,2,FALSE))","v":""}]
[null,{"$f":"IF(ISBLANK(A1197),\"\",VLOOKUP(A1197,base_itens,2,FALSE))","v":""}]
[null,{"$f":"IF(ISBLANK(A1198),\"\",VLOOKUP(A1198,base_itens,2,FALSE))","v":""}]
[null,{"$f":"IF(ISBLANK(A1199),\"\",VLOOKUP(A1199,base_itens,2,FALSE))","v":""}]
[null,{"$f":"IF(ISBLANK(A1200),\"\",VLOOKUP(A1200,base_itens,2,FALSE))","v":""}]
[null,{"$f":"IF(ISBLANK(A1201),\"\",VLOOKUP(A1201,base_itens,2,FALSE))","v":""}]
[null,{"$f":"IF(ISBLANK(A1202),\"\",VLOOKUP(A1202,base_itens,2,FALSE))","v":""}]
[null,{"$f":"IF(ISBLANK(A1203),\"\",VLOOKUP(A1203,base_itens,2,FALSE))","v":""}]
[null,{"$f":"IF(ISBLANK(A1204),\"\",VLOOKUP(A1204,base_itens,2,FALSE))","v":""}]
[null,{"$f":"IF(ISBLANK(A1205),\"\",VLOOKUP(A1205,base_itens,2,FALSE))","v":""}]
[null,{"$f":"IF(ISBLANK(A1206),\"\",VLOOKUP(A1206,base_itens,2,FALSE))","v":""}]
[null,{"$f":"IF(ISBLANK(A1207),\"\",VLOOKUP(A1207,base_itens,2,FALSE))","v":""}]
[null,{"$f":"IF(ISBLANK(A1208),\"\",VLOOKUP(A1208,base_itens,2,FALSE))","v":""}]
[null,{"$f":"IF(ISBLANK(A1209),\"\",VLOOKUP(A1209,base_itens,2,FALSE))","v":""}]
[null,{"$f":"IF(ISBLANK(A1210),\"\",VLOOKUP(A1210,base_itens,2,FALSE))","v":""}]
[null,{"$f":"IF(ISBLANK(A1211),\"\",VLOOKUP(A1211,base_itens,2,FALSE))","v":""}]
[null,{"$f":"IF(ISBLANK(A1212),\"\",VLOOKUP(A1212,base_itens,2,FALSE))","v":""}]
[null,{"$f":"IF(ISBLANK(A1213),\"\",VLOOKUP(A1213,base_itens,2,FALSE))","v":""}]
[null,{"$f":"IF(ISBLANK(A1214),\"\",VLOOKUP(A1214,base_itens,2,FALSE))","v":""}]
[null,{"$f":"IF(ISBLANK(A1215),\"\",VLOOKUP(A1215,base_itens,2,FALSE))","v":""}]
[null,{"$f":"IF(ISBLANK(A1216),\"\",VLOOKUP(A1216,base_itens,2,FALSE))","v":""}]
[null,{"$f":"IF(ISBLANK(A1217),\"\",VLOOKUP(A1217,base_itens,2,FALSE))","v":""}]
[null,{"$f":"IF(ISBLANK(A1218),\"\",VLOOKUP(A1218,base_itens,2,FALSE))","v":""}]
[null,{"$f":"IF(ISBLANK(A1219),\"\",VLOOKUP(A1219,base_itens,2,FALSE))","v":""}]
[null,{"$f":"IF(ISBLANK(A1220),\"\",VLOOKUP(A1220,base_itens,2,FALSE))","v":""}]
[null,{"$f":"IF(ISBLANK(A1221),\"\",VLOOKUP(A1221,base_itens,2,FALSE))","v":""}]
[null,{"$f":"IF(ISBLANK(A1222),\"\",VLOOKUP(A1222,base_itens,2,FALSE))","v":""}]
[null,{"$f":"IF(ISBLANK(A1223),\"\",VLOOKUP(A1223,base_itens,2,FALSE))","v":""}]
[null,{"$f":"IF(ISBLANK(A1224),\"\",VLOOKUP(A1224,base_itens,2,FALSE))","v":""}]
[null,{"$f":"IF(ISBLANK(A1225),\"\",VLOOKUP(A1225,base_itens,2,FALSE))","v":""}]
[null,{"$f":"IF(ISBLANK(A1226),\"\",VLOOKUP(A1226,base_itens,2,FALSE))","v":""}]
[null,{"$f":"IF(ISBLANK(A1227),\"\",VLOOKUP(A1227,base_itens,2,FALSE))","v":""}]
[null,{"$f":"IF(ISBLANK(A1228),\"\",VLOOKUP(A1228,base_itens,2,FALSE))","v":""}]
[null,{"$f":"IF(ISBLANK(A1229),\"\",VLOOKUP(A1229,base_itens,2,FALSE))","v":""}]
[null,{"$f":"IF(ISBLANK(A1230),\"\",VLOOKUP(A1230,base_itens,2,FALSE))","v":""}]
[null,{"$f":"IF(ISBLANK(A1231),\"\",VLOOKUP(A1231,base_itens,2,FALSE))","v":""}]
[null,{"$f":"IF(ISBLANK(A1232),\"\",VLOOKUP(A1232,base_itens,2,FALSE))","v":""}]
[null,{"$f":"IF(ISBLANK(A1233),\"\",VLOOKUP(A1233,base_itens,2,FALSE))","v":""}]
[null,{"$f":"IF(ISBLANK(A1234),\"\",VLOOKUP(A1234,base_itens,2,FALSE))","v":""}]
[null,{"$f":"IF(ISBLANK(A1235),\"\",VLOOKUP(A1235,base_itens,2,FALSE))","v":""}]
[null,{"$f":"IF(ISBLANK(A1236),\"\",VLOOKUP(A1236,base_itens,2,FALSE))","v":""}]
[null,{"$f":"IF(ISBLANK(A1237),\"\",VLOOKUP(A1237,base_itens,2,FALSE))","v":""}]
[null,{"$f":"IF(ISBLANK(A1238),\"\",VLOOKUP(A1238,base_itens,2,FALSE))","v":""}]
[null,{"$f":"IF(ISBLANK(A1239),\"\",VLOOKUP(A1239,base_itens,2,FALSE))","v":""}]
[null,{"$f":"IF(ISBLANK(A1240),\"\",VLOOKUP(A1240,base_itens,2,FALSE))","v":""}]
[null,{"$f":"IF(ISBLANK(A1241),\"\",VLOOKUP(A1241,base_itens,2,FALSE))","v":""}]
[null,{"$f":"IF(ISBLANK(A1242),\"\",VLOOKUP(A1242,base_itens,2,FALSE))","v":""}]
[null,{"$f":"IF(ISBLANK(A1243),\"\",VLOOKUP(A1243,base_itens,2,FALSE))","v":""}]
[null,{"$f":"IF(ISBLANK(A1244),\"\",VLOOKUP(A1244,base_itens,2,FALSE))","v":""}]
[null,{"$f":"IF(ISBLANK(A1245),\"\",VLOOKUP(A1245,base_itens,2,FALSE))","v":""}]
[null,{"$f":"IF(ISBLANK(A1246),\"\",VLOOKUP(A1246,base_itens,2,FALSE))","v":""}]
[null,{"$f":"IF(ISBLANK(A1247),\"\",VLOOKUP(A1247,base_itens,2,FALSE))","v":""}]
[null,{"$f":"IF(ISBLANK(A1248),\"\",VLOOKUP(A1248,base_itens,2,FALSE))","v":""}]
[null,{"$f":"IF(ISBLANK(A1249),\"\",VLOOKUP(A1249,base_itens,2,FALSE))","v":""}]
[null,{"$f":"IF(ISBLANK(A1250),\"\",VLOOKUP(A1250,base_itens,2,FALSE))","v":""}]
[null,{"$f":"IF(ISBLANK(A1251),\"\",VLOOKUP(A1251,base_itens,2,FALSE))","v":""}]
[null,{"$f":"IF(ISBLANK(A1252),\"\",VLOOKUP(A1252,base_itens,2,FALSE))","v":""}]
[null,{"$f":"IF(ISBLANK(A1253),\"\",VLOOKUP(A1253,base_itens,2,FALSE))","v":""}]
[null,{"$f":"IF(ISBLANK(A1254),\"\",VLOOKUP(A1254,base_itens,2,FALSE))","v":""}]
[null,{"$f":"IF(ISBLANK(A1255),\"\",VLOOKUP(A1255,base_itens,2,FALSE))","v":""}]
[null,{"$f":"IF(ISBLANK(A1256),\"\",VLOOKUP(A1256,base_itens,2,FALSE))","v":""}]
[null,{"$f":"IF(ISBLANK(A1257),\"\",VLOOKUP(A1257,base_itens,2,FALSE))","v":""}]
[null,{"$f":"IF(ISBLANK(A1258),\"\",VLOOKUP(A1258,base_itens,2,FALSE))","v":""}]
[null,{"$f":"IF(ISBLANK(A1259),\"\",VLOOKUP(A1259,base_itens,2,FALSE))","v":""}]
[null,{"$f":"IF(ISBLANK(A1260),\"\",VLOOKUP(A1260,base_itens,2,FALSE))","v":""}]
[null,{"$f":"IF(ISBLANK(A1261),\"\",VLOOKUP(A1261,base_itens,2,FALSE))","v":""}]
[null,{"$f":"IF(ISBLANK(A1262),\"\",VLOOKUP(A1262,base_itens,2,FALSE))","v":""}]
[null,{"$f":"IF(ISBLANK(A1263),\"\",VLOOKUP(A1263,base_itens,2,FALSE))","v":""}]
[null,{"$f":"IF(ISBLANK(A1264),\"\",VLOOKUP(A1264,base_itens,2,FALSE))","v":""}]
[null,{"$f":"IF(ISBLANK(A1265),\"\",VLOOKUP(A1265,base_itens,2,FALSE))","v":""}]
[null,{"$f":"IF(ISBLANK(A1266),\"\",VLOOKUP(A1266,base_itens,2,FALSE))","v":""}]
[null,{"$f":"IF(ISBLANK(A1267),\"\",VLOOKUP(A1267,base_itens,2,FALSE))","v":""}]
[null,{"$f":"IF(ISBLANK(A1268),\"\",VLOOKUP(A1268,base_itens,2,FALSE))","v":""}]
[null,{"$f":"IF(ISBLANK(A1269),\"\",VLOOKUP(A1269,base_itens,2,FALSE))","v":""}]
[null,{"$f":"IF(ISBLANK(A1270),\"\",VLOOKUP(A1270,base_itens,2,FALSE))","v":""}]
[null,{"$f":"IF(ISBLANK(A1271),\"\",VLOOKUP(A1271,base_itens,2,FALSE))","v":""}]
[null,{"$f":"IF(ISBLANK(A1272),\"\",VLOOKUP(A1272,base_itens,2,FALSE))","v":""}]
[null,{"$f":"IF(ISBLANK(A1273),\"\",VLOOKUP(A1273,base_itens,2,FALSE))","v":""}]
[null,{"$f":"IF(ISBLANK(A1274),\"\",VLOOKUP(A1274,base_itens,2,FALSE))","v":""}]
[null,{"$f":"IF(ISBLANK(A1275),\"\",VLOOKUP(A1275,base_itens,2,FALSE))","v":""}]
[null,{"$f":"IF(ISBLANK(A1276),\"\",VLOOKUP(A1276,base_itens,2,FALSE))","v":""}]
[null,{"$f":"IF(ISBLANK(A1277),\"\",VLOOKUP(A1277,base_itens,2,FALSE))","v":""}]
[null,{"$f":"IF(ISBLANK(A1278),\"\",VLOOKUP(A1278,base_itens,2,FALSE))","v":""}]
[null,{"$f":"IF(ISBLANK(A1279),\"\",VLOOKUP(A1279,base_itens,2,FALSE))","v":""}]
[null,{"$f":"IF(ISBLANK(A1280),\"\",VLOOKUP(A1280,base_itens,2,FALSE))","v":""}]
[null,{"$f":"IF(ISBLANK(A1281),\"\",VLOOKUP(A1281,base_itens,2,FALSE))","v":""}]
[null,{"$f":"IF(ISBLANK(A1282),\"\",VLOOKUP(A1282,base_itens,2,FALSE))","v":""}]
[null,{"$f":"IF(ISBLANK(A1283),\"\",VLOOKUP(A1283,base_itens,2,FALSE))","v":""}]
[null,{"$f":"IF(ISBLANK(A1284),\"\",VLOOKUP(A1284,base_itens,2,FALSE))","v":""}]
[null,{"$f":"IF(ISBLANK(A1285),\"\",VLOOKUP(A1285,base_itens,2,FALSE))","v":""}]
[null,{"$f":"IF(ISBLANK(A1286),\"\",VLOOKUP(A1286,base_itens,2,FALSE))","v":""}]
[null,{"$f":"IF(ISBLANK(A1287),\"\",VLOOKUP(A1287,base_itens,2,FALSE))","v":""}]
[null,{"$f":"IF(ISBLANK(A1288),\"\",VLOOKUP(A1288,base_itens,2,FALSE))","v":""}]
[null,{"$f":"IF(ISBLANK(A1289),\"\",VLOOKUP(A1289,base_itens,2,FALSE))","v":""}]
[null,{"$f":"IF(ISBLANK(A1290),\"\",VLOOKUP(A1290,base_itens,2,FALSE))","v":""}]
[null,{"$f":"IF(ISBLANK(A1291),\"\",VLOOKUP(A1291,base_itens,2,FALSE))","v":""}]
[null,{"$f":"IF(ISBLANK(A1292),\"\",VLOOKUP(A1292,base_itens,2,FALSE))","v":""}]
[null,{"$f":"IF(ISBLANK(A1293),\"\",VLOOKUP(A1293,base_itens,2,FALSE))","v":""}]
[null,{"$f":"IF(ISBLANK(A1294),\"\",VLOOKUP(A1294,base_itens,2,FALSE))","v":""}]
[null,{"$f":"IF(ISBLANK(A1295),\"\",VLOOKUP(A1295,base_itens,2,FALSE))","v":""}]
[null,{"$f":"IF(ISBLANK(A1296),\"\",VLOOKUP(A1296,base_itens,2,FALSE))","v":""}]
[null,{"$f":"IF(ISBLANK(A1297),\"\",VLOOKUP(A1297,base_itens,2,FALSE))","v":""}]
[null,{"$f":"IF(ISBLANK(A1298),\"\",VLOOKUP(A1298,base_itens,2,FALSE))","v":""}]
[null,{"$f":"IF(ISBLANK(A1299),\"\",VLOOKUP(A1299,base_itens,2,FALSE))","v":""}]
[null,{"$f":"IF(ISBLANK(A1300),\"\",VLOOKUP(A1300,base_itens,2,FALSE))","v":""}]
[null,{"$f":"IF(ISBLANK(A1301),\"\",VLOOKUP(A1301,base_itens,2,FALSE))","v":""}]
[null,{"$f":"IF(ISBLANK(A1302),\"\",VLOOKUP(A1302,base_itens,2,FALSE))","v":""}]
[null,{"$f":"IF(ISBLANK(A1303),\"\",VLOOKUP(A1303,base_itens,2,FALSE))","v":""}]
[null,{"$f":"IF(ISBLANK(A1304),\"\",VLOOKUP(A1304,base_itens,2,FALSE))","v":""}]
[null,{"$f":"IF(ISBLANK(A1305),\"\",VLOOKUP(A1305,base_itens,2,FALSE))","v":""}]
[null,{"$f":"IF(ISBLANK(A1306),\"\",VLOOKUP(A1306,base_itens,2,FALSE))","v":""}]
[null,{"$f":"IF(ISBLANK(A1307),\"\",VLOOKUP(A1307,base_itens,2,FALSE))","v":""}]
[null,{"$f":"IF(ISBLANK(A1308),\"\",VLOOKUP(A1308,base_itens,2,FALSE))","v":""}]
[null,{"$f":"IF(ISBLANK(A1309),\"\",VLOOKUP(A1309,base_itens,2,FALSE))","v":""}]
[null,{"$f":"IF(ISBLANK(A1310),\"\",VLOOKUP(A1310,base_itens,2,FALSE))","v":""}]
[null,{"$f":"IF(ISBLANK(A1311),\"\",VLOOKUP(A1311,base_itens,2,FALSE))","v":""}]
[null,{"$f":"IF(ISBLANK(A1312),\"\",VLOOKUP(A1312,base_itens,2,FALSE))","v":""}]
[null,{"$f":"IF(ISBLANK(A1313),\"\",VLOOKUP(A1313,base_itens,2,FALSE))","v":""}]
[null,{"$f":"IF(ISBLANK(A1314),\"\",VLOOKUP(A1314,base_itens,2,FALSE))","v":""}]
[null,{"$f":"IF(ISBLANK(A1315),\"\",VLOOKUP(A1315,base_itens,2,FALSE))","v":""}]
[null,{"$f":"IF(ISBLANK(A1316),\"\",VLOOKUP(A1316,base_itens,2,FALSE))","v":""}]
[null,{"$f":"IF(ISBLANK(A1317),\"\",VLOOKUP(A1317,base_itens,2,FALSE))","v":""}]
[null,{"$f":"IF(ISBLANK(A1318),\"\",VLOOKUP(A1318,base_itens,2,FALSE))","v":""}]
[null,{"$f":"IF(ISBLANK(A1319),\"\",VLOOKUP(A1319,base_itens,2,FALSE))","v":""}]
[null,{"$f":"IF(ISBLANK(A1320),\"\",VLOOKUP(A1320,base_itens,2,FALSE))","v":""}]
[null,{"$f":"IF(ISBLANK(A1321),\"\",VLOOKUP(A1321,base_itens,2,FALSE))","v":""}]
[null,{"$f":"IF(ISBLANK(A1322),\"\",VLOOKUP(A1322,base_itens,2,FALSE))","v":""}]
[null,{"$f":"IF(ISBLANK(A1323),\"\",VLOOKUP(A1323,base_itens,2,FALSE))","v":""}]
[null,{"$f":"IF(ISBLANK(A1324),\"\",VLOOKUP(A1324,base_itens,2,FALSE))","v":""}]
[null,{"$f":"IF(ISBLANK(A1325),\"\",VLOOKUP(A1325,base_itens,2,FALSE))","v":""}]
[null,{"$f":"IF(ISBLANK(A1326),\"\",VLOOKUP(A1326,base_itens,2,FALSE))","v":""}]
[null,{"$f":"IF(ISBLANK(A1327),\"\",VLOOKUP(A1327,base_itens,2,FALSE))","v":""}]
[null,{"$f":"IF(ISBLANK(A1328),\"\",VLOOKUP(A1328,base_itens,2,FALSE))","v":""}]
[null,{"$f":"IF(ISBLANK(A1329),\"\",VLOOKUP(A1329,base_itens,2,FALSE))","v":""}]
[null,{"$f":"IF(ISBLANK(A1330),\"\",VLOOKUP(A1330,base_itens,2,FALSE))","v":""}]
[null,{"$f":"IF(ISBLANK(A1331),\"\",VLOOKUP(A1331,base_itens,2,FALSE))","v":""}]
[null,{"$f":"IF(ISBLANK(A1332),\"\",VLOOKUP(A1332,base_itens,2,FALSE))","v":""}]
[null,{"$f":"IF(ISBLANK(A1333),\"\",VLOOKUP(A1333,base_itens,2,FALSE))","v":""}]
[null,{"$f":"IF(ISBLANK(A1334),\"\",VLOOKUP(A1334,base_itens,2,FALSE))","v":""}]
[null,{"$f":"IF(ISBLANK(A1335),\"\",VLOOKUP(A1335,base_itens,2,FALSE))","v":""}]
[null,{"$f":"IF(ISBLANK(A1336),\"\",VLOOKUP(A1336,base_itens,2,FALSE))","v":""}]
[null,{"$f":"IF(ISBLANK(A1337),\"\",VLOOKUP(A1337,base_itens,2,FALSE))","v":""}]
[null,{"$f":"IF(ISBLANK(A1338),\"\",VLOOKUP(A1338,base_itens,2,FALSE))","v":""}]
[null,{"$f":"IF(ISBLANK(A1339),\"\",VLOOKUP(A1339,base_itens,2,FALSE))","v":""}]
[null,{"$f":"IF(ISBLANK(A1340),\"\",VLOOKUP(A1340,base_itens,2,FALSE))","v":""}]
[null,{"$f":"IF(ISBLANK(A1341),\"\",VLOOKUP(A1341,base_itens,2,FALSE))","v":""}]
[null,{"$f":"IF(ISBLANK(A1342),\"\",VLOOKUP(A1342,base_itens,2,FALSE))","v":""}]
[null,{"$f":"IF(ISBLANK(A1343),\"\",VLOOKUP(A1343,base_itens,2,FALSE))","v":""}]
[null,{"$f":"IF(ISBLANK(A1344),\"\",VLOOKUP(A1344,base_itens,2,FALSE))","v":""}]
[null,{"$f":"IF(ISBLANK(A1345),\"\",VLOOKUP(A1345,base_itens,2,FALSE))","v":""}]
[null,{"$f":"IF(ISBLANK(A1346),\"\",VLOOKUP(A1346,base_itens,2,FALSE))","v":""}]
[null,{"$f":"IF(ISBLANK(A1347),\"\",VLOOKUP(A1347,base_itens,2,FALSE))","v":""}]
[null,{"$f":"IF(ISBLANK(A1348),\"\",VLOOKUP(A1348,base_itens,2,FALSE))","v":""}]
[null,{"$f":"IF(ISBLANK(A1349),\"\",VLOOKUP(A1349,base_itens,2,FALSE))","v":""}]
[null,{"$f":"IF(ISBLANK(A1350),\"\",VLOOKUP(A1350,base_itens,2,FALSE))","v":""}]
[null,{"$f":"IF(ISBLANK(A1351),\"\",VLOOKUP(A1351,base_itens,2,FALSE))","v":""}]
[null,{"$f":"IF(ISBLANK(A1352),\"\",VLOOKUP(A1352,base_itens,2,FALSE))","v":""}]
[null,{"$f":"IF(ISBLANK(A1353),\"\",VLOOKUP(A1353,base_itens,2,FALSE))","v":""}]
[null,{"$f":"IF(ISBLANK(A1354),\"\",VLOOKUP(A1354,base_itens,2,FALSE))","v":""}]
[null,{"$f":"IF(ISBLANK(A1355),\"\",VLOOKUP(A1355,base_itens,2,FALSE))","v":""}]
[null,{"$f":"IF(ISBLANK(A1356),\"\",VLOOKUP(A1356,base_itens,2,FALSE))","v":""}]
[null,{"$f":"IF(ISBLANK(A1357),\"\",VLOOKUP(A1357,base_itens,2,FALSE))","v":""}]
[null,{"$f":"IF(ISBLANK(A1358),\"\",VLOOKUP(A1358,base_itens,2,FALSE))","v":""}]
[null,{"$f":"IF(ISBLANK(A1359),\"\",VLOOKUP(A1359,base_itens,2,FALSE))","v":""}]
[null,{"$f":"IF(ISBLANK(A1360),\"\",VLOOKUP(A1360,base_itens,2,FALSE))","v":""}]
[null,{"$f":"IF(ISBLANK(A1361),\"\",VLOOKUP(A1361,base_itens,2,FALSE))","v":""}]
[null,{"$f":"IF(ISBLANK(A1362),\"\",VLOOKUP(A1362,base_itens,2,FALSE))","v":""}]
[null,{"$f":"IF(ISBLANK(A1363),\"\",VLOOKUP(A1363,base_itens,2,FALSE))","v":""}]
[null,{"$f":"IF(ISBLANK(A1364),\"\",VLOOKUP(A1364,base_itens,2,FALSE))","v":""}]
[null,{"$f":"IF(ISBLANK(A1365),\"\",VLOOKUP(A1365,base_itens,2,FALSE))","v":""}]
[null,{"$f":"IF(ISBLANK(A1366),\"\",VLOOKUP(A1366,base_itens,2,FALSE))","v":""}]
[null,{"$f":"IF(ISBLANK(A1367),\"\",VLOOKUP(A1367,base_itens,2,FALSE))","v":""}]
[null,{"$f":"IF(ISBLANK(A1368),\"\",VLOOKUP(A1368,base_itens,2,FALSE))","v":""}]
[null,{"$f":"IF(ISBLANK(A1369),\"\",VLOOKUP(A1369,base_itens,2,FALSE))","v":""}]
[null,{"$f":"IF(ISBLANK(A1370),\"\",VLOOKUP(A1370,base_itens,2,FALSE))","v":""}]
[null,{"$f":"IF(ISBLANK(A1371),\"\",VLOOKUP(A1371,base_itens,2,FALSE))","v":""}]
[null,{"$f":"IF(ISBLANK(A1372),\"\",VLOOKUP(A1372,base_itens,2,FALSE))","v":""}]
[null,{"$f":"IF(ISBLANK(A1373),\"\",VLOOKUP(A1373,base_itens,2,FALSE))","v":""}]
[null,{"$f":"IF(ISBLANK(A1374),\"\",VLOOKUP(A1374,base_itens,2,FALSE))","v":""}]
[null,{"$f":"IF(ISBLANK(A1375),\"\",VLOOKUP(A1375,base_itens,2,FALSE))","v":""}]
[null,{"$f":"IF(ISBLANK(A1376),\"\",VLOOKUP(A1376,base_itens,2,FALSE))","v":""}]
[null,{"$f":"IF(ISBLANK(A1377),\"\",VLOOKUP(A1377,base_itens,2,FALSE))","v":""}]
[null,{"$f":"IF(ISBLANK(A1378),\"\",VLOOKUP(A1378,base_itens,2,FALSE))","v":""}]
[null,{"$f":"IF(ISBLANK(A1379),\"\",VLOOKUP(A1379,base_itens,2,FALSE))","v":""}]
[null,{"$f":"IF(ISBLANK(A1380),\"\",VLOOKUP(A1380,base_itens,2,FALSE))","v":""}]
[null,{"$f":"IF(ISBLANK(A1381),\"\",VLOOKUP(A1381,base_itens,2,FALSE))","v":""}]
[null,{"$f":"IF(ISBLANK(A1382),\"\",VLOOKUP(A1382,base_itens,2,FALSE))","v":""}]
[null,{"$f":"IF(ISBLANK(A1383),\"\",VLOOKUP(A1383,base_itens,2,FALSE))","v":""}]
[null,{"$f":"IF(ISBLANK(A1384),\"\",VLOOKUP(A1384,base_itens,2,FALSE))","v":""}]
[null,{"$f":"IF(ISBLANK(A1385),\"\",VLOOKUP(A1385,base_itens,2,FALSE))","v":""}]
[null,{"$f":"IF(ISBLANK(A1386),\"\",VLOOKUP(A1386,base_itens,2,FALSE))","v":""}]
[null,{"$f":"IF(ISBLANK(A1387),\"\",VLOOKUP(A1387,base_itens,2,FALSE))","v":""}]
[null,{"$f":"IF(ISBLANK(A1388),\"\",VLOOKUP(A1388,base_itens,2,FALSE))","v":""}]
[null,{"$f":"IF(ISBLANK(A1389),\"\",VLOOKUP(A1389,base_itens,2,FALSE))","v":""}]
[null,{"$f":"IF(ISBLANK(A1390),\"\",VLOOKUP(A1390,base_itens,2,FALSE))","v":""}]
[null,{"$f":"IF(ISBLANK(A1391),\"\",VLOOKUP(A1391,base_itens,2,FALSE))","v":""}]
[null,{"$f":"IF(ISBLANK(A1392),\"\",VLOOKUP(A1392,base_itens,2,FALSE))","v":""}]
[null,{"$f":"IF(ISBLANK(A1393),\"\",VLOOKUP(A1393,base_itens,2,FALSE))","v":""}]
[null,{"$f":"IF(ISBLANK(A1394),\"\",VLOOKUP(A1394,base_itens,2,FALSE))","v":""}]
[null,{"$f":"IF(ISBLANK(A1395),\"\",VLOOKUP(A1395,base_itens,2,FALSE))","v":""}]
[null,{"$f":"IF(ISBLANK(A1396),\"\",VLOOKUP(A1396,base_itens,2,FALSE))","v":""}]
[null,{"$f":"IF(ISBLANK(A1397),\"\",VLOOKUP(A1397,base_itens,2,FALSE))","v":""}]
[null,{"$f":"IF(ISBLANK(A1398),\"\",VLOOKUP(A1398,base_itens,2,FALSE))","v":""}]
[null,{"$f":"IF(ISBLANK(A1399),\"\",VLOOKUP(A1399,base_itens,2,FALSE))","v":""}]
[null,{"$f":"IF(ISBLANK(A1400),\"\",VLOOKUP(A1400,base_itens,2,FALSE))","v":""}]
[null,{"$f":"IF(ISBLANK(A1401),\"\",VLOOKUP(A1401,base_itens,2,FALSE))","v":""}]
[null,{"$f":"IF(ISBLANK(A1402),\"\",VLOOKUP(A1402,base_itens,2,FALSE))","v":""}]
[null,{"$f":"IF(ISBLANK(A1403),\"\",VLOOKUP(A1403,base_itens,2,FALSE))","v":""}]
[null,{"$f":"IF(ISBLANK(A1404),\"\",VLOOKUP(A1404,base_itens,2,FALSE))","v":""}]
[null,{"$f":"IF(ISBLANK(A1405),\"\",VLOOKUP(A1405,base_itens,2,FALSE))","v":""}]
[null,{"$f":"IF(ISBLANK(A1406),\"\",VLOOKUP(A1406,base_itens,2,FALSE))","v":""}]
[null,{"$f":"IF(ISBLANK(A1407),\"\",VLOOKUP(A1407,base_itens,2,FALSE))","v":""}]
[null,{"$f":"IF(ISBLANK(A1408),\"\",VLOOKUP(A1408,base_itens,2,FALSE))","v":""}]
[null,{"$f":"IF(ISBLANK(A1409),\"\",VLOOKUP(A1409,base_itens,2,FALSE))","v":""}]
[null,{"$f":"IF(ISBLANK(A1410),\"\",VLOOKUP(A1410,base_itens,2,FALSE))","v":""}]
[null,{"$f":"IF(ISBLANK(A1411),\"\",VLOOKUP(A1411,base_itens,2,FALSE))","v":""}]
[null,{"$f":"IF(ISBLANK(A1412),\"\",VLOOKUP(A1412,base_itens,2,FALSE))","v":""}]
[null,{"$f":"IF(ISBLANK(A1413),\"\",VLOOKUP(A1413,base_itens,2,FALSE))","v":""}]
[null,{"$f":"IF(ISBLANK(A1414),\"\",VLOOKUP(A1414,base_itens,2,FALSE))","v":""}]
[null,{"$f":"IF(ISBLANK(A1415),\"\",VLOOKUP(A1415,base_itens,2,FALSE))","v":""}]
[null,{"$f":"IF(ISBLANK(A1416),\"\",VLOOKUP(A1416,base_itens,2,FALSE))","v":""}]
[null,{"$f":"IF(ISBLANK(A1417),\"\",VLOOKUP(A1417,base_itens,2,FALSE))","v":""}]
[null,{"$f":"IF(ISBLANK(A1418),\"\",VLOOKUP(A1418,base_itens,2,FALSE))","v":""}]
[null,{"$f":"IF(ISBLANK(A1419),\"\",VLOOKUP(A1419,base_itens,2,FALSE))","v":""}]
[null,{"$f":"IF(ISBLANK(A1420),\"\",VLOOKUP(A1420,base_itens,2,FALSE))","v":""}]
[null,{"$f":"IF(ISBLANK(A1421),\"\",VLOOKUP(A1421,base_itens,2,FALSE))","v":""}]
[null,{"$f":"IF(ISBLANK(A1422),\"\",VLOOKUP(A1422,base_itens,2,FALSE))","v":""}]
[null,{"$f":"IF(ISBLANK(A1423),\"\",VLOOKUP(A1423,base_itens,2,FALSE))","v":""}]
[null,{"$f":"IF(ISBLANK(A1424),\"\",VLOOKUP(A1424,base_itens,2,FALSE))","v":""}]
[null,{"$f":"IF(ISBLANK(A1425),\"\",VLOOKUP(A1425,base_itens,2,FALSE))","v":""}]
[null,{"$f":"IF(ISBLANK(A1426),\"\",VLOOKUP(A1426,base_itens,2,FALSE))","v":""}]
[null,{"$f":"IF(ISBLANK(A1427),\"\",VLOOKUP(A1427,base_itens,2,FALSE))","v":""}]
[null,{"$f":"IF(ISBLANK(A1428),\"\",VLOOKUP(A1428,base_itens,2,FALSE))","v":""}]
[null,{"$f":"IF(ISBLANK(A1429),\"\",VLOOKUP(A1429,base_itens,2,FALSE))","v":""}]
[null,{"$f":"IF(ISBLANK(A1430),\"\",VLOOKUP(A1430,base_itens,2,FALSE))","v":""}]
[null,{"$f":"IF(ISBLANK(A1431),\"\",VLOOKUP(A1431,base_itens,2,FALSE))","v":""}]
[null,{"$f":"IF(ISBLANK(A1432),\"\",VLOOKUP(A1432,base_itens,2,FALSE))","v":""}]
[null,{"$f":"IF(ISBLANK(A1433),\"\",VLOOKUP(A1433,base_itens,2,FALSE))","v":""}]
[null,{"$f":"IF(ISBLANK(A1434),\"\",VLOOKUP(A1434,base_itens,2,FALSE))","v":""}]
[null,{"$f":"IF(ISBLANK(A1435),\"\",VLOOKUP(A1435,base_itens,2,FALSE))","v":""}]
[null,{"$f":"IF(ISBLANK(A1436),\"\",VLOOKUP(A1436,base_itens,2,FALSE))","v":""}]
[null,{"$f":"IF(ISBLANK(A1437),\"\",VLOOKUP(A1437,base_itens,2,FALSE))","v":""}]
[null,{"$f":"IF(ISBLANK(A1438),\"\",VLOOKUP(A1438,base_itens,2,FALSE))","v":""}]
[null,{"$f":"IF(ISBLANK(A1439),\"\",VLOOKUP(A1439,base_itens,2,FALSE))","v":""}]
[null,{"$f":"IF(ISBLANK(A1440),\"\",VLOOKUP(A1440,base_itens,2,FALSE))","v":""}]
[null,{"$f":"IF(ISBLANK(A1441),\"\",VLOOKUP(A1441,base_itens,2,FALSE))","v":""}]
[null,{"$f":"IF(ISBLANK(A1442),\"\",VLOOKUP(A1442,base_itens,2,FALSE))","v":""}]
[null,{"$f":"IF(ISBLANK(A1443),\"\",VLOOKUP(A1443,base_itens,2,FALSE))","v":""}]
[null,{"$f":"IF(ISBLANK(A1444),\"\",VLOOKUP(A1444,base_itens,2,FALSE))","v":""}]
[null,{"$f":"IF(ISBLANK(A1445),\"\",VLOOKUP(A1445,base_itens,2,FALSE))","v":""}]
[null,{"$f":"IF(ISBLANK(A1446),\"\",VLOOKUP(A1446,base_itens,2,FALSE))","v":""}]
[null,{"$f":"IF(ISBLANK(A1447),\"\",VLOOKUP(A1447,base_itens,2,FALSE))","v":""}]
[null,{"$f":"IF(ISBLANK(A1448),\"\",VLOOKUP(A1448,base_itens,2,FALSE))","v":""}]
[null,{"$f":"IF(ISBLANK(A1449),\"\",VLOOKUP(A1449,base_itens,2,FALSE))","v":""}]
[null,{"$f":"IF(ISBLANK(A1450),\"\",VLOOKUP(A1450,base_itens,2,FALSE))","v":""}]
[null,{"$f":"IF(ISBLANK(A1451),\"\",VLOOKUP(A1451,base_itens,2,FALSE))","v":""}]
[null,{"$f":"IF(ISBLANK(A1452),\"\",VLOOKUP(A1452,base_itens,2,FALSE))","v":""}]
[null,{"$f":"IF(ISBLANK(A1453),\"\",VLOOKUP(A1453,base_itens,2,FALSE))","v":""}]
[null,{"$f":"IF(ISBLANK(A1454),\"\",VLOOKUP(A1454,base_itens,2,FALSE))","v":""}]
[null,{"$f":"IF(ISBLANK(A1455),\"\",VLOOKUP(A1455,base_itens,2,FALSE))","v":""}]
[null,{"$f":"IF(ISBLANK(A1456),\"\",VLOOKUP(A1456,base_itens,2,FALSE))","v":""}]
[null,{"$f":"IF(ISBLANK(A1457),\"\",VLOOKUP(A1457,base_itens,2,FALSE))","v":""}]
[null,{"$f":"IF(ISBLANK(A1458),\"\",VLOOKUP(A1458,base_itens,2,FALSE))","v":""}]
[null,{"$f":"IF(ISBLANK(A1459),\"\",VLOOKUP(A1459,base_itens,2,FALSE))","v":""}]
[null,{"$f":"IF(ISBLANK(A1460),\"\",VLOOKUP(A1460,base_itens,2,FALSE))","v":""}]
[null,{"$f":"IF(ISBLANK(A1461),\"\",VLOOKUP(A1461,base_itens,2,FALSE))","v":""}]
[null,{"$f":"IF(ISBLANK(A1462),\"\",VLOOKUP(A1462,base_itens,2,FALSE))","v":""}]
[null,{"$f":"IF(ISBLANK(A1463),\"\",VLOOKUP(A1463,base_itens,2,FALSE))","v":""}]
[null,{"$f":"IF(ISBLANK(A1464),\"\",VLOOKUP(A1464,base_itens,2,FALSE))","v":""}]
[null,{"$f":"IF(ISBLANK(A1465),\"\",VLOOKUP(A1465,base_itens,2,FALSE))","v":""}]
[null,{"$f":"IF(ISBLANK(A1466),\"\",VLOOKUP(A1466,base_itens,2,FALSE))","v":""}]
[null,{"$f":"IF(ISBLANK(A1467),\"\",VLOOKUP(A1467,base_itens,2,FALSE))","v":""}]
[null,{"$f":"IF(ISBLANK(A1468),\"\",VLOOKUP(A1468,base_itens,2,FALSE))","v":""}]
[null,{"$f":"IF(ISBLANK(A1469),\"\",VLOOKUP(A1469,base_itens,2,FALSE))","v":""}]
[null,{"$f":"IF(ISBLANK(A1470),\"\",VLOOKUP(A1470,base_itens,2,FALSE))","v":""}]
[null,{"$f":"IF(ISBLANK(A1471),\"\",VLOOKUP(A1471,base_itens,2,FALSE))","v":""}]
[null,{"$f":"IF(ISBLANK(A1472),\"\",VLOOKUP(A1472,base_itens,2,FALSE))","v":""}]
[null,{"$f":"IF(ISBLANK(A1473),\"\",VLOOKUP(A1473,base_itens,2,FALSE))","v":""}]
[null,{"$f":"IF(ISBLANK(A1474),\"\",VLOOKUP(A1474,base_itens,2,FALSE))","v":""}]
[null,{"$f":"IF(ISBLANK(A1475),\"\",VLOOKUP(A1475,base_itens,2,FALSE))","v":""}]
[null,{"$f":"IF(ISBLANK(A1476),\"\",VLOOKUP(A1476,base_itens,2,FALSE))","v":""}]
[null,{"$f":"IF(ISBLANK(A1477),\"\",VLOOKUP(A1477,base_itens,2,FALSE))","v":""}]
[null,{"$f":"IF(ISBLANK(A1478),\"\",VLOOKUP(A1478,base_itens,2,FALSE))","v":""}]
[null,{"$f":"IF(ISBLANK(A1479),\"\",VLOOKUP(A1479,base_itens,2,FALSE))","v":""}]
[null,{"$f":"IF(ISBLANK(A1480),\"\",VLOOKUP(A1480,base_itens,2,FALSE))","v":""}]
[null,{"$f":"IF(ISBLANK(A1481),\"\",VLOOKUP(A1481,base_itens,2,FALSE))","v":""}]
[null,{"$f":"IF(ISBLANK(A1482),\"\",VLOOKUP(A1482,base_itens,2,FALSE))","v":""}]
[null,{"$f":"IF(ISBLANK(A1483),\"\",VLOOKUP(A1483,base_itens,2,FALSE))","v":""}]
[null,{"$f":"IF(ISBLANK(A1484),\"\",VLOOKUP(A1484,base_itens,2,FALSE))","v":""}]
[null,{"$f":"IF(ISBLANK(A1485),\"\",VLOOKUP(A1485,base_itens,2,FALSE))","v":""}]
[null,{"$f":"IF(ISBLANK(A1486),\"\",VLOOKUP(A1486,base_itens,2,FALSE))","v":""}]
[null,{"$f":"IF(ISBLANK(A1487),\"\",VLOOKUP(A1487,base_itens,2,FALSE))","v":""}]
[null,{"$f":"IF(ISBLANK(A1488),\"\",VLOOKUP(A1488,base_itens,2,FALSE))","v":""}]
[null,{"$f":"IF(ISBLANK(A1489),\"\",VLOOKUP(A1489,base_itens,2,FALSE))","v":""}]
[null,{"$f":"IF(ISBLANK(A1490),\"\",VLOOKUP(A1490,base_itens,2,FALSE))","v":""}]
[null,{"$f":"IF(ISBLANK(A1491),\"\",VLOOKUP(A1491,base_itens,2,FALSE))","v":""}]
[null,{"$f":"IF(ISBLANK(A1492),\"\",VLOOKUP(A1492,base_itens,2,FALSE))","v":""}]
[null,{"$f":"IF(ISBLANK(A1493),\"\",VLOOKUP(A1493,base_itens,2,FALSE))","v":""}]
[null,{"$f":"IF(ISBLANK(A1494),\"\",VLOOKUP(A1494,base_itens,2,FALSE))","v":""}]
[null,{"$f":"IF(ISBLANK(A1495),\"\",VLOOKUP(A1495,base_itens,2,FALSE))","v":""}]
[null,{"$f":"IF(ISBLANK(A1496),\"\",VLOOKUP(A1496,base_itens,2,FALSE))","v":""}]
[null,{"$f":"IF(ISBLANK(A1497),\"\",VLOOKUP(A1497,base_itens,2,FALSE))","v":""}]
[null,{"$f":"IF(ISBLANK(A1498),\"\",VLOOKUP(A1498,base_itens,2,FALSE))","v":""}]
[null,{"$f":"IF(ISBLANK(A1499),\"\",VLOOKUP(A1499,base_itens,2,FALSE))","v":""}]
[null,{"$f":"IF(ISBLANK(A1500),\"\",VLOOKUP(A1500,base_itens,2,FALSE))","v":""}]
[null,{"$f":"IF(ISBLANK(A1501),\"\",VLOOKUP(A1501,base_itens,2,FALSE))","v":""}]
[null,{"$f":"IF(ISBLANK(A1502),\"\",VLOOKUP(A1502,base_itens,2,FALSE))","v":""}]
[null,{"$f":"IF(ISBLANK(A1503),\"\",VLOOKUP(A1503,base_itens,2,FALSE))","v":""}]
[null,{"$f":"IF(ISBLANK(A1504),\"\",VLOOKUP(A1504,base_itens,2,FALSE))","v":""}]
[null,{"$f":"IF(ISBLANK(A1505),\"\",VLOOKUP(A1505,base_itens,2,FALSE))","v":""}]
[null,{"$f":"IF(ISBLANK(A1506),\"\",VLOOKUP(A1506,base_itens,2,FALSE))","v":""}]
[null,{"$f":"IF(ISBLANK(A1507),\"\",VLOOKUP(A1507,base_itens,2,FALSE))","v":""}]
[null,{"$f":"IF(ISBLANK(A1508),\"\",VLOOKUP(A1508,base_itens,2,FALSE))","v":""}]
[null,{"$f":"IF(ISBLANK(A1509),\"\",VLOOKUP(A1509,base_itens,2,FALSE))","v":""}]
[null,{"$f":"IF(ISBLANK(A1510),\"\",VLOOKUP(A1510,base_itens,2,FALSE))","v":""}]
[null,{"$f":"IF(ISBLANK(A1511),\"\",VLOOKUP(A1511,base_itens,2,FALSE))","v":""}]
[null,{"$f":"IF(ISBLANK(A1512),\"\",VLOOKUP(A1512,base_itens,2,FALSE))","v":""}]
[null,{"$f":"IF(ISBLANK(A1513),\"\",VLOOKUP(A1513,base_itens,2,FALSE))","v":""}]
[null,{"$f":"IF(ISBLANK(A1514),\"\",VLOOKUP(A1514,base_itens,2,FALSE))","v":""}]
[null,{"$f":"IF(ISBLANK(A1515),\"\",VLOOKUP(A1515,base_itens,2,FALSE))","v":""}]
[null,{"$f":"IF(ISBLANK(A1516),\"\",VLOOKUP(A1516,base_itens,2,FALSE))","v":""}]
[null,{"$f":"IF(ISBLANK(A1517),\"\",VLOOKUP(A1517,base_itens,2,FALSE))","v":""}]
[null,{"$f":"IF(ISBLANK(A1518),\"\",VLOOKUP(A1518,base_itens,2,FALSE))","v":""}]
[null,{"$f":"IF(ISBLANK(A1519),\"\",VLOOKUP(A1519,base_itens,2,FALSE))","v":""}]
[null,{"$f":"IF(ISBLANK(A1520),\"\",VLOOKUP(A1520,base_itens,2,FALSE))","v":""}]
[null,{"$f":"IF(ISBLANK(A1521),\"\",VLOOKUP(A1521,base_itens,2,FALSE))","v":""}]
[null,{"$f":"IF(ISBLANK(A1522),\"\",VLOOKUP(A1522,base_itens,2,FALSE))","v":""}]
[null,{"$f":"IF(ISBLANK(A1523),\"\",VLOOKUP(A1523,base_itens,2,FALSE))","v":""}]
[null,{"$f":"IF(ISBLANK(A1524),\"\",VLOOKUP(A1524,base_itens,2,FALSE))","v":""}]
[null,{"$f":"IF(ISBLANK(A1525),\"\",VLOOKUP(A1525,base_itens,2,FALSE))","v":""}]
[null,{"$f":"IF(ISBLANK(A1526),\"\",VLOOKUP(A1526,base_itens,2,FALSE))","v":""}]
[null,{"$f":"IF(ISBLANK(A1527),\"\",VLOOKUP(A1527,base_itens,2,FALSE))","v":""}]
[null,{"$f":"IF(ISBLANK(A1528),\"\",VLOOKUP(A1528,base_itens,2,FALSE))","v":""}]
[null,{"$f":"IF(ISBLANK(A1529),\"\",VLOOKUP(A1529,base_itens,2,FALSE))","v":""}]
[null,{"$f":"IF(ISBLANK(A1530),\"\",VLOOKUP(A1530,base_itens,2,FALSE))","v":""}]
[null,{"$f":"IF(ISBLANK(A1531),\"\",VLOOKUP(A1531,base_itens,2,FALSE))","v":""}]
[null,{"$f":"IF(ISBLANK(A1532),\"\",VLOOKUP(A1532,base_itens,2,FALSE))","v":""}]
[null,{"$f":"IF(ISBLANK(A1533),\"\",VLOOKUP(A1533,base_itens,2,FALSE))","v":""}]
[null,{"$f":"IF(ISBLANK(A1534),\"\",VLOOKUP(A1534,base_itens,2,FALSE))","v":""}]
[null,{"$f":"IF(ISBLANK(A1535),\"\",VLOOKUP(A1535,base_itens,2,FALSE))","v":""}]
[null,{"$f":"IF(ISBLANK(A1536),\"\",VLOOKUP(A1536,base_itens,2,FALSE))","v":""}]
[null,{"$f":"IF(ISBLANK(A1537),\"\",VLOOKUP(A1537,base_itens,2,FALSE))","v":""}]
[null,{"$f":"IF(ISBLANK(A1538),\"\",VLOOKUP(A1538,base_itens,2,FALSE))","v":""}]
[null,{"$f":"IF(ISBLANK(A1539),\"\",VLOOKUP(A1539,base_itens,2,FALSE))","v":""}]
[null,{"$f":"IF(ISBLANK(A1540),\"\",VLOOKUP(A1540,base_itens,2,FALSE))","v":""}]
[null,{"$f":"IF(ISBLANK(A1541),\"\",VLOOKUP(A1541,base_itens,2,FALSE))","v":""}]
[null,{"$f":"IF(ISBLANK(A1542),\"\",VLOOKUP(A1542,base_itens,2,FALSE))","v":""}]
[null,{"$f":"IF(ISBLANK(A1543),\"\",VLOOKUP(A1543,base_itens,2,FALSE))","v":""}]
[null,{"$f":"IF(ISBLANK(A1544),\"\",VLOOKUP(A1544,base_itens,2,FALSE))","v":""}]
[null,{"$f":"IF(ISBLANK(A1545),\"\",VLOOKUP(A1545,base_itens,2,FALSE))","v":""}]
[null,{"$f":"IF(ISBLANK(A1546),\"\",VLOOKUP(A1546,base_itens,2,FALSE))","v":""}]
[null,{"$f":"IF(ISBLANK(A1547),\"\",VLOOKUP(A1547,base_itens,2,FALSE))","v":""}]
[null,{"$f":"IF(ISBLANK(A1548),\"\",VLOOKUP(A1548,base_itens,2,FALSE))","v":""}]
[null,{"$f":"IF(ISBLANK(A1549),\"\",VLOOKUP(A1549,base_itens,2,FALSE))","v":""}]
[null,{"$f":"IF(ISBLANK(A1550),\"\",VLOOKUP(A1550,base_itens,2,FALSE))","v":""}]
[null,{"$f":"IF(ISBLANK(A1551),\"\",VLOOKUP(A1551,base_itens,2,FALSE))","v":""}]
[null,{"$f":"IF(ISBLANK(A1552),\"\",VLOOKUP(A1552,base_itens,2,FALSE))","v":""}]
[null,{"$f":"IF(ISBLANK(A1553),\"\",VLOOKUP(A1553,base_itens,2,FALSE))","v":""}]
[null,{"$f":"IF(ISBLANK(A1554),\"\",VLOOKUP(A1554,base_itens,2,FALSE))","v":""}]
[null,{"$f":"IF(ISBLANK(A1555),\"\",VLOOKUP(A1555,base_itens,2,FALSE))","v":""}]
[null,{"$f":"IF(ISBLANK(A1556),\"\",VLOOKUP(A1556,base_itens,2,FALSE))","v":""}]
[null,{"$f":"IF(ISBLANK(A1557),\"\",VLOOKUP(A1557,base_itens,2,FALSE))","v":""}]
[null,{"$f":"IF(ISBLANK(A1558),\"\",VLOOKUP(A1558,base_itens,2,FALSE))","v":""}]
[null,{"$f":"IF(ISBLANK(A1559),\"\",VLOOKUP(A1559,base_itens,2,FALSE))","v":""}]
[null,{"$f":"IF(ISBLANK(A1560),\"\",VLOOKUP(A1560,base_itens,2,FALSE))","v":""}]
[null,{"$f":"IF(ISBLANK(A1561),\"\",VLOOKUP(A1561,base_itens,2,FALSE))","v":""}]
[null,{"$f":"IF(ISBLANK(A1562),\"\",VLOOKUP(A1562,base_itens,2,FALSE))","v":""}]
[null,{"$f":"IF(ISBLANK(A1563),\"\",VLOOKUP(A1563,base_itens,2,FALSE))","v":""}]
[null,{"$f":"IF(ISBLANK(A1564),\"\",VLOOKUP(A1564,base_itens,2,FALSE))","v":""}]
[null,{"$f":"IF(ISBLANK(A1565),\"\",VLOOKUP(A1565,base_itens,2,FALSE))","v":""}]
[null,{"$f":"IF(ISBLANK(A1566),\"\",VLOOKUP(A1566,base_itens,2,FALSE))","v":""}]
[null,{"$f":"IF(ISBLANK(A1567),\"\",VLOOKUP(A1567,base_itens,2,FALSE))","v":""}]
[null,{"$f":"IF(ISBLANK(A1568),\"\",VLOOKUP(A1568,base_itens,2,FALSE))","v":""}]
[null,{"$f":"IF(ISBLANK(A1569),\"\",VLOOKUP(A1569,base_itens,2,FALSE))","v":""}]
[null,{"$f":"IF(ISBLANK(A1570),\"\",VLOOKUP(A1570,base_itens,2,FALSE))","v":""}]
[null,{"$f":"IF(ISBLANK(A1571),\"\",VLOOKUP(A1571,base_itens,2,FALSE))","v":""}]
[null,{"$f":"IF(ISBLANK(A1572),\"\",VLOOKUP(A1572,base_itens,2,FALSE))","v":""}]
[null,{"$f":"IF(ISBLANK(A1573),\"\",VLOOKUP(A1573,base_itens,2,FALSE))","v":""}]
[null,{"$f":"IF(ISBLANK(A1574),\"\",VLOOKUP(A1574,base_itens,2,FALSE))","v":""}]
[null,{"$f":"IF(ISBLANK(A1575),\"\",VLOOKUP(A1575,base_itens,2,FALSE))","v":""}]
[null,{"$f":"IF(ISBLANK(A1576),\"\",VLOOKUP(A1576,base_itens,2,FALSE))","v":""}]
[null,{"$f":"IF(ISBLANK(A1577),\"\",VLOOKUP(A1577,base_itens,2,FALSE))","v":""}]
[null,{"$f":"IF(ISBLANK(A1578),\"\",VLOOKUP(A1578,base_itens,2,FALSE))","v":""}]
[null,{"$f":"IF(ISBLANK(A1579),\"\",VLOOKUP(A1579,base_itens,2,FALSE))","v":""}]
[null,{"$f":"IF(ISBLANK(A1580),\"\",VLOOKUP(A1580,base_itens,2,FALSE))","v":""}]
[null,{"$f":"IF(ISBLANK(A1581),\"\",VLOOKUP(A1581,base_itens,2,FALSE))","v":""}]
[null,{"$f":"IF(ISBLANK(A1582),\"\",VLOOKUP(A1582,base_itens,2,FALSE))","v":""}]
[null,{"$f":"IF(ISBLANK(A1583),\"\",VLOOKUP(A1583,base_itens,2,FALSE))","v":""}]
[null,{"$f":"IF(ISBLANK(A1584),\"\",VLOOKUP(A1584,base_itens,2,FALSE))","v":""}]
[null,{"$f":"IF(ISBLANK(A1585),\"\",VLOOKUP(A1585,base_itens,2,FALSE))","v":""}]
[null,{"$f":"IF(ISBLANK(A1586),\"\",VLOOKUP(A1586,base_itens,2,FALSE))","v":""}]
[null,{"$f":"IF(ISBLANK(A1587),\"\",VLOOKUP(A1587,base_itens,2,FALSE))","v":""}]
[null,{"$f":"IF(ISBLANK(A1588),\"\",VLOOKUP(A1588,base_itens,2,FALSE))","v":""}]
[null,{"$f":"IF(ISBLANK(A1589),\"\",VLOOKUP(A1589,base_itens,2,FALSE))","v":""}]
[null,{"$f":"IF(ISBLANK(A1590),\"\",VLOOKUP(A1590,base_itens,2,FALSE))","v":""}]
[null,{"$f":"IF(ISBLANK(A1591),\"\",VLOOKUP(A1591,base_itens,2,FALSE))","v":""}]
[null,{"$f":"IF(ISBLANK(A1592),\"\",VLOOKUP(A1592,base_itens,2,FALSE))","v":""}]
[null,{"$f":"IF(ISBLANK(A1593),\"\",VLOOKUP(A1593,base_itens,2,FALSE))","v":""}]
[null,{"$f":"IF(ISBLANK(A1594),\"\",VLOOKUP(A1594,base_itens,2,FALSE))","v":""}]
[null,{"$f":"IF(ISBLANK(A1595),\"\",VLOOKUP(A1595,base_itens,2,FALSE))","v":""}]
[null,{"$f":"IF(ISBLANK(A1596),\"\",VLOOKUP(A1596,base_itens,2,FALSE))","v":""}]
[null,{"$f":"IF(ISBLANK(A1597),\"\",VLOOKUP(A1597,base_itens,2,FALSE))","v":""}]
[null,{"$f":"IF(ISBLANK(A1598),\"\",VLOOKUP(A1598,base_itens,2,FALSE))","v":""}]
[null,{"$f":"IF(ISBLANK(A1599),\"\",VLOOKUP(A1599,base_itens,2,FALSE))","v":""}]
[null,{"$f":"IF(ISBLANK(A1600),\"\",VLOOKUP(A1600,base_itens,2,FALSE))","v":""}]
[null,{"$f":"IF(ISBLANK(A1601),\"\",VLOOKUP(A1601,base_itens,2,FALSE))","v":""}]
[null,{"$f":"IF(ISBLANK(A1602),\"\",VLOOKUP(A1602,base_itens,2,FALSE))","v":""}]
[null,{"$f":"IF(ISBLANK(A1603),\"\",VLOOKUP(A1603,base_itens,2,FALSE))","v":""}]
[null,{"$f":"IF(ISBLANK(A1604),\"\",VLOOKUP(A1604,base_itens,2,FALSE))","v":""}]
[null,{"$f":"IF(ISBLANK(A1605),\"\",VLOOKUP(A1605,base_itens,2,FALSE))","v":""}]
[null,{"$f":"IF(ISBLANK(A1606),\"\",VLOOKUP(A1606,base_itens,2,FALSE))","v":""}]
[null,{"$f":"IF(ISBLANK(A1607),\"\",VLOOKUP(A1607,base_itens,2,FALSE))","v":""}]
[null,{"$f":"IF(ISBLANK(A1608),\"\",VLOOKUP(A1608,base_itens,2,FALSE))","v":""}]
[null,{"$f":"IF(ISBLANK(A1609),\"\",VLOOKUP(A1609,base_itens,2,FALSE))","v":""}]
[null,{"$f":"IF(ISBLANK(A1610),\"\",VLOOKUP(A1610,base_itens,2,FALSE))","v":""}]
[null,{"$f":"IF(ISBLANK(A1611),\"\",VLOOKUP(A1611,base_itens,2,FALSE))","v":""}]
[null,{"$f":"IF(ISBLANK(A1612),\"\",VLOOKUP(A1612,base_itens,2,FALSE))","v":""}]
[null,{"$f":"IF(ISBLANK(A1613),\"\",VLOOKUP(A1613,base_itens,2,FALSE))","v":""}]
[null,{"$f":"IF(ISBLANK(A1614),\"\",VLOOKUP(A1614,base_itens,2,FALSE))","v":""}]
[null,{"$f":"IF(ISBLANK(A1615),\"\",VLOOKUP(A1615,base_itens,2,FALSE))","v":""}]
[null,{"$f":"IF(ISBLANK(A1616),\"\",VLOOKUP(A1616,base_itens,2,FALSE))","v":""}]
[null,{"$f":"IF(ISBLANK(A1617),\"\",VLOOKUP(A1617,base_itens,2,FALSE))","v":""}]
[null,{"$f":"IF(ISBLANK(A1618),\"\",VLOOKUP(A1618,base_itens,2,FALSE))","v":""}]
[null,{"$f":"IF(ISBLANK(A1619),\"\",VLOOKUP(A1619,base_itens,2,FALSE))","v":""}]
[null,{"$f":"IF(ISBLANK(A1620),\"\",VLOOKUP(A1620,base_itens,2,FALSE))","v":""}]
[null,{"$f":"IF(ISBLANK(A1621),\"\",VLOOKUP(A1621,base_itens,2,FALSE))","v":""}]
[null,{"$f":"IF(ISBLANK(A1622),\"\",VLOOKUP(A1622,base_itens,2,FALSE))","v":""}]
[null,{"$f":"IF(ISBLANK(A1623),\"\",VLOOKUP(A1623,base_itens,2,FALSE))","v":""}]
[null,{"$f":"IF(ISBLANK(A1624),\"\",VLOOKUP(A1624,base_itens,2,FALSE))","v":""}]
[null,{"$f":"IF(ISBLANK(A1625),\"\",VLOOKUP(A1625,base_itens,2,FALSE))","v":""}]
[null,{"$f":"IF(ISBLANK(A1626),\"\",VLOOKUP(A1626,base_itens,2,FALSE))","v":""}]
[null,{"$f":"IF(ISBLANK(A1627),\"\",VLOOKUP(A1627,base_itens,2,FALSE))","v":""}]
[null,{"$f":"IF(ISBLANK(A1628),\"\",VLOOKUP(A1628,base_itens,2,FALSE))","v":""}]
[null,{"$f":"IF(ISBLANK(A1629),\"\",VLOOKUP(A1629,base_itens,2,FALSE))","v":""}]
[null,{"$f":"IF(ISBLANK(A1630),\"\",VLOOKUP(A1630,base_itens,2,FALSE))","v":""}]
[null,{"$f":"IF(ISBLANK(A1631),\"\",VLOOKUP(A1631,base_itens,2,FALSE))","v":""}]
[null,{"$f":"IF(ISBLANK(A1632),\"\",VLOOKUP(A1632,base_itens,2,FALSE))","v":""}]
[null,{"$f":"IF(ISBLANK(A1633),\"\",VLOOKUP(A1633,base_itens,2,FALSE))","v":""}]
[null,{"$f":"IF(ISBLANK(A1634),\"\",VLOOKUP(A1634,base_itens,2,FALSE))","v":""}]
[null,{"$f":"IF(ISBLANK(A1635),\"\",VLOOKUP(A1635,base_itens,2,FALSE))","v":""}]
[null,{"$f":"IF(ISBLANK(A1636),\"\",VLOOKUP(A1636,base_itens,2,FALSE))","v":""}]
[null,{"$f":"IF(ISBLANK(A1637),\"\",VLOOKUP(A1637,base_itens,2,FALSE))","v":""}]
[null,{"$f":"IF(ISBLANK(A1638),\"\",VLOOKUP(A1638,base_itens,2,FALSE))","v":""}]
[null,{"$f":"IF(ISBLANK(A1639),\"\",VLOOKUP(A1639,base_itens,2,FALSE))","v":""}]
[null,{"$f":"IF(ISBLANK(A1640),\"\",VLOOKUP(A1640,base_itens,2,FALSE))","v":""}]
[null,{"$f":"IF(ISBLANK(A1641),\"\",VLOOKUP(A1641,base_itens,2,FALSE))","v":""}]
[null,{"$f":"IF(ISBLANK(A1642),\"\",VLOOKUP(A1642,base_itens,2,FALSE))","v":""}]
[null,{"$f":"IF(ISBLANK(A1643),\"\",VLOOKUP(A1643,base_itens,2,FALSE))","v":""}]
[null,{"$f":"IF(ISBLANK(A1644),\"\",VLOOKUP(A1644,base_itens,2,FALSE))","v":""}]
[null,{"$f":"IF(ISBLANK(A1645),\"\",VLOOKUP(A1645,base_itens,2,FALSE))","v":""}]
[null,{"$f":"IF(ISBLANK(A1646),\"\",VLOOKUP(A1646,base_itens,2,FALSE))","v":""}]
[null,{"$f":"IF(ISBLANK(A1647),\"\",VLOOKUP(A1647,base_itens,2,FALSE))","v":""}]
[null,{"$f":"IF(ISBLANK(A1648),\"\",VLOOKUP(A1648,base_itens,2,FALSE))","v":""}]
[null,{"$f":"IF(ISBLANK(A1649),\"\",VLOOKUP(A1649,base_itens,2,FALSE))","v":""}]
[null,{"$f":"IF(ISBLANK(A1650),\"\",VLOOKUP(A1650,base_itens,2,FALSE))","v":""}]
[null,{"$f":"IF(ISBLANK(A1651),\"\",VLOOKUP(A1651,base_itens,2,FALSE))","v":""}]
[null,{"$f":"IF(ISBLANK(A1652),\"\",VLOOKUP(A1652,base_itens,2,FALSE))","v":""}]
[null,{"$f":"IF(ISBLANK(A1653),\"\",VLOOKUP(A1653,base_itens,2,FALSE))","v":""}]
[null,{"$f":"IF(ISBLANK(A1654),\"\",VLOOKUP(A1654,base_itens,2,FALSE))","v":""}]
[null,{"$f":"IF(ISBLANK(A1655),\"\",VLOOKUP(A1655,base_itens,2,FALSE))","v":""}]
[null,{"$f":"IF(ISBLANK(A1656),\"\",VLOOKUP(A1656,base_itens,2,FALSE))","v":""}]
[null,{"$f":"IF(ISBLANK(A1657),\"\",VLOOKUP(A1657,base_itens,2,FALSE))","v":""}]
[null,{"$f":"IF(ISBLANK(A1658),\"\",VLOOKUP(A1658,base_itens,2,FALSE))","v":""}]
[null,{"$f":"IF(ISBLANK(A1659),\"\",VLOOKUP(A1659,base_itens,2,FALSE))","v":""}]
[null,{"$f":"IF(ISBLANK(A1660),\"\",VLOOKUP(A1660,base_itens,2,FALSE))","v":""}]
[null,{"$f":"IF(ISBLANK(A1661),\"\",VLOOKUP(A1661,base_itens,2,FALSE))","v":""}]
[null,{"$f":"IF(ISBLANK(A1662),\"\",VLOOKUP(A1662,base_itens,2,FALSE))","v":""}]
[null,{"$f":"IF(ISBLANK(A1663),\"\",VLOOKUP(A1663,base_itens,2,FALSE))","v":""}]
[null,{"$f":"IF(ISBLANK(A1664),\"\",VLOOKUP(A1664,base_itens,2,FALSE))","v":""}]
[null,{"$f":"IF(ISBLANK(A1665),\"\",VLOOKUP(A1665,base_itens,2,FALSE))","v":""}]
[null,{"$f":"IF(ISBLANK(A1666),\"\",VLOOKUP(A1666,base_itens,2,FALSE))","v":""}]
[null,{"$f":"IF(ISBLANK(A1667),\"\",VLOOKUP(A1667,base_itens,2,FALSE))","v":""}]
[null,{"$f":"IF(ISBLANK(A1668),\"\",VLOOKUP(A1668,base_itens,2,FALSE))","v":""}]
[null,{"$f":"IF(ISBLANK(A1669),\"\",VLOOKUP(A1669,base_itens,2,FALSE))","v":""}]
[null,{"$f":"IF(ISBLANK(A1670),\"\",VLOOKUP(A1670,base_itens,2,FALSE))","v":""}]
[null,{"$f":"IF(ISBLANK(A1671),\"\",VLOOKUP(A1671,base_itens,2,FALSE))","v":""}]
[null,{"$f":"IF(ISBLANK(A1672),\"\",VLOOKUP(A1672,base_itens,2,FALSE))","v":""}]
[null,{"$f":"IF(ISBLANK(A1673),\"\",VLOOKUP(A1673,base_itens,2,FALSE))","v":""}]
[null,{"$f":"IF(ISBLANK(A1674),\"\",VLOOKUP(A1674,base_itens,2,FALSE))","v":""}]
[null,{"$f":"IF(ISBLANK(A1675),\"\",VLOOKUP(A1675,base_itens,2,FALSE))","v":""}]
[null,{"$f":"IF(ISBLANK(A1676),\"\",VLOOKUP(A1676,base_itens,2,FALSE))","v":""}]
[null,{"$f":"IF(ISBLANK(A1677),\"\",VLOOKUP(A1677,base_itens,2,FALSE))","v":""}]
[null,{"$f":"IF(ISBLANK(A1678),\"\",VLOOKUP(A1678,base_itens,2,FALSE))","v":""}]
[null,{"$f":"IF(ISBLANK(A1679),\"\",VLOOKUP(A1679,base_itens,2,FALSE))","v":""}]
[null,{"$f":"IF(ISBLANK(A1680),\"\",VLOOKUP(A1680,base_itens,2,FALSE))","v":""}]
[null,{"$f":"IF(ISBLANK(A1681),\"\",VLOOKUP(A1681,base_itens,2,FALSE))","v":""}]
[null,{"$f":"IF(ISBLANK(A1682),\"\",VLOOKUP(A1682,base_itens,2,FALSE))","v":""}]
[null,{"$f":"IF(ISBLANK(A1683),\"\",VLOOKUP(A1683,base_itens,2,FALSE))","v":""}]
[null,{"$f":"IF(ISBLANK(A1684),\"\",VLOOKUP(A1684,base_itens,2,FALSE))","v":""}]
[null,{"$f":"IF(ISBLANK(A1685),\"\",VLOOKUP(A1685,base_itens,2,FALSE))","v":""}]
[null,{"$f":"IF(ISBLANK(A1686),\"\",VLOOKUP(A1686,base_itens,2,FALSE))","v":""}]
[null,{"$f":"IF(ISBLANK(A1687),\"\",VLOOKUP(A1687,base_itens,2,FALSE))","v":""}]
[null,{"$f":"IF(ISBLANK(A1688),\"\",VLOOKUP(A1688,base_itens,2,FALSE))","v":""}]
[null,{"$f":"IF(ISBLANK(A1689),\"\",VLOOKUP(A1689,base_itens,2,FALSE))","v":""}]
[null,{"$f":"IF(ISBLANK(A1690),\"\",VLOOKUP(A1690,base_itens,2,FALSE))","v":""}]
[null,{"$f":"IF(ISBLANK(A1691),\"\",VLOOKUP(A1691,base_itens,2,FALSE))","v":""}]
[null,{"$f":"IF(ISBLANK(A1692),\"\",VLOOKUP(A1692,base_itens,2,FALSE))","v":""}]
[null,{"$f":"IF(ISBLANK(A1693),\"\",VLOOKUP(A1693,base_itens,2,FALSE))","v":""}]
[null,{"$f":"IF(ISBLANK(A1694),\"\",VLOOKUP(A1694,base_itens,2,FALSE))","v":""}]
[null,{"$f":"IF(ISBLANK(A1695),\"\",VLOOKUP(A1695,base_itens,2,FALSE))","v":""}]
[null,{"$f":"IF(ISBLANK(A1696),\"\",VLOOKUP(A1696,base_itens,2,FALSE))","v":""}]
[null,{"$f":"IF(ISBLANK(A1697),\"\",VLOOKUP(A1697,base_itens,2,FALSE))","v":""}]
[null,{"$f":"IF(ISBLANK(A1698),\"\",VLOOKUP(A1698,base_itens,2,FALSE))","v":""}]
[null,{"$f":"IF(ISBLANK(A1699),\"\",VLOOKUP(A1699,base_itens,2,FALSE))","v":""}]
[null,{"$f":"IF(ISBLANK(A1700),\"\",VLOOKUP(A1700,base_itens,2,FALSE))","v":""}]
[null,{"$f":"IF(ISBLANK(A1701),\"\",VLOOKUP(A1701,base_itens,2,FALSE))","v":""}]
[null,{"$f":"IF(ISBLANK(A1702),\"\",VLOOKUP(A1702,base_itens,2,FALSE))","v":""}]
[null,{"$f":"IF(ISBLANK(A1703),\"\",VLOOKUP(A1703,base_itens,2,FALSE))","v":""}]
[null,{"$f":"IF(ISBLANK(A1704),\"\",VLOOKUP(A1704,base_itens,2,FALSE))","v":""}]
[null,{"$f":"IF(ISBLANK(A1705),\"\",VLOOKUP(A1705,base_itens,2,FALSE))","v":""}]
[null,{"$f":"IF(ISBLANK(A1706),\"\",VLOOKUP(A1706,base_itens,2,FALSE))","v":""}]
[null,{"$f":"IF(ISBLANK(A1707),\"\",VLOOKUP(A1707,base_itens,2,FALSE))","v":""}]
[null,{"$f":"IF(ISBLANK(A1708),\"\",VLOOKUP(A1708,base_itens,2,FALSE))","v":""}]
[null,{"$f":"IF(ISBLANK(A1709),\"\",VLOOKUP(A1709,base_itens,2,FALSE))","v":""}]
[null,{"$f":"IF(ISBLANK(A1710),\"\",VLOOKUP(A1710,base_itens,2,FALSE))","v":""}]
[null,{"$f":"IF(ISBLANK(A1711),\"\",VLOOKUP(A1711,base_itens,2,FALSE))","v":""}]
[null,{"$f":"IF(ISBLANK(A1712),\"\",VLOOKUP(A1712,base_itens,2,FALSE))","v":""}]
[null,{"$f":"IF(ISBLANK(A1713),\"\",VLOOKUP(A1713,base_itens,2,FALSE))","v":""}]
[null,{"$f":"IF(ISBLANK(A1714),\"\",VLOOKUP(A1714,base_itens,2,FALSE))","v":""}]
[null,{"$f":"IF(ISBLANK(A1715),\"\",VLOOKUP(A1715,base_itens,2,FALSE))","v":""}]
[null,{"$f":"IF(ISBLANK(A1716),\"\",VLOOKUP(A1716,base_itens,2,FALSE))","v":""}]
[null,{"$f":"IF(ISBLANK(A1717),\"\",VLOOKUP(A1717,base_itens,2,FALSE))","v":""}]
[null,{"$f":"IF(ISBLANK(A1718),\"\",VLOOKUP(A1718,base_itens,2,FALSE))","v":""}]
[null,{"$f":"IF(ISBLANK(A1719),\"\",VLOOKUP(A1719,base_itens,2,FALSE))","v":""}]
[null,{"$f":"IF(ISBLANK(A1720),\"\",VLOOKUP(A1720,base_itens,2,FALSE))","v":""}]
[null,{"$f":"IF(ISBLANK(A1721),\"\",VLOOKUP(A1721,base_itens,2,FALSE))","v":""}]
[null,{"$f":"IF(ISBLANK(A1722),\"\",VLOOKUP(A1722,base_itens,2,FALSE))","v":""}]
[null,{"$f":"IF(ISBLANK(A1723),\"\",VLOOKUP(A1723,base_itens,2,FALSE))","v":""}]
[null,{"$f":"IF(ISBLANK(A1724),\"\",VLOOKUP(A1724,base_itens,2,FALSE))","v":""}]
[null,{"$f":"IF(ISBLANK(A1725),\"\",VLOOKUP(A1725,base_itens,2,FALSE))","v":""}]
[null,{"$f":"IF(ISBLANK(A1726),\"\",VLOOKUP(A1726,base_itens,2,FALSE))","v":""}]
[null,{"$f":"IF(ISBLANK(A1727),\"\",VLOOKUP(A1727,base_itens,2,FALSE))","v":""}]
[null,{"$f":"IF(ISBLANK(A1728),\"\",VLOOKUP(A1728,base_itens,2,FALSE))","v":""}]
[null,{"$f":"IF(ISBLANK(A1729),\"\",VLOOKUP(A1729,base_itens,2,FALSE))","v":""}]
[null,{"$f":"IF(ISBLANK(A1730),\"\",VLOOKUP(A1730,base_itens,2,FALSE))","v":""}]
[null,{"$f":"IF(ISBLANK(A1731),\"\",VLOOKUP(A1731,base_itens,2,FALSE))","v":""}]
[null,{"$f":"IF(ISBLANK(A1732),\"\",VLOOKUP(A1732,base_itens,2,FALSE))","v":""}]
[null,{"$f":"IF(ISBLANK(A1733),\"\",VLOOKUP(A1733,base_itens,2,FALSE))","v":""}]
[null,{"$f":"IF(ISBLANK(A1734),\"\",VLOOKUP(A1734,base_itens,2,FALSE))","v":""}]
[null,{"$f":"IF(ISBLANK(A1735),\"\",VLOOKUP(A1735,base_itens,2,FALSE))","v":""}]
[null,{"$f":"IF(ISBLANK(A1736),\"\",VLOOKUP(A1736,base_itens,2,FALSE))","v":""}]
[null,{"$f":"IF(ISBLANK(A1737),\"\",VLOOKUP(A1737,base_itens,2,FALSE))","v":""}]
[null,{"$f":"IF(ISBLANK(A1738),\"\",VLOOKUP(A1738,base_itens,2,FALSE))","v":""}]
[null,{"$f":"IF(ISBLANK(A1739),\"\",VLOOKUP(A1739,base_itens,2,FALSE))","v":""}]
[null,{"$f":"IF(ISBLANK(A1740),\"\",VLOOKUP(A1740,base_itens,2,FALSE))","v":""}]
[null,{"$f":"IF(ISBLANK(A1741),\"\",VLOOKUP(A1741,base_itens,2,FALSE))","v":""}]
[null,{"$f":"IF(ISBLANK(A1742),\"\",VLOOKUP(A1742,base_itens,2,FALSE))","v":""}]
[null,{"$f":"IF(ISBLANK(A1743),\"\",VLOOKUP(A1743,base_itens,2,FALSE))","v":""}]
[null,{"$f":"IF(ISBLANK(A1744),\"\",VLOOKUP(A1744,base_itens,2,FALSE))","v":""}]
[null,{"$f":"IF(ISBLANK(A1745),\"\",VLOOKUP(A1745,base_itens,2,FALSE))","v":""}]
[null,{"$f":"IF(ISBLANK(A1746),\"\",VLOOKUP(A1746,base_itens,2,FALSE))","v":""}]
[null,{"$f":"IF(ISBLANK(A1747),\"\",VLOOKUP(A1747,base_itens,2,FALSE))","v":""}]
[null,{"$f":"IF(ISBLANK(A1748),\"\",VLOOKUP(A1748,base_itens,2,FALSE))","v":""}]
[null,{"$f":"IF(ISBLANK(A1749),\"\",VLOOKUP(A1749,base_itens,2,FALSE))","v":""}]
[null,{"$f":"IF(ISBLANK(A1750),\"\",VLOOKUP(A1750,base_itens,2,FALSE))","v":""}]
[null,{"$f":"IF(ISBLANK(A1751),\"\",VLOOKUP(A1751,base_itens,2,FALSE))","v":""}]
[null,{"$f":"IF(ISBLANK(A1752),\"\",VLOOKUP(A1752,base_itens,2,FALSE))","v":""}]
[null,{"$f":"IF(ISBLANK(A1753),\"\",VLOOKUP(A1753,base_itens,2,FALSE))","v":""}]
[null,{"$f":"IF(ISBLANK(A1754),\"\",VLOOKUP(A1754,base_itens,2,FALSE))","v":""}]
[null,{"$f":"IF(ISBLANK(A1755),\"\",VLOOKUP(A1755,base_itens,2,FALSE))","v":""}]
[null,{"$f":"IF(ISBLANK(A1756),\"\",VLOOKUP(A1756,base_itens,2,FALSE))","v":""}]
[null,{"$f":"IF(ISBLANK(A1757),\"\",VLOOKUP(A1757,base_itens,2,FALSE))","v":""}]
[null,{"$f":"IF(ISBLANK(A1758),\"\",VLOOKUP(A1758,base_itens,2,FALSE))","v":""}]
[null,{"$f":"IF(ISBLANK(A1759),\"\",VLOOKUP(A1759,base_itens,2,FALSE))","v":""}]
[null,{"$f":"IF(ISBLANK(A1760),\"\",VLOOKUP(A1760,base_itens,2,FALSE))","v":""}]
[null,{"$f":"IF(ISBLANK(A1761),\"\",VLOOKUP(A1761,base_itens,2,FALSE))","v":""}]
[null,{"$f":"IF(ISBLANK(A1762),\"\",VLOOKUP(A1762,base_itens,2,FALSE))","v":""}]
[null,{"$f":"IF(ISBLANK(A1763),\"\",VLOOKUP(A1763,base_itens,2,FALSE))","v":""}]
[null,{"$f":"IF(ISBLANK(A1764),\"\",VLOOKUP(A1764,base_itens,2,FALSE))","v":""}]
[null,{"$f":"IF(ISBLANK(A1765),\"\",VLOOKUP(A1765,base_itens,2,FALSE))","v":""}]
[null,{"$f":"IF(ISBLANK(A1766),\"\",VLOOKUP(A1766,base_itens,2,FALSE))","v":""}]
[null,{"$f":"IF(ISBLANK(A1767),\"\",VLOOKUP(A1767,base_itens,2,FALSE))","v":""}]
[null,{"$f":"IF(ISBLANK(A1768),\"\",VLOOKUP(A1768,base_itens,2,FALSE))","v":""}]
[null,{"$f":"IF(ISBLANK(A1769),\"\",VLOOKUP(A1769,base_itens,2,FALSE))","v":""}]
[null,{"$f":"IF(ISBLANK(A1770),\"\",VLOOKUP(A1770,base_itens,2,FALSE))","v":""}]
[null,{"$f":"IF(ISBLANK(A1771),\"\",VLOOKUP(A1771,base_itens,2,FALSE))","v":""}]
[null,{"$f":"IF(ISBLANK(A1772),\"\",VLOOKUP(A1772,base_itens,2,FALSE))","v":""}]
[null,{"$f":"IF(ISBLANK(A1773),\"\",VLOOKUP(A1773,base_itens,2,FALSE))","v":""}]
[null,{"$f":"IF(ISBLANK(A1774),\"\",VLOOKUP(A1774,base_itens,2,FALSE))","v":""}]
[null,{"$f":"IF(ISBLANK(A1775),\"\",VLOOKUP(A1775,base_itens,2,FALSE))","v":""}]
[null,{"$f":"IF(ISBLANK(A1776),\"\",VLOOKUP(A1776,base_itens,2,FALSE))","v":""}]
[null,{"$f":"IF(ISBLANK(A1777),\"\",VLOOKUP(A1777,base_itens,2,FALSE))","v":""}]
[null,{"$f":"IF(ISBLANK(A1778),\"\",VLOOKUP(A1778,base_itens,2,FALSE))","v":""}]
[null,{"$f":"IF(ISBLANK(A1779),\"\",VLOOKUP(A1779,base_itens,2,FALSE))","v":""}]
[null,{"$f":"IF(ISBLANK(A1780),\"\",VLOOKUP(A1780,base_itens,2,FALSE))","v":""}]
[null,{"$f":"IF(ISBLANK(A1781),\"\",VLOOKUP(A1781,base_itens,2,FALSE))","v":""}]
[null,{"$f":"IF(ISBLANK(A1782),\"\",VLOOKUP(A1782,base_itens,2,FALSE))","v":""}]
[null,{"$f":"IF(ISBLANK(A1783),\"\",VLOOKUP(A1783,base_itens,2,FALSE))","v":""}]
[null,{"$f":"IF(ISBLANK(A1784),\"\",VLOOKUP(A1784,base_itens,2,FALSE))","v":""}]
[null,{"$f":"IF(ISBLANK(A1785),\"\",VLOOKUP(A1785,base_itens,2,FALSE))","v":""}]
[null,{"$f":"IF(ISBLANK(A1786),\"\",VLOOKUP(A1786,base_itens,2,FALSE))","v":""}]
[null,{"$f":"IF(ISBLANK(A1787),\"\",VLOOKUP(A1787,base_itens,2,FALSE))","v":""}]
[null,{"$f":"IF(ISBLANK(A1788),\"\",VLOOKUP(A1788,base_itens,2,FALSE))","v":""}]
[null,{"$f":"IF(ISBLANK(A1789),\"\",VLOOKUP(A1789,base_itens,2,FALSE))","v":""}]
[null,{"$f":"IF(ISBLANK(A1790),\"\",VLOOKUP(A1790,base_itens,2,FALSE))","v":""}]
[null,{"$f":"IF(ISBLANK(A1791),\"\",VLOOKUP(A1791,base_itens,2,FALSE))","v":""}]
[null,{"$f":"IF(ISBLANK(A1792),\"\",VLOOKUP(A1792,base_itens,2,FALSE))","v":""}]
[null,{"$f":"IF(ISBLANK(A1793),\"\",VLOOKUP(A1793,base_itens,2,FALSE))","v":""}]
[null,{"$f":"IF(ISBLANK(A1794),\"\",VLOOKUP(A1794,base_itens,2,FALSE))","v":""}]
[null,{"$f":"IF(ISBLANK(A1795),\"\",VLOOKUP(A1795,base_itens,2,FALSE))","v":""}]
[null,{"$f":"IF(ISBLANK(A1796),\"\",VLOOKUP(A1796,base_itens,2,FALSE))","v":""}]
[null,{"$f":"IF(ISBLANK(A1797),\"\",VLOOKUP(A1797,base_itens,2,FALSE))","v":""}]
[null,{"$f":"IF(ISBLANK(A1798),\"\",VLOOKUP(A1798,base_itens,2,FALSE))","v":""}]
[null,{"$f":"IF(ISBLANK(A1799),\"\",VLOOKUP(A1799,base_itens,2,FALSE))","v":""}]
[null,{"$f":"IF(ISBLANK(A1800),\"\",VLOOKUP(A1800,base_itens,2,FALSE))","v":""}]
[null,{"$f":"IF(ISBLANK(A1801),\"\",VLOOKUP(A1801,base_itens,2,FALSE))","v":""}]
[null,{"$f":"IF(ISBLANK(A1802),\"\",VLOOKUP(A1802,base_itens,2,FALSE))","v":""}]
[null,{"$f":"IF(ISBLANK(A1803),\"\",VLOOKUP(A1803,base_itens,2,FALSE))","v":""}]
[null,{"$f":"IF(ISBLANK(A1804),\"\",VLOOKUP(A1804,base_itens,2,FALSE))","v":""}]
[null,{"$f":"IF(ISBLANK(A1805),\"\",VLOOKUP(A1805,base_itens,2,FALSE))","v":""}]
[null,{"$f":"IF(ISBLANK(A1806),\"\",VLOOKUP(A1806,base_itens,2,FALSE))","v":""}]
[null,{"$f":"IF(ISBLANK(A1807),\"\",VLOOKUP(A1807,base_itens,2,FALSE))","v":""}]
[null,{"$f":"IF(ISBLANK(A1808),\"\",VLOOKUP(A1808,base_itens,2,FALSE))","v":""}]
[null,{"$f":"IF(ISBLANK(A1809),\"\",VLOOKUP(A1809,base_itens,2,FALSE))","v":""}]
[null,{"$f":"IF(ISBLANK(A1810),\"\",VLOOKUP(A1810,base_itens,2,FALSE))","v":""}]
[null,{"$f":"IF(ISBLANK(A1811),\"\",VLOOKUP(A1811,base_itens,2,FALSE))","v":""}]
[null,{"$f":"IF(ISBLANK(A1812),\"\",VLOOKUP(A1812,base_itens,2,FALSE))","v":""}]
[null,{"$f":"IF(ISBLANK(A1813),\"\",VLOOKUP(A1813,base_itens,2,FALSE))","v":""}]
[null,{"$f":"IF(ISBLANK(A1814),\"\",VLOOKUP(A1814,base_itens,2,FALSE))","v":""}]
[null,{"$f":"IF(ISBLANK(A1815),\"\",VLOOKUP(A1815,base_itens,2,FALSE))","v":""}]
[null,{"$f":"IF(ISBLANK(A1816),\"\",VLOOKUP(A1816,base_itens,2,FALSE))","v":""}]
[null,{"$f":"IF(ISBLANK(A1817),\"\",VLOOKUP(A1817,base_itens,2,FALSE))","v":""}]
[null,{"$f":"IF(ISBLANK(A1818),\"\",VLOOKUP(A1818,base_itens,2,FALSE))","v":""}]
[null,{"$f":"IF(ISBLANK(A1819),\"\",VLOOKUP(A1819,base_itens,2,FALSE))","v":""}]
[null,{"$f":"IF(ISBLANK(A1820),\"\",VLOOKUP(A1820,base_itens,2,FALSE))","v":""}]
[null,{"$f":"IF(ISBLANK(A1821),\"\",VLOOKUP(A1821,base_itens,2,FALSE))","v":""}]
[null,{"$f":"IF(ISBLANK(A1822),\"\",VLOOKUP(A1822,base_itens,2,FALSE))","v":""}]
[null,{"$f":"IF(ISBLANK(A1823),\"\",VLOOKUP(A1823,base_itens,2,FALSE))","v":""}]
[null,{"$f":"IF(ISBLANK(A1824),\"\",VLOOKUP(A1824,base_itens,2,FALSE))","v":""}]
[null,{"$f":"IF(ISBLANK(A1825),\"\",VLOOKUP(A1825,base_itens,2,FALSE))","v":""}]
[null,{"$f":"IF(ISBLANK(A1826),\"\",VLOOKUP(A1826,base_itens,2,FALSE))","v":""}]
[null,{"$f":"IF(ISBLANK(A1827),\"\",VLOOKUP(A1827,base_itens,2,FALSE))","v":""}]
[null,{"$f":"IF(ISBLANK(A1828),\"\",VLOOKUP(A1828,base_itens,2,FALSE))","v":""}]
[null,{"$f":"IF(ISBLANK(A1829),\"\",VLOOKUP(A1829,base_itens,2,FALSE))","v":""}]
[null,{"$f":"IF(ISBLANK(A1830),\"\",VLOOKUP(A1830,base_itens,2,FALSE))","v":""}]
[null,{"$f":"IF(ISBLANK(A1831),\"\",VLOOKUP(A1831,base_itens,2,FALSE))","v":""}]
[null,{"$f":"IF(ISBLANK(A1832),\"\",VLOOKUP(A1832,base_itens,2,FALSE))","v":""}]
[null,{"$f":"IF(ISBLANK(A1833),\"\",VLOOKUP(A1833,base_itens,2,FALSE))","v":""}]
[null,{"$f":"IF(ISBLANK(A1834),\"\",VLOOKUP(A1834,base_itens,2,FALSE))","v":""}]
[null,{"$f":"IF(ISBLANK(A1835),\"\",VLOOKUP(A1835,base_itens,2,FALSE))","v":""}]
[null,{"$f":"IF(ISBLANK(A1836),\"\",VLOOKUP(A1836,base_itens,2,FALSE))","v":""}]
[null,{"$f":"IF(ISBLANK(A1837),\"\",VLOOKUP(A1837,base_itens,2,FALSE))","v":""}]
[null,{"$f":"IF(ISBLANK(A1838),\"\",VLOOKUP(A1838,base_itens,2,FALSE))","v":""}]
[null,{"$f":"IF(ISBLANK(A1839),\"\",VLOOKUP(A1839,base_itens,2,FALSE))","v":""}]
[null,{"$f":"IF(ISBLANK(A1840),\"\",VLOOKUP(A1840,base_itens,2,FALSE))","v":""}]
[null,{"$f":"IF(ISBLANK(A1841),\"\",VLOOKUP(A1841,base_itens,2,FALSE))","v":""}]
[null,{"$f":"IF(ISBLANK(A1842),\"\",VLOOKUP(A1842,base_itens,2,FALSE))","v":""}]
[null,{"$f":"IF(ISBLANK(A1843),\"\",VLOOKUP(A1843,base_itens,2,FALSE))","v":""}]
[null,{"$f":"IF(ISBLANK(A1844),\"\",VLOOKUP(A1844,base_itens,2,FALSE))","v":""}]
[null,{"$f":"IF(ISBLANK(A1845),\"\",VLOOKUP(A1845,base_itens,2,FALSE))","v":""}]
[null,{"$f":"IF(ISBLANK(A1846),\"\",VLOOKUP(A1846,base_itens,2,FALSE))","v":""}]
[null,{"$f":"IF(ISBLANK(A1847),\"\",VLOOKUP(A1847,base_itens,2,FALSE))","v":""}]
[null,{"$f":"IF(ISBLANK(A1848),\"\",VLOOKUP(A1848,base_itens,2,FALSE))","v":""}]
[null,{"$f":"IF(ISBLANK(A1849),\"\",VLOOKUP(A1849,base_itens,2,FALSE))","v":""}]
[null,{"$f":"IF(ISBLANK(A1850),\"\",VLOOKUP(A1850,base_itens,2,FALSE))","v":""}]
[null,{"$f":"IF(ISBLANK(A1851),\"\",VLOOKUP(A1851,base_itens,2,FALSE))","v":""}]
[null,{"$f":"IF(ISBLANK(A1852),\"\",VLOOKUP(A1852,base_itens,2,FALSE))","v":""}]
[null,{"$f":"IF(ISBLANK(A1853),\"\",VLOOKUP(A1853,base_itens,2,FALSE))","v":""}]
[null,{"$f":"IF(ISBLANK(A1854),\"\",VLOOKUP(A1854,base_itens,2,FALSE))","v":""}]
[null,{"$f":"IF(ISBLANK(A1855),\"\",VLOOKUP(A1855,base_itens,2,FALSE))","v":""}]
[null,{"$f":"IF(ISBLANK(A1856),\"\",VLOOKUP(A1856,base_itens,2,FALSE))","v":""}]
[null,{"$f":"IF(ISBLANK(A1857),\"\",VLOOKUP(A1857,base_itens,2,FALSE))","v":""}]
[null,{"$f":"IF(ISBLANK(A1858),\"\",VLOOKUP(A1858,base_itens,2,FALSE))","v":""}]
[null,{"$f":"IF(ISBLANK(A1859),\"\",VLOOKUP(A1859,base_itens,2,FALSE))","v":""}]
[null,{"$f":"IF(ISBLANK(A1860),\"\",VLOOKUP(A1860,base_itens,2,FALSE))","v":""}]
[null,{"$f":"IF(ISBLANK(A1861),\"\",VLOOKUP(A1861,base_itens,2,FALSE))","v":""}]
[null,{"$f":"IF(ISBLANK(A1862),\"\",VLOOKUP(A1862,base_itens,2,FALSE))","v":""}]
[null,{"$f":"IF(ISBLANK(A1863),\"\",VLOOKUP(A1863,base_itens,2,FALSE))","v":""}]
[null,{"$f":"IF(ISBLANK(A1864),\"\",VLOOKUP(A1864,base_itens,2,FALSE))","v":""}]
[null,{"$f":"IF(ISBLANK(A1865),\"\",VLOOKUP(A1865,base_itens,2,FALSE))","v":""}]
[null,{"$f":"IF(ISBLANK(A1866),\"\",VLOOKUP(A1866,base_itens,2,FALSE))","v":""}]
[null,{"$f":"IF(ISBLANK(A1867),\"\",VLOOKUP(A1867,base_itens,2,FALSE))","v":""}]
[null,{"$f":"IF(ISBLANK(A1868),\"\",VLOOKUP(A1868,base_itens,2,FALSE))","v":""}]
[null,{"$f":"IF(ISBLANK(A1869),\"\",VLOOKUP(A1869,base_itens,2,FALSE))","v":""}]
[null,{"$f":"IF(ISBLANK(A1870),\"\",VLOOKUP(A1870,base_itens,2,FALSE))","v":""}]
[null,{"$f":"IF(ISBLANK(A1871),\"\",VLOOKUP(A1871,base_itens,2,FALSE))","v":""}]
[null,{"$f":"IF(ISBLANK(A1872),\"\",VLOOKUP(A1872,base_itens,2,FALSE))","v":""}]
[null,{"$f":"IF(ISBLANK(A1873),\"\",VLOOKUP(A1873,base_itens,2,FALSE))","v":""}]
[null,{"$f":"IF(ISBLANK(A1874),\"\",VLOOKUP(A1874,base_itens,2,FALSE))","v":""}]
[null,{"$f":"IF(ISBLANK(A1875),\"\",VLOOKUP(A1875,base_itens,2,FALSE))","v":""}]
[null,{"$f":"IF(ISBLANK(A1876),\"\",VLOOKUP(A1876,base_itens,2,FALSE))","v":""}]
[null,{"$f":"IF(ISBLANK(A1877),\"\",VLOOKUP(A1877,base_itens,2,FALSE))","v":""}]
[null,{"$f":"IF(ISBLANK(A1878),\"\",VLOOKUP(A1878,base_itens,2,FALSE))","v":""}]
[null,{"$f":"IF(ISBLANK(A1879),\"\",VLOOKUP(A1879,base_itens,2,FALSE))","v":""}]
[null,{"$f":"IF(ISBLANK(A1880),\"\",VLOOKUP(A1880,base_itens,2,FALSE))","v":""}]
[null,{"$f":"IF(ISBLANK(A1881),\"\",VLOOKUP(A1881,base_itens,2,FALSE))","v":""}]
[null,{"$f":"IF(ISBLANK(A1882),\"\",VLOOKUP(A1882,base_itens,2,FALSE))","v":""}]
[null,{"$f":"IF(ISBLANK(A1883),\"\",VLOOKUP(A1883,base_itens,2,FALSE))","v":""}]
[null,{"$f":"IF(ISBLANK(A1884),\"\",VLOOKUP(A1884,base_itens,2,FALSE))","v":""}]
[null,{"$f":"IF(ISBLANK(A1885),\"\",VLOOKUP(A1885,base_itens,2,FALSE))","v":""}]
[null,{"$f":"IF(ISBLANK(A1886),\"\",VLOOKUP(A1886,base_itens,2,FALSE))","v":""}]
[null,{"$f":"IF(ISBLANK(A1887),\"\",VLOOKUP(A1887,base_itens,2,FALSE))","v":""}]
[null,{"$f":"IF(ISBLANK(A1888),\"\",VLOOKUP(A1888,base_itens,2,FALSE))","v":""}]
[null,{"$f":"IF(ISBLANK(A1889),\"\",VLOOKUP(A1889,base_itens,2,FALSE))","v":""}]
[null,{"$f":"IF(ISBLANK(A1890),\"\",VLOOKUP(A1890,base_itens,2,FALSE))","v":""}]
[null,{"$f":"IF(ISBLANK(A1891),\"\",VLOOKUP(A1891,base_itens,2,FALSE))","v":""}]
[null,{"$f":"IF(ISBLANK(A1892),\"\",VLOOKUP(A1892,base_itens,2,FALSE))","v":""}]
[null,{"$f":"IF(ISBLANK(A1893),\"\",VLOOKUP(A1893,base_itens,2,FALSE))","v":""}]
[null,{"$f":"IF(ISBLANK(A1894),\"\",VLOOKUP(A1894,base_itens,2,FALSE))","v":""}]
[null,{"$f":"IF(ISBLANK(A1895),\"\",VLOOKUP(A1895,base_itens,2,FALSE))","v":""}]
[null,{"$f":"IF(ISBLANK(A1896),\"\",VLOOKUP(A1896,base_itens,2,FALSE))","v":""}]
[null,{"$f":"IF(ISBLANK(A1897),\"\",VLOOKUP(A1897,base_itens,2,FALSE))","v":""}]
[null,{"$f":"IF(ISBLANK(A1898),\"\",VLOOKUP(A1898,base_itens,2,FALSE))","v":""}]
[null,{"$f":"IF(ISBLANK(A1899),\"\",VLOOKUP(A1899,base_itens,2,FALSE))","v":""}]
[null,{"$f":"IF(ISBLANK(A1900),\"\",VLOOKUP(A1900,base_itens,2,FALSE))","v":""}]
[null,{"$f":"IF(ISBLANK(A1901),\"\",VLOOKUP(A1901,base_itens,2,FALSE))","v":""}]
[null,{"$f":"IF(ISBLANK(A1902),\"\",VLOOKUP(A1902,base_itens,2,FALSE))","v":""}]
[null,{"$f":"IF(ISBLANK(A1903),\"\",VLOOKUP(A1903,base_itens,2,FALSE))","v":""}]
[null,{"$f":"IF(ISBLANK(A1904),\"\",VLOOKUP(A1904,base_itens,2,FALSE))","v":""}]
[null,{"$f":"IF(ISBLANK(A1905),\"\",VLOOKUP(A1905,base_itens,2,FALSE))","v":""}]
[null,{"$f":"IF(ISBLANK(A1906),\"\",VLOOKUP(A1906,base_itens,2,FALSE))","v":""}]
[null,{"$f":"IF(ISBLANK(A1907),\"\",VLOOKUP(A1907,base_itens,2,FALSE))","v":""}]
[null,{"$f":"IF(ISBLANK(A1908),\"\",VLOOKUP(A1908,base_itens,2,FALSE))","v":""}]
[null,{"$f":"IF(ISBLANK(A1909),\"\",VLOOKUP(A1909,base_itens,2,FALSE))","v":""}]
[null,{"$f":"IF(ISBLANK(A1910),\"\",VLOOKUP(A1910,base_itens,2,FALSE))","v":""}]
[null,{"$f":"IF(ISBLANK(A1911),\"\",VLOOKUP(A1911,base_itens,2,FALSE))","v":""}]
[null,{"$f":"IF(ISBLANK(A1912),\"\",VLOOKUP(A1912,base_itens,2,FALSE))","v":""}]
[null,{"$f":"IF(ISBLANK(A1913),\"\",VLOOKUP(A1913,base_itens,2,FALSE))","v":""}]
[null,{"$f":"IF(ISBLANK(A1914),\"\",VLOOKUP(A1914,base_itens,2,FALSE))","v":""}]
[null,{"$f":"IF(ISBLANK(A1915),\"\",VLOOKUP(A1915,base_itens,2,FALSE))","v":""}]
[null,{"$f":"IF(ISBLANK(A1916),\"\",VLOOKUP(A1916,base_itens,2,FALSE))","v":""}]
[null,{"$f":"IF(ISBLANK(A1917),\"\",VLOOKUP(A1917,base_itens,2,FALSE))","v":""}]
[null,{"$f":"IF(ISBLANK(A1918),\"\",VLOOKUP(A1918,base_itens,2,FALSE))","v":""}]
[null,{"$f":"IF(ISBLANK(A1919),\"\",VLOOKUP(A1919,base_itens,2,FALSE))","v":""}]
[null,{"$f":"IF(ISBLANK(A1920),\"\",VLOOKUP(A1920,base_itens,2,FALSE))","v":""}]
[null,{"$f":"IF(ISBLANK(A1921),\"\",VLOOKUP(A1921,base_itens,2,FALSE))","v":""}]
[null,{"$f":"IF(ISBLANK(A1922),\"\",VLOOKUP(A1922,base_itens,2,FALSE))","v":""}]
[null,{"$f":"IF(ISBLANK(A1923),\"\",VLOOKUP(A1923,base_itens,2,FALSE))","v":""}]
[null,{"$f":"IF(ISBLANK(A1924),\"\",VLOOKUP(A1924,base_itens,2,FALSE))","v":""}]
[null,{"$f":"IF(ISBLANK(A1925),\"\",VLOOKUP(A1925,base_itens,2,FALSE))","v":""}]
[null,{"$f":"IF(ISBLANK(A1926),\"\",VLOOKUP(A1926,base_itens,2,FALSE))","v":""}]
[null,{"$f":"IF(ISBLANK(A1927),\"\",VLOOKUP(A1927,base_itens,2,FALSE))","v":""}]
[null,{"$f":"IF(ISBLANK(A1928),\"\",VLOOKUP(A1928,base_itens,2,FALSE))","v":""}]
[null,{"$f":"IF(ISBLANK(A1929),\"\",VLOOKUP(A1929,base_itens,2,FALSE))","v":""}]
[null,{"$f":"IF(ISBLANK(A1930),\"\",VLOOKUP(A1930,base_itens,2,FALSE))","v":""}]
[null,{"$f":"IF(ISBLANK(A1931),\"\",VLOOKUP(A1931,base_itens,2,FALSE))","v":""}]
[null,{"$f":"IF(ISBLANK(A1932),\"\",VLOOKUP(A1932,base_itens,2,FALSE))","v":""}]
[null,{"$f":"IF(ISBLANK(A1933),\"\",VLOOKUP(A1933,base_itens,2,FALSE))","v":""}]
[null,{"$f":"IF(ISBLANK(A1934),\"\",VLOOKUP(A1934,base_itens,2,FALSE))","v":""}]
[null,{"$f":"IF(ISBLANK(A1935),\"\",VLOOKUP(A1935,base_itens,2,FALSE))","v":""}]
[null,{"$f":"IF(ISBLANK(A1936),\"\",VLOOKUP(A1936,base_itens,2,FALSE))","v":""}]
[null,{"$f":"IF(ISBLANK(A1937),\"\",VLOOKUP(A1937,base_itens,2,FALSE))","v":""}]
[null,{"$f":"IF(ISBLANK(A1938),\"\",VLOOKUP(A1938,base_itens,2,FALSE))","v":""}]
[null,{"$f":"IF(ISBLANK(A1939),\"\",VLOOKUP(A1939,base_itens,2,FALSE))","v":""}]
[null,{"$f":"IF(ISBLANK(A1940),\"\",VLOOKUP(A1940,base_itens,2,FALSE))","v":""}]
[null,{"$f":"IF(ISBLANK(A1941),\"\",VLOOKUP(A1941,base_itens,2,FALSE))","v":""}]
[null,{"$f":"IF(ISBLANK(A1942),\"\",VLOOKUP(A1942,base_itens,2,FALSE))","v":""}]
[null,{"$f":"IF(ISBLANK(A1943),\"\",VLOOKUP(A1943,base_itens,2,FALSE))","v":""}]
[null,{"$f":"IF(ISBLANK(A1944),\"\",VLOOKUP(A1944,base_itens,2,FALSE))","v":""}]
[null,{"$f":"IF(ISBLANK(A1945),\"\",VLOOKUP(A1945,base_itens,2,FALSE))","v":""}]
[null,{"$f":"IF(ISBLANK(A1946),\"\",VLOOKUP(A1946,base_itens,2,FALSE))","v":""}]
[null,{"$f":"IF(ISBLANK(A1947),\"\",VLOOKUP(A1947,base_itens,2,FALSE))","v":""}]
[null,{"$f":"IF(ISBLANK(A1948),\"\",VLOOKUP(A1948,base_itens,2,FALSE))","v":""}]
[null,{"$f":"IF(ISBLANK(A1949),\"\",VLOOKUP(A1949,base_itens,2,FALSE))","v":""}]
[null,{"$f":"IF(ISBLANK(A1950),\"\",VLOOKUP(A1950,base_itens,2,FALSE))","v":""}]
[null,{"$f":"IF(ISBLANK(A1951),\"\",VLOOKUP(A1951,base_itens,2,FALSE))","v":""}]
[null,{"$f":"IF(ISBLANK(A1952),\"\",VLOOKUP(A1952,base_itens,2,FALSE))","v":""}]
[null,{"$f":"IF(ISBLANK(A1953),\"\",VLOOKUP(A1953,base_itens,2,FALSE))","v":""}]
[null,{"$f":"IF(ISBLANK(A1954),\"\",VLOOKUP(A1954,base_itens,2,FALSE))","v":""}]
[null,{"$f":"IF(ISBLANK(A1955),\"\",VLOOKUP(A1955,base_itens,2,FALSE))","v":""}]
[null,{"$f":"IF(ISBLANK(A1956),\"\",VLOOKUP(A1956,base_itens,2,FALSE))","v":""}]
[null,{"$f":"IF(ISBLANK(A1957),\"\",VLOOKUP(A1957,base_itens,2,FALSE))","v":""}]
[null,{"$f":"IF(ISBLANK(A1958),\"\",VLOOKUP(A1958,base_itens,2,FALSE))","v":""}]
[null,{"$f":"IF(ISBLANK(A1959),\"\",VLOOKUP(A1959,base_itens,2,FALSE))","v":""}]
[null,{"$f":"IF(ISBLANK(A1960),\"\",VLOOKUP(A1960,base_itens,2,FALSE))","v":""}]
[null,{"$f":"IF(ISBLANK(A1961),\"\",VLOOKUP(A1961,base_itens,2,FALSE))","v":""}]
[null,{"$f":"IF(ISBLANK(A1962),\"\",VLOOKUP(A1962,base_itens,2,FALSE))","v":""}]
[null,{"$f":"IF(ISBLANK(A1963),\"\",VLOOKUP(A1963,base_itens,2,FALSE))","v":""}]
[null,{"$f":"IF(ISBLANK(A1964),\"\",VLOOKUP(A1964,base_itens,2,FALSE))","v":""}]
[null,{"$f":"IF(ISBLANK(A1965),\"\",VLOOKUP(A1965,base_itens,2,FALSE))","v":""}]
[null,{"$f":"IF(ISBLANK(A1966),\"\",VLOOKUP(A1966,base_itens,2,FALSE))","v":""}]
[null,{"$f":"IF(ISBLANK(A1967),\"\",VLOOKUP(A1967,base_itens,2,FALSE))","v":""}]
[null,{"$f":"IF(ISBLANK(A1968),\"\",VLOOKUP(A1968,base_itens,2,FALSE))","v":""}]
[null,{"$f":"IF(ISBLANK(A1969),\"\",VLOOKUP(A1969,base_itens,2,FALSE))","v":""}]
[null,{"$f":"IF(ISBLANK(A1970),\"\",VLOOKUP(A1970,base_itens,2,FALSE))","v":""}]
[null,{"$f":"IF(ISBLANK(A1971),\"\",VLOOKUP(A1971,base_itens,2,FALSE))","v":""}]
[null,{"$f":"IF(ISBLANK(A1972),\"\",VLOOKUP(A1972,base_itens,2,FALSE))","v":""}]
[null,{"$f":"IF(ISBLANK(A1973),\"\",VLOOKUP(A1973,base_itens,2,FALSE))","v":""}]
[null,{"$f":"IF(ISBLANK(A1974),\"\",VLOOKUP(A1974,base_itens,2,FALSE))","v":""}]
[null,{"$f":"IF(ISBLANK(A1975),\"\",VLOOKUP(A1975,base_itens,2,FALSE))","v":""}]
[null,{"$f":"IF(ISBLANK(A1976),\"\",VLOOKUP(A1976,base_itens,2,FALSE))","v":""}]
[null,{"$f":"IF(ISBLANK(A1977),\"\",VLOOKUP(A1977,base_itens,2,FALSE))","v":""}]
[null,{"$f":"IF(ISBLANK(A1978),\"\",VLOOKUP(A1978,base_itens,2,FALSE))","v":""}]
[null,{"$f":"IF(ISBLANK(A1979),\"\",VLOOKUP(A1979,base_itens,2,FALSE))","v":""}]
[null,{"$f":"IF(ISBLANK(A1980),\"\",VLOOKUP(A1980,base_itens,2,FALSE))","v":""}]
[null,{"$f":"IF(ISBLANK(A1981),\"\",VLOOKUP(A1981,base_itens,2,FALSE))","v":""}]
[null,{"$f":"IF(ISBLANK(A1982),\"\",VLOOKUP(A1982,base_itens,2,FALSE))","v":""}]
[null,{"$f":"IF(ISBLANK(A1983),\"\",VLOOKUP(A1983,base_itens,2,FALSE))","v":""}]
[null,{"$f":"IF(ISBLANK(A1984),\"\",VLOOKUP(A1984,base_itens,2,FALSE))","v":""}]
[null,{"$f":"IF(ISBLANK(A1985),\"\",VLOOKUP(A1985,base_itens,2,FALSE))","v":""}]
[null,{"$f":"IF(ISBLANK(A1986),\"\",VLOOKUP(A1986,base_itens,2,FALSE))","v":""}]
[null,{"$f":"IF(ISBLANK(A1987),\"\",VLOOKUP(A1987,base_itens,2,FALSE))","v":""}]
[null,{"$f":"IF(ISBLANK(A1988),\"\",VLOOKUP(A1988,base_itens,2,FALSE))","v":""}]
[null,{"$f":"IF(ISBLANK(A1989),\"\",VLOOKUP(A1989,base_itens,2,FALSE))","v":""}]
[null,{"$f":"IF(ISBLANK(A1990),\"\",VLOOKUP(A1990,base_itens,2,FALSE))","v":""}]
[null,{"$f":"IF(ISBLANK(A1991),\"\",VLOOKUP(A1991,base_itens,2,FALSE))","v":""}]
[null,{"$f":"IF(ISBLANK(A1992),\"\",VLOOKUP(A1992,base_itens,2,FALSE))","v":""}]
[null,{"$f":"IF(ISBLANK(A1993),\"\",VLOOKUP(A1993,base_itens,2,FALSE))","v":""}]
[null,{"$f":"IF(ISBLANK(A1994),\"\",VLOOKUP(A1994,base_itens,2,FALSE))","v":""}]
[null,{"$f":"IF(ISBLANK(A1995),\"\",VLOOKUP(A1995,base_itens,2,FALSE))","v":""}]
[null,{"$f":"IF(ISBLANK(A1996),\"\",VLOOKUP(A1996,base_itens,2,FALSE))","v":""}]
[null,{"$f":"IF(ISBLANK(A1997),\"\",VLOOKUP(A1997,base_itens,2,FALSE))","v":""}]
[null,{"$f":"IF(ISBLANK(A1998),\"\",VLOOKUP(A1998,base_itens,2,FALSE))","v":""}]
[null,{"$f":"IF(ISBLANK(A1999),\"\",VLOOKUP(A1999,base_itens,2,FALSE))","v":""}]
[null,{"$f":"IF(ISBLANK(A2000),\"\",VLOOKUP(A2000,base_itens,2,FALSE))","v":""}]
[null,{"$f":"IF(ISBLANK(A2001),\"\",VLOOKUP(A2001,base_itens,2,FALSE))","v":""}]
[null,{"$f":"IF(ISBLANK(A2002),\"\",VLOOKUP(A2002,base_itens,2,FALSE))","v":""}]
[null,{"$f":"IF(ISBLANK(A2003),\"\",VLOOKUP(A2003,base_itens,2,FALSE))","v":""}]
[null,{"$f":"IF(ISBLANK(A2004),\"\",VLOOKUP(A2004,base_itens,2,FALSE))","v":""}]
[null,{"$f":"IF(ISBLANK(A2005),\"\",VLOOKUP(A2005,base_itens,2,FALSE))","v":""}]
[null,{"$f":"IF(ISBLANK(A2006),\"\",VLOOKUP(A2006,base_itens,2,FALSE))","v":""}]
[null,{"$f":"IF(ISBLANK(A2007),\"\",VLOOKUP(A2007,base_itens,2,FALSE))","v":""}]
[null,{"$f":"IF(ISBLANK(A2008),\"\",VLOOKUP(A2008,base_itens,2,FALSE))","v":""}]
[null,{"$f":"IF(ISBLANK(A2009),\"\",VLOOKUP(A2009,base_itens,2,FALSE))","v":""}]
[null,{"$f":"IF(ISBLANK(A2010),\"\",VLOOKUP(A2010,base_itens,2,FALSE))","v":""}]
[null,{"$f":"IF(ISBLANK(A2011),\"\",VLOOKUP(A2011,base_itens,2,FALSE))","v":""}]
[null,{"$f":"IF(ISBLANK(A2012),\"\",VLOOKUP(A2012,base_itens,2,FALSE))","v":""}]
[null,{"$f":"IF(ISBLANK(A2013),\"\",VLOOKUP(A2013,base_itens,2,FALSE))","v":""}]
[null,{"$f":"IF(ISBLANK(A2014),\"\",VLOOKUP(A2014,base_itens,2,FALSE))","v":""}]
[null,{"$f":"IF(ISBLANK(A2015),\"\",VLOOKUP(A2015,base_itens,2,FALSE))","v":""}]
[null,{"$f":"IF(ISBLANK(A2016),\"\",VLOOKUP(A2016,base_itens,2,FALSE))","v":""}]
[null,{"$f":"IF(ISBLANK(A2017),\"\",VLOOKUP(A2017,base_itens,2,FALSE))","v":""}]
[null,{"$f":"IF(ISBLANK(A2018),\"\",VLOOKUP(A2018,base_itens,2,FALSE))","v":""}]
[null,{"$f":"IF(ISBLANK(A2019),\"\",VLOOKUP(A2019,base_itens,2,FALSE))","v":""}]
[null,{"$f":"IF(ISBLANK(A2020),\"\",VLOOKUP(A2020,base_itens,2,FALSE))","v":""}]
[null,{"$f":"IF(ISBLANK(A2021),\"\",VLOOKUP(A2021,base_itens,2,FALSE))","v":""}]
[null,{"$f":"IF(ISBLANK(A2022),\"\",VLOOKUP(A2022,base_itens,2,FALSE))","v":""}]
[null,{"$f":"IF(ISBLANK(A2023),\"\",VLOOKUP(A2023,base_itens,2,FALSE))","v":""}]
[null,{"$f":"IF(ISBLANK(A2024),\"\",VLOOKUP(A2024,base_itens,2,FALSE))","v":""}]
[null,{"$f":"IF(ISBLANK(A2025),\"\",VLOOKUP(A2025,base_itens,2,FALSE))","v":""}]
[null,{"$f":"IF(ISBLANK(A2026),\"\",VLOOKUP(A2026,base_itens,2,FALSE))","v":""}]
[null,{"$f":"IF(ISBLANK(A2027),\"\",VLOOKUP(A2027,base_itens,2,FALSE))","v":""}]
[null,{"$f":"IF(ISBLANK(A2028),\"\",VLOOKUP(A2028,base_itens,2,FALSE))","v":""}]
[null,{"$f":"IF(ISBLANK(A2029),\"\",VLOOKUP(A2029,base_itens,2,FALSE))","v":""}]
[null,{"$f":"IF(ISBLANK(A2030),\"\",VLOOKUP(A2030,base_itens,2,FALSE))","v":""}]
[null,{"$f":"IF(ISBLANK(A2031),\"\",VLOOKUP(A2031,base_itens,2,FALSE))","v":""}]
[null,{"$f":"IF(ISBLANK(A2032),\"\",VLOOKUP(A2032,base_itens,2,FALSE))","v":""}]
[null,{"$f":"IF(ISBLANK(A2033),\"\",VLOOKUP(A2033,base_itens,2,FALSE))","v":""}]
[null,{"$f":"IF(ISBLANK(A2034),\"\",VLOOKUP(A2034,base_itens,2,FALSE))","v":""}]
[null,{"$f":"IF(ISBLANK(A2035),\"\",VLOOKUP(A2035,base_itens,2,FALSE))","v":""}]
[null,{"$f":"IF(ISBLANK(A2036),\"\",VLOOKUP(A2036,base_itens,2,FALSE))","v":""}]
[null,{"$f":"IF(ISBLANK(A2037),\"\",VLOOKUP(A2037,base_itens,2,FALSE))","v":""}]
[null,{"$f":"IF(ISBLANK(A2038),\"\",VLOOKUP(A2038,base_itens,2,FALSE))","v":""}]
[null,{"$f":"IF(ISBLANK(A2039),\"\",VLOOKUP(A2039,base_itens,2,FALSE))","v":""}]
[null,{"$f":"IF(ISBLANK(A2040),\"\",VLOOKUP(A2040,base_itens,2,FALSE))","v":""}]
[null,{"$f":"IF(ISBLANK(A2041),\"\",VLOOKUP(A2041,base_itens,2,FALSE))","v":""}]
[null,{"$f":"IF(ISBLANK(A2042),\"\",VLOOKUP(A2042,base_itens,2,FALSE))","v":""}]
[null,{"$f":"IF(ISBLANK(A2043),\"\",VLOOKUP(A2043,base_itens,2,FALSE))","v":""}]
[null,{"$f":"IF(ISBLANK(A2044),\"\",VLOOKUP(A2044,base_itens,2,FALSE))","v":""}]
[null,{"$f":"IF(ISBLANK(A2045),\"\",VLOOKUP(A2045,base_itens,2,FALSE))","v":""}]
[null,{"$f":"IF(ISBLANK(A2046),\"\",VLOOKUP(A2046,base_itens,2,FALSE))","v":""}]
[null,{"$f":"IF(ISBLANK(A2047),\"\",VLOOKUP(A2047,base_itens,2,FALSE))","v":""}]
[null,{"$f":"IF(ISBLANK(A2048),\"\",VLOOKUP(A2048,base_itens,2,FALSE))","v":""}]
[null,{"$f":"IF(ISBLANK(A2049),\"\",VLOOKUP(A2049,base_itens,2,FALSE))","v":""}]
[null,{"$f":"IF(ISBLANK(A2050),\"\",VLOOKUP(A2050,base_itens,2,FALSE))","v":""}]
[null,{"$f":"IF(ISBLANK(A2051),\"\",VLOOKUP(A2051,base_itens,2,FALSE))","v":""}]
[null,{"$f":"IF(ISBLANK(A2052),\"\",VLOOKUP(A2052,base_itens,2,FALSE))","v":""}]
[null,{"$f":"IF(ISBLANK(A2053),\"\",VLOOKUP(A2053,base_itens,2,FALSE))","v":""}]
[null,{"$f":"IF(ISBLANK(A2054),\"\",VLOOKUP(A2054,base_itens,2,FALSE))","v":""}]
[null,{"$f":"IF(ISBLANK(A2055),\"\",VLOOKUP(A2055,base_itens,2,FALSE))","v":""}]
[null,{"$f":"IF(ISBLANK(A2056),\"\",VLOOKUP(A2056,base_itens,2,FALSE))","v":""}]
[null,{"$f":"IF(ISBLANK(A2057),\"\",VLOOKUP(A2057,base_itens,2,FALSE))","v":""}]
[null,{"$f":"IF(ISBLANK(A2058),\"\",VLOOKUP(A2058,base_itens,2,FALSE))","v":""}]
[null,{"$f":"IF(ISBLANK(A2059),\"\",VLOOKUP(A2059,base_itens,2,FALSE))","v":""}]
[null,{"$f":"IF(ISBLANK(A2060),\"\",VLOOKUP(A2060,base_itens,2,FALSE))","v":""}]
[null,{"$f":"IF(ISBLANK(A2061),\"\",VLOOKUP(A2061,base_itens,2,FALSE))","v":""}]
[null,{"$f":"IF(ISBLANK(A2062),\"\",VLOOKUP(A2062,base_itens,2,FALSE))","v":""}]
[null,{"$f":"IF(ISBLANK(A2063),\"\",VLOOKUP(A2063,base_itens,2,FALSE))","v":""}]
[null,{"$f":"IF(ISBLANK(A2064),\"\",VLOOKUP(A2064,base_itens,2,FALSE))","v":""}]
[null,{"$f":"IF(ISBLANK(A2065),\"\",VLOOKUP(A2065,base_itens,2,FALSE))","v":""}]
[null,{"$f":"IF(ISBLANK(A2066),\"\",VLOOKUP(A2066,base_itens,2,FALSE))","v":""}]
[null,{"$f":"IF(ISBLANK(A2067),\"\",VLOOKUP(A2067,base_itens,2,FALSE))","v":""}]
[null,{"$f":"IF(ISBLANK(A2068),\"\",VLOOKUP(A2068,base_itens,2,FALSE))","v":""}]
[null,{"$f":"IF(ISBLANK(A2069),\"\",VLOOKUP(A2069,base_itens,2,FALSE))","v":""}]
[null,{"$f":"IF(ISBLANK(A2070),\"\",VLOOKUP(A2070,base_itens,2,FALSE))","v":""}]
[null,{"$f":"IF(ISBLANK(A2071),\"\",VLOOKUP(A2071,base_itens,2,FALSE))","v":""}]
[null,{"$f":"IF(ISBLANK(A2072),\"\",VLOOKUP(A2072,base_itens,2,FALSE))","v":""}]
[null,{"$f":"IF(ISBLANK(A2073),\"\",VLOOKUP(A2073,base_itens,2,FALSE))","v":""}]
[null,{"$f":"IF(ISBLANK(A2074),\"\",VLOOKUP(A2074,base_itens,2,FALSE))","v":""}]
[null,{"$f":"IF(ISBLANK(A2075),\"\",VLOOKUP(A2075,base_itens,2,FALSE))","v":""}]
[null,{"$f":"IF(ISBLANK(A2076),\"\",VLOOKUP(A2076,base_itens,2,FALSE))","v":""}]
[null,{"$f":"IF(ISBLANK(A2077),\"\",VLOOKUP(A2077,base_itens,2,FALSE))","v":""}]
[null,{"$f":"IF(ISBLANK(A2078),\"\",VLOOKUP(A2078,base_itens,2,FALSE))","v":""}]
[null,{"$f":"IF(ISBLANK(A2079),\"\",VLOOKUP(A2079,base_itens,2,FALSE))","v":""}]
[null,{"$f":"IF(ISBLANK(A2080),\"\",VLOOKUP(A2080,base_itens,2,FALSE))","v":""}]
[null,{"$f":"IF(ISBLANK(A2081),\"\",VLOOKUP(A2081,base_itens,2,FALSE))","v":""}]
[null,{"$f":"IF(ISBLANK(A2082),\"\",VLOOKUP(A2082,base_itens,2,FALSE))","v":""}]
[null,{"$f":"IF(ISBLANK(A2083),\"\",VLOOKUP(A2083,base_itens,2,FALSE))","v":""}]
[null,{"$f":"IF(ISBLANK(A2084),\"\",VLOOKUP(A2084,base_itens,2,FALSE))","v":""}]
[null,{"$f":"IF(ISBLANK(A2085),\"\",VLOOKUP(A2085,base_itens,2,FALSE))","v":""}]
[null,{"$f":"IF(ISBLANK(A2086),\"\",VLOOKUP(A2086,base_itens,2,FALSE))","v":""}]
[null,{"$f":"IF(ISBLANK(A2087),\"\",VLOOKUP(A2087,base_itens,2,FALSE))","v":""}]
[null,{"$f":"IF(ISBLANK(A2088),\"\",VLOOKUP(A2088,base_itens,2,FALSE))","v":""}]
[null,{"$f":"IF(ISBLANK(A2089),\"\",VLOOKUP(A2089,base_itens,2,FALSE))","v":""}]
[null,{"$f":"IF(ISBLANK(A2090),\"\",VLOOKUP(A2090,base_itens,2,FALSE))","v":""}]
[null,{"$f":"IF(ISBLANK(A2091),\"\",VLOOKUP(A2091,base_itens,2,FALSE))","v":""}]
[null,{"$f":"IF(ISBLANK(A2092),\"\",VLOOKUP(A2092,base_itens,2,FALSE))","v":""}]
[null,{"$f":"IF(ISBLANK(A2093),\"\",VLOOKUP(A2093,base_itens,2,FALSE))","v":""}]
[null,{"$f":"IF(ISBLANK(A2094),\"\",VLOOKUP(A2094,base_itens,2,FALSE))","v":""}]
[null,{"$f":"IF(ISBLANK(A2095),\"\",VLOOKUP(A2095,base_itens,2,FALSE))","v":""}]
[null,{"$f":"IF(ISBLANK(A2096),\"\",VLOOKUP(A2096,base_itens,2,FALSE))","v":""}]
[null,{"$f":"IF(ISBLANK(A2097),\"\",VLOOKUP(A2097,base_itens,2,FALSE))","v":""}]
[null,{"$f":"IF(ISBLANK(A2098),\"\",VLOOKUP(A2098,base_itens,2,FALSE))","v":""}]
[null,{"$f":"IF(ISBLANK(A2099),\"\",VLOOKUP(A2099,base_itens,2,FALSE))","v":""}]
[null,{"$f":"IF(ISBLANK(A2100),\"\",VLOOKUP(A2100,base_itens,2,FALSE))","v":""}]
[null,{"$f":"IF(ISBLANK(A2101),\"\",VLOOKUP(A2101,base_itens,2,FALSE))","v":""}]
[null,{"$f":"IF(ISBLANK(A2102),\"\",VLOOKUP(A2102,base_itens,2,FALSE))","v":""}]
[null,{"$f":"IF(ISBLANK(A2103),\"\",VLOOKUP(A2103,base_itens,2,FALSE))","v":""}]
[null,{"$f":"IF(ISBLANK(A2104),\"\",VLOOKUP(A2104,base_itens,2,FALSE))","v":""}]
[null,{"$f":"IF(ISBLANK(A2105),\"\",VLOOKUP(A2105,base_itens,2,FALSE))","v":""}]
[null,{"$f":"IF(ISBLANK(A2106),\"\",VLOOKUP(A2106,base_itens,2,FALSE))","v":""}]
[null,{"$f":"IF(ISBLANK(A2107),\"\",VLOOKUP(A2107,base_itens,2,FALSE))","v":""}]
[null,{"$f":"IF(ISBLANK(A2108),\"\",VLOOKUP(A2108,base_itens,2,FALSE))","v":""}]
[null,{"$f":"IF(ISBLANK(A2109),\"\",VLOOKUP(A2109,base_itens,2,FALSE))","v":""}]
[null,{"$f":"IF(ISBLANK(A2110),\"\",VLOOKUP(A2110,base_itens,2,FALSE))","v":""}]
[null,{"$f":"IF(ISBLANK(A2111),\"\",VLOOKUP(A2111,base_itens,2,FALSE))","v":""}]
[null,{"$f":"IF(ISBLANK(A2112),\"\",VLOOKUP(A2112,base_itens,2,FALSE))","v":""}]
[null,{"$f":"IF(ISBLANK(A2113),\"\",VLOOKUP(A2113,base_itens,2,FALSE))","v":""}]
[null,{"$f":"IF(ISBLANK(A2114),\"\",VLOOKUP(A2114,base_itens,2,FALSE))","v":""}]
[null,{"$f":"IF(ISBLANK(A2115),\"\",VLOOKUP(A2115,base_itens,2,FALSE))","v":""}]
[null,{"$f":"IF(ISBLANK(A2116),\"\",VLOOKUP(A2116,base_itens,2,FALSE))","v":""}]
[null,{"$f":"IF(ISBLANK(A2117),\"\",VLOOKUP(A2117,base_itens,2,FALSE))","v":""}]
[null,{"$f":"IF(ISBLANK(A2118),\"\",VLOOKUP(A2118,base_itens,2,FALSE))","v":""}]
[null,{"$f":"IF(ISBLANK(A2119),\"\",VLOOKUP(A2119,base_itens,2,FALSE))","v":""}]
[null,{"$f":"IF(ISBLANK(A2120),\"\",VLOOKUP(A2120,base_itens,2,FALSE))","v":""}]
[null,{"$f":"IF(ISBLANK(A2121),\"\",VLOOKUP(A2121,base_itens,2,FALSE))","v":""}]
[null,{"$f":"IF(ISBLANK(A2122),\"\",VLOOKUP(A2122,base_itens,2,FALSE))","v":""}]
[null,{"$f":"IF(ISBLANK(A2123),\"\",VLOOKUP(A2123,base_itens,2,FALSE))","v":""}]
[null,{"$f":"IF(ISBLANK(A2124),\"\",VLOOKUP(A2124,base_itens,2,FALSE))","v":""}]
[null,{"$f":"IF(ISBLANK(A2125),\"\",VLOOKUP(A2125,base_itens,2,FALSE))","v":""}]
[null,{"$f":"IF(ISBLANK(A2126),\"\",VLOOKUP(A2126,base_itens,2,FALSE))","v":""}]
[null,{"$f":"IF(ISBLANK(A2127),\"\",VLOOKUP(A2127,base_itens,2,FALSE))","v":""}]
[null,{"$f":"IF(ISBLANK(A2128),\"\",VLOOKUP(A2128,base_itens,2,FALSE))","v":""}]
[null,{"$f":"IF(ISBLANK(A2129),\"\",VLOOKUP(A2129,base_itens,2,FALSE))","v":""}]
[null,{"$f":"IF(ISBLANK(A2130),\"\",VLOOKUP(A2130,base_itens,2,FALSE))","v":""}]
[null,{"$f":"IF(ISBLANK(A2131),\"\",VLOOKUP(A2131,base_itens,2,FALSE))","v":""}]
[null,{"$f":"IF(ISBLANK(A2132),\"\",VLOOKUP(A2132,base_itens,2,FALSE))","v":""}]
[null,{"$f":"IF(ISBLANK(A2133),\"\",VLOOKUP(A2133,base_itens,2,FALSE))","v":""}]
[null,{"$f":"IF(ISBLANK(A2134),\"\",VLOOKUP(A2134,base_itens,2,FALSE))","v":""}]
[null,{"$f":"IF(ISBLANK(A2135),\"\",VLOOKUP(A2135,base_itens,2,FALSE))","v":""}]
[null,{"$f":"IF(ISBLANK(A2136),\"\",VLOOKUP(A2136,base_itens,2,FALSE))","v":""}]
[null,{"$f":"IF(ISBLANK(A2137),\"\",VLOOKUP(A2137,base_itens,2,FALSE))","v":""}]
[null,{"$f":"IF(ISBLANK(A2138),\"\",VLOOKUP(A2138,base_itens,2,FALSE))","v":""}]
[null,{"$f":"IF(ISBLANK(A2139),\"\",VLOOKUP(A2139,base_itens,2,FALSE))","v":""}]
[null,{"$f":"IF(ISBLANK(A2140),\"\",VLOOKUP(A2140,base_itens,2,FALSE))","v":""}]
[null,{"$f":"IF(ISBLANK(A2141),\"\",VLOOKUP(A2141,base_itens,2,FALSE))","v":""}]
[null,{"$f":"IF(ISBLANK(A2142),\"\",VLOOKUP(A2142,base_itens,2,FALSE))","v":""}]
[null,{"$f":"IF(ISBLANK(A2143),\"\",VLOOKUP(A2143,base_itens,2,FALSE))","v":""}]
[null,{"$f":"IF(ISBLANK(A2144),\"\",VLOOKUP(A2144,base_itens,2,FALSE))","v":""}]
[null,{"$f":"IF(ISBLANK(A2145),\"\",VLOOKUP(A2145,base_itens,2,FALSE))","v":""}]
[null,{"$f":"IF(ISBLANK(A2146),\"\",VLOOKUP(A2146,base_itens,2,FALSE))","v":""}]
[null,{"$f":"IF(ISBLANK(A2147),\"\",VLOOKUP(A2147,base_itens,2,FALSE))","v":""}]
[null,{"$f":"IF(ISBLANK(A2148),\"\",VLOOKUP(A2148,base_itens,2,FALSE))","v":""}]
[null,{"$f":"IF(ISBLANK(A2149),\"\",VLOOKUP(A2149,base_itens,2,FALSE))","v":""}]
[null,{"$f":"IF(ISBLANK(A2150),\"\",VLOOKUP(A2150,base_itens,2,FALSE))","v":""}]
[null,{"$f":"IF(ISBLANK(A2151),\"\",VLOOKUP(A2151,base_itens,2,FALSE))","v":""}]
[null,{"$f":"IF(ISBLANK(A2152),\"\",VLOOKUP(A2152,base_itens,2,FALSE))","v":""}]
[null,{"$f":"IF(ISBLANK(A2153),\"\",VLOOKUP(A2153,base_itens,2,FALSE))","v":""}]
[null,{"$f":"IF(ISBLANK(A2154),\"\",VLOOKUP(A2154,base_itens,2,FALSE))","v":""}]
[null,{"$f":"IF(ISBLANK(A2155),\"\",VLOOKUP(A2155,base_itens,2,FALSE))","v":""}]
[null,{"$f":"IF(ISBLANK(A2156),\"\",VLOOKUP(A2156,base_itens,2,FALSE))","v":""}]
[null,{"$f":"IF(ISBLANK(A2157),\"\",VLOOKUP(A2157,base_itens,2,FALSE))","v":""}]
[null,{"$f":"IF(ISBLANK(A2158),\"\",VLOOKUP(A2158,base_itens,2,FALSE))","v":""}]
[null,{"$f":"IF(ISBLANK(A2159),\"\",VLOOKUP(A2159,base_itens,2,FALSE))","v":""}]
[null,{"$f":"IF(ISBLANK(A2160),\"\",VLOOKUP(A2160,base_itens,2,FALSE))","v":""}]
[null,{"$f":"IF(ISBLANK(A2161),\"\",VLOOKUP(A2161,base_itens,2,FALSE))","v":""}]
[null,{"$f":"IF(ISBLANK(A2162),\"\",VLOOKUP(A2162,base_itens,2,FALSE))","v":""}]
[null,{"$f":"IF(ISBLANK(A2163),\"\",VLOOKUP(A2163,base_itens,2,FALSE))","v":""}]
[null,{"$f":"IF(ISBLANK(A2164),\"\",VLOOKUP(A2164,base_itens,2,FALSE))","v":""}]
[null,{"$f":"IF(ISBLANK(A2165),\"\",VLOOKUP(A2165,base_itens,2,FALSE))","v":""}]
[null,{"$f":"IF(ISBLANK(A2166),\"\",VLOOKUP(A2166,base_itens,2,FALSE))","v":""}]
[null,{"$f":"IF(ISBLANK(A2167),\"\",VLOOKUP(A2167,base_itens,2,FALSE))","v":""}]
[null,{"$f":"IF(ISBLANK(A2168),\"\",VLOOKUP(A2168,base_itens,2,FALSE))","v":""}]
[null,{"$f":"IF(ISBLANK(A2169),\"\",VLOOKUP(A2169,base_itens,2,FALSE))","v":""}]
[null,{"$f":"IF(ISBLANK(A2170),\"\",VLOOKUP(A2170,base_itens,2,FALSE))","v":""}]
[null,{"$f":"IF(ISBLANK(A2171),\"\",VLOOKUP(A2171,base_itens,2,FALSE))","v":""}]
[null,{"$f":"IF(ISBLANK(A2172),\"\",VLOOKUP(A2172,base_itens,2,FALSE))","v":""}]
[null,{"$f":"IF(ISBLANK(A2173),\"\",VLOOKUP(A2173,base_itens,2,FALSE))","v":""}]
[null,{"$f":"IF(ISBLANK(A2174),\"\",VLOOKUP(A2174,base_itens,2,FALSE))","v":""}]
[null,{"$f":"IF(ISBLANK(A2175),\"\",VLOOKUP(A2175,base_itens,2,FALSE))","v":""}]
[null,{"$f":"IF(ISBLANK(A2176),\"\",VLOOKUP(A2176,base_itens,2,FALSE))","v":""}]
[null,{"$f":"IF(ISBLANK(A2177),\"\",VLOOKUP(A2177,base_itens,2,FALSE))","v":""}]
[null,{"$f":"IF(ISBLANK(A2178),\"\",VLOOKUP(A2178,base_itens,2,FALSE))","v":""}]
[null,{"$f":"IF(ISBLANK(A2179),\"\",VLOOKUP(A2179,base_itens,2,FALSE))","v":""}]
[null,{"$f":"IF(ISBLANK(A2180),\"\",VLOOKUP(A2180,base_itens,2,FALSE))","v":""}]
[null,{"$f":"IF(ISBLANK(A2181),\"\",VLOOKUP(A2181,base_itens,2,FALSE))","v":""}]
[null,{"$f":"IF(ISBLANK(A2182),\"\",VLOOKUP(A2182,base_itens,2,FALSE))","v":""}]
[null,{"$f":"IF(ISBLANK(A2183),\"\",VLOOKUP(A2183,base_itens,2,FALSE))","v":""}]
[null,{"$f":"IF(ISBLANK(A2184),\"\",VLOOKUP(A2184,base_itens,2,FALSE))","v":""}]
[null,{"$f":"IF(ISBLANK(A2185),\"\",VLOOKUP(A2185,base_itens,2,FALSE))","v":""}]
[null,{"$f":"IF(ISBLANK(A2186),\"\",VLOOKUP(A2186,base_itens,2,FALSE))","v":""}]
[null,{"$f":"IF(ISBLANK(A2187),\"\",VLOOKUP(A2187,base_itens,2,FALSE))","v":""}]
[null,{"$f":"IF(ISBLANK(A2188),\"\",VLOOKUP(A2188,base_itens,2,FALSE))","v":""}]
[null,{"$f":"IF(ISBLANK(A2189),\"\",VLOOKUP(A2189,base_itens,2,FALSE))","v":""}]
[null,{"$f":"IF(ISBLANK(A2190),\"\",VLOOKUP(A2190,base_itens,2,FALSE))","v":""}]
[null,{"$f":"IF(ISBLANK(A2191),\"\",VLOOKUP(A2191,base_itens,2,FALSE))","v":""}]
[null,{"$f":"IF(ISBLANK(A2192),\"\",VLOOKUP(A2192,base_itens,2,FALSE))","v":""}]
[null,{"$f":"IF(ISBLANK(A2193),\"\",VLOOKUP(A2193,base_itens,2,FALSE))","v":""}]
[null,{"$f":"IF(ISBLANK(A2194),\"\",VLOOKUP(A2194,base_itens,2,FALSE))","v":""}]
[null,{"$f":"IF(ISBLANK(A2195),\"\",VLOOKUP(A2195,base_itens,2,FALSE))","v":""}]
[null,{"$f":"IF(ISBLANK(A2196),\"\",VLOOKUP(A2196,base_itens,2,FALSE))","v":""}]
[null,{"$f":"IF(ISBLANK(A2197),\"\",VLOOKUP(A2197,base_itens,2,FALSE))","v":""}]
[null,{"$f":"IF(ISBLANK(A2198),\"\",VLOOKUP(A2198,base_itens,2,FALSE))","v":""}]
[null,{"$f":"IF(ISBLANK(A2199),\"\",VLOOKUP(A2199,base_itens,2,FALSE))","v":""}]
[null,{"$f":"IF(ISBLANK(A2200),\"\",VLOOKUP(A2200,base_itens,2,FALSE))","v":""}]
[null,{"$f":"IF(ISBLANK(A2201),\"\",VLOOKUP(A2201,base_itens,2,FALSE))","v":""}]
[null,{"$f":"IF(ISBLANK(A2202),\"\",VLOOKUP(A2202,base_itens,2,FALSE))","v":""}]
[null,{"$f":"IF(ISBLANK(A2203),\"\",VLOOKUP(A2203,base_itens,2,FALSE))","v":""}]
[null,{"$f":"IF(ISBLANK(A2204),\"\",VLOOKUP(A2204,base_itens,2,FALSE))","v":""}]
[null,{"$f":"IF(ISBLANK(A2205),\"\",VLOOKUP(A2205,base_itens,2,FALSE))","v":""}]
[null,{"$f":"IF(ISBLANK(A2206),\"\",VLOOKUP(A2206,base_itens,2,FALSE))","v":""}]
[null,{"$f":"IF(ISBLANK(A2207),\"\",VLOOKUP(A2207,base_itens,2,FALSE))","v":""}]
[null,{"$f":"IF(ISBLANK(A2208),\"\",VLOOKUP(A2208,base_itens,2,FALSE))","v":""}]
[null,{"$f":"IF(ISBLANK(A2209),\"\",VLOOKUP(A2209,base_itens,2,FALSE))","v":""}]
[null,{"$f":"IF(ISBLANK(A2210),\"\",VLOOKUP(A2210,base_itens,2,FALSE))","v":""}]
[null,{"$f":"IF(ISBLANK(A2211),\"\",VLOOKUP(A2211,base_itens,2,FALSE))","v":""}]
[null,{"$f":"IF(ISBLANK(A2212),\"\",VLOOKUP(A2212,base_itens,2,FALSE))","v":""}]
[null,{"$f":"IF(ISBLANK(A2213),\"\",VLOOKUP(A2213,base_itens,2,FALSE))","v":""}]
[null,{"$f":"IF(ISBLANK(A2214),\"\",VLOOKUP(A2214,base_itens,2,FALSE))","v":""}]
[null,{"$f":"IF(ISBLANK(A2215),\"\",VLOOKUP(A2215,base_itens,2,FALSE))","v":""}]
[null,{"$f":"IF(ISBLANK(A2216),\"\",VLOOKUP(A2216,base_itens,2,FALSE))","v":""}]
[null,{"$f":"IF(ISBLANK(A2217),\"\",VLOOKUP(A2217,base_itens,2,FALSE))","v":""}]
[null,{"$f":"IF(ISBLANK(A2218),\"\",VLOOKUP(A2218,base_itens,2,FALSE))","v":""}]
[null,{"$f":"IF(ISBLANK(A2219),\"\",VLOOKUP(A2219,base_itens,2,FALSE))","v":""}]
[null,{"$f":"IF(ISBLANK(A2220),\"\",VLOOKUP(A2220,base_itens,2,FALSE))","v":""}]
[null,{"$f":"IF(ISBLANK(A2221),\"\",VLOOKUP(A2221,base_itens,2,FALSE))","v":""}]
[null,{"$f":"IF(ISBLANK(A2222),\"\",VLOOKUP(A2222,base_itens,2,FALSE))","v":""}]
[null,{"$f":"IF(ISBLANK(A2223),\"\",VLOOKUP(A2223,base_itens,2,FALSE))","v":""}]
[null,{"$f":"IF(ISBLANK(A2224),\"\",VLOOKUP(A2224,base_itens,2,FALSE))","v":""}]
[null,{"$f":"IF(ISBLANK(A2225),\"\",VLOOKUP(A2225,base_itens,2,FALSE))","v":""}]
[null,{"$f":"IF(ISBLANK(A2226),\"\",VLOOKUP(A2226,base_itens,2,FALSE))","v":""}]
[null,{"$f":"IF(ISBLANK(A2227),\"\",VLOOKUP(A2227,base_itens,2,FALSE))","v":""}]
[null,{"$f":"IF(ISBLANK(A2228),\"\",VLOOKUP(A2228,base_itens,2,FALSE))","v":""}]
[null,{"$f":"IF(ISBLANK(A2229),\"\",VLOOKUP(A2229,base_itens,2,FALSE))","v":""}]
[null,{"$f":"IF(ISBLANK(A2230),\"\",VLOOKUP(A2230,base_itens,2,FALSE))","v":""}]
[null,{"$f":"IF(ISBLANK(A2231),\"\",VLOOKUP(A2231,base_itens,2,FALSE))","v":""}]
[null,{"$f":"IF(ISBLANK(A2232),\"\",VLOOKUP(A2232,base_itens,2,FALSE))","v":""}]
[null,{"$f":"IF(ISBLANK(A2233),\"\",VLOOKUP(A2233,base_itens,2,FALSE))","v":""}]
[null,{"$f":"IF(ISBLANK(A2234),\"\",VLOOKUP(A2234,base_itens,2,FALSE))","v":""}]
[null,{"$f":"IF(ISBLANK(A2235),\"\",VLOOKUP(A2235,base_itens,2,FALSE))","v":""}]
[null,{"$f":"IF(ISBLANK(A2236),\"\",VLOOKUP(A2236,base_itens,2,FALSE))","v":""}]
[null,{"$f":"IF(ISBLANK(A2237),\"\",VLOOKUP(A2237,base_itens,2,FALSE))","v":""}]
[null,{"$f":"IF(ISBLANK(A2238),\"\",VLOOKUP(A2238,base_itens,2,FALSE))","v":""}]
[null,{"$f":"IF(ISBLANK(A2239),\"\",VLOOKUP(A2239,base_itens,2,FALSE))","v":""}]
[null,{"$f":"IF(ISBLANK(A2240),\"\",VLOOKUP(A2240,base_itens,2,FALSE))","v":""}]
[null,{"$f":"IF(ISBLANK(A2241),\"\",VLOOKUP(A2241,base_itens,2,FALSE))","v":""}]
[null,{"$f":"IF(ISBLANK(A2242),\"\",VLOOKUP(A2242,base_itens,2,FALSE))","v":""}]
[null,{"$f":"IF(ISBLANK(A2243),\"\",VLOOKUP(A2243,base_itens,2,FALSE))","v":""}]
[null,{"$f":"IF(ISBLANK(A2244),\"\",VLOOKUP(A2244,base_itens,2,FALSE))","v":""}]
[null,{"$f":"IF(ISBLANK(A2245),\"\",VLOOKUP(A2245,base_itens,2,FALSE))","v":""}]
[null,{"$f":"IF(ISBLANK(A2246),\"\",VLOOKUP(A2246,base_itens,2,FALSE))","v":""}]
[null,{"$f":"IF(ISBLANK(A2247),\"\",VLOOKUP(A2247,base_itens,2,FALSE))","v":""}]
[null,{"$f":"IF(ISBLANK(A2248),\"\",VLOOKUP(A2248,base_itens,2,FALSE))","v":""}]
[null,{"$f":"IF(ISBLANK(A2249),\"\",VLOOKUP(A2249,base_itens,2,FALSE))","v":""}]
[null,{"$f":"IF(ISBLANK(A2250),\"\",VLOOKUP(A2250,base_itens,2,FALSE))","v":""}]
[null,{"$f":"IF(ISBLANK(A2251),\"\",VLOOKUP(A2251,base_itens,2,FALSE))","v":""}]
[null,{"$f":"IF(ISBLANK(A2252),\"\",VLOOKUP(A2252,base_itens,2,FALSE))","v":""}]
[null,{"$f":"IF(ISBLANK(A2253),\"\",VLOOKUP(A2253,base_itens,2,FALSE))","v":""}]
[null,{"$f":"IF(ISBLANK(A2254),\"\",VLOOKUP(A2254,base_itens,2,FALSE))","v":""}]
[null,{"$f":"IF(ISBLANK(A2255),\"\",VLOOKUP(A2255,base_itens,2,FALSE))","v":""}]
[null,{"$f":"IF(ISBLANK(A2256),\"\",VLOOKUP(A2256,base_itens,2,FALSE))","v":""}]
[null,{"$f":"IF(ISBLANK(A2257),\"\",VLOOKUP(A2257,base_itens,2,FALSE))","v":""}]
[null,{"$f":"IF(ISBLANK(A2258),\"\",VLOOKUP(A2258,base_itens,2,FALSE))","v":""}]
[null,{"$f":"IF(ISBLANK(A2259),\"\",VLOOKUP(A2259,base_itens,2,FALSE))","v":""}]
[null,{"$f":"IF(ISBLANK(A2260),\"\",VLOOKUP(A2260,base_itens,2,FALSE))","v":""}]
[null,{"$f":"IF(ISBLANK(A2261),\"\",VLOOKUP(A2261,base_itens,2,FALSE))","v":""}]
[null,{"$f":"IF(ISBLANK(A2262),\"\",VLOOKUP(A2262,base_itens,2,FALSE))","v":""}]
[null,{"$f":"IF(ISBLANK(A2263),\"\",VLOOKUP(A2263,base_itens,2,FALSE))","v":""}]
[null,{"$f":"IF(ISBLANK(A2264),\"\",VLOOKUP(A2264,base_itens,2,FALSE))","v":""}]
[null,{"$f":"IF(ISBLANK(A2265),\"\",VLOOKUP(A2265,base_itens,2,FALSE))","v":""}]
[null,{"$f":"IF(ISBLANK(A2266),\"\",VLOOKUP(A2266,base_itens,2,FALSE))","v":""}]
[null,{"$f":"IF(ISBLANK(A2267),\"\",VLOOKUP(A2267,base_itens,2,FALSE))","v":""}]
[null,{"$f":"IF(ISBLANK(A2268),\"\",VLOOKUP(A2268,base_itens,2,FALSE))","v":""}]
[null,{"$f":"IF(ISBLANK(A2269),\"\",VLOOKUP(A2269,base_itens,2,FALSE))","v":""}]
[null,{"$f":"IF(ISBLANK(A2270),\"\",VLOOKUP(A2270,base_itens,2,FALSE))","v":""}]
[null,{"$f":"IF(ISBLANK(A2271),\"\",VLOOKUP(A2271,base_itens,2,FALSE))","v":""}]
[null,{"$f":"IF(ISBLANK(A2272),\"\",VLOOKUP(A2272,base_itens,2,FALSE))","v":""}]
[null,{"$f":"IF(ISBLANK(A2273),\"\",VLOOKUP(A2273,base_itens,2,FALSE))","v":""}]
[null,{"$f":"IF(ISBLANK(A2274),\"\",VLOOKUP(A2274,base_itens,2,FALSE))","v":""}]
[null,{"$f":"IF(ISBLANK(A2275),\"\",VLOOKUP(A2275,base_itens,2,FALSE))","v":""}]
[null,{"$f":"IF(ISBLANK(A2276),\"\",VLOOKUP(A2276,base_itens,2,FALSE))","v":""}]
[null,{"$f":"IF(ISBLANK(A2277),\"\",VLOOKUP(A2277,base_itens,2,FALSE))","v":""}]
[null,{"$f":"IF(ISBLANK(A2278),\"\",VLOOKUP(A2278,base_itens,2,FALSE))","v":""}]
[null,{"$f":"IF(ISBLANK(A2279),\"\",VLOOKUP(A2279,base_itens,2,FALSE))","v":""}]
[null,{"$f":"IF(ISBLANK(A2280),\"\",VLOOKUP(A2280,base_itens,2,FALSE))","v":""}]
[null,{"$f":"IF(ISBLANK(A2281),\"\",VLOOKUP(A2281,base_itens,2,FALSE))","v":""}]
[null,{"$f":"IF(ISBLANK(A2282),\"\",VLOOKUP(A2282,base_itens,2,FALSE))","v":""}]
[null,{"$f":"IF(ISBLANK(A2283),\"\",VLOOKUP(A2283,base_itens,2,FALSE))","v":""}]
[null,{"$f":"IF(ISBLANK(A2284),\"\",VLOOKUP(A2284,base_itens,2,FALSE))","v":""}]
[null,{"$f":"IF(ISBLANK(A2285),\"\",VLOOKUP(A2285,base_itens,2,FALSE))","v":""}]
[null,{"$f":"IF(ISBLANK(A2286),\"\",VLOOKUP(A2286,base_itens,2,FALSE))","v":""}]
[null,{"$f":"IF(ISBLANK(A2287),\"\",VLOOKUP(A2287,base_itens,2,FALSE))","v":""}]
[null,{"$f":"IF(ISBLANK(A2288),\"\",VLOOKUP(A2288,base_itens,2,FALSE))","v":""}]
[null,{"$f":"IF(ISBLANK(A2289),\"\",VLOOKUP(A2289,base_itens,2,FALSE))","v":""}]
[null,{"$f":"IF(ISBLANK(A2290),\"\",VLOOKUP(A2290,base_itens,2,FALSE))","v":""}]
[null,{"$f":"IF(ISBLANK(A2291),\"\",VLOOKUP(A2291,base_itens,2,FALSE))","v":""}]
[null,{"$f":"IF(ISBLANK(A2292),\"\",VLOOKUP(A2292,base_itens,2,FALSE))","v":""}]
[null,{"$f":"IF(ISBLANK(A2293),\"\",VLOOKUP(A2293,base_itens,2,FALSE))","v":""}]
[null,{"$f":"IF(ISBLANK(A2294),\"\",VLOOKUP(A2294,base_itens,2,FALSE))","v":""}]
[null,{"$f":"IF(ISBLANK(A2295),\"\",VLOOKUP(A2295,base_itens,2,FALSE))","v":""}]
[null,{"$f":"IF(ISBLANK(A2296),\"\",VLOOKUP(A2296,base_itens,2,FALSE))","v":""}]
[null,{"$f":"IF(ISBLANK(A2297),\"\",VLOOKUP(A2297,base_itens,2,FALSE))","v":""}]
[null,{"$f":"IF(ISBLANK(A2298),\"\",VLOOKUP(A2298,base_itens,2,FALSE))","v":""}]
[null,{"$f":"IF(ISBLANK(A2299),\"\",VLOOKUP(A2299,base_itens,2,FALSE))","v":""}]
[null,{"$f":"IF(ISBLANK(A2300),\"\",VLOOKUP(A2300,base_itens,2,FALSE))","v":""}]
[null,{"$f":"IF(ISBLANK(A2301),\"\",VLOOKUP(A2301,base_itens,2,FALSE))","v":""}]
[null,{"$f":"IF(ISBLANK(A2302),\"\",VLOOKUP(A2302,base_itens,2,FALSE))","v":""}]
[null,{"$f":"IF(ISBLANK(A2303),\"\",VLOOKUP(A2303,base_itens,2,FALSE))","v":""}]
[null,{"$f":"IF(ISBLANK(A2304),\"\",VLOOKUP(A2304,base_itens,2,FALSE))","v":""}]
[null,{"$f":"IF(ISBLANK(A2305),\"\",VLOOKUP(A2305,base_itens,2,FALSE))","v":""}]
[null,{"$f":"IF(ISBLANK(A2306),\"\",VLOOKUP(A2306,base_itens,2,FALSE))","v":""}]
[null,{"$f":"IF(ISBLANK(A2307),\"\",VLOOKUP(A2307,base_itens,2,FALSE))","v":""}]
[null,{"$f":"IF(ISBLANK(A2308),\"\",VLOOKUP(A2308,base_itens,2,FALSE))","v":""}]
[null,{"$f":"IF(ISBLANK(A2309),\"\",VLOOKUP(A2309,base_itens,2,FALSE))","v":""}]
[null,{"$f":"IF(ISBLANK(A2310),\"\",VLOOKUP(A2310,base_itens,2,FALSE))","v":""}]
[null,{"$f":"IF(ISBLANK(A2311),\"\",VLOOKUP(A2311,base_itens,2,FALSE))","v":""}]
[null,{"$f":"IF(ISBLANK(A2312),\"\",VLOOKUP(A2312,base_itens,2,FALSE))","v":""}]
[null,{"$f":"IF(ISBLANK(A2313),\"\",VLOOKUP(A2313,base_itens,2,FALSE))","v":""}]
[null,{"$f":"IF(ISBLANK(A2314),\"\",VLOOKUP(A2314,base_itens,2,FALSE))","v":""}]
[null,{"$f":"IF(ISBLANK(A2315),\"\",VLOOKUP(A2315,base_itens,2,FALSE))","v":""}]
[null,{"$f":"IF(ISBLANK(A2316),\"\",VLOOKUP(A2316,base_itens,2,FALSE))","v":""}]
[null,{"$f":"IF(ISBLANK(A2317),\"\",VLOOKUP(A2317,base_itens,2,FALSE))","v":""}]
[null,{"$f":"IF(ISBLANK(A2318),\"\",VLOOKUP(A2318,base_itens,2,FALSE))","v":""}]
[null,{"$f":"IF(ISBLANK(A2319),\"\",VLOOKUP(A2319,base_itens,2,FALSE))","v":""}]
[null,{"$f":"IF(ISBLANK(A2320),\"\",VLOOKUP(A2320,base_itens,2,FALSE))","v":""}]
[null,{"$f":"IF(ISBLANK(A2321),\"\",VLOOKUP(A2321,base_itens,2,FALSE))","v":""}]
[null,{"$f":"IF(ISBLANK(A2322),\"\",VLOOKUP(A2322,base_itens,2,FALSE))","v":""}]
[null,{"$f":"IF(ISBLANK(A2323),\"\",VLOOKUP(A2323,base_itens,2,FALSE))","v":""}]
[null,{"$f":"IF(ISBLANK(A2324),\"\",VLOOKUP(A2324,base_itens,2,FALSE))","v":""}]
[null,{"$f":"IF(ISBLANK(A2325),\"\",VLOOKUP(A2325,base_itens,2,FALSE))","v":""}]
[null,{"$f":"IF(ISBLANK(A2326),\"\",VLOOKUP(A2326,base_itens,2,FALSE))","v":""}]
[null,{"$f":"IF(ISBLANK(A2327),\"\",VLOOKUP(A2327,base_itens,2,FALSE))","v":""}]
[null,{"$f":"IF(ISBLANK(A2328),\"\",VLOOKUP(A2328,base_itens,2,FALSE))","v":""}]
[null,{"$f":"IF(ISBLANK(A2329),\"\",VLOOKUP(A2329,base_itens,2,FALSE))","v":""}]
[null,{"$f":"IF(ISBLANK(A2330),\"\",VLOOKUP(A2330,base_itens,2,FALSE))","v":""}]
[null,{"$f":"IF(ISBLANK(A2331),\"\",VLOOKUP(A2331,base_itens,2,FALSE))","v":""}]
[null,{"$f":"IF(ISBLANK(A2332),\"\",VLOOKUP(A2332,base_itens,2,FALSE))","v":""}]
[null,{"$f":"IF(ISBLANK(A2333),\"\",VLOOKUP(A2333,base_itens,2,FALSE))","v":""}]
[null,{"$f":"IF(ISBLANK(A2334),\"\",VLOOKUP(A2334,base_itens,2,FALSE))","v":""}]
[null,{"$f":"IF(ISBLANK(A2335),\"\",VLOOKUP(A2335,base_itens,2,FALSE))","v":""}]
[null,{"$f":"IF(ISBLANK(A2336),\"\",VLOOKUP(A2336,base_itens,2,FALSE))","v":""}]
[null,{"$f":"IF(ISBLANK(A2337),\"\",VLOOKUP(A2337,base_itens,2,FALSE))","v":""}]
[null,{"$f":"IF(ISBLANK(A2338),\"\",VLOOKUP(A2338,base_itens,2,FALSE))","v":""}]
[null,{"$f":"IF(ISBLANK(A2339),\"\",VLOOKUP(A2339,base_itens,2,FALSE))","v":""}]
[null,{"$f":"IF(ISBLANK(A2340),\"\",VLOOKUP(A2340,base_itens,2,FALSE))","v":""}]
[null,{"$f":"IF(ISBLANK(A2341),\"\",VLOOKUP(A2341,base_itens,2,FALSE))","v":""}]
[null,{"$f":"IF(ISBLANK(A2342),\"\",VLOOKUP(A2342,base_itens,2,FALSE))","v":""}]
[null,{"$f":"IF(ISBLANK(A2343),\"\",VLOOKUP(A2343,base_itens,2,FALSE))","v":""}]
[null,{"$f":"IF(ISBLANK(A2344),\"\",VLOOKUP(A2344,base_itens,2,FALSE))","v":""}]
[null,{"$f":"IF(ISBLANK(A2345),\"\",VLOOKUP(A2345,base_itens,2,FALSE))","v":""}]
[null,{"$f":"IF(ISBLANK(A2346),\"\",VLOOKUP(A2346,base_itens,2,FALSE))","v":""}]
[null,{"$f":"IF(ISBLANK(A2347),\"\",VLOOKUP(A2347,base_itens,2,FALSE))","v":""}]
[null,{"$f":"IF(ISBLANK(A2348),\"\",VLOOKUP(A2348,base_itens,2,FALSE))","v":""}]
[null,{"$f":"IF(ISBLANK(A2349),\"\",VLOOKUP(A2349,base_itens,2,FALSE))","v":""}]
[null,{"$f":"IF(ISBLANK(A2350),\"\",VLOOKUP(A2350,base_itens,2,FALSE))","v":""}]
[null,{"$f":"IF(ISBLANK(A2351),\"\",VLOOKUP(A2351,base_itens,2,FALSE))","v":""}]
[null,{"$f":"IF(ISBLANK(A2352),\"\",VLOOKUP(A2352,base_itens,2,FALSE))","v":""}]
[null,{"$f":"IF(ISBLANK(A2353),\"\",VLOOKUP(A2353,base_itens,2,FALSE))","v":""}]
[null,{"$f":"IF(ISBLANK(A2354),\"\",VLOOKUP(A2354,base_itens,2,FALSE))","v":""}]
[null,{"$f":"IF(ISBLANK(A2355),\"\",VLOOKUP(A2355,base_itens,2,FALSE))","v":""}]
[null,{"$f":"IF(ISBLANK(A2356),\"\",VLOOKUP(A2356,base_itens,2,FALSE))","v":""}]
[null,{"$f":"IF(ISBLANK(A2357),\"\",VLOOKUP(A2357,base_itens,2,FALSE))","v":""}]
[null,{"$f":"IF(ISBLANK(A2358),\"\",VLOOKUP(A2358,base_itens,2,FALSE))","v":""}]
[null,{"$f":"IF(ISBLANK(A2359),\"\",VLOOKUP(A2359,base_itens,2,FALSE))","v":""}]
[null,{"$f":"IF(ISBLANK(A2360),\"\",VLOOKUP(A2360,base_itens,2,FALSE))","v":""}]
[null,{"$f":"IF(ISBLANK(A2361),\"\",VLOOKUP(A2361,base_itens,2,FALSE))","v":""}]
[null,{"$f":"IF(ISBLANK(A2362),\"\",VLOOKUP(A2362,base_itens,2,FALSE))","v":""}]
[null,{"$f":"IF(ISBLANK(A2363),\"\",VLOOKUP(A2363,base_itens,2,FALSE))","v":""}]
[null,{"$f":"IF(ISBLANK(A2364),\"\",VLOOKUP(A2364,base_itens,2,FALSE))","v":""}]
[null,{"$f":"IF(ISBLANK(A2365),\"\",VLOOKUP(A2365,base_itens,2,FALSE))","v":""}]
[null,{"$f":"IF(ISBLANK(A2366),\"\",VLOOKUP(A2366,base_itens,2,FALSE))","v":""}]
[null,{"$f":"IF(ISBLANK(A2367),\"\",VLOOKUP(A2367,base_itens,2,FALSE))","v":""}]
[null,{"$f":"IF(ISBLANK(A2368),\"\",VLOOKUP(A2368,base_itens,2,FALSE))","v":""}]
[null,{"$f":"IF(ISBLANK(A2369),\"\",VLOOKUP(A2369,base_itens,2,FALSE))","v":""}]
[null,{"$f":"IF(ISBLANK(A2370),\"\",VLOOKUP(A2370,base_itens,2,FALSE))","v":""}]
[null,{"$f":"IF(ISBLANK(A2371),\"\",VLOOKUP(A2371,base_itens,2,FALSE))","v":""}]
[null,{"$f":"IF(ISBLANK(A2372),\"\",VLOOKUP(A2372,base_itens,2,FALSE))","v":""}]
[null,{"$f":"IF(ISBLANK(A2373),\"\",VLOOKUP(A2373,base_itens,2,FALSE))","v":""}]
[null,{"$f":"IF(ISBLANK(A2374),\"\",VLOOKUP(A2374,base_itens,2,FALSE))","v":""}]
[null,{"$f":"IF(ISBLANK(A2375),\"\",VLOOKUP(A2375,base_itens,2,FALSE))","v":""}]
[null,{"$f":"IF(ISBLANK(A2376),\"\",VLOOKUP(A2376,base_itens,2,FALSE))","v":""}]
[null,{"$f":"IF(ISBLANK(A2377),\"\",VLOOKUP(A2377,base_itens,2,FALSE))","v":""}]
[null,{"$f":"IF(ISBLANK(A2378),\"\",VLOOKUP(A2378,base_itens,2,FALSE))","v":""}]
[null,{"$f":"IF(ISBLANK(A2379),\"\",VLOOKUP(A2379,base_itens,2,FALSE))","v":""}]
[null,{"$f":"IF(ISBLANK(A2380),\"\",VLOOKUP(A2380,base_itens,2,FALSE))","v":""}]
[null,{"$f":"IF(ISBLANK(A2381),\"\",VLOOKUP(A2381,base_itens,2,FALSE))","v":""}]
[null,{"$f":"IF(ISBLANK(A2382),\"\",VLOOKUP(A2382,base_itens,2,FALSE))","v":""}]
[null,{"$f":"IF(ISBLANK(A2383),\"\",VLOOKUP(A2383,base_itens,2,FALSE))","v":""}]
[null,{"$f":"IF(ISBLANK(A2384),\"\",VLOOKUP(A2384,base_itens,2,FALSE))","v":""}]
[null,{"$f":"IF(ISBLANK(A2385),\"\",VLOOKUP(A2385,base_itens,2,FALSE))","v":""}]
[null,{"$f":"IF(ISBLANK(A2386),\"\",VLOOKUP(A2386,base_itens,2,FALSE))","v":""}]
[null,{"$f":"IF(ISBLANK(A2387),\"\",VLOOKUP(A2387,base_itens,2,FALSE))","v":""}]
[null,{"$f":"IF(ISBLANK(A2388),\"\",VLOOKUP(A2388,base_itens,2,FALSE))","v":""}]
[null,{"$f":"IF(ISBLANK(A2389),\"\",VLOOKUP(A2389,base_itens,2,FALSE))","v":""}]
[null,{"$f":"IF(ISBLANK(A2390),\"\",VLOOKUP(A2390,base_itens,2,FALSE))","v":""}]
[null,{"$f":"IF(ISBLANK(A2391),\"\",VLOOKUP(A2391,base_itens,2,FALSE))","v":""}]
[null,{"$f":"IF(ISBLANK(A2392),\"\",VLOOKUP(A2392,base_itens,2,FALSE))","v":""}]
[null,{"$f":"IF(ISBLANK(A2393),\"\",VLOOKUP(A2393,base_itens,2,FALSE))","v":""}]
[null,{"$f":"IF(ISBLANK(A2394),\"\",VLOOKUP(A2394,base_itens,2,FALSE))","v":""}]
[null,{"$f":"IF(ISBLANK(A2395),\"\",VLOOKUP(A2395,base_itens,2,FALSE))","v":""}]
[null,{"$f":"IF(ISBLANK(A2396),\"\",VLOOKUP(A2396,base_itens,2,FALSE))","v":""}]
[null,{"$f":"IF(ISBLANK(A2397),\"\",VLOOKUP(A2397,base_itens,2,FALSE))","v":""}]
[null,{"$f":"IF(ISBLANK(A2398),\"\",VLOOKUP(A2398,base_itens,2,FALSE))","v":""}]
[null,{"$f":"IF(ISBLANK(A2399),\"\",VLOOKUP(A2399,base_itens,2,FALSE))","v":""}]
[null,{"$f":"IF(ISBLANK(A2400),\"\",VLOOKUP(A2400,base_itens,2,FALSE))","v":""}]
[null,{"$f":"IF(ISBLANK(A2401),\"\",VLOOKUP(A2401,base_itens,2,FALSE))","v":""}]
[null,{"$f":"IF(ISBLANK(A2402),\"\",VLOOKUP(A2402,base_itens,2,FALSE))","v":""}]
[null,{"$f":"IF(ISBLANK(A2403),\"\",VLOOKUP(A2403,base_itens,2,FALSE))","v":""}]
[null,{"$f":"IF(ISBLANK(A2404),\"\",VLOOKUP(A2404,base_itens,2,FALSE))","v":""}]
[null,{"$f":"IF(ISBLANK(A2405),\"\",VLOOKUP(A2405,base_itens,2,FALSE))","v":""}]
[null,{"$f":"IF(ISBLANK(A2406),\"\",VLOOKUP(A2406,base_itens,2,FALSE))","v":""}]
[null,{"$f":"IF(ISBLANK(A2407),\"\",VLOOKUP(A2407,base_itens,2,FALSE))","v":""}]
[null,{"$f":"IF(ISBLANK(A2408),\"\",VLOOKUP(A2408,base_itens,2,FALSE))","v":""}]
[null,{"$f":"IF(ISBLANK(A2409),\"\",VLOOKUP(A2409,base_itens,2,FALSE))","v":""}]
[null,{"$f":"IF(ISBLANK(A2410),\"\",VLOOKUP(A2410,base_itens,2,FALSE))","v":""}]
[null,{"$f":"IF(ISBLANK(A2411),\"\",VLOOKUP(A2411,base_itens,2,FALSE))","v":""}]
[null,{"$f":"IF(ISBLANK(A2412),\"\",VLOOKUP(A2412,base_itens,2,FALSE))","v":""}]
[null,{"$f":"IF(ISBLANK(A2413),\"\",VLOOKUP(A2413,base_itens,2,FALSE))","v":""}]
[null,{"$f":"IF(ISBLANK(A2414),\"\",VLOOKUP(A2414,base_itens,2,FALSE))","v":""}]
[null,{"$f":"IF(ISBLANK(A2415),\"\",VLOOKUP(A2415,base_itens,2,FALSE))","v":""}]
[null,{"$f":"IF(ISBLANK(A2416),\"\",VLOOKUP(A2416,base_itens,2,FALSE))","v":""}]
[null,{"$f":"IF(ISBLANK(A2417),\"\",VLOOKUP(A2417,base_itens,2,FALSE))","v":""}]
[null,{"$f":"IF(ISBLANK(A2418),\"\",VLOOKUP(A2418,base_itens,2,FALSE))","v":""}]
[null,{"$f":"IF(ISBLANK(A2419),\"\",VLOOKUP(A2419,base_itens,2,FALSE))","v":""}]
[null,{"$f":"IF(ISBLANK(A2420),\"\",VLOOKUP(A2420,base_itens,2,FALSE))","v":""}]
[null,{"$f":"IF(ISBLANK(A2421),\"\",VLOOKUP(A2421,base_itens,2,FALSE))","v":""}]
[null,{"$f":"IF(ISBLANK(A2422),\"\",VLOOKUP(A2422,base_itens,2,FALSE))","v":""}]
[null,{"$f":"IF(ISBLANK(A2423),\"\",VLOOKUP(A2423,base_itens,2,FALSE))","v":""}]
[null,{"$f":"IF(ISBLANK(A2424),\"\",VLOOKUP(A2424,base_itens,2,FALSE))","v":""}]
[null,{"$f":"IF(ISBLANK(A2425),\"\",VLOOKUP(A2425,base_itens,2,FALSE))","v":""}]
[null,{"$f":"IF(ISBLANK(A2426),\"\",VLOOKUP(A2426,base_itens,2,FALSE))","v":""}]
[null,{"$f":"IF(ISBLANK(A2427),\"\",VLOOKUP(A2427,base_itens,2,FALSE))","v":""}]
[null,{"$f":"IF(ISBLANK(A2428),\"\",VLOOKUP(A2428,base_itens,2,FALSE))","v":""}]
[null,{"$f":"IF(ISBLANK(A2429),\"\",VLOOKUP(A2429,base_itens,2,FALSE))","v":""}]
[null,{"$f":"IF(ISBLANK(A2430),\"\",VLOOKUP(A2430,base_itens,2,FALSE))","v":""}]
[null,{"$f":"IF(ISBLANK(A2431),\"\",VLOOKUP(A2431,base_itens,2,FALSE))","v":""}]
[null,{"$f":"IF(ISBLANK(A2432),\"\",VLOOKUP(A2432,base_itens,2,FALSE))","v":""}]
[null,{"$f":"IF(ISBLANK(A2433),\"\",VLOOKUP(A2433,base_itens,2,FALSE))","v":""}]
[null,{"$f":"IF(ISBLANK(A2434),\"\",VLOOKUP(A2434,base_itens,2,FALSE))","v":""}]
[null,{"$f":"IF(ISBLANK(A2435),\"\",VLOOKUP(A2435,base_itens,2,FALSE))","v":""}]
[null,{"$f":"IF(ISBLANK(A2436),\"\",VLOOKUP(A2436,base_itens,2,FALSE))","v":""}]
[null,{"$f":"IF(ISBLANK(A2437),\"\",VLOOKUP(A2437,base_itens,2,FALSE))","v":""}]
[null,{"$f":"IF(ISBLANK(A2438),\"\",VLOOKUP(A2438,base_itens,2,FALSE))","v":""}]
[null,{"$f":"IF(ISBLANK(A2439),\"\",VLOOKUP(A2439,base_itens,2,FALSE))","v":""}]
[null,{"$f":"IF(ISBLANK(A2440),\"\",VLOOKUP(A2440,base_itens,2,FALSE))","v":""}]
[null,{"$f":"IF(ISBLANK(A2441),\"\",VLOOKUP(A2441,base_itens,2,FALSE))","v":""}]
[null,{"$f":"IF(ISBLANK(A2442),\"\",VLOOKUP(A2442,base_itens,2,FALSE))","v":""}]
[null,{"$f":"IF(ISBLANK(A2443),\"\",VLOOKUP(A2443,base_itens,2,FALSE))","v":""}]
[null,{"$f":"IF(ISBLANK(A2444),\"\",VLOOKUP(A2444,base_itens,2,FALSE))","v":""}]
[null,{"$f":"IF(ISBLANK(A2445),\"\",VLOOKUP(A2445,base_itens,2,FALSE))","v":""}]
[null,{"$f":"IF(ISBLANK(A2446),\"\",VLOOKUP(A2446,base_itens,2,FALSE))","v":""}]
[null,{"$f":"IF(ISBLANK(A2447),\"\",VLOOKUP(A2447,base_itens,2,FALSE))","v":""}]
[null,{"$f":"IF(ISBLANK(A2448),\"\",VLOOKUP(A2448,base_itens,2,FALSE))","v":""}]
[null,{"$f":"IF(ISBLANK(A2449),\"\",VLOOKUP(A2449,base_itens,2,FALSE))","v":""}]
[null,{"$f":"IF(ISBLANK(A2450),\"\",VLOOKUP(A2450,base_itens,2,FALSE))","v":""}]
[null,{"$f":"IF(ISBLANK(A2451),\"\",VLOOKUP(A2451,base_itens,2,FALSE))","v":""}]
[null,{"$f":"IF(ISBLANK(A2452),\"\",VLOOKUP(A2452,base_itens,2,FALSE))","v":""}]
[null,{"$f":"IF(ISBLANK(A2453),\"\",VLOOKUP(A2453,base_itens,2,FALSE))","v":""}]
[null,{"$f":"IF(ISBLANK(A2454),\"\",VLOOKUP(A2454,base_itens,2,FALSE))","v":""}]
[null,{"$f":"IF(ISBLANK(A2455),\"\",VLOOKUP(A2455,base_itens,2,FALSE))","v":""}]
[null,{"$f":"IF(ISBLANK(A2456),\"\",VLOOKUP(A2456,base_itens,2,FALSE))","v":""}]
[null,{"$f":"IF(ISBLANK(A2457),\"\",VLOOKUP(A2457,base_itens,2,FALSE))","v":""}]
[null,{"$f":"IF(ISBLANK(A2458),\"\",VLOOKUP(A2458,base_itens,2,FALSE))","v":""}]
[null,{"$f":"IF(ISBLANK(A2459),\"\",VLOOKUP(A2459,base_itens,2,FALSE))","v":""}]
[null,{"$f":"IF(ISBLANK(A2460),\"\",VLOOKUP(A2460,base_itens,2,FALSE))","v":""}]
[null,{"$f":"IF(ISBLANK(A2461),\"\",VLOOKUP(A2461,base_itens,2,FALSE))","v":""}]
[null,{"$f":"IF(ISBLANK(A2462),\"\",VLOOKUP(A2462,base_itens,2,FALSE))","v":""}]
[null,{"$f":"IF(ISBLANK(A2463),\"\",VLOOKUP(A2463,base_itens,2,FALSE))","v":""}]
[null,{"$f":"IF(ISBLANK(A2464),\"\",VLOOKUP(A2464,base_itens,2,FALSE))","v":""}]
[null,{"$f":"IF(ISBLANK(A2465),\"\",VLOOKUP(A2465,base_itens,2,FALSE))","v":""}]
[null,{"$f":"IF(ISBLANK(A2466),\"\",VLOOKUP(A2466,base_itens,2,FALSE))","v":""}]
[null,{"$f":"IF(ISBLANK(A2467),\"\",VLOOKUP(A2467,base_itens,2,FALSE))","v":""}]
[null,{"$f":"IF(ISBLANK(A2468),\"\",VLOOKUP(A2468,base_itens,2,FALSE))","v":""}]
[null,{"$f":"IF(ISBLANK(A2469),\"\",VLOOKUP(A2469,base_itens,2,FALSE))","v":""}]
[null,{"$f":"IF(ISBLANK(A2470),\"\",VLOOKUP(A2470,base_itens,2,FALSE))","v":""}]
[null,{"$f":"IF(ISBLANK(A2471),\"\",VLOOKUP(A2471,base_itens,2,FALSE))","v":""}]
[null,{"$f":"IF(ISBLANK(A2472),\"\",VLOOKUP(A2472,base_itens,2,FALSE))","v":""}]
[null,{"$f":"IF(ISBLANK(A2473),\"\",VLOOKUP(A2473,base_itens,2,FALSE))","v":""}]
[null,{"$f":"IF(ISBLANK(A2474),\"\",VLOOKUP(A2474,base_itens,2,FALSE))","v":""}]
[null,{"$f":"IF(ISBLANK(A2475),\"\",VLOOKUP(A2475,base_itens,2,FALSE))","v":""}]
[null,{"$f":"IF(ISBLANK(A2476),\"\",VLOOKUP(A2476,base_itens,2,FALSE))","v":""}]
[null,{"$f":"IF(ISBLANK(A2477),\"\",VLOOKUP(A2477,base_itens,2,FALSE))","v":""}]
[null,{"$f":"IF(ISBLANK(A2478),\"\",VLOOKUP(A2478,base_itens,2,FALSE))","v":""}]
[null,{"$f":"IF(ISBLANK(A2479),\"\",VLOOKUP(A2479,base_itens,2,FALSE))","v":""}]
[null,{"$f":"IF(ISBLANK(A2480),\"\",VLOOKUP(A2480,base_itens,2,FALSE))","v":""}]
[null,{"$f":"IF(ISBLANK(A2481),\"\",VLOOKUP(A2481,base_itens,2,FALSE))","v":""}]
[null,{"$f":"IF(ISBLANK(A2482),\"\",VLOOKUP(A2482,base_itens,2,FALSE))","v":""}]
[null,{"$f":"IF(ISBLANK(A2483),\"\",VLOOKUP(A2483,base_itens,2,FALSE))","v":""}]
[null,{"$f":"IF(ISBLANK(A2484),\"\",VLOOKUP(A2484,base_itens,2,FALSE))","v":""}]
[null,{"$f":"IF(ISBLANK(A2485),\"\",VLOOKUP(A2485,base_itens,2,FALSE))","v":""}]
[null,{"$f":"IF(ISBLANK(A2486),\"\",VLOOKUP(A2486,base_itens,2,FALSE))","v":""}]
[null,{"$f":"IF(ISBLANK(A2487),\"\",VLOOKUP(A2487,base_itens,2,FALSE))","v":""}]
[null,{"$f":"IF(ISBLANK(A2488),\"\",VLOOKUP(A2488,base_itens,2,FALSE))","v":""}]
[null,{"$f":"IF(ISBLANK(A2489),\"\",VLOOKUP(A2489,base_itens,2,FALSE))","v":""}]
[null,{"$f":"IF(ISBLANK(A2490),\"\",VLOOKUP(A2490,base_itens,2,FALSE))","v":""}]
[null,{"$f":"IF(ISBLANK(A2491),\"\",VLOOKUP(A2491,base_itens,2,FALSE))","v":""}]
[null,{"$f":"IF(ISBLANK(A2492),\"\",VLOOKUP(A2492,base_itens,2,FALSE))","v":""}]
[null,{"$f":"IF(ISBLANK(A2493),\"\",VLOOKUP(A2493,base_itens,2,FALSE))","v":""}]
[null,{"$f":"IF(ISBLANK(A2494),\"\",VLOOKUP(A2494,base_itens,2,FALSE))","v":""}]
[null,{"$f":"IF(ISBLANK(A2495),\"\",VLOOKUP(A2495,base_itens,2,FALSE))","v":""}]
[null,{"$f":"IF(ISBLANK(A2496),\"\",VLOOKUP(A2496,base_itens,2,FALSE))","v":""}]
[null,{"$f":"IF(ISBLANK(A2497),\"\",VLOOKUP(A2497,base_itens,2,FALSE))","v":""}]
[null,{"$f":"IF(ISBLANK(A2498),\"\",VLOOKUP(A2498,base_itens,2,FALSE))","v":""}]
[null,{"$f":"IF(ISBLANK(A2499),\"\",VLOOKUP(A2499,base_itens,2,FALSE))","v":""}]
[null,{"$f":"IF(ISBLANK(A2500),\"\",VLOOKUP(A2500,base_itens,2,FALSE))","v":""}]
[null,{"$f":"IF(ISBLANK(A2501),\"\",VLOOKUP(A2501,base_itens,2,FALSE))","v":""}]
[null,{"$f":"IF(ISBLANK(A2502),\"\",VLOOKUP(A2502,base_itens,2,FALSE))","v":""}]
[null,{"$f":"IF(ISBLANK(A2503),\"\",VLOOKUP(A2503,base_itens,2,FALSE))","v":""}]
[null,{"$f":"IF(ISBLANK(A2504),\"\",VLOOKUP(A2504,base_itens,2,FALSE))","v":""}]
[null,{"$f":"IF(ISBLANK(A2505),\"\",VLOOKUP(A2505,base_itens,2,FALSE))","v":""}]
[null,{"$f":"IF(ISBLANK(A2506),\"\",VLOOKUP(A2506,base_itens,2,FALSE))","v":""}]
[null,{"$f":"IF(ISBLANK(A2507),\"\",VLOOKUP(A2507,base_itens,2,FALSE))","v":""}]
[null,{"$f":"IF(ISBLANK(A2508),\"\",VLOOKUP(A2508,base_itens,2,FALSE))","v":""}]
[null,{"$f":"IF(ISBLANK(A2509),\"\",VLOOKUP(A2509,base_itens,2,FALSE))","v":""}]
[null,{"$f":"IF(ISBLANK(A2510),\"\",VLOOKUP(A2510,base_itens,2,FALSE))","v":""}]
[null,{"$f":"IF(ISBLANK(A2511),\"\",VLOOKUP(A2511,base_itens,2,FALSE))","v":""}]
[null,{"$f":"IF(ISBLANK(A2512),\"\",VLOOKUP(A2512,base_itens,2,FALSE))","v":""}]
[null,{"$f":"IF(ISBLANK(A2513),\"\",VLOOKUP(A2513,base_itens,2,FALSE))","v":""}]
[null,{"$f":"IF(ISBLANK(A2514),\"\",VLOOKUP(A2514,base_itens,2,FALSE))","v":""}]
[null,{"$f":"IF(ISBLANK(A2515),\"\",VLOOKUP(A2515,base_itens,2,FALSE))","v":""}]
[null,{"$f":"IF(ISBLANK(A2516),\"\",VLOOKUP(A2516,base_itens,2,FALSE))","v":""}]
[null,{"$f":"IF(ISBLANK(A2517),\"\",VLOOKUP(A2517,base_itens,2,FALSE))","v":""}]
[null,{"$f":"IF(ISBLANK(A2518),\"\",VLOOKUP(A2518,base_itens,2,FALSE))","v":""}]
[null,{"$f":"IF(ISBLANK(A2519),\"\",VLOOKUP(A2519,base_itens,2,FALSE))","v":""}]
[null,{"$f":"IF(ISBLANK(A2520),\"\",VLOOKUP(A2520,base_itens,2,FALSE))","v":""}]
[null,{"$f":"IF(ISBLANK(A2521),\"\",VLOOKUP(A2521,base_itens,2,FALSE))","v":""}]
[null,{"$f":"IF(ISBLANK(A2522),\"\",VLOOKUP(A2522,base_itens,2,FALSE))","v":""}]
[null,{"$f":"IF(ISBLANK(A2523),\"\",VLOOKUP(A2523,base_itens,2,FALSE))","v":""}]
[null,{"$f":"IF(ISBLANK(A2524),\"\",VLOOKUP(A2524,base_itens,2,FALSE))","v":""}]
[null,{"$f":"IF(ISBLANK(A2525),\"\",VLOOKUP(A2525,base_itens,2,FALSE))","v":""}]
[null,{"$f":"IF(ISBLANK(A2526),\"\",VLOOKUP(A2526,base_itens,2,FALSE))","v":""}]
[null,{"$f":"IF(ISBLANK(A2527),\"\",VLOOKUP(A2527,base_itens,2,FALSE))","v":""}]
[null,{"$f":"IF(ISBLANK(A2528),\"\",VLOOKUP(A2528,base_itens,2,FALSE))","v":""}]
[null,{"$f":"IF(ISBLANK(A2529),\"\",VLOOKUP(A2529,base_itens,2,FALSE))","v":""}]
[null,{"$f":"IF(ISBLANK(A2530),\"\",VLOOKUP(A2530,base_itens,2,FALSE))","v":""}]
[null,{"$f":"IF(ISBLANK(A2531),\"\",VLOOKUP(A2531,base_itens,2,FALSE))","v":""}]
[null,{"$f":"IF(ISBLANK(A2532),\"\",VLOOKUP(A2532,base_itens,2,FALSE))","v":""}]
[null,{"$f":"IF(ISBLANK(A2533),\"\",VLOOKUP(A2533,base_itens,2,FALSE))","v":""}]
[null,{"$f":"IF(ISBLANK(A2534),\"\",VLOOKUP(A2534,base_itens,2,FALSE))","v":""}]
[null,{"$f":"IF(ISBLANK(A2535),\"\",VLOOKUP(A2535,base_itens,2,FALSE))","v":""}]
[null,{"$f":"IF(ISBLANK(A2536),\"\",VLOOKUP(A2536,base_itens,2,FALSE))","v":""}]
[null,{"$f":"IF(ISBLANK(A2537),\"\",VLOOKUP(A2537,base_itens,2,FALSE))","v":""}]
[null,{"$f":"IF(ISBLANK(A2538),\"\",VLOOKUP(A2538,base_itens,2,FALSE))","v":""}]
[null,{"$f":"IF(ISBLANK(A2539),\"\",VLOOKUP(A2539,base_itens,2,FALSE))","v":""}]
[null,{"$f":"IF(ISBLANK(A2540),\"\",VLOOKUP(A2540,base_itens,2,FALSE))","v":""}]
[null,{"$f":"IF(ISBLANK(A2541),\"\",VLOOKUP(A2541,base_itens,2,FALSE))","v":""}]
[null,{"$f":"IF(ISBLANK(A2542),\"\",VLOOKUP(A2542,base_itens,2,FALSE))","v":""}]
[null,{"$f":"IF(ISBLANK(A2543),\"\",VLOOKUP(A2543,base_itens,2,FALSE))","v":""}]
[null,{"$f":"IF(ISBLANK(A2544),\"\",VLOOKUP(A2544,base_itens,2,FALSE))","v":""}]
[null,{"$f":"IF(ISBLANK(A2545),\"\",VLOOKUP(A2545,base_itens,2,FALSE))","v":""}]
[null,{"$f":"IF(ISBLANK(A2546),\"\",VLOOKUP(A2546,base_itens,2,FALSE))","v":""}]
[null,{"$f":"IF(ISBLANK(A2547),\"\",VLOOKUP(A2547,base_itens,2,FALSE))","v":""}]
[null,{"$f":"IF(ISBLANK(A2548),\"\",VLOOKUP(A2548,base_itens,2,FALSE))","v":""}]
[null,{"$f":"IF(ISBLANK(A2549),\"\",VLOOKUP(A2549,base_itens,2,FALSE))","v":""}]
[null,{"$f":"IF(ISBLANK(A2550),\"\",VLOOKUP(A2550,base_itens,2,FALSE))","v":""}]
[null,{"$f":"IF(ISBLANK(A2551),\"\",VLOOKUP(A2551,base_itens,2,FALSE))","v":""}]
[null,{"$f":"IF(ISBLANK(A2552),\"\",VLOOKUP(A2552,base_itens,2,FALSE))","v":""}]
[null,{"$f":"IF(ISBLANK(A2553),\"\",VLOOKUP(A2553,base_itens,2,FALSE))","v":""}]
[null,{"$f":"IF(ISBLANK(A2554),\"\",VLOOKUP(A2554,base_itens,2,FALSE))","v":""}]
[null,{"$f":"IF(ISBLANK(A2555),\"\",VLOOKUP(A2555,base_itens,2,FALSE))","v":""}]
[null,{"$f":"IF(ISBLANK(A2556),\"\",VLOOKUP(A2556,base_itens,2,FALSE))","v":""}]
[null,{"$f":"IF(ISBLANK(A2557),\"\",VLOOKUP(A2557,base_itens,2,FALSE))","v":""}]
[null,{"$f":"IF(ISBLANK(A2558),\"\",VLOOKUP(A2558,base_itens,2,FALSE))","v":""}]
[null,{"$f":"IF(ISBLANK(A2559),\"\",VLOOKUP(A2559,base_itens,2,FALSE))","v":""}]
[null,{"$f":"IF(ISBLANK(A2560),\"\",VLOOKUP(A2560,base_itens,2,FALSE))","v":""}]
[null,{"$f":"IF(ISBLANK(A2561),\"\",VLOOKUP(A2561,base_itens,2,FALSE))","v":""}]
[null,{"$f":"IF(ISBLANK(A2562),\"\",VLOOKUP(A2562,base_itens,2,FALSE))","v":""}]
[null,{"$f":"IF(ISBLANK(A2563),\"\",VLOOKUP(A2563,base_itens,2,FALSE))","v":""}]
[null,{"$f":"IF(ISBLANK(A2564),\"\",VLOOKUP(A2564,base_itens,2,FALSE))","v":""}]
[null,{"$f":"IF(ISBLANK(A2565),\"\",VLOOKUP(A2565,base_itens,2,FALSE))","v":""}]
[null,{"$f":"IF(ISBLANK(A2566),\"\",VLOOKUP(A2566,base_itens,2,FALSE))","v":""}]
[null,{"$f":"IF(ISBLANK(A2567),\"\",VLOOKUP(A2567,base_itens,2,FALSE))","v":""}]
[null,{"$f":"IF(ISBLANK(A2568),\"\",VLOOKUP(A2568,base_itens,2,FALSE))","v":""}]
[null,{"$f":"IF(ISBLANK(A2569),\"\",VLOOKUP(A2569,base_itens,2,FALSE))","v":""}]
[null,{"$f":"IF(ISBLANK(A2570),\"\",VLOOKUP(A2570,base_itens,2,FALSE))","v":""}]
[null,{"$f":"IF(ISBLANK(A2571),\"\",VLOOKUP(A2571,base_itens,2,FALSE))","v":""}]
[null,{"$f":"IF(ISBLANK(A2572),\"\",VLOOKUP(A2572,base_itens,2,FALSE))","v":""}]
[null,{"$f":"IF(ISBLANK(A2573),\"\",VLOOKUP(A2573,base_itens,2,FALSE))","v":""}]
[null,{"$f":"IF(ISBLANK(A2574),\"\",VLOOKUP(A2574,base_itens,2,FALSE))","v":""}]
[null,{"$f":"IF(ISBLANK(A2575),\"\",VLOOKUP(A2575,base_itens,2,FALSE))","v":""}]
[null,{"$f":"IF(ISBLANK(A2576),\"\",VLOOKUP(A2576,base_itens,2,FALSE))","v":""}]
[null,{"$f":"IF(ISBLANK(A2577),\"\",VLOOKUP(A2577,base_itens,2,FALSE))","v":""}]
[null,{"$f":"IF(ISBLANK(A2578),\"\",VLOOKUP(A2578,base_itens,2,FALSE))","v":""}]
[null,{"$f":"IF(ISBLANK(A2579),\"\",VLOOKUP(A2579,base_itens,2,FALSE))","v":""}]
[null,{"$f":"IF(ISBLANK(A2580),\"\",VLOOKUP(A2580,base_itens,2,FALSE))","v":""}]
[null,{"$f":"IF(ISBLANK(A2581),\"\",VLOOKUP(A2581,base_itens,2,FALSE))","v":""}]
[null,{"$f":"IF(ISBLANK(A2582),\"\",VLOOKUP(A2582,base_itens,2,FALSE))","v":""}]
[null,{"$f":"IF(ISBLANK(A2583),\"\",VLOOKUP(A2583,base_itens,2,FALSE))","v":""}]
[null,{"$f":"IF(ISBLANK(A2584),\"\",VLOOKUP(A2584,base_itens,2,FALSE))","v":""}]
[null,{"$f":"IF(ISBLANK(A2585),\"\",VLOOKUP(A2585,base_itens,2,FALSE))","v":""}]
[null,{"$f":"IF(ISBLANK(A2586),\"\",VLOOKUP(A2586,base_itens,2,FALSE))","v":""}]
[null,{"$f":"IF(ISBLANK(A2587),\"\",VLOOKUP(A2587,base_itens,2,FALSE))","v":""}]
[null,{"$f":"IF(ISBLANK(A2588),\"\",VLOOKUP(A2588,base_itens,2,FALSE))","v":""}]
[null,{"$f":"IF(ISBLANK(A2589),\"\",VLOOKUP(A2589,base_itens,2,FALSE))","v":""}]
[null,{"$f":"IF(ISBLANK(A2590),\"\",VLOOKUP(A2590,base_itens,2,FALSE))","v":""}]
[null,{"$f":"IF(ISBLANK(A2591),\"\",VLOOKUP(A2591,base_itens,2,FALSE))","v":""}]
[null,{"$f":"IF(ISBLANK(A2592),\"\",VLOOKUP(A2592,base_itens,2,FALSE))","v":""}]
[null,{"$f":"IF(ISBLANK(A2593),\"\",VLOOKUP(A2593,base_itens,2,FALSE))","v":""}]
[null,{"$f":"IF(ISBLANK(A2594),\"\",VLOOKUP(A2594,base_itens,2,FALSE))","v":""}]
[null,{"$f":"IF(ISBLANK(A2595),\"\",VLOOKUP(A2595,base_itens,2,FALSE))","v":""}]
[null,{"$f":"IF(ISBLANK(A2596),\"\",VLOOKUP(A2596,base_itens,2,FALSE))","v":""}]
[null,{"$f":"IF(ISBLANK(A2597),\"\",VLOOKUP(A2597,base_itens,2,FALSE))","v":""}]
[null,{"$f":"IF(ISBLANK(A2598),\"\",VLOOKUP(A2598,base_itens,2,FALSE))","v":""}]
[null,{"$f":"IF(ISBLANK(A2599),\"\",VLOOKUP(A2599,base_itens,2,FALSE))","v":""}]
[null,{"$f":"IF(ISBLANK(A2600),\"\",VLOOKUP(A2600,base_itens,2,FALSE))","v":""}]
[null,{"$f":"IF(ISBLANK(A2601),\"\",VLOOKUP(A2601,base_itens,2,FALSE))","v":""}]
[null,{"$f":"IF(ISBLANK(A2602),\"\",VLOOKUP(A2602,base_itens,2,FALSE))","v":""}]
[null,{"$f":"IF(ISBLANK(A2603),\"\",VLOOKUP(A2603,base_itens,2,FALSE))","v":""}]
[null,{"$f":"IF(ISBLANK(A2604),\"\",VLOOKUP(A2604,base_itens,2,FALSE))","v":""}]
[null,{"$f":"IF(ISBLANK(A2605),\"\",VLOOKUP(A2605,base_itens,2,FALSE))","v":""}]
[null,{"$f":"IF(ISBLANK(A2606),\"\",VLOOKUP(A2606,base_itens,2,FALSE))","v":""}]
[null,{"$f":"IF(ISBLANK(A2607),\"\",VLOOKUP(A2607,base_itens,2,FALSE))","v":""}]
[null,{"$f":"IF(ISBLANK(A2608),\"\",VLOOKUP(A2608,base_itens,2,FALSE))","v":""}]
[null,{"$f":"IF(ISBLANK(A2609),\"\",VLOOKUP(A2609,base_itens,2,FALSE))","v":""}]
[null,{"$f":"IF(ISBLANK(A2610),\"\",VLOOKUP(A2610,base_itens,2,FALSE))","v":""}]
[null,{"$f":"IF(ISBLANK(A2611),\"\",VLOOKUP(A2611,base_itens,2,FALSE))","v":""}]
[null,{"$f":"IF(ISBLANK(A2612),\"\",VLOOKUP(A2612,base_itens,2,FALSE))","v":""}]
[null,{"$f":"IF(ISBLANK(A2613),\"\",VLOOKUP(A2613,base_itens,2,FALSE))","v":""}]
[null,{"$f":"IF(ISBLANK(A2614),\"\",VLOOKUP(A2614,base_itens,2,FALSE))","v":""}]
[null,{"$f":"IF(ISBLANK(A2615),\"\",VLOOKUP(A2615,base_itens,2,FALSE))","v":""}]
[null,{"$f":"IF(ISBLANK(A2616),\"\",VLOOKUP(A2616,base_itens,2,FALSE))","v":""}]
[null,{"$f":"IF(ISBLANK(A2617),\"\",VLOOKUP(A2617,base_itens,2,FALSE))","v":""}]
[null,{"$f":"IF(ISBLANK(A2618),\"\",VLOOKUP(A2618,base_itens,2,FALSE))","v":""}]
[null,{"$f":"IF(ISBLANK(A2619),\"\",VLOOKUP(A2619,base_itens,2,FALSE))","v":""}]
[null,{"$f":"IF(ISBLANK(A2620),\"\",VLOOKUP(A2620,base_itens,2,FALSE))","v":""}]
[null,{"$f":"IF(ISBLANK(A2621),\"\",VLOOKUP(A2621,base_itens,2,FALSE))","v":""}]
[null,{"$f":"IF(ISBLANK(A2622),\"\",VLOOKUP(A2622,base_itens,2,FALSE))","v":""}]
[null,{"$f":"IF(ISBLANK(A2623),\"\",VLOOKUP(A2623,base_itens,2,FALSE))","v":""}]
[null,{"$f":"IF(ISBLANK(A2624),\"\",VLOOKUP(A2624,base_itens,2,FALSE))","v":""}]
[null,{"$f":"IF(ISBLANK(A2625),\"\",VLOOKUP(A2625,base_itens,2,FALSE))","v":""}]
[null,{"$f":"IF(ISBLANK(A2626),\"\",VLOOKUP(A2626,base_itens,2,FALSE))","v":""}]
[null,{"$f":"IF(ISBLANK(A2627),\"\",VLOOKUP(A2627,base_itens,2,FALSE))","v":""}]
[null,{"$f":"IF(ISBLANK(A2628),\"\",VLOOKUP(A2628,base_itens,2,FALSE))","v":""}]
[null,{"$f":"IF(ISBLANK(A2629),\"\",VLOOKUP(A2629,base_itens,2,FALSE))","v":""}]
[null,{"$f":"IF(ISBLANK(A2630),\"\",VLOOKUP(A2630,base_itens,2,FALSE))","v":""}]
[null,{"$f":"IF(ISBLANK(A2631),\"\",VLOOKUP(A2631,base_itens,2,FALSE))","v":""}]
[null,{"$f":"IF(ISBLANK(A2632),\"\",VLOOKUP(A2632,base_itens,2,FALSE))","v":""}]
[null,{"$f":"IF(ISBLANK(A2633),\"\",VLOOKUP(A2633,base_itens,2,FALSE))","v":""}]
[null,{"$f":"IF(ISBLANK(A2634),\"\",VLOOKUP(A2634,base_itens,2,FALSE))","v":""}]
[null,{"$f":"IF(ISBLANK(A2635),\"\",VLOOKUP(A2635,base_itens,2,FALSE))","v":""}]
[null,{"$f":"IF(ISBLANK(A2636),\"\",VLOOKUP(A2636,base_itens,2,FALSE))","v":""}]
[null,{"$f":"IF(ISBLANK(A2637),\"\",VLOOKUP(A2637,base_itens,2,FALSE))","v":""}]
[null,{"$f":"IF(ISBLANK(A2638),\"\",VLOOKUP(A2638,base_itens,2,FALSE))","v":""}]
[null,{"$f":"IF(ISBLANK(A2639),\"\",VLOOKUP(A2639,base_itens,2,FALSE))","v":""}]
[null,{"$f":"IF(ISBLANK(A2640),\"\",VLOOKUP(A2640,base_itens,2,FALSE))","v":""}]
[null,{"$f":"IF(ISBLANK(A2641),\"\",VLOOKUP(A2641,base_itens,2,FALSE))","v":""}]
[null,{"$f":"IF(ISBLANK(A2642),\"\",VLOOKUP(A2642,base_itens,2,FALSE))","v":""}]
[null,{"$f":"IF(ISBLANK(A2643),\"\",VLOOKUP(A2643,base_itens,2,FALSE))","v":""}]
[null,{"$f":"IF(ISBLANK(A2644),\"\",VLOOKUP(A2644,base_itens,2,FALSE))","v":""}]
[null,{"$f":"IF(ISBLANK(A2645),\"\",VLOOKUP(A2645,base_itens,2,FALSE))","v":""}]
[null,{"$f":"IF(ISBLANK(A2646),\"\",VLOOKUP(A2646,base_itens,2,FALSE))","v":""}]
[null,{"$f":"IF(ISBLANK(A2647),\"\",VLOOKUP(A2647,base_itens,2,FALSE))","v":""}]
[null,{"$f":"IF(ISBLANK(A2648),\"\",VLOOKUP(A2648,base_itens,2,FALSE))","v":""}]
[null,{"$f":"IF(ISBLANK(A2649),\"\",VLOOKUP(A2649,base_itens,2,FALSE))","v":""}]
[null,{"$f":"IF(ISBLANK(A2650),\"\",VLOOKUP(A2650,base_itens,2,FALSE))","v":""}]
[null,{"$f":"IF(ISBLANK(A2651),\"\",VLOOKUP(A2651,base_itens,2,FALSE))","v":""}]
[null,{"$f":"IF(ISBLANK(A2652),\"\",VLOOKUP(A2652,base_itens,2,FALSE))","v":""}]
[null,{"$f":"IF(ISBLANK(A2653),\"\",VLOOKUP(A2653,base_itens,2,FALSE))","v":""}]
[null,{"$f":"IF(ISBLANK(A2654),\"\",VLOOKUP(A2654,base_itens,2,FALSE))","v":""}]
[null,{"$f":"IF(ISBLANK(A2655),\"\",VLOOKUP(A2655,base_itens,2,FALSE))","v":""}]
[null,{"$f":"IF(ISBLANK(A2656),\"\",VLOOKUP(A2656,base_itens,2,FALSE))","v":""}]
[null,{"$f":"IF(ISBLANK(A2657),\"\",VLOOKUP(A2657,base_itens,2,FALSE))","v":""}]
[null,{"$f":"IF(ISBLANK(A2658),\"\",VLOOKUP(A2658,base_itens,2,FALSE))","v":""}]
[null,{"$f":"IF(ISBLANK(A2659),\"\",VLOOKUP(A2659,base_itens,2,FALSE))","v":""}]
[null,{"$f":"IF(ISBLANK(A2660),\"\",VLOOKUP(A2660,base_itens,2,FALSE))","v":""}]
[null,{"$f":"IF(ISBLANK(A2661),\"\",VLOOKUP(A2661,base_itens,2,FALSE))","v":""}]
[null,{"$f":"IF(ISBLANK(A2662),\"\",VLOOKUP(A2662,base_itens,2,FALSE))","v":""}]
[null,{"$f":"IF(ISBLANK(A2663),\"\",VLOOKUP(A2663,base_itens,2,FALSE))","v":""}]
[null,{"$f":"IF(ISBLANK(A2664),\"\",VLOOKUP(A2664,base_itens,2,FALSE))","v":""}]
[null,{"$f":"IF(ISBLANK(A2665),\"\",VLOOKUP(A2665,base_itens,2,FALSE))","v":""}]
[null,{"$f":"IF(ISBLANK(A2666),\"\",VLOOKUP(A2666,base_itens,2,FALSE))","v":""}]
[null,{"$f":"IF(ISBLANK(A2667),\"\",VLOOKUP(A2667,base_itens,2,FALSE))","v":""}]
[null,{"$f":"IF(ISBLANK(A2668),\"\",VLOOKUP(A2668,base_itens,2,FALSE))","v":""}]
[null,{"$f":"IF(ISBLANK(A2669),\"\",VLOOKUP(A2669,base_itens,2,FALSE))","v":""}]
[null,{"$f":"IF(ISBLANK(A2670),\"\",VLOOKUP(A2670,base_itens,2,FALSE))","v":""}]
[null,{"$f":"IF(ISBLANK(A2671),\"\",VLOOKUP(A2671,base_itens,2,FALSE))","v":""}]
[null,{"$f":"IF(ISBLANK(A2672),\"\",VLOOKUP(A2672,base_itens,2,FALSE))","v":""}]
[null,{"$f":"IF(ISBLANK(A2673),\"\",VLOOKUP(A2673,base_itens,2,FALSE))","v":""}]
[null,{"$f":"IF(ISBLANK(A2674),\"\",VLOOKUP(A2674,base_itens,2,FALSE))","v":""}]
[null,{"$f":"IF(ISBLANK(A2675),\"\",VLOOKUP(A2675,base_itens,2,FALSE))","v":""}]
[null,{"$f":"IF(ISBLANK(A2676),\"\",VLOOKUP(A2676,base_itens,2,FALSE))","v":""}]
[null,{"$f":"IF(ISBLANK(A2677),\"\",VLOOKUP(A2677,base_itens,2,FALSE))","v":""}]
[null,{"$f":"IF(ISBLANK(A2678),\"\",VLOOKUP(A2678,base_itens,2,FALSE))","v":""}]
[null,{"$f":"IF(ISBLANK(A2679),\"\",VLOOKUP(A2679,base_itens,2,FALSE))","v":""}]
[null,{"$f":"IF(ISBLANK(A2680),\"\",VLOOKUP(A2680,base_itens,2,FALSE))","v":""}]
[null,{"$f":"IF(ISBLANK(A2681),\"\",VLOOKUP(A2681,base_itens,2,FALSE))","v":""}]
[null,{"$f":"IF(ISBLANK(A2682),\"\",VLOOKUP(A2682,base_itens,2,FALSE))","v":""}]
[null,{"$f":"IF(ISBLANK(A2683),\"\",VLOOKUP(A2683,base_itens,2,FALSE))","v":""}]
[null,{"$f":"IF(ISBLANK(A2684),\"\",VLOOKUP(A2684,base_itens,2,FALSE))","v":""}]
[null,{"$f":"IF(ISBLANK(A2685),\"\",VLOOKUP(A2685,base_itens,2,FALSE))","v":""}]
[null,{"$f":"IF(ISBLANK(A2686),\"\",VLOOKUP(A2686,base_itens,2,FALSE))","v":""}]
[null,{"$f":"IF(ISBLANK(A2687),\"\",VLOOKUP(A2687,base_itens,2,FALSE))","v":""}]
[null,{"$f":"IF(ISBLANK(A2688),\"\",VLOOKUP(A2688,base_itens,2,FALSE))","v":""}]
[null,{"$f":"IF(ISBLANK(A2689),\"\",VLOOKUP(A2689,base_itens,2,FALSE))","v":""}]
[null,{"$f":"IF(ISBLANK(A2690),\"\",VLOOKUP(A2690,base_itens,2,FALSE))","v":""}]
[null,{"$f":"IF(ISBLANK(A2691),\"\",VLOOKUP(A2691,base_itens,2,FALSE))","v":""}]
[null,{"$f":"IF(ISBLANK(A2692),\"\",VLOOKUP(A2692,base_itens,2,FALSE))","v":""}]
[null,{"$f":"IF(ISBLANK(A2693),\"\",VLOOKUP(A2693,base_itens,2,FALSE))","v":""}]
[null,{"$f":"IF(ISBLANK(A2694),\"\",VLOOKUP(A2694,base_itens,2,FALSE))","v":""}]
[null,{"$f":"IF(ISBLANK(A2695),\"\",VLOOKUP(A2695,base_itens,2,FALSE))","v":""}]
[null,{"$f":"IF(ISBLANK(A2696),\"\",VLOOKUP(A2696,base_itens,2,FALSE))","v":""}]
[null,{"$f":"IF(ISBLANK(A2697),\"\",VLOOKUP(A2697,base_itens,2,FALSE))","v":""}]
[null,{"$f":"IF(ISBLANK(A2698),\"\",VLOOKUP(A2698,base_itens,2,FALSE))","v":""}]
[null,{"$f":"IF(ISBLANK(A2699),\"\",VLOOKUP(A2699,base_itens,2,FALSE))","v":""}]
[null,{"$f":"IF(ISBLANK(A2700),\"\",VLOOKUP(A2700,base_itens,2,FALSE))","v":""}]
[null,{"$f":"IF(ISBLANK(A2701),\"\",VLOOKUP(A2701,base_itens,2,FALSE))","v":""}]
[null,{"$f":"IF(ISBLANK(A2702),\"\",VLOOKUP(A2702,base_itens,2,FALSE))","v":""}]
[null,{"$f":"IF(ISBLANK(A2703),\"\",VLOOKUP(A2703,base_itens,2,FALSE))","v":""}]
[null,{"$f":"IF(ISBLANK(A2704),\"\",VLOOKUP(A2704,base_itens,2,FALSE))","v":""}]
[null,{"$f":"IF(ISBLANK(A2705),\"\",VLOOKUP(A2705,base_itens,2,FALSE))","v":""}]
[null,{"$f":"IF(ISBLANK(A2706),\"\",VLOOKUP(A2706,base_itens,2,FALSE))","v":""}]
[null,{"$f":"IF(ISBLANK(A2707),\"\",VLOOKUP(A2707,base_itens,2,FALSE))","v":""}]
[null,{"$f":"IF(ISBLANK(A2708),\"\",VLOOKUP(A2708,base_itens,2,FALSE))","v":""}]
[null,{"$f":"IF(ISBLANK(A2709),\"\",VLOOKUP(A2709,base_itens,2,FALSE))","v":""}]
[null,{"$f":"IF(ISBLANK(A2710),\"\",VLOOKUP(A2710,base_itens,2,FALSE))","v":""}]
[null,{"$f":"IF(ISBLANK(A2711),\"\",VLOOKUP(A2711,base_itens,2,FALSE))","v":""}]
[null,{"$f":"IF(ISBLANK(A2712),\"\",VLOOKUP(A2712,base_itens,2,FALSE))","v":""}]
[null,{"$f":"IF(ISBLANK(A2713),\"\",VLOOKUP(A2713,base_itens,2,FALSE))","v":""}]
[null,{"$f":"IF(ISBLANK(A2714),\"\",VLOOKUP(A2714,base_itens,2,FALSE))","v":""}]
[null,{"$f":"IF(ISBLANK(A2715),\"\",VLOOKUP(A2715,base_itens,2,FALSE))","v":""}]
[null,{"$f":"IF(ISBLANK(A2716),\"\",VLOOKUP(A2716,base_itens,2,FALSE))","v":""}]
[null,{"$f":"IF(ISBLANK(A2717),\"\",VLOOKUP(A2717,base_itens,2,FALSE))","v":""}]
[null,{"$f":"IF(ISBLANK(A2718),\"\",VLOOKUP(A2718,base_itens,2,FALSE))","v":""}]
[null,{"$f":"IF(ISBLANK(A2719),\"\",VLOOKUP(A2719,base_itens,2,FALSE))","v":""}]
[null,{"$f":"IF(ISBLANK(A2720),\"\",VLOOKUP(A2720,base_itens,2,FALSE))","v":""}]
[null,{"$f":"IF(ISBLANK(A2721),\"\",VLOOKUP(A2721,base_itens,2,FALSE))","v":""}]
[null,{"$f":"IF(ISBLANK(A2722),\"\",VLOOKUP(A2722,base_itens,2,FALSE))","v":""}]
[null,{"$f":"IF(ISBLANK(A2723),\"\",VLOOKUP(A2723,base_itens,2,FALSE))","v":""}]
[null,{"$f":"IF(ISBLANK(A2724),\"\",VLOOKUP(A2724,base_itens,2,FALSE))","v":""}]
[null,{"$f":"IF(ISBLANK(A2725),\"\",VLOOKUP(A2725,base_itens,2,FALSE))","v":""}]
[null,{"$f":"IF(ISBLANK(A2726),\"\",VLOOKUP(A2726,base_itens,2,FALSE))","v":""}]
[null,{"$f":"IF(ISBLANK(A2727),\"\",VLOOKUP(A2727,base_itens,2,FALSE))","v":""}]
[null,{"$f":"IF(ISBLANK(A2728),\"\",VLOOKUP(A2728,base_itens,2,FALSE))","v":""}]
[null,{"$f":"IF(ISBLANK(A2729),\"\",VLOOKUP(A2729,base_itens,2,FALSE))","v":""}]
[null,{"$f":"IF(ISBLANK(A2730),\"\",VLOOKUP(A2730,base_itens,2,FALSE))","v":""}]
[null,{"$f":"IF(ISBLANK(A2731),\"\",VLOOKUP(A2731,base_itens,2,FALSE))","v":""}]
[null,{"$f":"IF(ISBLANK(A2732),\"\",VLOOKUP(A2732,base_itens,2,FALSE))","v":""}]
[null,{"$f":"IF(ISBLANK(A2733),\"\",VLOOKUP(A2733,base_itens,2,FALSE))","v":""}]
[null,{"$f":"IF(ISBLANK(A2734),\"\",VLOOKUP(A2734,base_itens,2,FALSE))","v":""}]
[null,{"$f":"IF(ISBLANK(A2735),\"\",VLOOKUP(A2735,base_itens,2,FALSE))","v":""}]
[null,{"$f":"IF(ISBLANK(A2736),\"\",VLOOKUP(A2736,base_itens,2,FALSE))","v":""}]
[null,{"$f":"IF(ISBLANK(A2737),\"\",VLOOKUP(A2737,base_itens,2,FALSE))","v":""}]
[null,{"$f":"IF(ISBLANK(A2738),\"\",VLOOKUP(A2738,base_itens,2,FALSE))","v":""}]
[null,{"$f":"IF(ISBLANK(A2739),\"\",VLOOKUP(A2739,base_itens,2,FALSE))","v":""}]
[null,{"$f":"IF(ISBLANK(A2740),\"\",VLOOKUP(A2740,base_itens,2,FALSE))","v":""}]
[null,{"$f":"IF(ISBLANK(A2741),\"\",VLOOKUP(A2741,base_itens,2,FALSE))","v":""}]
[null,{"$f":"IF(ISBLANK(A2742),\"\",VLOOKUP(A2742,base_itens,2,FALSE))","v":""}]
[null,{"$f":"IF(ISBLANK(A2743),\"\",VLOOKUP(A2743,base_itens,2,FALSE))","v":""}]
[null,{"$f":"IF(ISBLANK(A2744),\"\",VLOOKUP(A2744,base_itens,2,FALSE))","v":""}]
[null,{"$f":"IF(ISBLANK(A2745),\"\",VLOOKUP(A2745,base_itens,2,FALSE))","v":""}]
[null,{"$f":"IF(ISBLANK(A2746),\"\",VLOOKUP(A2746,base_itens,2,FALSE))","v":""}]
[null,{"$f":"IF(ISBLANK(A2747),\"\",VLOOKUP(A2747,base_itens,2,FALSE))","v":""}]
[null,{"$f":"IF(ISBLANK(A2748),\"\",VLOOKUP(A2748,base_itens,2,FALSE))","v":""}]
[null,{"$f":"IF(ISBLANK(A2749),\"\",VLOOKUP(A2749,base_itens,2,FALSE))","v":""}]
[null,{"$f":"IF(ISBLANK(A2750),\"\",VLOOKUP(A2750,base_itens,2,FALSE))","v":""}]
[null,{"$f":"IF(ISBLANK(A2751),\"\",VLOOKUP(A2751,base_itens,2,FALSE))","v":""}]
[null,{"$f":"IF(ISBLANK(A2752),\"\",VLOOKUP(A2752,base_itens,2,FALSE))","v":""}]
[null,{"$f":"IF(ISBLANK(A2753),\"\",VLOOKUP(A2753,base_itens,2,FALSE))","v":""}]
[null,{"$f":"IF(ISBLANK(A2754),\"\",VLOOKUP(A2754,base_itens,2,FALSE))","v":""}]
[null,{"$f":"IF(ISBLANK(A2755),\"\",VLOOKUP(A2755,base_itens,2,FALSE))","v":""}]
[null,{"$f":"IF(ISBLANK(A2756),\"\",VLOOKUP(A2756,base_itens,2,FALSE))","v":""}]
[null,{"$f":"IF(ISBLANK(A2757),\"\",VLOOKUP(A2757,base_itens,2,FALSE))","v":""}]
[null,{"$f":"IF(ISBLANK(A2758),\"\",VLOOKUP(A2758,base_itens,2,FALSE))","v":""}]
[null,{"$f":"IF(ISBLANK(A2759),\"\",VLOOKUP(A2759,base_itens,2,FALSE))","v":""}]
[null,{"$f":"IF(ISBLANK(A2760),\"\",VLOOKUP(A2760,base_itens,2,FALSE))","v":""}]
[null,{"$f":"IF(ISBLANK(A2761),\"\",VLOOKUP(A2761,base_itens,2,FALSE))","v":""}]
[null,{"$f":"IF(ISBLANK(A2762),\"\",VLOOKUP(A2762,base_itens,2,FALSE))","v":""}]
[null,{"$f":"IF(ISBLANK(A2763),\"\",VLOOKUP(A2763,base_itens,2,FALSE))","v":""}]
[null,{"$f":"IF(ISBLANK(A2764),\"\",VLOOKUP(A2764,base_itens,2,FALSE))","v":""}]
[null,{"$f":"IF(ISBLANK(A2765),\"\",VLOOKUP(A2765,base_itens,2,FALSE))","v":""}]
[null,{"$f":"IF(ISBLANK(A2766),\"\",VLOOKUP(A2766,base_itens,2,FALSE))","v":""}]
[null,{"$f":"IF(ISBLANK(A2767),\"\",VLOOKUP(A2767,base_itens,2,FALSE))","v":""}]
[null,{"$f":"IF(ISBLANK(A2768),\"\",VLOOKUP(A2768,base_itens,2,FALSE))","v":""}]
[null,{"$f":"IF(ISBLANK(A2769),\"\",VLOOKUP(A2769,base_itens,2,FALSE))","v":""}]
[null,{"$f":"IF(ISBLANK(A2770),\"\",VLOOKUP(A2770,base_itens,2,FALSE))","v":""}]
[null,{"$f":"IF(ISBLANK(A2771),\"\",VLOOKUP(A2771,base_itens,2,FALSE))","v":""}]
[null,{"$f":"IF(ISBLANK(A2772),\"\",VLOOKUP(A2772,base_itens,2,FALSE))","v":""}]
[null,{"$f":"IF(ISBLANK(A2773),\"\",VLOOKUP(A2773,base_itens,2,FALSE))","v":""}]
[null,{"$f":"IF(ISBLANK(A2774),\"\",VLOOKUP(A2774,base_itens,2,FALSE))","v":""}]
[null,{"$f":"IF(ISBLANK(A2775),\"\",VLOOKUP(A2775,base_itens,2,FALSE))","v":""}]
[null,{"$f":"IF(ISBLANK(A2776),\"\",VLOOKUP(A2776,base_itens,2,FALSE))","v":""}]
[null,{"$f":"IF(ISBLANK(A2777),\"\",VLOOKUP(A2777,base_itens,2,FALSE))","v":""}]
[null,{"$f":"IF(ISBLANK(A2778),\"\",VLOOKUP(A2778,base_itens,2,FALSE))","v":""}]
[null,{"$f":"IF(ISBLANK(A2779),\"\",VLOOKUP(A2779,base_itens,2,FALSE))","v":""}]
[null,{"$f":"IF(ISBLANK(A2780),\"\",VLOOKUP(A2780,base_itens,2,FALSE))","v":""}]
[null,{"$f":"IF(ISBLANK(A2781),\"\",VLOOKUP(A2781,base_itens,2,FALSE))","v":""}]
[null,{"$f":"IF(ISBLANK(A2782),\"\",VLOOKUP(A2782,base_itens,2,FALSE))","v":""}]
[null,{"$f":"IF(ISBLANK(A2783),\"\",VLOOKUP(A2783,base_itens,2,FALSE))","v":""}]
[null,{"$f":"IF(ISBLANK(A2784),\"\",VLOOKUP(A2784,base_itens,2,FALSE))","v":""}]
[null,{"$f":"IF(ISBLANK(A2785),\"\",VLOOKUP(A2785,base_itens,2,FALSE))","v":""}]
[null,{"$f":"IF(ISBLANK(A2786),\"\",VLOOKUP(A2786,base_itens,2,FALSE))","v":""}]
[null,{"$f":"IF(ISBLANK(A2787),\"\",VLOOKUP(A2787,base_itens,2,FALSE))","v":""}]
[null,{"$f":"IF(ISBLANK(A2788),\"\",VLOOKUP(A2788,base_itens,2,FALSE))","v":""}]
[null,{"$f":"IF(ISBLANK(A2789),\"\",VLOOKUP(A2789,base_itens,2,FALSE))","v":""}]
[null,{"$f":"IF(ISBLANK(A2790),\"\",VLOOKUP(A2790,base_itens,2,FALSE))","v":""}]
[null,{"$f":"IF(ISBLANK(A2791),\"\",VLOOKUP(A2791,base_itens,2,FALSE))","v":""}]
[null,{"$f":"IF(ISBLANK(A2792),\"\",VLOOKUP(A2792,base_itens,2,FALSE))","v":""}]
[null,{"$f":"IF(ISBLANK(A2793),\"\",VLOOKUP(A2793,base_itens,2,FALSE))","v":""}]
[null,{"$f":"IF(ISBLANK(A2794),\"\",VLOOKUP(A2794,base_itens,2,FALSE))","v":""}]
[null,{"$f":"IF(ISBLANK(A2795),\"\",VLOOKUP(A2795,base_itens,2,FALSE))","v":""}]
[null,{"$f":"IF(ISBLANK(A2796),\"\",VLOOKUP(A2796,base_itens,2,FALSE))","v":""}]
[null,{"$f":"IF(ISBLANK(A2797),\"\",VLOOKUP(A2797,base_itens,2,FALSE))","v":""}]
[null,{"$f":"IF(ISBLANK(A2798),\"\",VLOOKUP(A2798,base_itens,2,FALSE))","v":""}]
[null,{"$f":"IF(ISBLANK(A2799),\"\",VLOOKUP(A2799,base_itens,2,FALSE))","v":""}]
[null,{"$f":"IF(ISBLANK(A2800),\"\",VLOOKUP(A2800,base_itens,2,FALSE))","v":""}]
[null,{"$f":"IF(ISBLANK(A2801),\"\",VLOOKUP(A2801,base_itens,2,FALSE))","v":""}]
[null,{"$f":"IF(ISBLANK(A2802),\"\",VLOOKUP(A2802,base_itens,2,FALSE))","v":""}]
[null,{"$f":"IF(ISBLANK(A2803),\"\",VLOOKUP(A2803,base_itens,2,FALSE))","v":""}]
[null,{"$f":"IF(ISBLANK(A2804),\"\",VLOOKUP(A2804,base_itens,2,FALSE))","v":""}]
[null,{"$f":"IF(ISBLANK(A2805),\"\",VLOOKUP(A2805,base_itens,2,FALSE))","v":""}]
[null,{"$f":"IF(ISBLANK(A2806),\"\",VLOOKUP(A2806,base_itens,2,FALSE))","v":""}]
[null,{"$f":"IF(ISBLANK(A2807),\"\",VLOOKUP(A2807,base_itens,2,FALSE))","v":""}]
[null,{"$f":"IF(ISBLANK(A2808),\"\",VLOOKUP(A2808,base_itens,2,FALSE))","v":""}]
[null,{"$f":"IF(ISBLANK(A2809),\"\",VLOOKUP(A2809,base_itens,2,FALSE))","v":""}]
[null,{"$f":"IF(ISBLANK(A2810),\"\",VLOOKUP(A2810,base_itens,2,FALSE))","v":""}]
[null,{"$f":"IF(ISBLANK(A2811),\"\",VLOOKUP(A2811,base_itens,2,FALSE))","v":""}]
[null,{"$f":"IF(ISBLANK(A2812),\"\",VLOOKUP(A2812,base_itens,2,FALSE))","v":""}]
[null,{"$f":"IF(ISBLANK(A2813),\"\",VLOOKUP(A2813,base_itens,2,FALSE))","v":""}]
[null,{"$f":"IF(ISBLANK(A2814),\"\",VLOOKUP(A2814,base_itens,2,FALSE))","v":""}]
[null,{"$f":"IF(ISBLANK(A2815),\"\",VLOOKUP(A2815,base_itens,2,FALSE))","v":""}]
[null,{"$f":"IF(ISBLANK(A2816),\"\",VLOOKUP(A2816,base_itens,2,FALSE))","v":""}]
[null,{"$f":"IF(ISBLANK(A2817),\"\",VLOOKUP(A2817,base_itens,2,FALSE))","v":""}]
[null,{"$f":"IF(ISBLANK(A2818),\"\",VLOOKUP(A2818,base_itens,2,FALSE))","v":""}]
[null,{"$f":"IF(ISBLANK(A2819),\"\",VLOOKUP(A2819,base_itens,2,FALSE))","v":""}]
[null,{"$f":"IF(ISBLANK(A2820),\"\",VLOOKUP(A2820,base_itens,2,FALSE))","v":""}]
[null,{"$f":"IF(ISBLANK(A2821),\"\",VLOOKUP(A2821,base_itens,2,FALSE))","v":""}]
[null,{"$f":"IF(ISBLANK(A2822),\"\",VLOOKUP(A2822,base_itens,2,FALSE))","v":""}]
[null,{"$f":"IF(ISBLANK(A2823),\"\",VLOOKUP(A2823,base_itens,2,FALSE))","v":""}]
[null,{"$f":"IF(ISBLANK(A2824),\"\",VLOOKUP(A2824,base_itens,2,FALSE))","v":""}]
[null,{"$f":"IF(ISBLANK(A2825),\"\",VLOOKUP(A2825,base_itens,2,FALSE))","v":""}]
[null,{"$f":"IF(ISBLANK(A2826),\"\",VLOOKUP(A2826,base_itens,2,FALSE))","v":""}]
[null,{"$f":"IF(ISBLANK(A2827),\"\",VLOOKUP(A2827,base_itens,2,FALSE))","v":""}]
[null,{"$f":"IF(ISBLANK(A2828),\"\",VLOOKUP(A2828,base_itens,2,FALSE))","v":""}]
[null,{"$f":"IF(ISBLANK(A2829),\"\",VLOOKUP(A2829,base_itens,2,FALSE))","v":""}]
[null,{"$f":"IF(ISBLANK(A2830),\"\",VLOOKUP(A2830,base_itens,2,FALSE))","v":""}]
[null,{"$f":"IF(ISBLANK(A2831),\"\",VLOOKUP(A2831,base_itens,2,FALSE))","v":""}]
[null,{"$f":"IF(ISBLANK(A2832),\"\",VLOOKUP(A2832,base_itens,2,FALSE))","v":""}]
[null,{"$f":"IF(ISBLANK(A2833),\"\",VLOOKUP(A2833,base_itens,2,FALSE))","v":""}]
[null,{"$f":"IF(ISBLANK(A2834),\"\",VLOOKUP(A2834,base_itens,2,FALSE))","v":""}]
[null,{"$f":"IF(ISBLANK(A2835),\"\",VLOOKUP(A2835,base_itens,2,FALSE))","v":""}]
[null,{"$f":"IF(ISBLANK(A2836),\"\",VLOOKUP(A2836,base_itens,2,FALSE))","v":""}]
[null,{"$f":"IF(ISBLANK(A2837),\"\",VLOOKUP(A2837,base_itens,2,FALSE))","v":""}]
[null,{"$f":"IF(ISBLANK(A2838),\"\",VLOOKUP(A2838,base_itens,2,FALSE))","v":""}]
[null,{"$f":"IF(ISBLANK(A2839),\"\",VLOOKUP(A2839,base_itens,2,FALSE))","v":""}]
[null,{"$f":"IF(ISBLANK(A2840),\"\",VLOOKUP(A2840,base_itens,2,FALSE))","v":""}]
[null,{"$f":"IF(ISBLANK(A2841),\"\",VLOOKUP(A2841,base_itens,2,FALSE))","v":""}]
[null,{"$f":"IF(ISBLANK(A2842),\"\",VLOOKUP(A2842,base_itens,2,FALSE))","v":""}]
[null,{"$f":"IF(ISBLANK(A2843),\"\",VLOOKUP(A2843,base_itens,2,FALSE))","v":""}]
[null,{"$f":"IF(ISBLANK(A2844),\"\",VLOOKUP(A2844,base_itens,2,FALSE))","v":""}]
[null,{"$f":"IF(ISBLANK(A2845),\"\",VLOOKUP(A2845,base_itens,2,FALSE))","v":""}]
[null,{"$f":"IF(ISBLANK(A2846),\"\",VLOOKUP(A2846,base_itens,2,FALSE))","v":""}]
[null,{"$f":"IF(ISBLANK(A2847),\"\",VLOOKUP(A2847,base_itens,2,FALSE))","v":""}]
[null,{"$f":"IF(ISBLANK(A2848),\"\",VLOOKUP(A2848,base_itens,2,FALSE))","v":""}]
[null,{"$f":"IF(ISBLANK(A2849),\"\",VLOOKUP(A2849,base_itens,2,FALSE))","v":""}]
[null,{"$f":"IF(ISBLANK(A2850),\"\",VLOOKUP(A2850,base_itens,2,FALSE))","v":""}]
[null,{"$f":"IF(ISBLANK(A2851),\"\",VLOOKUP(A2851,base_itens,2,FALSE))","v":""}]
[null,{"$f":"IF(ISBLANK(A2852),\"\",VLOOKUP(A2852,base_itens,2,FALSE))","v":""}]
[null,{"$f":"IF(ISBLANK(A2853),\"\",VLOOKUP(A2853,base_itens,2,FALSE))","v":""}]
[null,{"$f":"IF(ISBLANK(A2854),\"\",VLOOKUP(A2854,base_itens,2,FALSE))","v":""}]
[null,{"$f":"IF(ISBLANK(A2855),\"\",VLOOKUP(A2855,base_itens,2,FALSE))","v":""}]
[null,{"$f":"IF(ISBLANK(A2856),\"\",VLOOKUP(A2856,base_itens,2,FALSE))","v":""}]
[null,{"$f":"IF(ISBLANK(A2857),\"\",VLOOKUP(A2857,base_itens,2,FALSE))","v":""}]
[null,{"$f":"IF(ISBLANK(A2858),\"\",VLOOKUP(A2858,base_itens,2,FALSE))","v":""}]
[null,{"$f":"IF(ISBLANK(A2859),\"\",VLOOKUP(A2859,base_itens,2,FALSE))","v":""}]
[null,{"$f":"IF(ISBLANK(A2860),\"\",VLOOKUP(A2860,base_itens,2,FALSE))","v":""}]
[null,{"$f":"IF(ISBLANK(A2861),\"\",VLOOKUP(A2861,base_itens,2,FALSE))","v":""}]
[null,{"$f":"IF(ISBLANK(A2862),\"\",VLOOKUP(A2862,base_itens,2,FALSE))","v":""}]
[null,{"$f":"IF(ISBLANK(A2863),\"\",VLOOKUP(A2863,base_itens,2,FALSE))","v":""}]
[null,{"$f":"IF(ISBLANK(A2864),\"\",VLOOKUP(A2864,base_itens,2,FALSE))","v":""}]
[null,{"$f":"IF(ISBLANK(A2865),\"\",VLOOKUP(A2865,base_itens,2,FALSE))","v":""}]
[null,{"$f":"IF(ISBLANK(A2866),\"\",VLOOKUP(A2866,base_itens,2,FALSE))","v":""}]
[null,{"$f":"IF(ISBLANK(A2867),\"\",VLOOKUP(A2867,base_itens,2,FALSE))","v":""}]
[null,{"$f":"IF(ISBLANK(A2868),\"\",VLOOKUP(A2868,base_itens,2,FALSE))","v":""}]
[null,{"$f":"IF(ISBLANK(A2869),\"\",VLOOKUP(A2869,base_itens,2,FALSE))","v":""}]
[null,{"$f":"IF(ISBLANK(A2870),\"\",VLOOKUP(A2870,base_itens,2,FALSE))","v":""}]
[null,{"$f":"IF(ISBLANK(A2871),\"\",VLOOKUP(A2871,base_itens,2,FALSE))","v":""}]
[null,{"$f":"IF(ISBLANK(A2872),\"\",VLOOKUP(A2872,base_itens,2,FALSE))","v":""}]
[null,{"$f":"IF(ISBLANK(A2873),\"\",VLOOKUP(A2873,base_itens,2,FALSE))","v":""}]
[null,{"$f":"IF(ISBLANK(A2874),\"\",VLOOKUP(A2874,base_itens,2,FALSE))","v":""}]
[null,{"$f":"IF(ISBLANK(A2875),\"\",VLOOKUP(A2875,base_itens,2,FALSE))","v":""}]
[null,{"$f":"IF(ISBLANK(A2876),\"\",VLOOKUP(A2876,base_itens,2,FALSE))","v":""}]
[null,{"$f":"IF(ISBLANK(A2877),\"\",VLOOKUP(A2877,base_itens,2,FALSE))","v":""}]
[null,{"$f":"IF(ISBLANK(A2878),\"\",VLOOKUP(A2878,base_itens,2,FALSE))","v":""}]
[null,{"$f":"IF(ISBLANK(A2879),\"\",VLOOKUP(A2879,base_itens,2,FALSE))","v":""}]
[null,{"$f":"IF(ISBLANK(A2880),\"\",VLOOKUP(A2880,base_itens,2,FALSE))","v":""}]
[null,{"$f":"IF(ISBLANK(A2881),\"\",VLOOKUP(A2881,base_itens,2,FALSE))","v":""}]
[null,{"$f":"IF(ISBLANK(A2882),\"\",VLOOKUP(A2882,base_itens,2,FALSE))","v":""}]
[null,{"$f":"IF(ISBLANK(A2883),\"\",VLOOKUP(A2883,base_itens,2,FALSE))","v":""}]
[null,{"$f":"IF(ISBLANK(A2884),\"\",VLOOKUP(A2884,base_itens,2,FALSE))","v":""}]
[null,{"$f":"IF(ISBLANK(A2885),\"\",VLOOKUP(A2885,base_itens,2,FALSE))","v":""}]
[null,{"$f":"IF(ISBLANK(A2886),\"\",VLOOKUP(A2886,base_itens,2,FALSE))","v":""}]
[null,{"$f":"IF(ISBLANK(A2887),\"\",VLOOKUP(A2887,base_itens,2,FALSE))","v":""}]
[null,{"$f":"IF(ISBLANK(A2888),\"\",VLOOKUP(A2888,base_itens,2,FALSE))","v":""}]
[null,{"$f":"IF(ISBLANK(A2889),\"\",VLOOKUP(A2889,base_itens,2,FALSE))","v":""}]
[null,{"$f":"IF(ISBLANK(A2890),\"\",VLOOKUP(A2890,base_itens,2,FALSE))","v":""}]
[null,{"$f":"IF(ISBLANK(A2891),\"\",VLOOKUP(A2891,base_itens,2,FALSE))","v":""}]
[null,{"$f":"IF(ISBLANK(A2892),\"\",VLOOKUP(A2892,base_itens,2,FALSE))","v":""}]
[null,{"$f":"IF(ISBLANK(A2893),\"\",VLOOKUP(A2893,base_itens,2,FALSE))","v":""}]
[null,{"$f":"IF(ISBLANK(A2894),\"\",VLOOKUP(A2894,base_itens,2,FALSE))","v":""}]
[null,{"$f":"IF(ISBLANK(A2895),\"\",VLOOKUP(A2895,base_itens,2,FALSE))","v":""}]
[null,{"$f":"IF(ISBLANK(A2896),\"\",VLOOKUP(A2896,base_itens,2,FALSE))","v":""}]
[null,{"$f":"IF(ISBLANK(A2897),\"\",VLOOKUP(A2897,base_itens,2,FALSE))","v":""}]
[null,{"$f":"IF(ISBLANK(A2898),\"\",VLOOKUP(A2898,base_itens,2,FALSE))","v":""}]
[null,{"$f":"IF(ISBLANK(A2899),\"\",VLOOKUP(A2899,base_itens,2,FALSE))","v":""}]
[null,{"$f":"IF(ISBLANK(A2900),\"\",VLOOKUP(A2900,base_itens,2,FALSE))","v":""}]
[null,{"$f":"IF(ISBLANK(A2901),\"\",VLOOKUP(A2901,base_itens,2,FALSE))","v":""}]
[null,{"$f":"IF(ISBLANK(A2902),\"\",VLOOKUP(A2902,base_itens,2,FALSE))","v":""}]
[null,{"$f":"IF(ISBLANK(A2903),\"\",VLOOKUP(A2903,base_itens,2,FALSE))","v":""}]
[null,{"$f":"IF(ISBLANK(A2904),\"\",VLOOKUP(A2904,base_itens,2,FALSE))","v":""}]
[null,{"$f":"IF(ISBLANK(A2905),\"\",VLOOKUP(A2905,base_itens,2,FALSE))","v":""}]
[null,{"$f":"IF(ISBLANK(A2906),\"\",VLOOKUP(A2906,base_itens,2,FALSE))","v":""}]
[null,{"$f":"IF(ISBLANK(A2907),\"\",VLOOKUP(A2907,base_itens,2,FALSE))","v":""}]
[null,{"$f":"IF(ISBLANK(A2908),\"\",VLOOKUP(A2908,base_itens,2,FALSE))","v":""}]
[null,{"$f":"IF(ISBLANK(A2909),\"\",VLOOKUP(A2909,base_itens,2,FALSE))","v":""}]
[null,{"$f":"IF(ISBLANK(A2910),\"\",VLOOKUP(A2910,base_itens,2,FALSE))","v":""}]
[null,{"$f":"IF(ISBLANK(A2911),\"\",VLOOKUP(A2911,base_itens,2,FALSE))","v":""}]
[null,{"$f":"IF(ISBLANK(A2912),\"\",VLOOKUP(A2912,base_itens,2,FALSE))","v":""}]
[null,{"$f":"IF(ISBLANK(A2913),\"\",VLOOKUP(A2913,base_itens,2,FALSE))","v":""}]
[null,{"$f":"IF(ISBLANK(A2914),\"\",VLOOKUP(A2914,base_itens,2,FALSE))","v":""}]
[null,{"$f":"IF(ISBLANK(A2915),\"\",VLOOKUP(A2915,base_itens,2,FALSE))","v":""}]
[null,{"$f":"IF(ISBLANK(A2916),\"\",VLOOKUP(A2916,base_itens,2,FALSE))","v":""}]
[null,{"$f":"IF(ISBLANK(A2917),\"\",VLOOKUP(A2917,base_itens,2,FALSE))","v":""}]
[null,{"$f":"IF(ISBLANK(A2918),\"\",VLOOKUP(A2918,base_itens,2,FALSE))","v":""}]
[null,{"$f":"IF(ISBLANK(A2919),\"\",VLOOKUP(A2919,base_itens,2,FALSE))","v":""}]
[null,{"$f":"IF(ISBLANK(A2920),\"\",VLOOKUP(A2920,base_itens,2,FALSE))","v":""}]
[null,{"$f":"IF(ISBLANK(A2921),\"\",VLOOKUP(A2921,base_itens,2,FALSE))","v":""}]
[null,{"$f":"IF(ISBLANK(A2922),\"\",VLOOKUP(A2922,base_itens,2,FALSE))","v":""}]
[null,{"$f":"IF(ISBLANK(A2923),\"\",VLOOKUP(A2923,base_itens,2,FALSE))","v":""}]
[null,{"$f":"IF(ISBLANK(A2924),\"\",VLOOKUP(A2924,base_itens,2,FALSE))","v":""}]
[null,{"$f":"IF(ISBLANK(A2925),\"\",VLOOKUP(A2925,base_itens,2,FALSE))","v":""}]
[null,{"$f":"IF(ISBLANK(A2926),\"\",VLOOKUP(A2926,base_itens,2,FALSE))","v":""}]
[null,{"$f":"IF(ISBLANK(A2927),\"\",VLOOKUP(A2927,base_itens,2,FALSE))","v":""}]
[null,{"$f":"IF(ISBLANK(A2928),\"\",VLOOKUP(A2928,base_itens,2,FALSE))","v":""}]
[null,{"$f":"IF(ISBLANK(A2929),\"\",VLOOKUP(A2929,base_itens,2,FALSE))","v":""}]
[null,{"$f":"IF(ISBLANK(A2930),\"\",VLOOKUP(A2930,base_itens,2,FALSE))","v":""}]
[null,{"$f":"IF(ISBLANK(A2931),\"\",VLOOKUP(A2931,base_itens,2,FALSE))","v":""}]
[null,{"$f":"IF(ISBLANK(A2932),\"\",VLOOKUP(A2932,base_itens,2,FALSE))","v":""}]
[null,{"$f":"IF(ISBLANK(A2933),\"\",VLOOKUP(A2933,base_itens,2,FALSE))","v":""}]
[null,{"$f":"IF(ISBLANK(A2934),\"\",VLOOKUP(A2934,base_itens,2,FALSE))","v":""}]
[null,{"$f":"IF(ISBLANK(A2935),\"\",VLOOKUP(A2935,base_itens,2,FALSE))","v":""}]
[null,{"$f":"IF(ISBLANK(A2936),\"\",VLOOKUP(A2936,base_itens,2,FALSE))","v":""}]
[null,{"$f":"IF(ISBLANK(A2937),\"\",VLOOKUP(A2937,base_itens,2,FALSE))","v":""}]
[null,{"$f":"IF(ISBLANK(A2938),\"\",VLOOKUP(A2938,base_itens,2,FALSE))","v":""}]
[null,{"$f":"IF(ISBLANK(A2939),\"\",VLOOKUP(A2939,base_itens,2,FALSE))","v":""}]
[null,{"$f":"IF(ISBLANK(A2940),\"\",VLOOKUP(A2940,base_itens,2,FALSE))","v":""}]
[null,{"$f":"IF(ISBLANK(A2941),\"\",VLOOKUP(A2941,base_itens,2,FALSE))","v":""}]
[null,{"$f":"IF(ISBLANK(A2942),\"\",VLOOKUP(A2942,base_itens,2,FALSE))","v":""}]
[null,{"$f":"IF(ISBLANK(A2943),\"\",VLOOKUP(A2943,base_itens,2,FALSE))","v":""}]
[null,{"$f":"IF(ISBLANK(A2944),\"\",VLOOKUP(A2944,base_itens,2,FALSE))","v":""}]
[null,{"$f":"IF(ISBLANK(A2945),\"\",VLOOKUP(A2945,base_itens,2,FALSE))","v":""}]
[null,{"$f":"IF(ISBLANK(A2946),\"\",VLOOKUP(A2946,base_itens,2,FALSE))","v":""}]
[null,{"$f":"IF(ISBLANK(A2947),\"\",VLOOKUP(A2947,base_itens,2,FALSE))","v":""}]
[null,{"$f":"IF(ISBLANK(A2948),\"\",VLOOKUP(A2948,base_itens,2,FALSE))","v":""}]
[null,{"$f":"IF(ISBLANK(A2949),\"\",VLOOKUP(A2949,base_itens,2,FALSE))","v":""}]
[null,{"$f":"IF(ISBLANK(A2950),\"\",VLOOKUP(A2950,base_itens,2,FALSE))","v":""}]
[null,{"$f":"IF(ISBLANK(A2951),\"\",VLOOKUP(A2951,base_itens,2,FALSE))","v":""}]
[null,{"$f":"IF(ISBLANK(A2952),\"\",VLOOKUP(A2952,base_itens,2,FALSE))","v":""}]
[null,{"$f":"IF(ISBLANK(A2953),\"\",VLOOKUP(A2953,base_itens,2,FALSE))","v":""}]
[null,{"$f":"IF(ISBLANK(A2954),\"\",VLOOKUP(A2954,base_itens,2,FALSE))","v":""}]
[null,{"$f":"IF(ISBLANK(A2955),\"\",VLOOKUP(A2955,base_itens,2,FALSE))","v":""}]
[null,{"$f":"IF(ISBLANK(A2956),\"\",VLOOKUP(A2956,base_itens,2,FALSE))","v":""}]
[null,{"$f":"IF(ISBLANK(A2957),\"\",VLOOKUP(A2957,base_itens,2,FALSE))","v":""}]
[null,{"$f":"IF(ISBLANK(A2958),\"\",VLOOKUP(A2958,base_itens,2,FALSE))","v":""}]
[null,{"$f":"IF(ISBLANK(A2959),\"\",VLOOKUP(A2959,base_itens,2,FALSE))","v":""}]
[null,{"$f":"IF(ISBLANK(A2960),\"\",VLOOKUP(A2960,base_itens,2,FALSE))","v":""}]
[null,{"$f":"IF(ISBLANK(A2961),\"\",VLOOKUP(A2961,base_itens,2,FALSE))","v":""}]
[null,{"$f":"IF(ISBLANK(A2962),\"\",VLOOKUP(A2962,base_itens,2,FALSE))","v":""}]
[null,{"$f":"IF(ISBLANK(A2963),\"\",VLOOKUP(A2963,base_itens,2,FALSE))","v":""}]
[null,{"$f":"IF(ISBLANK(A2964),\"\",VLOOKUP(A2964,base_itens,2,FALSE))","v":""}]
[null,{"$f":"IF(ISBLANK(A2965),\"\",VLOOKUP(A2965,base_itens,2,FALSE))","v":""}]
[null,{"$f":"IF(ISBLANK(A2966),\"\",VLOOKUP(A2966,base_itens,2,FALSE))","v":""}]
[null,{"$f":"IF(ISBLANK(A2967),\"\",VLOOKUP(A2967,base_itens,2,FALSE))","v":""}]
[null,{"$f":"IF(ISBLANK(A2968),\"\",VLOOKUP(A2968,base_itens,2,FALSE))","v":""}]
[null,{"$f":"IF(ISBLANK(A2969),\"\",VLOOKUP(A2969,base_itens,2,FALSE))","v":""}]
[null,{"$f":"IF(ISBLANK(A2970),\"\",VLOOKUP(A2970,base_itens,2,FALSE))","v":""}]
[null,{"$f":"IF(ISBLANK(A2971),\"\",VLOOKUP(A2971,base_itens,2,FALSE))","v":""}]
[null,{"$f":"IF(ISBLANK(A2972),\"\",VLOOKUP(A2972,base_itens,2,FALSE))","v":""}]
[null,{"$f":"IF(ISBLANK(A2973),\"\",VLOOKUP(A2973,base_itens,2,FALSE))","v":""}]
[null,{"$f":"IF(ISBLANK(A2974),\"\",VLOOKUP(A2974,base_itens,2,FALSE))","v":""}]
[null,{"$f":"IF(ISBLANK(A2975),\"\",VLOOKUP(A2975,base_itens,2,FALSE))","v":""}]
[null,{"$f":"IF(ISBLANK(A2976),\"\",VLOOKUP(A2976,base_itens,2,FALSE))","v":""}]
[null,{"$f":"IF(ISBLANK(A2977),\"\",VLOOKUP(A2977,base_itens,2,FALSE))","v":""}]
[null,{"$f":"IF(ISBLANK(A2978),\"\",VLOOKUP(A2978,base_itens,2,FALSE))","v":""}]
[null,{"$f":"IF(ISBLANK(A2979),\"\",VLOOKUP(A2979,base_itens,2,FALSE))","v":""}]
[null,{"$f":"IF(ISBLANK(A2980),\"\",VLOOKUP(A2980,base_itens,2,FALSE))","v":""}]
[null,{"$f":"IF(ISBLANK(A2981),\"\",VLOOKUP(A2981,base_itens,2,FALSE))","v":""}]
[null,{"$f":"IF(ISBLANK(A2982),\"\",VLOOKUP(A2982,base_itens,2,FALSE))","v":""}]
[null,{"$f":"IF(ISBLANK(A2983),\"\",VLOOKUP(A2983,base_itens,2,FALSE))","v":""}]
[null,{"$f":"IF(ISBLANK(A2984),\"\",VLOOKUP(A2984,base_itens,2,FALSE))","v":""}]
[null,{"$f":"IF(ISBLANK(A2985),\"\",VLOOKUP(A2985,base_itens,2,FALSE))","v":""}]
[null,{"$f":"IF(ISBLANK(A2986),\"\",VLOOKUP(A2986,base_itens,2,FALSE))","v":""}]
[null,{"$f":"IF(ISBLANK(A2987),\"\",VLOOKUP(A2987,base_itens,2,FALSE))","v":""}]
[null,{"$f":"IF(ISBLANK(A2988),\"\",VLOOKUP(A2988,base_itens,2,FALSE))","v":""}]
[null,{"$f":"IF(ISBLANK(A2989),\"\",VLOOKUP(A2989,base_itens,2,FALSE))","v":""}]
[null,{"$f":"IF(ISBLANK(A2990),\"\",VLOOKUP(A2990,base_itens,2,FALSE))","v":""}]
[null,{"$f":"IF(ISBLANK(A2991),\"\",VLOOKUP(A2991,base_itens,2,FALSE))","v":""}]
[null,{"$f":"IF(ISBLANK(A2992),\"\",VLOOKUP(A2992,base_itens,2,FALSE))","v":""}]
[null,{"$f":"IF(ISBLANK(A2993),\"\",VLOOKUP(A2993,base_itens,2,FALSE))","v":""}]
[null,{"$f":"IF(ISBLANK(A2994),\"\",VLOOKUP(A2994,base_itens,2,FALSE))","v":""}]
[null,{"$f":"IF(ISBLANK(A2995),\"\",VLOOKUP(A2995,base_itens,2,FALSE))","v":""}]
[null,{"$f":"IF(ISBLANK(A2996),\"\",VLOOKUP(A2996,base_itens,2,FALSE))","v":""}]
[null,{"$f":"IF(ISBLANK(A2997),\"\",VLOOKUP(A2997,base_itens,2,FALSE))","v":""}]
[null,{"$f":"IF(ISBLANK(A2998),\"\",VLOOKUP(A2998,base_itens,2,FALSE))","v":""}]
[null,{"$f":"IF(ISBLANK(A2999),\"\",VLOOKUP(A2999,base_itens,2,FALSE))","v":""}]
[null,{"$f":"IF(ISBLANK(A3000),\"\",VLOOKUP(A3000,base_itens,2,FALSE))","v":""}]
[null,{"$f":"IF(ISBLANK(A3001),\"\",VLOOKUP(A3001,base_itens,2,FALSE))","v":""}]
[null,{"$f":"IF(ISBLANK(A3002),\"\",VLOOKUP(A3002,base_itens,2,FALSE))","v":""}]
[null,{"$f":"IF(ISBLANK(A3003),\"\",VLOOKUP(A3003,base_itens,2,FALSE))","v":""}]
[null,{"$f":"IF(ISBLANK(A3004),\"\",VLOOKUP(A3004,base_itens,2,FALSE))","v":""}]
[null,{"$f":"IF(ISBLANK(A3005),\"\",VLOOKUP(A3005,base_itens,2,FALSE))","v":""}]
[null,{"$f":"IF(ISBLANK(A3006),\"\",VLOOKUP(A3006,base_itens,2,FALSE))","v":""}]
[null,{"$f":"IF(ISBLANK(A3007),\"\",VLOOKUP(A3007,base_itens,2,FALSE))","v":""}]
[null,{"$f":"IF(ISBLANK(A3008),\"\",VLOOKUP(A3008,base_itens,2,FALSE))","v":""}]
[null,{"$f":"IF(ISBLANK(A3009),\"\",VLOOKUP(A3009,base_itens,2,FALSE))","v":""}]
[null,{"$f":"IF(ISBLANK(A3010),\"\",VLOOKUP(A3010,base_itens,2,FALSE))","v":""}]
[null,{"$f":"IF(ISBLANK(A3011),\"\",VLOOKUP(A3011,base_itens,2,FALSE))","v":""}]
[null,{"$f":"IF(ISBLANK(A3012),\"\",VLOOKUP(A3012,base_itens,2,FALSE))","v":""}]
[null,{"$f":"IF(ISBLANK(A3013),\"\",VLOOKUP(A3013,base_itens,2,FALSE))","v":""}]
[null,{"$f":"IF(ISBLANK(A3014),\"\",VLOOKUP(A3014,base_itens,2,FALSE))","v":""}]
[null,{"$f":"IF(ISBLANK(A3015),\"\",VLOOKUP(A3015,base_itens,2,FALSE))","v":""}]
[null,{"$f":"IF(ISBLANK(A3016),\"\",VLOOKUP(A3016,base_itens,2,FALSE))","v":""}]
[null,{"$f":"IF(ISBLANK(A3017),\"\",VLOOKUP(A3017,base_itens,2,FALSE))","v":""}]
[null,{"$f":"IF(ISBLANK(A3018),\"\",VLOOKUP(A3018,base_itens,2,FALSE))","v":""}]
[null,{"$f":"IF(ISBLANK(A3019),\"\",VLOOKUP(A3019,base_itens,2,FALSE))","v":""}]
[null,{"$f":"IF(ISBLANK(A3020),\"\",VLOOKUP(A3020,base_itens,2,FALSE))","v":""}]
[null,{"$f":"IF(ISBLANK(A3021),\"\",VLOOKUP(A3021,base_itens,2,FALSE))","v":""}]
[null,{"$f":"IF(ISBLANK(A3022),\"\",VLOOKUP(A3022,base_itens,2,FALSE))","v":""}]
[null,{"$f":"IF(ISBLANK(A3023),\"\",VLOOKUP(A3023,base_itens,2,FALSE))","v":""}]
[null,{"$f":"IF(ISBLANK(A3024),\"\",VLOOKUP(A3024,base_itens,2,FALSE))","v":""}]
[null,{"$f":"IF(ISBLANK(A3025),\"\",VLOOKUP(A3025,base_itens,2,FALSE))","v":""}]
[null,{"$f":"IF(ISBLANK(A3026),\"\",VLOOKUP(A3026,base_itens,2,FALSE))","v":""}]
[null,{"$f":"IF(ISBLANK(A3027),\"\",VLOOKUP(A3027,base_itens,2,FALSE))","v":""}]
[null,{"$f":"IF(ISBLANK(A3028),\"\",VLOOKUP(A3028,base_itens,2,FALSE))","v":""}]
[null,{"$f":"IF(ISBLANK(A3029),\"\",VLOOKUP(A3029,base_itens,2,FALSE))","v":""}]
[null,{"$f":"IF(ISBLANK(A3030),\"\",VLOOKUP(A3030,base_itens,2,FALSE))","v":""}]
[null,{"$f":"IF(ISBLANK(A3031),\"\",VLOOKUP(A3031,base_itens,2,FALSE))","v":""}]
[null,{"$f":"IF(ISBLANK(A3032),\"\",VLOOKUP(A3032,base_itens,2,FALSE))","v":""}]
[null,{"$f":"IF(ISBLANK(A3033),\"\",VLOOKUP(A3033,base_itens,2,FALSE))","v":""}]
[null,{"$f":"IF(ISBLANK(A3034),\"\",VLOOKUP(A3034,base_itens,2,FALSE))","v":""}]
[null,{"$f":"IF(ISBLANK(A3035),\"\",VLOOKUP(A3035,base_itens,2,FALSE))","v":""}]
[null,{"$f":"IF(ISBLANK(A3036),\"\",VLOOKUP(A3036,base_itens,2,FALSE))","v":""}]
[null,{"$f":"IF(ISBLANK(A3037),\"\",VLOOKUP(A3037,base_itens,2,FALSE))","v":""}]
[null,{"$f":"IF(ISBLANK(A3038),\"\",VLOOKUP(A3038,base_itens,2,FALSE))","v":""}]
[null,{"$f":"IF(ISBLANK(A3039),\"\",VLOOKUP(A3039,base_itens,2,FALSE))","v":""}]
[null,{"$f":"IF(ISBLANK(A3040),\"\",VLOOKUP(A3040,base_itens,2,FALSE))","v":""}]
[null,{"$f":"IF(ISBLANK(A3041),\"\",VLOOKUP(A3041,base_itens,2,FALSE))","v":""}]
[null,{"$f":"IF(ISBLANK(A3042),\"\",VLOOKUP(A3042,base_itens,2,FALSE))","v":""}]
[null,{"$f":"IF(ISBLANK(A3043),\"\",VLOOKUP(A3043,base_itens,2,FALSE))","v":""}]
[null,{"$f":"IF(ISBLANK(A3044),\"\",VLOOKUP(A3044,base_itens,2,FALSE))","v":""}]
[null,{"$f":"IF(ISBLANK(A3045),\"\",VLOOKUP(A3045,base_itens,2,FALSE))","v":""}]
[null,{"$f":"IF(ISBLANK(A3046),\"\",VLOOKUP(A3046,base_itens,2,FALSE))","v":""}]
[null,{"$f":"IF(ISBLANK(A3047),\"\",VLOOKUP(A3047,base_itens,2,FALSE))","v":""}]
[null,{"$f":"IF(ISBLANK(A3048),\"\",VLOOKUP(A3048,base_itens,2,FALSE))","v":""}]
[null,{"$f":"IF(ISBLANK(A3049),\"\",VLOOKUP(A3049,base_itens,2,FALSE))","v":""}]
[null,{"$f":"IF(ISBLANK(A3050),\"\",VLOOKUP(A3050,base_itens,2,FALSE))","v":""}]
[null,{"$f":"IF(ISBLANK(A3051),\"\",VLOOKUP(A3051,base_itens,2,FALSE))","v":""}]
[null,{"$f":"IF(ISBLANK(A3052),\"\",VLOOKUP(A3052,base_itens,2,FALSE))","v":""}]
[null,{"$f":"IF(ISBLANK(A3053),\"\",VLOOKUP(A3053,base_itens,2,FALSE))","v":""}]
[null,{"$f":"IF(ISBLANK(A3054),\"\",VLOOKUP(A3054,base_itens,2,FALSE))","v":""}]
[null,{"$f":"IF(ISBLANK(A3055),\"\",VLOOKUP(A3055,base_itens,2,FALSE))","v":""}]
[null,{"$f":"IF(ISBLANK(A3056),\"\",VLOOKUP(A3056,base_itens,2,FALSE))","v":""}]
[null,{"$f":"IF(ISBLANK(A3057),\"\",VLOOKUP(A3057,base_itens,2,FALSE))","v":""}]
[null,{"$f":"IF(ISBLANK(A3058),\"\",VLOOKUP(A3058,base_itens,2,FALSE))","v":""}]
[null,{"$f":"IF(ISBLANK(A3059),\"\",VLOOKUP(A3059,base_itens,2,FALSE))","v":""}]
[null,{"$f":"IF(ISBLANK(A3060),\"\",VLOOKUP(A3060,base_itens,2,FALSE))","v":""}]
[null,{"$f":"IF(ISBLANK(A3061),\"\",VLOOKUP(A3061,base_itens,2,FALSE))","v":""}]
[null,{"$f":"IF(ISBLANK(A3062),\"\",VLOOKUP(A3062,base_itens,2,FALSE))","v":""}]
[null,{"$f":"IF(ISBLANK(A3063),\"\",VLOOKUP(A3063,base_itens,2,FALSE))","v":""}]
[null,{"$f":"IF(ISBLANK(A3064),\"\",VLOOKUP(A3064,base_itens,2,FALSE))","v":""}]
[null,{"$f":"IF(ISBLANK(A3065),\"\",VLOOKUP(A3065,base_itens,2,FALSE))","v":""}]
[null,{"$f":"IF(ISBLANK(A3066),\"\",VLOOKUP(A3066,base_itens,2,FALSE))","v":""}]
[null,{"$f":"IF(ISBLANK(A3067),\"\",VLOOKUP(A3067,base_itens,2,FALSE))","v":""}]
[null,{"$f":"IF(ISBLANK(A3068),\"\",VLOOKUP(A3068,base_itens,2,FALSE))","v":""}]
[null,{"$f":"IF(ISBLANK(A3069),\"\",VLOOKUP(A3069,base_itens,2,FALSE))","v":""}]
[null,{"$f":"IF(ISBLANK(A3070),\"\",VLOOKUP(A3070,base_itens,2,FALSE))","v":""}]
[null,{"$f":"IF(ISBLANK(A3071),\"\",VLOOKUP(A3071,base_itens,2,FALSE))","v":""}]
[null,{"$f":"IF(ISBLANK(A3072),\"\",VLOOKUP(A3072,base_itens,2,FALSE))","v":""}]
[null,{"$f":"IF(ISBLANK(A3073),\"\",VLOOKUP(A3073,base_itens,2,FALSE))","v":""}]
[null,{"$f":"IF(ISBLANK(A3074),\"\",VLOOKUP(A3074,base_itens,2,FALSE))","v":""}]
[null,{"$f":"IF(ISBLANK(A3075),\"\",VLOOKUP(A3075,base_itens,2,FALSE))","v":""}]
[null,{"$f":"IF(ISBLANK(A3076),\"\",VLOOKUP(A3076,base_itens,2,FALSE))","v":""}]
[null,{"$f":"IF(ISBLANK(A3077),\"\",VLOOKUP(A3077,base_itens,2,FALSE))","v":""}]
[null,{"$f":"IF(ISBLANK(A3078),\"\",VLOOKUP(A3078,base_itens,2,FALSE))","v":""}]
[null,{"$f":"IF(ISBLANK(A3079),\"\",VLOOKUP(A3079,base_itens,2,FALSE))","v":""}]
[null,{"$f":"IF(ISBLANK(A3080),\"\",VLOOKUP(A3080,base_itens,2,FALSE))","v":""}]
[null,{"$f":"IF(ISBLANK(A3081),\"\",VLOOKUP(A3081,base_itens,2,FALSE))","v":""}]
[null,{"$f":"IF(ISBLANK(A3082),\"\",VLOOKUP(A3082,base_itens,2,FALSE))","v":""}]
[null,{"$f":"IF(ISBLANK(A3083),\"\",VLOOKUP(A3083,base_itens,2,FALSE))","v":""}]
[null,{"$f":"IF(ISBLANK(A3084),\"\",VLOOKUP(A3084,base_itens,2,FALSE))","v":""}]
[null,{"$f":"IF(ISBLANK(A3085),\"\",VLOOKUP(A3085,base_itens,2,FALSE))","v":""}]
[null,{"$f":"IF(ISBLANK(A3086),\"\",VLOOKUP(A3086,base_itens,2,FALSE))","v":""}]
[null,{"$f":"IF(ISBLANK(A3087),\"\",VLOOKUP(A3087,base_itens,2,FALSE))","v":""}]
[null,{"$f":"IF(ISBLANK(A3088),\"\",VLOOKUP(A3088,base_itens,2,FALSE))","v":""}]
[null,{"$f":"IF(ISBLANK(A3089),\"\",VLOOKUP(A3089,base_itens,2,FALSE))","v":""}]
[null,{"$f":"IF(ISBLANK(A3090),\"\",VLOOKUP(A3090,base_itens,2,FALSE))","v":""}]
[null,{"$f":"IF(ISBLANK(A3091),\"\",VLOOKUP(A3091,base_itens,2,FALSE))","v":""}]
[null,{"$f":"IF(ISBLANK(A3092),\"\",VLOOKUP(A3092,base_itens,2,FALSE))","v":""}]
[null,{"$f":"IF(ISBLANK(A3093),\"\",VLOOKUP(A3093,base_itens,2,FALSE))","v":""}]
[null,{"$f":"IF(ISBLANK(A3094),\"\",VLOOKUP(A3094,base_itens,2,FALSE))","v":""}]
[null,{"$f":"IF(ISBLANK(A3095),\"\",VLOOKUP(A3095,base_itens,2,FALSE))","v":""}]
[null,{"$f":"IF(ISBLANK(A3096),\"\",VLOOKUP(A3096,base_itens,2,FALSE))","v":""}]
[null,{"$f":"IF(ISBLANK(A3097),\"\",VLOOKUP(A3097,base_itens,2,FALSE))","v":""}]
[null,{"$f":"IF(ISBLANK(A3098),\"\",VLOOKUP(A3098,base_itens,2,FALSE))","v":""}]
[null,{"$f":"IF(ISBLANK(A3099),\"\",VLOOKUP(A3099,base_itens,2,FALSE))","v":""}]
[null,{"$f":"IF(ISBLANK(A3100),\"\",VLOOKUP(A3100,base_itens,2,FALSE))","v":""}]
[null,{"$f":"IF(ISBLANK(A3101),\"\",VLOOKUP(A3101,base_itens,2,FALSE))","v":""}]
[null,{"$f":"IF(ISBLANK(A3102),\"\",VLOOKUP(A3102,base_itens,2,FALSE))","v":""}]
[null,{"$f":"IF(ISBLANK(A3103),\"\",VLOOKUP(A3103,base_itens,2,FALSE))","v":""}]
[null,{"$f":"IF(ISBLANK(A3104),\"\",VLOOKUP(A3104,base_itens,2,FALSE))","v":""}]
[null,{"$f":"IF(ISBLANK(A3105),\"\",VLOOKUP(A3105,base_itens,2,FALSE))","v":""}]
[null,{"$f":"IF(ISBLANK(A3106),\"\",VLOOKUP(A3106,base_itens,2,FALSE))","v":""}]
[null,{"$f":"IF(ISBLANK(A3107),\"\",VLOOKUP(A3107,base_itens,2,FALSE))","v":""}]
[null,{"$f":"IF(ISBLANK(A3108),\"\",VLOOKUP(A3108,base_itens,2,FALSE))","v":""}]
[null,{"$f":"IF(ISBLANK(A3109),\"\",VLOOKUP(A3109,base_itens,2,FALSE))","v":""}]
[null,{"$f":"IF(ISBLANK(A3110),\"\",VLOOKUP(A3110,base_itens,2,FALSE))","v":""}]
[null,{"$f":"IF(ISBLANK(A3111),\"\",VLOOKUP(A3111,base_itens,2,FALSE))","v":""}]
[null,{"$f":"IF(ISBLANK(A3112),\"\",VLOOKUP(A3112,base_itens,2,FALSE))","v":""}]
[null,{"$f":"IF(ISBLANK(A3113),\"\",VLOOKUP(A3113,base_itens,2,FALSE))","v":""}]
[null,{"$f":"IF(ISBLANK(A3114),\"\",VLOOKUP(A3114,base_itens,2,FALSE))","v":""}]
[null,{"$f":"IF(ISBLANK(A3115),\"\",VLOOKUP(A3115,base_itens,2,FALSE))","v":""}]
[null,{"$f":"IF(ISBLANK(A3116),\"\",VLOOKUP(A3116,base_itens,2,FALSE))","v":""}]
[null,{"$f":"IF(ISBLANK(A3117),\"\",VLOOKUP(A3117,base_itens,2,FALSE))","v":""}]
[null,{"$f":"IF(ISBLANK(A3118),\"\",VLOOKUP(A3118,base_itens,2,FALSE))","v":""}]
[null,{"$f":"IF(ISBLANK(A3119),\"\",VLOOKUP(A3119,base_itens,2,FALSE))","v":""}]
[null,{"$f":"IF(ISBLANK(A3120),\"\",VLOOKUP(A3120,base_itens,2,FALSE))","v":""}]
[null,{"$f":"IF(ISBLANK(A3121),\"\",VLOOKUP(A3121,base_itens,2,FALSE))","v":""}]
[null,{"$f":"IF(ISBLANK(A3122),\"\",VLOOKUP(A3122,base_itens,2,FALSE))","v":""}]
[null,{"$f":"IF(ISBLANK(A3123),\"\",VLOOKUP(A3123,base_itens,2,FALSE))","v":""}]
[null,{"$f":"IF(ISBLANK(A3124),\"\",VLOOKUP(A3124,base_itens,2,FALSE))","v":""}]
[null,{"$f":"IF(ISBLANK(A3125),\"\",VLOOKUP(A3125,base_itens,2,FALSE))","v":""}]
[null,{"$f":"IF(ISBLANK(A3126),\"\",VLOOKUP(A3126,base_itens,2,FALSE))","v":""}]
[null,{"$f":"IF(ISBLANK(A3127),\"\",VLOOKUP(A3127,base_itens,2,FALSE))","v":""}]
[null,{"$f":"IF(ISBLANK(A3128),\"\",VLOOKUP(A3128,base_itens,2,FALSE))","v":""}]
[null,{"$f":"IF(ISBLANK(A3129),\"\",VLOOKUP(A3129,base_itens,2,FALSE))","v":""}]
[null,{"$f":"IF(ISBLANK(A3130),\"\",VLOOKUP(A3130,base_itens,2,FALSE))","v":""}]
[null,{"$f":"IF(ISBLANK(A3131),\"\",VLOOKUP(A3131,base_itens,2,FALSE))","v":""}]
[null,{"$f":"IF(ISBLANK(A3132),\"\",VLOOKUP(A3132,base_itens,2,FALSE))","v":""}]
[null,{"$f":"IF(ISBLANK(A3133),\"\",VLOOKUP(A3133,base_itens,2,FALSE))","v":""}]
[null,{"$f":"IF(ISBLANK(A3134),\"\",VLOOKUP(A3134,base_itens,2,FALSE))","v":""}]
[null,{"$f":"IF(ISBLANK(A3135),\"\",VLOOKUP(A3135,base_itens,2,FALSE))","v":""}]
[null,{"$f":"IF(ISBLANK(A3136),\"\",VLOOKUP(A3136,base_itens,2,FALSE))","v":""}]
[null,{"$f":"IF(ISBLANK(A3137),\"\",VLOOKUP(A3137,base_itens,2,FALSE))","v":""}]
[null,{"$f":"IF(ISBLANK(A3138),\"\",VLOOKUP(A3138,base_itens,2,FALSE))","v":""}]
[null,{"$f":"IF(ISBLANK(A3139),\"\",VLOOKUP(A3139,base_itens,2,FALSE))","v":""}]
[null,{"$f":"IF(ISBLANK(A3140),\"\",VLOOKUP(A3140,base_itens,2,FALSE))","v":""}]
[null,{"$f":"IF(ISBLANK(A3141),\"\",VLOOKUP(A3141,base_itens,2,FALSE))","v":""}]
[null,{"$f":"IF(ISBLANK(A3142),\"\",VLOOKUP(A3142,base_itens,2,FALSE))","v":""}]
[null,{"$f":"IF(ISBLANK(A3143),\"\",VLOOKUP(A3143,base_itens,2,FALSE))","v":""}]
[null,{"$f":"IF(ISBLANK(A3144),\"\",VLOOKUP(A3144,base_itens,2,FALSE))","v":""}]
[null,{"$f":"IF(ISBLANK(A3145),\"\",VLOOKUP(A3145,base_itens,2,FALSE))","v":""}]
[null,{"$f":"IF(ISBLANK(A3146),\"\",VLOOKUP(A3146,base_itens,2,FALSE))","v":""}]
[null,{"$f":"IF(ISBLANK(A3147),\"\",VLOOKUP(A3147,base_itens,2,FALSE))","v":""}]
[null,{"$f":"IF(ISBLANK(A3148),\"\",VLOOKUP(A3148,base_itens,2,FALSE))","v":""}]
[null,{"$f":"IF(ISBLANK(A3149),\"\",VLOOKUP(A3149,base_itens,2,FALSE))","v":""}]
[null,{"$f":"IF(ISBLANK(A3150),\"\",VLOOKUP(A3150,base_itens,2,FALSE))","v":""}]
[null,{"$f":"IF(ISBLANK(A3151),\"\",VLOOKUP(A3151,base_itens,2,FALSE))","v":""}]
[null,{"$f":"IF(ISBLANK(A3152),\"\",VLOOKUP(A3152,base_itens,2,FALSE))","v":""}]
[null,{"$f":"IF(ISBLANK(A3153),\"\",VLOOKUP(A3153,base_itens,2,FALSE))","v":""}]
[null,{"$f":"IF(ISBLANK(A3154),\"\",VLOOKUP(A3154,base_itens,2,FALSE))","v":""}]
[null,{"$f":"IF(ISBLANK(A3155),\"\",VLOOKUP(A3155,base_itens,2,FALSE))","v":""}]
[null,{"$f":"IF(ISBLANK(A3156),\"\",VLOOKUP(A3156,base_itens,2,FALSE))","v":""}]
[null,{"$f":"IF(ISBLANK(A3157),\"\",VLOOKUP(A3157,base_itens,2,FALSE))","v":""}]
[null,{"$f":"IF(ISBLANK(A3158),\"\",VLOOKUP(A3158,base_itens,2,FALSE))","v":""}]
[null,{"$f":"IF(ISBLANK(A3159),\"\",VLOOKUP(A3159,base_itens,2,FALSE))","v":""}]
[null,{"$f":"IF(ISBLANK(A3160),\"\",VLOOKUP(A3160,base_itens,2,FALSE))","v":""}]
[null,{"$f":"IF(ISBLANK(A3161),\"\",VLOOKUP(A3161,base_itens,2,FALSE))","v":""}]
[null,{"$f":"IF(ISBLANK(A3162),\"\",VLOOKUP(A3162,base_itens,2,FALSE))","v":""}]
[null,{"$f":"IF(ISBLANK(A3163),\"\",VLOOKUP(A3163,base_itens,2,FALSE))","v":""}]
[null,{"$f":"IF(ISBLANK(A3164),\"\",VLOOKUP(A3164,base_itens,2,FALSE))","v":""}]
[null,{"$f":"IF(ISBLANK(A3165),\"\",VLOOKUP(A3165,base_itens,2,FALSE))","v":""}]
[null,{"$f":"IF(ISBLANK(A3166),\"\",VLOOKUP(A3166,base_itens,2,FALSE))","v":""}]
[null,{"$f":"IF(ISBLANK(A3167),\"\",VLOOKUP(A3167,base_itens,2,FALSE))","v":""}]
[null,{"$f":"IF(ISBLANK(A3168),\"\",VLOOKUP(A3168,base_itens,2,FALSE))","v":""}]
[null,{"$f":"IF(ISBLANK(A3169),\"\",VLOOKUP(A3169,base_itens,2,FALSE))","v":""}]
[null,{"$f":"IF(ISBLANK(A3170),\"\",VLOOKUP(A3170,base_itens,2,FALSE))","v":""}]
[null,{"$f":"IF(ISBLANK(A3171),\"\",VLOOKUP(A3171,base_itens,2,FALSE))","v":""}]
[null,{"$f":"IF(ISBLANK(A3172),\"\",VLOOKUP(A3172,base_itens,2,FALSE))","v":""}]
[null,{"$f":"IF(ISBLANK(A3173),\"\",VLOOKUP(A3173,base_itens,2,FALSE))","v":""}]
[null,{"$f":"IF(ISBLANK(A3174),\"\",VLOOKUP(A3174,base_itens,2,FALSE))","v":""}]
[null,{"$f":"IF(ISBLANK(A3175),\"\",VLOOKUP(A3175,base_itens,2,FALSE))","v":""}]
[null,{"$f":"IF(ISBLANK(A3176),\"\",VLOOKUP(A3176,base_itens,2,FALSE))","v":""}]
[null,{"$f":"IF(ISBLANK(A3177),\"\",VLOOKUP(A3177,base_itens,2,FALSE))","v":""}]
[null,{"$f":"IF(ISBLANK(A3178),\"\",VLOOKUP(A3178,base_itens,2,FALSE))","v":""}]
[null,{"$f":"IF(ISBLANK(A3179),\"\",VLOOKUP(A3179,base_itens,2,FALSE))","v":""}]
[null,{"$f":"IF(ISBLANK(A3180),\"\",VLOOKUP(A3180,base_itens,2,FALSE))","v":""}]
[null,{"$f":"IF(ISBLANK(A3181),\"\",VLOOKUP(A3181,base_itens,2,FALSE))","v":""}]
[null,{"$f":"IF(ISBLANK(A3182),\"\",VLOOKUP(A3182,base_itens,2,FALSE))","v":""}]
[null,{"$f":"IF(ISBLANK(A3183),\"\",VLOOKUP(A3183,base_itens,2,FALSE))","v":""}]
[null,{"$f":"IF(ISBLANK(A3184),\"\",VLOOKUP(A3184,base_itens,2,FALSE))","v":""}]
[null,{"$f":"IF(ISBLANK(A3185),\"\",VLOOKUP(A3185,base_itens,2,FALSE))","v":""}]
[null,{"$f":"IF(ISBLANK(A3186),\"\",VLOOKUP(A3186,base_itens,2,FALSE))","v":""}]
[null,{"$f":"IF(ISBLANK(A3187),\"\",VLOOKUP(A3187,base_itens,2,FALSE))","v":""}]
[null,{"$f":"IF(ISBLANK(A3188),\"\",VLOOKUP(A3188,base_itens,2,FALSE))","v":""}]
[null,{"$f":"IF(ISBLANK(A3189),\"\",VLOOKUP(A3189,base_itens,2,FALSE))","v":""}]
[null,{"$f":"IF(ISBLANK(A3190),\"\",VLOOKUP(A3190,base_itens,2,FALSE))","v":""}]
[null,{"$f":"IF(ISBLANK(A3191),\"\",VLOOKUP(A3191,base_itens,2,FALSE))","v":""}]
[null,{"$f":"IF(ISBLANK(A3192),\"\",VLOOKUP(A3192,base_itens,2,FALSE))","v":""}]
[null,{"$f":"IF(ISBLANK(A3193),\"\",VLOOKUP(A3193,base_itens,2,FALSE))","v":""}]
[null,{"$f":"IF(ISBLANK(A3194),\"\",VLOOKUP(A3194,base_itens,2,FALSE))","v":""}]
[null,{"$f":"IF(ISBLANK(A3195),\"\",VLOOKUP(A3195,base_itens,2,FALSE))","v":""}]
[null,{"$f":"IF(ISBLANK(A3196),\"\",VLOOKUP(A3196,base_itens,2,FALSE))","v":""}]
[null,{"$f":"IF(ISBLANK(A3197),\"\",VLOOKUP(A3197,base_itens,2,FALSE))","v":""}]
[null,{"$f":"IF(ISBLANK(A3198),\"\",VLOOKUP(A3198,base_itens,2,FALSE))","v":""}]
[null,{"$f":"IF(ISBLANK(A3199),\"\",VLOOKUP(A3199,base_itens,2,FALSE))","v":""}]
[null,{"$f":"IF(ISBLANK(A3200),\"\",VLOOKUP(A3200,base_itens,2,FALSE))","v":""}]
[null,{"$f":"IF(ISBLANK(A3201),\"\",VLOOKUP(A3201,base_itens,2,FALSE))","v":""}]
[null,{"$f":"IF(ISBLANK(A3202),\"\",VLOOKUP(A3202,base_itens,2,FALSE))","v":""}]
[null,{"$f":"IF(ISBLANK(A3203),\"\",VLOOKUP(A3203,base_itens,2,FALSE))","v":""}]
[null,{"$f":"IF(ISBLANK(A3204),\"\",VLOOKUP(A3204,base_itens,2,FALSE))","v":""}]
[null,{"$f":"IF(ISBLANK(A3205),\"\",VLOOKUP(A3205,base_itens,2,FALSE))","v":""}]
[null,{"$f":"IF(ISBLANK(A3206),\"\",VLOOKUP(A3206,base_itens,2,FALSE))","v":""}]
[null,{"$f":"IF(ISBLANK(A3207),\"\",VLOOKUP(A3207,base_itens,2,FALSE))","v":""}]
[null,{"$f":"IF(ISBLANK(A3208),\"\",VLOOKUP(A3208,base_itens,2,FALSE))","v":""}]
[null,{"$f":"IF(ISBLANK(A3209),\"\",VLOOKUP(A3209,base_itens,2,FALSE))","v":""}]
[null,{"$f":"IF(ISBLANK(A3210),\"\",VLOOKUP(A3210,base_itens,2,FALSE))","v":""}]
[null,{"$f":"IF(ISBLANK(A3211),\"\",VLOOKUP(A3211,base_itens,2,FALSE))","v":""}]
[null,{"$f":"IF(ISBLANK(A3212),\"\",VLOOKUP(A3212,base_itens,2,FALSE))","v":""}]
[null,{"$f":"IF(ISBLANK(A3213),\"\",VLOOKUP(A3213,base_itens,2,FALSE))","v":""}]
[null,{"$f":"IF(ISBLANK(A3214),\"\",VLOOKUP(A3214,base_itens,2,FALSE))","v":""}]
[null,{"$f":"IF(ISBLANK(A3215),\"\",VLOOKUP(A3215,base_itens,2,FALSE))","v":""}]
[null,{"$f":"IF(ISBLANK(A3216),\"\",VLOOKUP(A3216,base_itens,2,FALSE))","v":""}]
[null,{"$f":"IF(ISBLANK(A3217),\"\",VLOOKUP(A3217,base_itens,2,FALSE))","v":""}]
[null,{"$f":"IF(ISBLANK(A3218),\"\",VLOOKUP(A3218,base_itens,2,FALSE))","v":""}]
[null,{"$f":"IF(ISBLANK(A3219),\"\",VLOOKUP(A3219,base_itens,2,FALSE))","v":""}]
[null,{"$f":"IF(ISBLANK(A3220),\"\",VLOOKUP(A3220,base_itens,2,FALSE))","v":""}]
[null,{"$f":"IF(ISBLANK(A3221),\"\",VLOOKUP(A3221,base_itens,2,FALSE))","v":""}]
[null,{"$f":"IF(ISBLANK(A3222),\"\",VLOOKUP(A3222,base_itens,2,FALSE))","v":""}]
[null,{"$f":"IF(ISBLANK(A3223),\"\",VLOOKUP(A3223,base_itens,2,FALSE))","v":""}]
[null,{"$f":"IF(ISBLANK(A3224),\"\",VLOOKUP(A3224,base_itens,2,FALSE))","v":""}]
[null,{"$f":"IF(ISBLANK(A3225),\"\",VLOOKUP(A3225,base_itens,2,FALSE))","v":""}]
[null,{"$f":"IF(ISBLANK(A3226),\"\",VLOOKUP(A3226,base_itens,2,FALSE))","v":""}]
[null,{"$f":"IF(ISBLANK(A3227),\"\",VLOOKUP(A3227,base_itens,2,FALSE))","v":""}]
[null,{"$f":"IF(ISBLANK(A3228),\"\",VLOOKUP(A3228,base_itens,2,FALSE))","v":""}]
[null,{"$f":"IF(ISBLANK(A3229),\"\",VLOOKUP(A3229,base_itens,2,FALSE))","v":""}]
[null,{"$f":"IF(ISBLANK(A3230),\"\",VLOOKUP(A3230,base_itens,2,FALSE))","v":""}]
[null,{"$f":"IF(ISBLANK(A3231),\"\",VLOOKUP(A3231,base_itens,2,FALSE))","v":""}]
[null,{"$f":"IF(ISBLANK(A3232),\"\",VLOOKUP(A3232,base_itens,2,FALSE))","v":""}]
[null,{"$f":"IF(ISBLANK(A3233),\"\",VLOOKUP(A3233,base_itens,2,FALSE))","v":""}]
[null,{"$f":"IF(ISBLANK(A3234),\"\",VLOOKUP(A3234,base_itens,2,FALSE))","v":""}]
[null,{"$f":"IF(ISBLANK(A3235),\"\",VLOOKUP(A3235,base_itens,2,FALSE))","v":""}]
[null,{"$f":"IF(ISBLANK(A3236),\"\",VLOOKUP(A3236,base_itens,2,FALSE))","v":""}]
[null,{"$f":"IF(ISBLANK(A3237),\"\",VLOOKUP(A3237,base_itens,2,FALSE))","v":""}]
[null,{"$f":"IF(ISBLANK(A3238),\"\",VLOOKUP(A3238,base_itens,2,FALSE))","v":""}]
[null,{"$f":"IF(ISBLANK(A3239),\"\",VLOOKUP(A3239,base_itens,2,FALSE))","v":""}]
[null,{"$f":"IF(ISBLANK(A3240),\"\",VLOOKUP(A3240,base_itens,2,FALSE))","v":""}]
[null,{"$f":"IF(ISBLANK(A3241),\"\",VLOOKUP(A3241,base_itens,2,FALSE))","v":""}]
[null,{"$f":"IF(ISBLANK(A3242),\"\",VLOOKUP(A3242,base_itens,2,FALSE))","v":""}]
[null,{"$f":"IF(ISBLANK(A3243),\"\",VLOOKUP(A3243,base_itens,2,FALSE))","v":""}]
[null,{"$f":"IF(ISBLANK(A3244),\"\",VLOOKUP(A3244,base_itens,2,FALSE))","v":""}]
[null,{"$f":"IF(ISBLANK(A3245),\"\",VLOOKUP(A3245,base_itens,2,FALSE))","v":""}]
[null,{"$f":"IF(ISBLANK(A3246),\"\",VLOOKUP(A3246,base_itens,2,FALSE))","v":""}]
[null,{"$f":"IF(ISBLANK(A3247),\"\",VLOOKUP(A3247,base_itens,2,FALSE))","v":""}]
[null,{"$f":"IF(ISBLANK(A3248),\"\",VLOOKUP(A3248,base_itens,2,FALSE))","v":""}]
[null,{"$f":"IF(ISBLANK(A3249),\"\",VLOOKUP(A3249,base_itens,2,FALSE))","v":""}]
[null,{"$f":"IF(ISBLANK(A3250),\"\",VLOOKUP(A3250,base_itens,2,FALSE))","v":""}]
[null,{"$f":"IF(ISBLANK(A3251),\"\",VLOOKUP(A3251,base_itens,2,FALSE))","v":""}]
[null,{"$f":"IF(ISBLANK(A3252),\"\",VLOOKUP(A3252,base_itens,2,FALSE))","v":""}]
[null,{"$f":"IF(ISBLANK(A3253),\"\",VLOOKUP(A3253,base_itens,2,FALSE))","v":""}]
[null,{"$f":"IF(ISBLANK(A3254),\"\",VLOOKUP(A3254,base_itens,2,FALSE))","v":""}]
[null,{"$f":"IF(ISBLANK(A3255),\"\",VLOOKUP(A3255,base_itens,2,FALSE))","v":""}]
[null,{"$f":"IF(ISBLANK(A3256),\"\",VLOOKUP(A3256,base_itens,2,FALSE))","v":""}]
[null,{"$f":"IF(ISBLANK(A3257),\"\",VLOOKUP(A3257,base_itens,2,FALSE))","v":""}]
[null,{"$f":"IF(ISBLANK(A3258),\"\",VLOOKUP(A3258,base_itens,2,FALSE))","v":""}]
[null,{"$f":"IF(ISBLANK(A3259),\"\",VLOOKUP(A3259,base_itens,2,FALSE))","v":""}]
[null,{"$f":"IF(ISBLANK(A3260),\"\",VLOOKUP(A3260,base_itens,2,FALSE))","v":""}]
[null,{"$f":"IF(ISBLANK(A3261),\"\",VLOOKUP(A3261,base_itens,2,FALSE))","v":""}]
[null,{"$f":"IF(ISBLANK(A3262),\"\",VLOOKUP(A3262,base_itens,2,FALSE))","v":""}]
[null,{"$f":"IF(ISBLANK(A3263),\"\",VLOOKUP(A3263,base_itens,2,FALSE))","v":""}]
[null,{"$f":"IF(ISBLANK(A3264),\"\",VLOOKUP(A3264,base_itens,2,FALSE))","v":""}]
[null,{"$f":"IF(ISBLANK(A3265),\"\",VLOOKUP(A3265,base_itens,2,FALSE))","v":""}]
[null,{"$f":"IF(ISBLANK(A3266),\"\",VLOOKUP(A3266,base_itens,2,FALSE))","v":""}]
[null,{"$f":"IF(ISBLANK(A3267),\"\",VLOOKUP(A3267,base_itens,2,FALSE))","v":""}]
[null,{"$f":"IF(ISBLANK(A3268),\"\",VLOOKUP(A3268,base_itens,2,FALSE))","v":""}]
[null,{"$f":"IF(ISBLANK(A3269),\"\",VLOOKUP(A3269,base_itens,2,FALSE))","v":""}]
[null,{"$f":"IF(ISBLANK(A3270),\"\",VLOOKUP(A3270,base_itens,2,FALSE))","v":""}]
[null,{"$f":"IF(ISBLANK(A3271),\"\",VLOOKUP(A3271,base_itens,2,FALSE))","v":""}]
[null,{"$f":"IF(ISBLANK(A3272),\"\",VLOOKUP(A3272,base_itens,2,FALSE))","v":""}]
[null,{"$f":"IF(ISBLANK(A3273),\"\",VLOOKUP(A3273,base_itens,2,FALSE))","v":""}]
[null,{"$f":"IF(ISBLANK(A3274),\"\",VLOOKUP(A3274,base_itens,2,FALSE))","v":""}]
[null,{"$f":"IF(ISBLANK(A3275),\"\",VLOOKUP(A3275,base_itens,2,FALSE))","v":""}]
[null,{"$f":"IF(ISBLANK(A3276),\"\",VLOOKUP(A3276,base_itens,2,FALSE))","v":""}]
[null,{"$f":"IF(ISBLANK(A3277),\"\",VLOOKUP(A3277,base_itens,2,FALSE))","v":""}]
[null,{"$f":"IF(ISBLANK(A3278),\"\",VLOOKUP(A3278,base_itens,2,FALSE))","v":""}]
[null,{"$f":"IF(ISBLANK(A3279),\"\",VLOOKUP(A3279,base_itens,2,FALSE))","v":""}]
[null,{"$f":"IF(ISBLANK(A3280),\"\",VLOOKUP(A3280,base_itens,2,FALSE))","v":""}]
[null,{"$f":"IF(ISBLANK(A3281),\"\",VLOOKUP(A3281,base_itens,2,FALSE))","v":""}]
[null,{"$f":"IF(ISBLANK(A3282),\"\",VLOOKUP(A3282,base_itens,2,FALSE))","v":""}]
[null,{"$f":"IF(ISBLANK(A3283),\"\",VLOOKUP(A3283,base_itens,2,FALSE))","v":""}]
[null,{"$f":"IF(ISBLANK(A3284),\"\",VLOOKUP(A3284,base_itens,2,FALSE))","v":""}]
[null,{"$f":"IF(ISBLANK(A3285),\"\",VLOOKUP(A3285,base_itens,2,FALSE))","v":""}]
[null,{"$f":"IF(ISBLANK(A3286),\"\",VLOOKUP(A3286,base_itens,2,FALSE))","v":""}]
[null,{"$f":"IF(ISBLANK(A3287),\"\",VLOOKUP(A3287,base_itens,2,FALSE))","v":""}]
[null,{"$f":"IF(ISBLANK(A3288),\"\",VLOOKUP(A3288,base_itens,2,FALSE))","v":""}]
[null,{"$f":"IF(ISBLANK(A3289),\"\",VLOOKUP(A3289,base_itens,2,FALSE))","v":""}]
[null,{"$f":"IF(ISBLANK(A3290),\"\",VLOOKUP(A3290,base_itens,2,FALSE))","v":""}]
[null,{"$f":"IF(ISBLANK(A3291),\"\",VLOOKUP(A3291,base_itens,2,FALSE))","v":""}]
[null,{"$f":"IF(ISBLANK(A3292),\"\",VLOOKUP(A3292,base_itens,2,FALSE))","v":""}]
[null,{"$f":"IF(ISBLANK(A3293),\"\",VLOOKUP(A3293,base_itens,2,FALSE))","v":""}]
[null,{"$f":"IF(ISBLANK(A3294),\"\",VLOOKUP(A3294,base_itens,2,FALSE))","v":""}]
[null,{"$f":"IF(ISBLANK(A3295),\"\",VLOOKUP(A3295,base_itens,2,FALSE))","v":""}]
[null,{"$f":"IF(ISBLANK(A3296),\"\",VLOOKUP(A3296,base_itens,2,FALSE))","v":""}]
[null,{"$f":"IF(ISBLANK(A3297),\"\",VLOOKUP(A3297,base_itens,2,FALSE))","v":""}]
[null,{"$f":"IF(ISBLANK(A3298),\"\",VLOOKUP(A3298,base_itens,2,FALSE))","v":""}]
[null,{"$f":"IF(ISBLANK(A3299),\"\",VLOOKUP(A3299,base_itens,2,FALSE))","v":""}]
[null,{"$f":"IF(ISBLANK(A3300),\"\",VLOOKUP(A3300,base_itens,2,FALSE))","v":""}]
[null,{"$f":"IF(ISBLANK(A3301),\"\",VLOOKUP(A3301,base_itens,2,FALSE))","v":""}]
[null,{"$f":"IF(ISBLANK(A3302),\"\",VLOOKUP(A3302,base_itens,2,FALSE))","v":""}]
[null,{"$f":"IF(ISBLANK(A3303),\"\",VLOOKUP(A3303,base_itens,2,FALSE))","v":""}]
[null,{"$f":"IF(ISBLANK(A3304),\"\",VLOOKUP(A3304,base_itens,2,FALSE))","v":""}]
[null,{"$f":"IF(ISBLANK(A3305),\"\",VLOOKUP(A3305,base_itens,2,FALSE))","v":""}]
[null,{"$f":"IF(ISBLANK(A3306),\"\",VLOOKUP(A3306,base_itens,2,FALSE))","v":""}]
[null,{"$f":"IF(ISBLANK(A3307),\"\",VLOOKUP(A3307,base_itens,2,FALSE))","v":""}]
[null,{"$f":"IF(ISBLANK(A3308),\"\",VLOOKUP(A3308,base_itens,2,FALSE))","v":""}]
[null,{"$f":"IF(ISBLANK(A3309),\"\",VLOOKUP(A3309,base_itens,2,FALSE))","v":""}]
[null,{"$f":"IF(ISBLANK(A3310),\"\",VLOOKUP(A3310,base_itens,2,FALSE))","v":""}]
[null,{"$f":"IF(ISBLANK(A3311),\"\",VLOOKUP(A3311,base_itens,2,FALSE))","v":""}]
[null,{"$f":"IF(ISBLANK(A3312),\"\",VLOOKUP(A3312,base_itens,2,FALSE))","v":""}]
[null,{"$f":"IF(ISBLANK(A3313),\"\",VLOOKUP(A3313,base_itens,2,FALSE))","v":""}]
[null,{"$f":"IF(ISBLANK(A3314),\"\",VLOOKUP(A3314,base_itens,2,FALSE))","v":""}]
[null,{"$f":"IF(ISBLANK(A3315),\"\",VLOOKUP(A3315,base_itens,2,FALSE))","v":""}]
[null,{"$f":"IF(ISBLANK(A3316),\"\",VLOOKUP(A3316,base_itens,2,FALSE))","v":""}]
[null,{"$f":"IF(ISBLANK(A3317),\"\",VLOOKUP(A3317,base_itens,2,FALSE))","v":""}]
[null,{"$f":"IF(ISBLANK(A3318),\"\",VLOOKUP(A3318,base_itens,2,FALSE))","v":""}]
[null,{"$f":"IF(ISBLANK(A3319),\"\",VLOOKUP(A3319,base_itens,2,FALSE))","v":""}]
[null,{"$f":"IF(ISBLANK(A3320),\"\",VLOOKUP(A3320,base_itens,2,FALSE))","v":""}]
[null,{"$f":"IF(ISBLANK(A3321),\"\",VLOOKUP(A3321,base_itens,2,FALSE))","v":""}]
[null,{"$f":"IF(ISBLANK(A3322),\"\",VLOOKUP(A3322,base_itens,2,FALSE))","v":""}]
[null,{"$f":"IF(ISBLANK(A3323),\"\",VLOOKUP(A3323,base_itens,2,FALSE))","v":""}]
[null,{"$f":"IF(ISBLANK(A3324),\"\",VLOOKUP(A3324,base_itens,2,FALSE))","v":""}]
[null,{"$f":"IF(ISBLANK(A3325),\"\",VLOOKUP(A3325,base_itens,2,FALSE))","v":""}]
[null,{"$f":"IF(ISBLANK(A3326),\"\",VLOOKUP(A3326,base_itens,2,FALSE))","v":""}]
[null,{"$f":"IF(ISBLANK(A3327),\"\",VLOOKUP(A3327,base_itens,2,FALSE))","v":""}]
[null,{"$f":"IF(ISBLANK(A3328),\"\",VLOOKUP(A3328,base_itens,2,FALSE))","v":""}]
[null,{"$f":"IF(ISBLANK(A3329),\"\",VLOOKUP(A3329,base_itens,2,FALSE))","v":""}]
[null,{"$f":"IF(ISBLANK(A3330),\"\",VLOOKUP(A3330,base_itens,2,FALSE))","v":""}]
[null,{"$f":"IF(ISBLANK(A3331),\"\",VLOOKUP(A3331,base_itens,2,FALSE))","v":""}]
[null,{"$f":"IF(ISBLANK(A3332),\"\",VLOOKUP(A3332,base_itens,2,FALSE))","v":""}]
[null,{"$f":"IF(ISBLANK(A3333),\"\",VLOOKUP(A3333,base_itens,2,FALSE))","v":""}]
[null,{"$f":"IF(ISBLANK(A3334),\"\",VLOOKUP(A3334,base_itens,2,FALSE))","v":""}]
[null,{"$f":"IF(ISBLANK(A3335),\"\",VLOOKUP(A3335,base_itens,2,FALSE))","v":""}]
[null,{"$f":"IF(ISBLANK(A3336),\"\",VLOOKUP(A3336,base_itens,2,FALSE))","v":""}]
[null,{"$f":"IF(ISBLANK(A3337),\"\",VLOOKUP(A3337,base_itens,2,FALSE))","v":""}]
[null,{"$f":"IF(ISBLANK(A3338),\"\",VLOOKUP(A3338,base_itens,2,FALSE))","v":""}]
[null,{"$f":"IF(ISBLANK(A3339),\"\",VLOOKUP(A3339,base_itens,2,FALSE))","v":""}]
[null,{"$f":"IF(ISBLANK(A3340),\"\",VLOOKUP(A3340,base_itens,2,FALSE))","v":""}]
[null,{"$f":"IF(ISBLANK(A3341),\"\",VLOOKUP(A3341,base_itens,2,FALSE))","v":""}]
[null,{"$f":"IF(ISBLANK(A3342),\"\",VLOOKUP(A3342,base_itens,2,FALSE))","v":""}]
[null,{"$f":"IF(ISBLANK(A3343),\"\",VLOOKUP(A3343,base_itens,2,FALSE))","v":""}]
[null,{"$f":"IF(ISBLANK(A3344),\"\",VLOOKUP(A3344,base_itens,2,FALSE))","v":""}]
[null,{"$f":"IF(ISBLANK(A3345),\"\",VLOOKUP(A3345,base_itens,2,FALSE))","v":""}]
[null,{"$f":"IF(ISBLANK(A3346),\"\",VLOOKUP(A3346,base_itens,2,FALSE))","v":""}]
[null,{"$f":"IF(ISBLANK(A3347),\"\",VLOOKUP(A3347,base_itens,2,FALSE))","v":""}]
[null,{"$f":"IF(ISBLANK(A3348),\"\",VLOOKUP(A3348,base_itens,2,FALSE))","v":""}]
[null,{"$f":"IF(ISBLANK(A3349),\"\",VLOOKUP(A3349,base_itens,2,FALSE))","v":""}]
[null,{"$f":"IF(ISBLANK(A3350),\"\",VLOOKUP(A3350,base_itens,2,FALSE))","v":""}]
[null,{"$f":"IF(ISBLANK(A3351),\"\",VLOOKUP(A3351,base_itens,2,FALSE))","v":""}]
[null,{"$f":"IF(ISBLANK(A3352),\"\",VLOOKUP(A3352,base_itens,2,FALSE))","v":""}]
[null,{"$f":"IF(ISBLANK(A3353),\"\",VLOOKUP(A3353,base_itens,2,FALSE))","v":""}]
[null,{"$f":"IF(ISBLANK(A3354),\"\",VLOOKUP(A3354,base_itens,2,FALSE))","v":""}]
[null,{"$f":"IF(ISBLANK(A3355),\"\",VLOOKUP(A3355,base_itens,2,FALSE))","v":""}]
[null,{"$f":"IF(ISBLANK(A3356),\"\",VLOOKUP(A3356,base_itens,2,FALSE))","v":""}]
[null,{"$f":"IF(ISBLANK(A3357),\"\",VLOOKUP(A3357,base_itens,2,FALSE))","v":""}]
[null,{"$f":"IF(ISBLANK(A3358),\"\",VLOOKUP(A3358,base_itens,2,FALSE))","v":""}]
[null,{"$f":"IF(ISBLANK(A3359),\"\",VLOOKUP(A3359,base_itens,2,FALSE))","v":""}]
[null,{"$f":"IF(ISBLANK(A3360),\"\",VLOOKUP(A3360,base_itens,2,FALSE))","v":""}]
[null,{"$f":"IF(ISBLANK(A3361),\"\",VLOOKUP(A3361,base_itens,2,FALSE))","v":""}]
[null,{"$f":"IF(ISBLANK(A3362),\"\",VLOOKUP(A3362,base_itens,2,FALSE))","v":""}]
[null,{"$f":"IF(ISBLANK(A3363),\"\",VLOOKUP(A3363,base_itens,2,FALSE))","v":""}]
[null,{"$f":"IF(ISBLANK(A3364),\"\",VLOOKUP(A3364,base_itens,2,FALSE))","v":""}]
[null,{"$f":"IF(ISBLANK(A3365),\"\",VLOOKUP(A3365,base_itens,2,FALSE))","v":""}]
[null,{"$f":"IF(ISBLANK(A3366),\"\",VLOOKUP(A3366,base_itens,2,FALSE))","v":""}]
[null,{"$f":"IF(ISBLANK(A3367),\"\",VLOOKUP(A3367,base_itens,2,FALSE))","v":""}]
[null,{"$f":"IF(ISBLANK(A3368),\"\",VLOOKUP(A3368,base_itens,2,FALSE))","v":""}]
[null,{"$f":"IF(ISBLANK(A3369),\"\",VLOOKUP(A3369,base_itens,2,FALSE))","v":""}]
[null,{"$f":"IF(ISBLANK(A3370),\"\",VLOOKUP(A3370,base_itens,2,FALSE))","v":""}]
[null,{"$f":"IF(ISBLANK(A3371),\"\",VLOOKUP(A3371,base_itens,2,FALSE))","v":""}]
[null,{"$f":"IF(ISBLANK(A3372),\"\",VLOOKUP(A3372,base_itens,2,FALSE))","v":""}]
[null,{"$f":"IF(ISBLANK(A3373),\"\",VLOOKUP(A3373,base_itens,2,FALSE))","v":""}]
[null,{"$f":"IF(ISBLANK(A3374),\"\",VLOOKUP(A3374,base_itens,2,FALSE))","v":""}]
[null,{"$f":"IF(ISBLANK(A3375),\"\",VLOOKUP(A3375,base_itens,2,FALSE))","v":""}]
[null,{"$f":"IF(ISBLANK(A3376),\"\",VLOOKUP(A3376,base_itens,2,FALSE))","v":""}]
[null,{"$f":"IF(ISBLANK(A3377),\"\",VLOOKUP(A3377,base_itens,2,FALSE))","v":""}]
[null,{"$f":"IF(ISBLANK(A3378),\"\",VLOOKUP(A3378,base_itens,2,FALSE))","v":""}]
[null,{"$f":"IF(ISBLANK(A3379),\"\",VLOOKUP(A3379,base_itens,2,FALSE))","v":""}]
[null,{"$f":"IF(ISBLANK(A3380),\"\",VLOOKUP(A3380,base_itens,2,FALSE))","v":""}]
[null,{"$f":"IF(ISBLANK(A3381),\"\",VLOOKUP(A3381,base_itens,2,FALSE))","v":""}]
[null,{"$f":"IF(ISBLANK(A3382),\"\",VLOOKUP(A3382,base_itens,2,FALSE))","v":""}]
[null,{"$f":"IF(ISBLANK(A3383),\"\",VLOOKUP(A3383,base_itens,2,FALSE))","v":""}]
[null,{"$f":"IF(ISBLANK(A3384),\"\",VLOOKUP(A3384,base_itens,2,FALSE))","v":""}]
[null,{"$f":"IF(ISBLANK(A3385),\"\",VLOOKUP(A3385,base_itens,2,FALSE))","v":""}]
[null,{"$f":"IF(ISBLANK(A3386),\"\",VLOOKUP(A3386,base_itens,2,FALSE))","v":""}]
[null,{"$f":"IF(ISBLANK(A3387),\"\",VLOOKUP(A3387,base_itens,2,FALSE))","v":""}]
[null,{"$f":"IF(ISBLANK(A3388),\"\",VLOOKUP(A3388,base_itens,2,FALSE))","v":""}]
[null,{"$f":"IF(ISBLANK(A3389),\"\",VLOOKUP(A3389,base_itens,2,FALSE))","v":""}]
[null,{"$f":"IF(ISBLANK(A3390),\"\",VLOOKUP(A3390,base_itens,2,FALSE))","v":""}]
[null,{"$f":"IF(ISBLANK(A3391),\"\",VLOOKUP(A3391,base_itens,2,FALSE))","v":""}]
[null,{"$f":"IF(ISBLANK(A3392),\"\",VLOOKUP(A3392,base_itens,2,FALSE))","v":""}]
[null,{"$f":"IF(ISBLANK(A3393),\"\",VLOOKUP(A3393,base_itens,2,FALSE))","v":""}]
[null,{"$f":"IF(ISBLANK(A3394),\"\",VLOOKUP(A3394,base_itens,2,FALSE))","v":""}]
[null,{"$f":"IF(ISBLANK(A3395),\"\",VLOOKUP(A3395,base_itens,2,FALSE))","v":""}]
[null,{"$f":"IF(ISBLANK(A3396),\"\",VLOOKUP(A3396,base_itens,2,FALSE))","v":""}]
[null,{"$f":"IF(ISBLANK(A3397),\"\",VLOOKUP(A3397,base_itens,2,FALSE))","v":""}]
[null,{"$f":"IF(ISBLANK(A3398),\"\",VLOOKUP(A3398,base_itens,2,FALSE))","v":""}]
[null,{"$f":"IF(ISBLANK(A3399),\"\",VLOOKUP(A3399,base_itens,2,FALSE))","v":""}]
[null,{"$f":"IF(ISBLANK(A3400),\"\",VLOOKUP(A3400,base_itens,2,FALSE))","v":""}]
[null,{"$f":"IF(ISBLANK(A3401),\"\",VLOOKUP(A3401,base_itens,2,FALSE))","v":""}]
[null,{"$f":"IF(ISBLANK(A3402),\"\",VLOOKUP(A3402,base_itens,2,FALSE))","v":""}]
[null,{"$f":"IF(ISBLANK(A3403),\"\",VLOOKUP(A3403,base_itens,2,FALSE))","v":""}]
[null,{"$f":"IF(ISBLANK(A3404),\"\",VLOOKUP(A3404,base_itens,2,FALSE))","v":""}]
[null,{"$f":"IF(ISBLANK(A3405),\"\",VLOOKUP(A3405,base_itens,2,FALSE))","v":""}]
[null,{"$f":"IF(ISBLANK(A3406),\"\",VLOOKUP(A3406,base_itens,2,FALSE))","v":""}]
[null,{"$f":"IF(ISBLANK(A3407),\"\",VLOOKUP(A3407,base_itens,2,FALSE))","v":""}]
[null,{"$f":"IF(ISBLANK(A3408),\"\",VLOOKUP(A3408,base_itens,2,FALSE))","v":""}]
[null,{"$f":"IF(ISBLANK(A3409),\"\",VLOOKUP(A3409,base_itens,2,FALSE))","v":""}]
[null,{"$f":"IF(ISBLANK(A3410),\"\",VLOOKUP(A3410,base_itens,2,FALSE))","v":""}]
[null,{"$f":"IF(ISBLANK(A3411),\"\",VLOOKUP(A3411,base_itens,2,FALSE))","v":""}]
[null,{"$f":"IF(ISBLANK(A3412),\"\",VLOOKUP(A3412,base_itens,2,FALSE))","v":""}]
[null,{"$f":"IF(ISBLANK(A3413),\"\",VLOOKUP(A3413,base_itens,2,FALSE))","v":""}]
[null,{"$f":"IF(ISBLANK(A3414),\"\",VLOOKUP(A3414,base_itens,2,FALSE))","v":""}]
[null,{"$f":"IF(ISBLANK(A3415),\"\",VLOOKUP(A3415,base_itens,2,FALSE))","v":""}]
[null,{"$f":"IF(ISBLANK(A3416),\"\",VLOOKUP(A3416,base_itens,2,FALSE))","v":""}]
[null,{"$f":"IF(ISBLANK(A3417),\"\",VLOOKUP(A3417,base_itens,2,FALSE))","v":""}]
[null,{"$f":"IF(ISBLANK(A3418),\"\",VLOOKUP(A3418,base_itens,2,FALSE))","v":""}]
[null,{"$f":"IF(ISBLANK(A3419),\"\",VLOOKUP(A3419,base_itens,2,FALSE))","v":""}]
[null,{"$f":"IF(ISBLANK(A3420),\"\",VLOOKUP(A3420,base_itens,2,FALSE))","v":""}]
[null,{"$f":"IF(ISBLANK(A3421),\"\",VLOOKUP(A3421,base_itens,2,FALSE))","v":""}]
[null,{"$f":"IF(ISBLANK(A3422),\"\",VLOOKUP(A3422,base_itens,2,FALSE))","v":""}]
[null,{"$f":"IF(ISBLANK(A3423),\"\",VLOOKUP(A3423,base_itens,2,FALSE))","v":""}]
[null,{"$f":"IF(ISBLANK(A3424),\"\",VLOOKUP(A3424,base_itens,2,FALSE))","v":""}]
[null,{"$f":"IF(ISBLANK(A3425),\"\",VLOOKUP(A3425,base_itens,2,FALSE))","v":""}]
[null,{"$f":"IF(ISBLANK(A3426),\"\",VLOOKUP(A3426,base_itens,2,FALSE))","v":""}]
[null,{"$f":"IF(ISBLANK(A3427),\"\",VLOOKUP(A3427,base_itens,2,FALSE))","v":""}]
[null,{"$f":"IF(ISBLANK(A3428),\"\",VLOOKUP(A3428,base_itens,2,FALSE))","v":""}]
[null,{"$f":"IF(ISBLANK(A3429),\"\",VLOOKUP(A3429,base_itens,2,FALSE))","v":""}]
[null,{"$f":"IF(ISBLANK(A3430),\"\",VLOOKUP(A3430,base_itens,2,FALSE))","v":""}]
[null,{"$f":"IF(ISBLANK(A3431),\"\",VLOOKUP(A3431,base_itens,2,FALSE))","v":""}]
[null,{"$f":"IF(ISBLANK(A3432),\"\",VLOOKUP(A3432,base_itens,2,FALSE))","v":""}]
[null,{"$f":"IF(ISBLANK(A3433),\"\",VLOOKUP(A3433,base_itens,2,FALSE))","v":""}]
[null,{"$f":"IF(ISBLANK(A3434),\"\",VLOOKUP(A3434,base_itens,2,FALSE))","v":""}]
[null,{"$f":"IF(ISBLANK(A3435),\"\",VLOOKUP(A3435,base_itens,2,FALSE))","v":""}]
[null,{"$f":"IF(ISBLANK(A3436),\"\",VLOOKUP(A3436,base_itens,2,FALSE))","v":""}]
[null,{"$f":"IF(ISBLANK(A3437),\"\",VLOOKUP(A3437,base_itens,2,FALSE))","v":""}]
[null,{"$f":"IF(ISBLANK(A3438),\"\",VLOOKUP(A3438,base_itens,2,FALSE))","v":""}]
[null,{"$f":"IF(ISBLANK(A3439),\"\",VLOOKUP(A3439,base_itens,2,FALSE))","v":""}]
[null,{"$f":"IF(ISBLANK(A3440),\"\",VLOOKUP(A3440,base_itens,2,FALSE))","v":""}]
[null,{"$f":"IF(ISBLANK(A3441),\"\",VLOOKUP(A3441,base_itens,2,FALSE))","v":""}]
[null,{"$f":"IF(ISBLANK(A3442),\"\",VLOOKUP(A3442,base_itens,2,FALSE))","v":""}]
[null,{"$f":"IF(ISBLANK(A3443),\"\",VLOOKUP(A3443,base_itens,2,FALSE))","v":""}]
[null,{"$f":"IF(ISBLANK(A3444),\"\",VLOOKUP(A3444,base_itens,2,FALSE))","v":""}]
[null,{"$f":"IF(ISBLANK(A3445),\"\",VLOOKUP(A3445,base_itens,2,FALSE))","v":""}]
[null,{"$f":"IF(ISBLANK(A3446),\"\",VLOOKUP(A3446,base_itens,2,FALSE))","v":""}]
[null,{"$f":"IF(ISBLANK(A3447),\"\",VLOOKUP(A3447,base_itens,2,FALSE))","v":""}]
[null,{"$f":"IF(ISBLANK(A3448),\"\",VLOOKUP(A3448,base_itens,2,FALSE))","v":""}]
[null,{"$f":"IF(ISBLANK(A3449),\"\",VLOOKUP(A3449,base_itens,2,FALSE))","v":""}]
[null,{"$f":"IF(ISBLANK(A3450),\"\",VLOOKUP(A3450,base_itens,2,FALSE))","v":""}]
[null,{"$f":"IF(ISBLANK(A3451),\"\",VLOOKUP(A3451,base_itens,2,FALSE))","v":""}]
[null,{"$f":"IF(ISBLANK(A3452),\"\",VLOOKUP(A3452,base_itens,2,FALSE))","v":""}]
[null,{"$f":"IF(ISBLANK(A3453),\"\",VLOOKUP(A3453,base_itens,2,FALSE))","v":""}]
[null,{"$f":"IF(ISBLANK(A3454),\"\",VLOOKUP(A3454,base_itens,2,FALSE))","v":""}]
[null,{"$f":"IF(ISBLANK(A3455),\"\",VLOOKUP(A3455,base_itens,2,FALSE))","v":""}]
[null,{"$f":"IF(ISBLANK(A3456),\"\",VLOOKUP(A3456,base_itens,2,FALSE))","v":""}]
[null,{"$f":"IF(ISBLANK(A3457),\"\",VLOOKUP(A3457,base_itens,2,FALSE))","v":""}]
[null,{"$f":"IF(ISBLANK(A3458),\"\",VLOOKUP(A3458,base_itens,2,FALSE))","v":""}]
[null,{"$f":"IF(ISBLANK(A3459),\"\",VLOOKUP(A3459,base_itens,2,FALSE))","v":""}]
[null,{"$f":"IF(ISBLANK(A3460),\"\",VLOOKUP(A3460,base_itens,2,FALSE))","v":""}]
[null,{"$f":"IF(ISBLANK(A3461),\"\",VLOOKUP(A3461,base_itens,2,FALSE))","v":""}]
[null,{"$f":"IF(ISBLANK(A3462),\"\",VLOOKUP(A3462,base_itens,2,FALSE))","v":""}]
[null,{"$f":"IF(ISBLANK(A3463),\"\",VLOOKUP(A3463,base_itens,2,FALSE))","v":""}]
[null,{"$f":"IF(ISBLANK(A3464),\"\",VLOOKUP(A3464,base_itens,2,FALSE))","v":""}]
[null,{"$f":"IF(ISBLANK(A3465),\"\",VLOOKUP(A3465,base_itens,2,FALSE))","v":""}]
[null,{"$f":"IF(ISBLANK(A3466),\"\",VLOOKUP(A3466,base_itens,2,FALSE))","v":""}]
[null,{"$f":"IF(ISBLANK(A3467),\"\",VLOOKUP(A3467,base_itens,2,FALSE))","v":""}]
[null,{"$f":"IF(ISBLANK(A3468),\"\",VLOOKUP(A3468,base_itens,2,FALSE))","v":""}]
[null,{"$f":"IF(ISBLANK(A3469),\"\",VLOOKUP(A3469,base_itens,2,FALSE))","v":""}]
[null,{"$f":"IF(ISBLANK(A3470),\"\",VLOOKUP(A3470,base_itens,2,FALSE))","v":""}]
[null,{"$f":"IF(ISBLANK(A3471),\"\",VLOOKUP(A3471,base_itens,2,FALSE))","v":""}]
[null,{"$f":"IF(ISBLANK(A3472),\"\",VLOOKUP(A3472,base_itens,2,FALSE))","v":""}]
[null,{"$f":"IF(ISBLANK(A3473),\"\",VLOOKUP(A3473,base_itens,2,FALSE))","v":""}]
[null,{"$f":"IF(ISBLANK(A3474),\"\",VLOOKUP(A3474,base_itens,2,FALSE))","v":""}]
[null,{"$f":"IF(ISBLANK(A3475),\"\",VLOOKUP(A3475,base_itens,2,FALSE))","v":""}]
[null,{"$f":"IF(ISBLANK(A3476),\"\",VLOOKUP(A3476,base_itens,2,FALSE))","v":""}]
[null,{"$f":"IF(ISBLANK(A3477),\"\",VLOOKUP(A3477,base_itens,2,FALSE))","v":""}]
[null,{"$f":"IF(ISBLANK(A3478),\"\",VLOOKUP(A3478,base_itens,2,FALSE))","v":""}]
[null,{"$f":"IF(ISBLANK(A3479),\"\",VLOOKUP(A3479,base_itens,2,FALSE))","v":""}]
[null,{"$f":"IF(ISBLANK(A3480),\"\",VLOOKUP(A3480,base_itens,2,FALSE))","v":""}]
[null,{"$f":"IF(ISBLANK(A3481),\"\",VLOOKUP(A3481,base_itens,2,FALSE))","v":""}]
[null,{"$f":"IF(ISBLANK(A3482),\"\",VLOOKUP(A3482,base_itens,2,FALSE))","v":""}]
[null,{"$f":"IF(ISBLANK(A3483),\"\",VLOOKUP(A3483,base_itens,2,FALSE))","v":""}]
[null,{"$f":"IF(ISBLANK(A3484),\"\",VLOOKUP(A3484,base_itens,2,FALSE))","v":""}]
[null,{"$f":"IF(ISBLANK(A3485),\"\",VLOOKUP(A3485,base_itens,2,FALSE))","v":""}]
[null,{"$f":"IF(ISBLANK(A3486),\"\",VLOOKUP(A3486,base_itens,2,FALSE))","v":""}]
[null,{"$f":"IF(ISBLANK(A3487),\"\",VLOOKUP(A3487,base_itens,2,FALSE))","v":""}]
[null,{"$f":"IF(ISBLANK(A3488),\"\",VLOOKUP(A3488,base_itens,2,FALSE))","v":""}]
[null,{"$f":"IF(ISBLANK(A3489),\"\",VLOOKUP(A3489,base_itens,2,FALSE))","v":""}]
[null,{"$f":"IF(ISBLANK(A3490),\"\",VLOOKUP(A3490,base_itens,2,FALSE))","v":""}]
[null,{"$f":"IF(ISBLANK(A3491),\"\",VLOOKUP(A3491,base_itens,2,FALSE))","v":""}]
[null,{"$f":"IF(ISBLANK(A3492),\"\",VLOOKUP(A3492,base_itens,2,FALSE))","v":""}]
[null,{"$f":"IF(ISBLANK(A3493),\"\",VLOOKUP(A3493,base_itens,2,FALSE))","v":""}]
[null,{"$f":"IF(ISBLANK(A3494),\"\",VLOOKUP(A3494,base_itens,2,FALSE))","v":""}]
[null,{"$f":"IF(ISBLANK(A3495),\"\",VLOOKUP(A3495,base_itens,2,FALSE))","v":""}]
[null,{"$f":"IF(ISBLANK(A3496),\"\",VLOOKUP(A3496,base_itens,2,FALSE))","v":""}]
[null,{"$f":"IF(ISBLANK(A3497),\"\",VLOOKUP(A3497,base_itens,2,FALSE))","v":""}]
[null,{"$f":"IF(ISBLANK(A3498),\"\",VLOOKUP(A3498,base_itens,2,FALSE))","v":""}]
[null,{"$f":"IF(ISBLANK(A3499),\"\",VLOOKUP(A3499,base_itens,2,FALSE))","v":""}]
[null,{"$f":"IF(ISBLANK(A3500),\"\",VLOOKUP(A3500,base_itens,2,FALSE))","v":""}]
[null,{"$f":"IF(ISBLANK(A3501),\"\",VLOOKUP(A3501,base_itens,2,FALSE))","v":""}]
[null,{"$f":"IF(ISBLANK(A3502),\"\",VLOOKUP(A3502,base_itens,2,FALSE))","v":""}]
[null,{"$f":"IF(ISBLANK(A3503),\"\",VLOOKUP(A3503,base_itens,2,FALSE))","v":""}]
[null,{"$f":"IF(ISBLANK(A3504),\"\",VLOOKUP(A3504,base_itens,2,FALSE))","v":""}]
[null,{"$f":"IF(ISBLANK(A3505),\"\",VLOOKUP(A3505,base_itens,2,FALSE))","v":""}]
[null,{"$f":"IF(ISBLANK(A3506),\"\",VLOOKUP(A3506,base_itens,2,FALSE))","v":""}]
[null,{"$f":"IF(ISBLANK(A3507),\"\",VLOOKUP(A3507,base_itens,2,FALSE))","v":""}]
[null,{"$f":"IF(ISBLANK(A3508),\"\",VLOOKUP(A3508,base_itens,2,FALSE))","v":""}]
[null,{"$f":"IF(ISBLANK(A3509),\"\",VLOOKUP(A3509,base_itens,2,FALSE))","v":""}]
[null,{"$f":"IF(ISBLANK(A3510),\"\",VLOOKUP(A3510,base_itens,2,FALSE))","v":""}]
[null,{"$f":"IF(ISBLANK(A3511),\"\",VLOOKUP(A3511,base_itens,2,FALSE))","v":""}]
[null,{"$f":"IF(ISBLANK(A3512),\"\",VLOOKUP(A3512,base_itens,2,FALSE))","v":""}]
[null,{"$f":"IF(ISBLANK(A3513),\"\",VLOOKUP(A3513,base_itens,2,FALSE))","v":""}]
[null,{"$f":"IF(ISBLANK(A3514),\"\",VLOOKUP(A3514,base_itens,2,FALSE))","v":""}]
[null,{"$f":"IF(ISBLANK(A3515),\"\",VLOOKUP(A3515,base_itens,2,FALSE))","v":""}]
[null,{"$f":"IF(ISBLANK(A3516),\"\",VLOOKUP(A3516,base_itens,2,FALSE))","v":""}]
[null,{"$f":"IF(ISBLANK(A3517),\"\",VLOOKUP(A3517,base_itens,2,FALSE))","v":""}]
[null,{"$f":"IF(ISBLANK(A3518),\"\",VLOOKUP(A3518,base_itens,2,FALSE))","v":""}]
[null,{"$f":"IF(ISBLANK(A3519),\"\",VLOOKUP(A3519,base_itens,2,FALSE))","v":""}]
[null,{"$f":"IF(ISBLANK(A3520),\"\",VLOOKUP(A3520,base_itens,2,FALSE))","v":""}]
[null,{"$f":"IF(ISBLANK(A3521),\"\",VLOOKUP(A3521,base_itens,2,FALSE))","v":""}]
[null,{"$f":"IF(ISBLANK(A3522),\"\",VLOOKUP(A3522,base_itens,2,FALSE))","v":""}]
[null,{"$f":"IF(ISBLANK(A3523),\"\",VLOOKUP(A3523,base_itens,2,FALSE))","v":""}]
[null,{"$f":"IF(ISBLANK(A3524),\"\",VLOOKUP(A3524,base_itens,2,FALSE))","v":""}]
[null,{"$f":"IF(ISBLANK(A3525),\"\",VLOOKUP(A3525,base_itens,2,FALSE))","v":""}]
[null,{"$f":"IF(ISBLANK(A3526),\"\",VLOOKUP(A3526,base_itens,2,FALSE))","v":""}]
[null,{"$f":"IF(ISBLANK(A3527),\"\",VLOOKUP(A3527,base_itens,2,FALSE))","v":""}]
[null,{"$f":"IF(ISBLANK(A3528),\"\",VLOOKUP(A3528,base_itens,2,FALSE))","v":""}]
[null,{"$f":"IF(ISBLANK(A3529),\"\",VLOOKUP(A3529,base_itens,2,FALSE))","v":""}]
[null,{"$f":"IF(ISBLANK(A3530),\"\",VLOOKUP(A3530,base_itens,2,FALSE))","v":""}]
[null,{"$f":"IF(ISBLANK(A3531),\"\",VLOOKUP(A3531,base_itens,2,FALSE))","v":""}]
[null,{"$f":"IF(ISBLANK(A3532),\"\",VLOOKUP(A3532,base_itens,2,FALSE))","v":""}]
[null,{"$f":"IF(ISBLANK(A3533),\"\",VLOOKUP(A3533,base_itens,2,FALSE))","v":""}]
[null,{"$f":"IF(ISBLANK(A3534),\"\",VLOOKUP(A3534,base_itens,2,FALSE))","v":""}]
[null,{"$f":"IF(ISBLANK(A3535),\"\",VLOOKUP(A3535,base_itens,2,FALSE))","v":""}]
[null,{"$f":"IF(ISBLANK(A3536),\"\",VLOOKUP(A3536,base_itens,2,FALSE))","v":""}]
[null,{"$f":"IF(ISBLANK(A3537),\"\",VLOOKUP(A3537,base_itens,2,FALSE))","v":""}]
[null,{"$f":"IF(ISBLANK(A3538),\"\",VLOOKUP(A3538,base_itens,2,FALSE))","v":""}]
[null,{"$f":"IF(ISBLANK(A3539),\"\",VLOOKUP(A3539,base_itens,2,FALSE))","v":""}]
[null,{"$f":"IF(ISBLANK(A3540),\"\",VLOOKUP(A3540,base_itens,2,FALSE))","v":""}]
[null,{"$f":"IF(ISBLANK(A3541),\"\",VLOOKUP(A3541,base_itens,2,FALSE))","v":""}]
[null,{"$f":"IF(ISBLANK(A3542),\"\",VLOOKUP(A3542,base_itens,2,FALSE))","v":""}]
[null,{"$f":"IF(ISBLANK(A3543),\"\",VLOOKUP(A3543,base_itens,2,FALSE))","v":""}]
[null,{"$f":"IF(ISBLANK(A3544),\"\",VLOOKUP(A3544,base_itens,2,FALSE))","v":""}]
[null,{"$f":"IF(ISBLANK(A3545),\"\",VLOOKUP(A3545,base_itens,2,FALSE))","v":""}]
[null,{"$f":"IF(ISBLANK(A3546),\"\",VLOOKUP(A3546,base_itens,2,FALSE))","v":""}]
[null,{"$f":"IF(ISBLANK(A3547),\"\",VLOOKUP(A3547,base_itens,2,FALSE))","v":""}]
[null,{"$f":"IF(ISBLANK(A3548),\"\",VLOOKUP(A3548,base_itens,2,FALSE))","v":""}]
[null,{"$f":"IF(ISBLANK(A3549),\"\",VLOOKUP(A3549,base_itens,2,FALSE))","v":""}]
[null,{"$f":"IF(ISBLANK(A3550),\"\",VLOOKUP(A3550,base_itens,2,FALSE))","v":""}]
[null,{"$f":"IF(ISBLANK(A3551),\"\",VLOOKUP(A3551,base_itens,2,FALSE))","v":""}]
[null,{"$f":"IF(ISBLANK(A3552),\"\",VLOOKUP(A3552,base_itens,2,FALSE))","v":""}]
[null,{"$f":"IF(ISBLANK(A3553),\"\",VLOOKUP(A3553,base_itens,2,FALSE))","v":""}]
[null,{"$f":"IF(ISBLANK(A3554),\"\",VLOOKUP(A3554,base_itens,2,FALSE))","v":""}]
[null,{"$f":"IF(ISBLANK(A3555),\"\",VLOOKUP(A3555,base_itens,2,FALSE))","v":""}]
[null,{"$f":"IF(ISBLANK(A3556),\"\",VLOOKUP(A3556,base_itens,2,FALSE))","v":""}]
[null,{"$f":"IF(ISBLANK(A3557),\"\",VLOOKUP(A3557,base_itens,2,FALSE))","v":""}]
[null,{"$f":"IF(ISBLANK(A3558),\"\",VLOOKUP(A3558,base_itens,2,FALSE))","v":""}]
[null,{"$f":"IF(ISBLANK(A3559),\"\",VLOOKUP(A3559,base_itens,2,FALSE))","v":""}]
[null,{"$f":"IF(ISBLANK(A3560),\"\",VLOOKUP(A3560,base_itens,2,FALSE))","v":""}]
[null,{"$f":"IF(ISBLANK(A3561),\"\",VLOOKUP(A3561,base_itens,2,FALSE))","v":""}]
[null,{"$f":"IF(ISBLANK(A3562),\"\",VLOOKUP(A3562,base_itens,2,FALSE))","v":""}]
[null,{"$f":"IF(ISBLANK(A3563),\"\",VLOOKUP(A3563,base_itens,2,FALSE))","v":""}]
[null,{"$f":"IF(ISBLANK(A3564),\"\",VLOOKUP(A3564,base_itens,2,FALSE))","v":""}]
[null,{"$f":"IF(ISBLANK(A3565),\"\",VLOOKUP(A3565,base_itens,2,FALSE))","v":""}]
[null,{"$f":"IF(ISBLANK(A3566),\"\",VLOOKUP(A3566,base_itens,2,FALSE))","v":""}]
[null,{"$f":"IF(ISBLANK(A3567),\"\",VLOOKUP(A3567,base_itens,2,FALSE))","v":""}]
[null,{"$f":"IF(ISBLANK(A3568),\"\",VLOOKUP(A3568,base_itens,2,FALSE))","v":""}]
[null,{"$f":"IF(ISBLANK(A3569),\"\",VLOOKUP(A3569,base_itens,2,FALSE))","v":""}]
[null,{"$f":"IF(ISBLANK(A3570),\"\",VLOOKUP(A3570,base_itens,2,FALSE))","v":""}]
[null,{"$f":"IF(ISBLANK(A3571),\"\",VLOOKUP(A3571,base_itens,2,FALSE))","v":""}]
[null,{"$f":"IF(ISBLANK(A3572),\"\",VLOOKUP(A3572,base_itens,2,FALSE))","v":""}]
[null,{"$f":"IF(ISBLANK(A3573),\"\",VLOOKUP(A3573,base_itens,2,FALSE))","v":""}]
[null,{"$f":"IF(ISBLANK(A3574),\"\",VLOOKUP(A3574,base_itens,2,FALSE))","v":""}]
[null,{"$f":"IF(ISBLANK(A3575),\"\",VLOOKUP(A3575,base_itens,2,FALSE))","v":""}]
[null,{"$f":"IF(ISBLANK(A3576),\"\",VLOOKUP(A3576,base_itens,2,FALSE))","v":""}]
[null,{"$f":"IF(ISBLANK(A3577),\"\",VLOOKUP(A3577,base_itens,2,FALSE))","v":""}]
[null,{"$f":"IF(ISBLANK(A3578),\"\",VLOOKUP(A3578,base_itens,2,FALSE))","v":""}]
[null,{"$f":"IF(ISBLANK(A3579),\"\",VLOOKUP(A3579,base_itens,2,FALSE))","v":""}]
[null,{"$f":"IF(ISBLANK(A3580),\"\",VLOOKUP(A3580,base_itens,2,FALSE))","v":""}]
[null,{"$f":"IF(ISBLANK(A3581),\"\",VLOOKUP(A3581,base_itens,2,FALSE))","v":""}]
[null,{"$f":"IF(ISBLANK(A3582),\"\",VLOOKUP(A3582,base_itens,2,FALSE))","v":""}]
[null,{"$f":"IF(ISBLANK(A3583),\"\",VLOOKUP(A3583,base_itens,2,FALSE))","v":""}]
[null,{"$f":"IF(ISBLANK(A3584),\"\",VLOOKUP(A3584,base_itens,2,FALSE))","v":""}]
[null,{"$f":"IF(ISBLANK(A3585),\"\",VLOOKUP(A3585,base_itens,2,FALSE))","v":""}]
[null,{"$f":"IF(ISBLANK(A3586),\"\",VLOOKUP(A3586,base_itens,2,FALSE))","v":""}]
[null,{"$f":"IF(ISBLANK(A3587),\"\",VLOOKUP(A3587,base_itens,2,FALSE))","v":""}]
[null,{"$f":"IF(ISBLANK(A3588),\"\",VLOOKUP(A3588,base_itens,2,FALSE))","v":""}]
[null,{"$f":"IF(ISBLANK(A3589),\"\",VLOOKUP(A3589,base_itens,2,FALSE))","v":""}]
[null,{"$f":"IF(ISBLANK(A3590),\"\",VLOOKUP(A3590,base_itens,2,FALSE))","v":""}]
[null,{"$f":"IF(ISBLANK(A3591),\"\",VLOOKUP(A3591,base_itens,2,FALSE))","v":""}]
[null,{"$f":"IF(ISBLANK(A3592),\"\",VLOOKUP(A3592,base_itens,2,FALSE))","v":""}]
[null,{"$f":"IF(ISBLANK(A3593),\"\",VLOOKUP(A3593,base_itens,2,FALSE))","v":""}]
[null,{"$f":"IF(ISBLANK(A3594),\"\",VLOOKUP(A3594,base_itens,2,FALSE))","v":""}]
[null,{"$f":"IF(ISBLANK(A3595),\"\",VLOOKUP(A3595,base_itens,2,FALSE))","v":""}]
[null,{"$f":"IF(ISBLANK(A3596),\"\",VLOOKUP(A3596,base_itens,2,FALSE))","v":""}]
[null,{"$f":"IF(ISBLANK(A3597),\"\",VLOOKUP(A3597,base_itens,2,FALSE))","v":""}]
[null,{"$f":"IF(ISBLANK(A3598),\"\",VLOOKUP(A3598,base_itens,2,FALSE))","v":""}]
[null,{"$f":"IF(ISBLANK(A3599),\"\",VLOOKUP(A3599,base_itens,2,FALSE))","v":""}]
[null,{"$f":"IF(ISBLANK(A3600),\"\",VLOOKUP(A3600,base_itens,2,FALSE))","v":""}]
[null,{"$f":"IF(ISBLANK(A3601),\"\",VLOOKUP(A3601,base_itens,2,FALSE))","v":""}]
[null,{"$f":"IF(ISBLANK(A3602),\"\",VLOOKUP(A3602,base_itens,2,FALSE))","v":""}]
[null,{"$f":"IF(ISBLANK(A3603),\"\",VLOOKUP(A3603,base_itens,2,FALSE))","v":""}]
[null,{"$f":"IF(ISBLANK(A3604),\"\",VLOOKUP(A3604,base_itens,2,FALSE))","v":""}]
[null,{"$f":"IF(ISBLANK(A3605),\"\",VLOOKUP(A3605,base_itens,2,FALSE))","v":""}]
[null,{"$f":"IF(ISBLANK(A3606),\"\",VLOOKUP(A3606,base_itens,2,FALSE))","v":""}]
[null,{"$f":"IF(ISBLANK(A3607),\"\",VLOOKUP(A3607,base_itens,2,FALSE))","v":""}]
[null,{"$f":"IF(ISBLANK(A3608),\"\",VLOOKUP(A3608,base_itens,2,FALSE))","v":""}]
[null,{"$f":"IF(ISBLANK(A3609),\"\",VLOOKUP(A3609,base_itens,2,FALSE))","v":""}]
[null,{"$f":"IF(ISBLANK(A3610),\"\",VLOOKUP(A3610,base_itens,2,FALSE))","v":""}]
[null,{"$f":"IF(ISBLANK(A3611),\"\",VLOOKUP(A3611,base_itens,2,FALSE))","v":""}]
[null,{"$f":"IF(ISBLANK(A3612),\"\",VLOOKUP(A3612,base_itens,2,FALSE))","v":""}]
[null,{"$f":"IF(ISBLANK(A3613),\"\",VLOOKUP(A3613,base_itens,2,FALSE))","v":""}]
[null,{"$f":"IF(ISBLANK(A3614),\"\",VLOOKUP(A3614,base_itens,2,FALSE))","v":""}]
[null,{"$f":"IF(ISBLANK(A3615),\"\",VLOOKUP(A3615,base_itens,2,FALSE))","v":""}]
[null,{"$f":"IF(ISBLANK(A3616),\"\",VLOOKUP(A3616,base_itens,2,FALSE))","v":""}]
[null,{"$f":"IF(ISBLANK(A3617),\"\",VLOOKUP(A3617,base_itens,2,FALSE))","v":""}]
[null,{"$f":"IF(ISBLANK(A3618),\"\",VLOOKUP(A3618,base_itens,2,FALSE))","v":""}]
[null,{"$f":"IF(ISBLANK(A3619),\"\",VLOOKUP(A3619,base_itens,2,FALSE))","v":""}]
[null,{"$f":"IF(ISBLANK(A3620),\"\",VLOOKUP(A3620,base_itens,2,FALSE))","v":""}]
[null,{"$f":"IF(ISBLANK(A3621),\"\",VLOOKUP(A3621,base_itens,2,FALSE))","v":""}]
[null,{"$f":"IF(ISBLANK(A3622),\"\",VLOOKUP(A3622,base_itens,2,FALSE))","v":""}]
[null,{"$f":"IF(ISBLANK(A3623),\"\",VLOOKUP(A3623,base_itens,2,FALSE))","v":""}]
[null,{"$f":"IF(ISBLANK(A3624),\"\",VLOOKUP(A3624,base_itens,2,FALSE))","v":""}]
[null,{"$f":"IF(ISBLANK(A3625),\"\",VLOOKUP(A3625,base_itens,2,FALSE))","v":""}]
[null,{"$f":"IF(ISBLANK(A3626),\"\",VLOOKUP(A3626,base_itens,2,FALSE))","v":""}]
[null,{"$f":"IF(ISBLANK(A3627),\"\",VLOOKUP(A3627,base_itens,2,FALSE))","v":""}]
[null,{"$f":"IF(ISBLANK(A3628),\"\",VLOOKUP(A3628,base_itens,2,FALSE))","v":""}]
[null,{"$f":"IF(ISBLANK(A3629),\"\",VLOOKUP(A3629,base_itens,2,FALSE))","v":""}]
[null,{"$f":"IF(ISBLANK(A3630),\"\",VLOOKUP(A3630,base_itens,2,FALSE))","v":""}]
[null,{"$f":"IF(ISBLANK(A3631),\"\",VLOOKUP(A3631,base_itens,2,FALSE))","v":""}]
[null,{"$f":"IF(ISBLANK(A3632),\"\",VLOOKUP(A3632,base_itens,2,FALSE))","v":""}]
[null,{"$f":"IF(ISBLANK(A3633),\"\",VLOOKUP(A3633,base_itens,2,FALSE))","v":""}]
[null,{"$f":"IF(ISBLANK(A3634),\"\",VLOOKUP(A3634,base_itens,2,FALSE))","v":""}]
[null,{"$f":"IF(ISBLANK(A3635),\"\",VLOOKUP(A3635,base_itens,2,FALSE))","v":""}]
[null,{"$f":"IF(ISBLANK(A3636),\"\",VLOOKUP(A3636,base_itens,2,FALSE))","v":""}]
[null,{"$f":"IF(ISBLANK(A3637),\"\",VLOOKUP(A3637,base_itens,2,FALSE))","v":""}]
[null,{"$f":"IF(ISBLANK(A3638),\"\",VLOOKUP(A3638,base_itens,2,FALSE))","v":""}]
[null,{"$f":"IF(ISBLANK(A3639),\"\",VLOOKUP(A3639,base_itens,2,FALSE))","v":""}]
[null,{"$f":"IF(ISBLANK(A3640),\"\",VLOOKUP(A3640,base_itens,2,FALSE))","v":""}]
[null,{"$f":"IF(ISBLANK(A3641),\"\",VLOOKUP(A3641,base_itens,2,FALSE))","v":""}]
[null,{"$f":"IF(ISBLANK(A3642),\"\",VLOOKUP(A3642,base_itens,2,FALSE))","v":""}]
[null,{"$f":"IF(ISBLANK(A3643),\"\",VLOOKUP(A3643,base_itens,2,FALSE))","v":""}]
[null,{"$f":"IF(ISBLANK(A3644),\"\",VLOOKUP(A3644,base_itens,2,FALSE))","v":""}]
[null,{"$f":"IF(ISBLANK(A3645),\"\",VLOOKUP(A3645,base_itens,2,FALSE))","v":""}]
[null,{"$f":"IF(ISBLANK(A3646),\"\",VLOOKUP(A3646,base_itens,2,FALSE))","v":""}]
[null,{"$f":"IF(ISBLANK(A3647),\"\",VLOOKUP(A3647,base_itens,2,FALSE))","v":""}]
[null,{"$f":"IF(ISBLANK(A3648),\"\",VLOOKUP(A3648,base_itens,2,FALSE))","v":""}]
[null,{"$f":"IF(ISBLANK(A3649),\"\",VLOOKUP(A3649,base_itens,2,FALSE))","v":""}]
[null,{"$f":"IF(ISBLANK(A3650),\"\",VLOOKUP(A3650,base_itens,2,FALSE))","v":""}]
[null,{"$f":"IF(ISBLANK(A3651),\"\",VLOOKUP(A3651,base_itens,2,FALSE))","v":""}]
[null,{"$f":"IF(ISBLANK(A3652),\"\",VLOOKUP(A3652,base_itens,2,FALSE))","v":""}]
[null,{"$f":"IF(ISBLANK(A3653),\"\",VLOOKUP(A3653,base_itens,2,FALSE))","v":""}]
[null,{"$f":"IF(ISBLANK(A3654),\"\",VLOOKUP(A3654,base_itens,2,FALSE))","v":""}]
[null,{"$f":"IF(ISBLANK(A3655),\"\",VLOOKUP(A3655,base_itens,2,FALSE))","v":""}]
[null,{"$f":"IF(ISBLANK(A3656),\"\",VLOOKUP(A3656,base_itens,2,FALSE))","v":""}]
[null,{"$f":"IF(ISBLANK(A3657),\"\",VLOOKUP(A3657,base_itens,2,FALSE))","v":""}]
[null,{"$f":"IF(ISBLANK(A3658),\"\",VLOOKUP(A3658,base_itens,2,FALSE))","v":""}]
[null,{"$f":"IF(ISBLANK(A3659),\"\",VLOOKUP(A3659,base_itens,2,FALSE))","v":""}]
[null,{"$f":"IF(ISBLANK(A3660),\"\",VLOOKUP(A3660,base_itens,2,FALSE))","v":""}]
[null,{"$f":"IF(ISBLANK(A3661),\"\",VLOOKUP(A3661,base_itens,2,FALSE))","v":""}]
[null,{"$f":"IF(ISBLANK(A3662),\"\",VLOOKUP(A3662,base_itens,2,FALSE))","v":""}]
[null,{"$f":"IF(ISBLANK(A3663),\"\",VLOOKUP(A3663,base_itens,2,FALSE))","v":""}]
[null,{"$f":"IF(ISBLANK(A3664),\"\",VLOOKUP(A3664,base_itens,2,FALSE))","v":""}]
[null,{"$f":"IF(ISBLANK(A3665),\"\",VLOOKUP(A3665,base_itens,2,FALSE))","v":""}]
[null,{"$f":"IF(ISBLANK(A3666),\"\",VLOOKUP(A3666,base_itens,2,FALSE))","v":""}]
[null,{"$f":"IF(ISBLANK(A3667),\"\",VLOOKUP(A3667,base_itens,2,FALSE))","v":""}]
[null,{"$f":"IF(ISBLANK(A3668),\"\",VLOOKUP(A3668,base_itens,2,FALSE))","v":""}]
[null,{"$f":"IF(ISBLANK(A3669),\"\",VLOOKUP(A3669,base_itens,2,FALSE))","v":""}]
[null,{"$f":"IF(ISBLANK(A3670),\"\",VLOOKUP(A3670,base_itens,2,FALSE))","v":""}]
[null,{"$f":"IF(ISBLANK(A3671),\"\",VLOOKUP(A3671,base_itens,2,FALSE))","v":""}]
[null,{"$f":"IF(ISBLANK(A3672),\"\",VLOOKUP(A3672,base_itens,2,FALSE))","v":""}]
[null,{"$f":"IF(ISBLANK(A3673),\"\",VLOOKUP(A3673,base_itens,2,FALSE))","v":""}]
[null,{"$f":"IF(ISBLANK(A3674),\"\",VLOOKUP(A3674,base_itens,2,FALSE))","v":""}]
[null,{"$f":"IF(ISBLANK(A3675),\"\",VLOOKUP(A3675,base_itens,2,FALSE))","v":""}]
[null,{"$f":"IF(ISBLANK(A3676),\"\",VLOOKUP(A3676,base_itens,2,FALSE))","v":""}]
[null,{"$f":"IF(ISBLANK(A3677),\"\",VLOOKUP(A3677,base_itens,2,FALSE))","v":""}]
[null,{"$f":"IF(ISBLANK(A3678),\"\",VLOOKUP(A3678,base_itens,2,FALSE))","v":""}]
[null,{"$f":"IF(ISBLANK(A3679),\"\",VLOOKUP(A3679,base_itens,2,FALSE))","v":""}]
[null,{"$f":"IF(ISBLANK(A3680),\"\",VLOOKUP(A3680,base_itens,2,FALSE))","v":""}]
[null,{"$f":"IF(ISBLANK(A3681),\"\",VLOOKUP(A3681,base_itens,2,FALSE))","v":""}]
[null,{"$f":"IF(ISBLANK(A3682),\"\",VLOOKUP(A3682,base_itens,2,FALSE))","v":""}]
[null,{"$f":"IF(ISBLANK(A3683),\"\",VLOOKUP(A3683,base_itens,2,FALSE))","v":""}]
[null,{"$f":"IF(ISBLANK(A3684),\"\",VLOOKUP(A3684,base_itens,2,FALSE))","v":""}]
[null,{"$f":"IF(ISBLANK(A3685),\"\",VLOOKUP(A3685,base_itens,2,FALSE))","v":""}]
[null,{"$f":"IF(ISBLANK(A3686),\"\",VLOOKUP(A3686,base_itens,2,FALSE))","v":""}]
[null,{"$f":"IF(ISBLANK(A3687),\"\",VLOOKUP(A3687,base_itens,2,FALSE))","v":""}]
[null,{"$f":"IF(ISBLANK(A3688),\"\",VLOOKUP(A3688,base_itens,2,FALSE))","v":""}]
[null,{"$f":"IF(ISBLANK(A3689),\"\",VLOOKUP(A3689,base_itens,2,FALSE))","v":""}]
[null,{"$f":"IF(ISBLANK(A3690),\"\",VLOOKUP(A3690,base_itens,2,FALSE))","v":""}]
[null,{"$f":"IF(ISBLANK(A3691),\"\",VLOOKUP(A3691,base_itens,2,FALSE))","v":""}]
[null,{"$f":"IF(ISBLANK(A3692),\"\",VLOOKUP(A3692,base_itens,2,FALSE))","v":""}]
[null,{"$f":"IF(ISBLANK(A3693),\"\",VLOOKUP(A3693,base_itens,2,FALSE))","v":""}]
[null,{"$f":"IF(ISBLANK(A3694),\"\",VLOOKUP(A3694,base_itens,2,FALSE))","v":""}]
[null,{"$f":"IF(ISBLANK(A3695),\"\",VLOOKUP(A3695,base_itens,2,FALSE))","v":""}]
[null,{"$f":"IF(ISBLANK(A3696),\"\",VLOOKUP(A3696,base_itens,2,FALSE))","v":""}]
[null,{"$f":"IF(ISBLANK(A3697),\"\",VLOOKUP(A3697,base_itens,2,FALSE))","v":""}]
[null,{"$f":"IF(ISBLANK(A3698),\"\",VLOOKUP(A3698,base_itens,2,FALSE))","v":""}]
[null,{"$f":"IF(ISBLANK(A3699),\"\",VLOOKUP(A3699,base_itens,2,FALSE))","v":""}]
[null,{"$f":"IF(ISBLANK(A3700),\"\",VLOOKUP(A3700,base_itens,2,FALSE))","v":""}]
[null,{"$f":"IF(ISBLANK(A3701),\"\",VLOOKUP(A3701,base_itens,2,FALSE))","v":""}]
[null,{"$f":"IF(ISBLANK(A3702),\"\",VLOOKUP(A3702,base_itens,2,FALSE))","v":""}]
[null,{"$f":"IF(ISBLANK(A3703),\"\",VLOOKUP(A3703,base_itens,2,FALSE))","v":""}]
[null,{"$f":"IF(ISBLANK(A3704),\"\",VLOOKUP(A3704,base_itens,2,FALSE))","v":""}]
[null,{"$f":"IF(ISBLANK(A3705),\"\",VLOOKUP(A3705,base_itens,2,FALSE))","v":""}]
[null,{"$f":"IF(ISBLANK(A3706),\"\",VLOOKUP(A3706,base_itens,2,FALSE))","v":""}]
[null,{"$f":"IF(ISBLANK(A3707),\"\",VLOOKUP(A3707,base_itens,2,FALSE))","v":""}]
[null,{"$f":"IF(ISBLANK(A3708),\"\",VLOOKUP(A3708,base_itens,2,FALSE))","v":""}]
[null,{"$f":"IF(ISBLANK(A3709),\"\",VLOOKUP(A3709,base_itens,2,FALSE))","v":""}]
[null,{"$f":"IF(ISBLANK(A3710),\"\",VLOOKUP(A3710,base_itens,2,FALSE))","v":""}]
[null,{"$f":"IF(ISBLANK(A3711),\"\",VLOOKUP(A3711,base_itens,2,FALSE))","v":""}]
[null,{"$f":"IF(ISBLANK(A3712),\"\",VLOOKUP(A3712,base_itens,2,FALSE))","v":""}]
[null,{"$f":"IF(ISBLANK(A3713),\"\",VLOOKUP(A3713,base_itens,2,FALSE))","v":""}]
[null,{"$f":"IF(ISBLANK(A3714),\"\",VLOOKUP(A3714,base_itens,2,FALSE))","v":""}]
[null,{"$f":"IF(ISBLANK(A3715),\"\",VLOOKUP(A3715,base_itens,2,FALSE))","v":""}]
[null,{"$f":"IF(ISBLANK(A3716),\"\",VLOOKUP(A3716,base_itens,2,FALSE))","v":""}]
[null,{"$f":"IF(ISBLANK(A3717),\"\",VLOOKUP(A3717,base_itens,2,FALSE))","v":""}]
[null,{"$f":"IF(ISBLANK(A3718),\"\",VLOOKUP(A3718,base_itens,2,FALSE))","v":""}]
[null,{"$f":"IF(ISBLANK(A3719),\"\",VLOOKUP(A3719,base_itens,2,FALSE))","v":""}]
[null,{"$f":"IF(ISBLANK(A3720),\"\",VLOOKUP(A3720,base_itens,2,FALSE))","v":""}]
[null,{"$f":"IF(ISBLANK(A3721),\"\",VLOOKUP(A3721,base_itens,2,FALSE))","v":""}]
[null,{"$f":"IF(ISBLANK(A3722),\"\",VLOOKUP(A3722,base_itens,2,FALSE))","v":""}]
[null,{"$f":"IF(ISBLANK(A3723),\"\",VLOOKUP(A3723,base_itens,2,FALSE))","v":""}]
[null,{"$f":"IF(ISBLANK(A3724),\"\",VLOOKUP(A3724,base_itens,2,FALSE))","v":""}]
[null,{"$f":"IF(ISBLANK(A3725),\"\",VLOOKUP(A3725,base_itens,2,FALSE))","v":""}]
[null,{"$f":"IF(ISBLANK(A3726),\"\",VLOOKUP(A3726,base_itens,2,FALSE))","v":""}]
[null,{"$f":"IF(ISBLANK(A3727),\"\",VLOOKUP(A3727,base_itens,2,FALSE))","v":""}]
[null,{"$f":"IF(ISBLANK(A3728),\"\",VLOOKUP(A3728,base_itens,2,FALSE))","v":""}]
[null,{"$f":"IF(ISBLANK(A3729),\"\",VLOOKUP(A3729,base_itens,2,FALSE))","v":""}]
[null,{"$f":"IF(ISBLANK(A3730),\"\",VLOOKUP(A3730,base_itens,2,FALSE))","v":""}]
[null,{"$f":"IF(ISBLANK(A3731),\"\",VLOOKUP(A3731,base_itens,2,FALSE))","v":""}]
[null,{"$f":"IF(ISBLANK(A3732),\"\",VLOOKUP(A3732,base_itens,2,FALSE))","v":""}]
[null,{"$f":"IF(ISBLANK(A3733),\"\",VLOOKUP(A3733,base_itens,2,FALSE))","v":""}]
[null,{"$f":"IF(ISBLANK(A3734),\"\",VLOOKUP(A3734,base_itens,2,FALSE))","v":""}]
[null,{"$f":"IF(ISBLANK(A3735),\"\",VLOOKUP(A3735,base_itens,2,FALSE))","v":""}]
[null,{"$f":"IF(ISBLANK(A3736),\"\",VLOOKUP(A3736,base_itens,2,FALSE))","v":""}]
[null,{"$f":"IF(ISBLANK(A3737),\"\",VLOOKUP(A3737,base_itens,2,FALSE))","v":""}]
[null,{"$f":"IF(ISBLANK(A3738),\"\",VLOOKUP(A3738,base_itens,2,FALSE))","v":""}]
[null,{"$f":"IF(ISBLANK(A3739),\"\",VLOOKUP(A3739,base_itens,2,FALSE))","v":""}]
[null,{"$f":"IF(ISBLANK(A3740),\"\",VLOOKUP(A3740,base_itens,2,FALSE))","v":""}]
[null,{"$f":"IF(ISBLANK(A3741),\"\",VLOOKUP(A3741,base_itens,2,FALSE))","v":""}]
[null,{"$f":"IF(ISBLANK(A3742),\"\",VLOOKUP(A3742,base_itens,2,FALSE))","v":""}]
[null,{"$f":"IF(ISBLANK(A3743),\"\",VLOOKUP(A3743,base_itens,2,FALSE))","v":""}]
[null,{"$f":"IF(ISBLANK(A3744),\"\",VLOOKUP(A3744,base_itens,2,FALSE))","v":""}]
[null,{"$f":"IF(ISBLANK(A3745),\"\",VLOOKUP(A3745,base_itens,2,FALSE))","v":""}]
[null,{"$f":"IF(ISBLANK(A3746),\"\",VLOOKUP(A3746,base_itens,2,FALSE))","v":""}]
[null,{"$f":"IF(ISBLANK(A3747),\"\",VLOOKUP(A3747,base_itens,2,FALSE))","v":""}]
[null,{"$f":"IF(ISBLANK(A3748),\"\",VLOOKUP(A3748,base_itens,2,FALSE))","v":""}]
[null,{"$f":"IF(ISBLANK(A3749),\"\",VLOOKUP(A3749,base_itens,2,FALSE))","v":""}]
[null,{"$f":"IF(ISBLANK(A3750),\"\",VLOOKUP(A3750,base_itens,2,FALSE))","v":""}]
[null,{"$f":"IF(ISBLANK(A3751),\"\",VLOOKUP(A3751,base_itens,2,FALSE))","v":""}]
[null,{"$f":"IF(ISBLANK(A3752),\"\",VLOOKUP(A3752,base_itens,2,FALSE))","v":""}]
[null,{"$f":"IF(ISBLANK(A3753),\"\",VLOOKUP(A3753,base_itens,2,FALSE))","v":""}]
[null,{"$f":"IF(ISBLANK(A3754),\"\",VLOOKUP(A3754,base_itens,2,FALSE))","v":""}]
[null,{"$f":"IF(ISBLANK(A3755),\"\",VLOOKUP(A3755,base_itens,2,FALSE))","v":""}]
[null,{"$f":"IF(ISBLANK(A3756),\"\",VLOOKUP(A3756,base_itens,2,FALSE))","v":""}]
[null,{"$f":"IF(ISBLANK(A3757),\"\",VLOOKUP(A3757,base_itens,2,FALSE))","v":""}]
[null,{"$f":"IF(ISBLANK(A3758),\"\",VLOOKUP(A3758,base_itens,2,FALSE))","v":""}]
[null,{"$f":"IF(ISBLANK(A3759),\"\",VLOOKUP(A3759,base_itens,2,FALSE))","v":""}]
[null,{"$f":"IF(ISBLANK(A3760),\"\",VLOOKUP(A3760,base_itens,2,FALSE))","v":""}]
[null,{"$f":"IF(ISBLANK(A3761),\"\",VLOOKUP(A3761,base_itens,2,FALSE))","v":""}]
[null,{"$f":"IF(ISBLANK(A3762),\"\",VLOOKUP(A3762,base_itens,2,FALSE))","v":""}]
[null,{"$f":"IF(ISBLANK(A3763),\"\",VLOOKUP(A3763,base_itens,2,FALSE))","v":""}]
[null,{"$f":"IF(ISBLANK(A3764),\"\",VLOOKUP(A3764,base_itens,2,FALSE))","v":""}]
[null,{"$f":"IF(ISBLANK(A3765),\"\",VLOOKUP(A3765,base_itens,2,FALSE))","v":""}]
[null,{"$f":"IF(ISBLANK(A3766),\"\",VLOOKUP(A3766,base_itens,2,FALSE))","v":""}]
[null,{"$f":"IF(ISBLANK(A3767),\"\",VLOOKUP(A3767,base_itens,2,FALSE))","v":""}]
[null,{"$f":"IF(ISBLANK(A3768),\"\",VLOOKUP(A3768,base_itens,2,FALSE))","v":""}]
[null,{"$f":"IF(ISBLANK(A3769),\"\",VLOOKUP(A3769,base_itens,2,FALSE))","v":""}]
[null,{"$f":"IF(ISBLANK(A3770),\"\",VLOOKUP(A3770,base_itens,2,FALSE))","v":""}]
[null,{"$f":"IF(ISBLANK(A3771),\"\",VLOOKUP(A3771,base_itens,2,FALSE))","v":""}]
[null,{"$f":"IF(ISBLANK(A3772),\"\",VLOOKUP(A3772,base_itens,2,FALSE))","v":""}]
[null,{"$f":"IF(ISBLANK(A3773),\"\",VLOOKUP(A3773,base_itens,2,FALSE))","v":""}]
[null,{"$f":"IF(ISBLANK(A3774),\"\",VLOOKUP(A3774,base_itens,2,FALSE))","v":""}]
[null,{"$f":"IF(ISBLANK(A3775),\"\",VLOOKUP(A3775,base_itens,2,FALSE))","v":""}]
[null,{"$f":"IF(ISBLANK(A3776),\"\",VLOOKUP(A3776,base_itens,2,FALSE))","v":""}]
[null,{"$f":"IF(ISBLANK(A3777),\"\",VLOOKUP(A3777,base_itens,2,FALSE))","v":""}]
[null,{"$f":"IF(ISBLANK(A3778),\"\",VLOOKUP(A3778,base_itens,2,FALSE))","v":""}]
[null,{"$f":"IF(ISBLANK(A3779),\"\",VLOOKUP(A3779,base_itens,2,FALSE))","v":""}]
[null,{"$f":"IF(ISBLANK(A3780),\"\",VLOOKUP(A3780,base_itens,2,FALSE))","v":""}]
[null,{"$f":"IF(ISBLANK(A3781),\"\",VLOOKUP(A3781,base_itens,2,FALSE))","v":""}]
[null,{"$f":"IF(ISBLANK(A3782),\"\",VLOOKUP(A3782,base_itens,2,FALSE))","v":""}]
[null,{"$f":"IF(ISBLANK(A3783),\"\",VLOOKUP(A3783,base_itens,2,FALSE))","v":""}]
[null,{"$f":"IF(ISBLANK(A3784),\"\",VLOOKUP(A3784,base_itens,2,FALSE))","v":""}]
[null,{"$f":"IF(ISBLANK(A3785),\"\",VLOOKUP(A3785,base_itens,2,FALSE))","v":""}]
[null,{"$f":"IF(ISBLANK(A3786),\"\",VLOOKUP(A3786,base_itens,2,FALSE))","v":""}]
[null,{"$f":"IF(ISBLANK(A3787),\"\",VLOOKUP(A3787,base_itens,2,FALSE))","v":""}]
[null,{"$f":"IF(ISBLANK(A3788),\"\",VLOOKUP(A3788,base_itens,2,FALSE))","v":""}]
[null,{"$f":"IF(ISBLANK(A3789),\"\",VLOOKUP(A3789,base_itens,2,FALSE))","v":""}]
[null,{"$f":"IF(ISBLANK(A3790),\"\",VLOOKUP(A3790,base_itens,2,FALSE))","v":""}]
[null,{"$f":"IF(ISBLANK(A3791),\"\",VLOOKUP(A3791,base_itens,2,FALSE))","v":""}]
[null,{"$f":"IF(ISBLANK(A3792),\"\",VLOOKUP(A3792,base_itens,2,FALSE))","v":""}]
[null,{"$f":"IF(ISBLANK(A3793),\"\",VLOOKUP(A3793,base_itens,2,FALSE))","v":""}]
[null,{"$f":"IF(ISBLANK(A3794),\"\",VLOOKUP(A3794,base_itens,2,FALSE))","v":""}]
[null,{"$f":"IF(ISBLANK(A3795),\"\",VLOOKUP(A3795,base_itens,2,FALSE))","v":""}]
[null,{"$f":"IF(ISBLANK(A3796),\"\",VLOOKUP(A3796,base_itens,2,FALSE))","v":""}]
[null,{"$f":"IF(ISBLANK(A3797),\"\",VLOOKUP(A3797,base_itens,2,FALSE))","v":""}]
[null,{"$f":"IF(ISBLANK(A3798),\"\",VLOOKUP(A3798,base_itens,2,FALSE))","v":""}]
[null,{"$f":"IF(ISBLANK(A3799),\"\",VLOOKUP(A3799,base_itens,2,FALSE))","v":""}]
[null,{"$f":"IF(ISBLANK(A3800),\"\",VLOOKUP(A3800,base_itens,2,FALSE))","v":""}]
[null,{"$f":"IF(ISBLANK(A3801),\"\",VLOOKUP(A3801,base_itens,2,FALSE))","v":""}]
[null,{"$f":"IF(ISBLANK(A3802),\"\",VLOOKUP(A3802,base_itens,2,FALSE))","v":""}]
[null,{"$f":"IF(ISBLANK(A3803),\"\",VLOOKUP(A3803,base_itens,2,FALSE))","v":""}]
[null,{"$f":"IF(ISBLANK(A3804),\"\",VLOOKUP(A3804,base_itens,2,FALSE))","v":""}]
[null,{"$f":"IF(ISBLANK(A3805),\"\",VLOOKUP(A3805,base_itens,2,FALSE))","v":""}]
[null,{"$f":"IF(ISBLANK(A3806),\"\",VLOOKUP(A3806,base_itens,2,FALSE))","v":""}]
[null,{"$f":"IF(ISBLANK(A3807),\"\",VLOOKUP(A3807,base_itens,2,FALSE))","v":""}]
[null,{"$f":"IF(ISBLANK(A3808),\"\",VLOOKUP(A3808,base_itens,2,FALSE))","v":""}]
[null,{"$f":"IF(ISBLANK(A3809),\"\",VLOOKUP(A3809,base_itens,2,FALSE))","v":""}]
[null,{"$f":"IF(ISBLANK(A3810),\"\",VLOOKUP(A3810,base_itens,2,FALSE))","v":""}]
[null,{"$f":"IF(ISBLANK(A3811),\"\",VLOOKUP(A3811,base_itens,2,FALSE))","v":""}]
[null,{"$f":"IF(ISBLANK(A3812),\"\",VLOOKUP(A3812,base_itens,2,FALSE))","v":""}]
[null,{"$f":"IF(ISBLANK(A3813),\"\",VLOOKUP(A3813,base_itens,2,FALSE))","v":""}]
[null,{"$f":"IF(ISBLANK(A3814),\"\",VLOOKUP(A3814,base_itens,2,FALSE))","v":""}]
[null,{"$f":"IF(ISBLANK(A3815),\"\",VLOOKUP(A3815,base_itens,2,FALSE))","v":""}]
[null,{"$f":"IF(ISBLANK(A3816),\"\",VLOOKUP(A3816,base_itens,2,FALSE))","v":""}]
[null,{"$f":"IF(ISBLANK(A3817),\"\",VLOOKUP(A3817,base_itens,2,FALSE))","v":""}]
[null,{"$f":"IF(ISBLANK(A3818),\"\",VLOOKUP(A3818,base_itens,2,FALSE))","v":""}]
[null,{"$f":"IF(ISBLANK(A3819),\"\",VLOOKUP(A3819,base_itens,2,FALSE))","v":""}]
[null,{"$f":"IF(ISBLANK(A3820),\"\",VLOOKUP(A3820,base_itens,2,FALSE))","v":""}]
[null,{"$f":"IF(ISBLANK(A3821),\"\",VLOOKUP(A3821,base_itens,2,FALSE))","v":""}]
[null,{"$f":"IF(ISBLANK(A3822),\"\",VLOOKUP(A3822,base_itens,2,FALSE))","v":""}]
[null,{"$f":"IF(ISBLANK(A3823),\"\",VLOOKUP(A3823,base_itens,2,FALSE))","v":""}]
[null,{"$f":"IF(ISBLANK(A3824),\"\",VLOOKUP(A3824,base_itens,2,FALSE))","v":""}]
[null,{"$f":"IF(ISBLANK(A3825),\"\",VLOOKUP(A3825,base_itens,2,FALSE))","v":""}]
[null,{"$f":"IF(ISBLANK(A3826),\"\",VLOOKUP(A3826,base_itens,2,FALSE))","v":""}]
[null,{"$f":"IF(ISBLANK(A3827),\"\",VLOOKUP(A3827,base_itens,2,FALSE))","v":""}]
[null,{"$f":"IF(ISBLANK(A3828),\"\",VLOOKUP(A3828,base_itens,2,FALSE))","v":""}]
[null,{"$f":"IF(ISBLANK(A3829),\"\",VLOOKUP(A3829,base_itens,2,FALSE))","v":""}]
[null,{"$f":"IF(ISBLANK(A3830),\"\",VLOOKUP(A3830,base_itens,2,FALSE))","v":""}]
[null,{"$f":"IF(ISBLANK(A3831),\"\",VLOOKUP(A3831,base_itens,2,FALSE))","v":""}]
[null,{"$f":"IF(ISBLANK(A3832),\"\",VLOOKUP(A3832,base_itens,2,FALSE))","v":""}]
[null,{"$f":"IF(ISBLANK(A3833),\"\",VLOOKUP(A3833,base_itens,2,FALSE))","v":""}]
[null,{"$f":"IF(ISBLANK(A3834),\"\",VLOOKUP(A3834,base_itens,2,FALSE))","v":""}]
[null,{"$f":"IF(ISBLANK(A3835),\"\",VLOOKUP(A3835,base_itens,2,FALSE))","v":""}]
[null,{"$f":"IF(ISBLANK(A3836),\"\",VLOOKUP(A3836,base_itens,2,FALSE))","v":""}]
[null,{"$f":"IF(ISBLANK(A3837),\"\",VLOOKUP(A3837,base_itens,2,FALSE))","v":""}]
[null,{"$f":"IF(ISBLANK(A3838),\"\",VLOOKUP(A3838,base_itens,2,FALSE))","v":""}]
[null,{"$f":"IF(ISBLANK(A3839),\"\",VLOOKUP(A3839,base_itens,2,FALSE))","v":""}]
[null,{"$f":"IF(ISBLANK(A3840),\"\",VLOOKUP(A3840,base_itens,2,FALSE))","v":""}]
[null,{"$f":"IF(ISBLANK(A3841),\"\",VLOOKUP(A3841,base_itens,2,FALSE))","v":""}]
[null,{"$f":"IF(ISBLANK(A3842),\"\",VLOOKUP(A3842,base_itens,2,FALSE))","v":""}]
[null,{"$f":"IF(ISBLANK(A3843),\"\",VLOOKUP(A3843,base_itens,2,FALSE))","v":""}]
[null,{"$f":"IF(ISBLANK(A3844),\"\",VLOOKUP(A3844,base_itens,2,FALSE))","v":""}]
[null,{"$f":"IF(ISBLANK(A3845),\"\",VLOOKUP(A3845,base_itens,2,FALSE))","v":""}]
[null,{"$f":"IF(ISBLANK(A3846),\"\",VLOOKUP(A3846,base_itens,2,FALSE))","v":""}]
[null,{"$f":"IF(ISBLANK(A3847),\"\",VLOOKUP(A3847,base_itens,2,FALSE))","v":""}]
[null,{"$f":"IF(ISBLANK(A3848),\"\",VLOOKUP(A3848,base_itens,2,FALSE))","v":""}]
[null,{"$f":"IF(ISBLANK(A3849),\"\",VLOOKUP(A3849,base_itens,2,FALSE))","v":""}]
[null,{"$f":"IF(ISBLANK(A3850),\"\",VLOOKUP(A3850,base_itens,2,FALSE))","v":""}]
[null,{"$f":"IF(ISBLANK(A3851),\"\",VLOOKUP(A3851,base_itens,2,FALSE))","v":""}]
[null,{"$f":"IF(ISBLANK(A3852),\"\",VLOOKUP(A3852,base_itens,2,FALSE))","v":""}]
[null,{"$f":"IF(ISBLANK(A3853),\"\",VLOOKUP(A3853,base_itens,2,FALSE))","v":""}]
[null,{"$f":"IF(ISBLANK(A3854),\"\",VLOOKUP(A3854,base_itens,2,FALSE))","v":""}]
[null,{"$f":"IF(ISBLANK(A3855),\"\",VLOOKUP(A3855,base_itens,2,FALSE))","v":""}]
[null,{"$f":"IF(ISBLANK(A3856),\"\",VLOOKUP(A3856,base_itens,2,FALSE))","v":""}]
[null,{"$f":"IF(ISBLANK(A3857),\"\",VLOOKUP(A3857,base_itens,2,FALSE))","v":""}]
[null,{"$f":"IF(ISBLANK(A3858),\"\",VLOOKUP(A3858,base_itens,2,FALSE))","v":""}]
[null,{"$f":"IF(ISBLANK(A3859),\"\",VLOOKUP(A3859,base_itens,2,FALSE))","v":""}]
[null,{"$f":"IF(ISBLANK(A3860),\"\",VLOOKUP(A3860,base_itens,2,FALSE))","v":""}]
[null,{"$f":"IF(ISBLANK(A3861),\"\",VLOOKUP(A3861,base_itens,2,FALSE))","v":""}]
[null,{"$f":"IF(ISBLANK(A3862),\"\",VLOOKUP(A3862,base_itens,2,FALSE))","v":""}]
[null,{"$f":"IF(ISBLANK(A3863),\"\",VLOOKUP(A3863,base_itens,2,FALSE))","v":""}]
[null,{"$f":"IF(ISBLANK(A3864),\"\",VLOOKUP(A3864,base_itens,2,FALSE))","v":""}]
[null,{"$f":"IF(ISBLANK(A3865),\"\",VLOOKUP(A3865,base_itens,2,FALSE))","v":""}]
[null,{"$f":"IF(ISBLANK(A3866),\"\",VLOOKUP(A3866,base_itens,2,FALSE))","v":""}]
[null,{"$f":"IF(ISBLANK(A3867),\"\",VLOOKUP(A3867,base_itens,2,FALSE))","v":""}]
[null,{"$f":"IF(ISBLANK(A3868),\"\",VLOOKUP(A3868,base_itens,2,FALSE))","v":""}]
[null,{"$f":"IF(ISBLANK(A3869),\"\",VLOOKUP(A3869,base_itens,2,FALSE))","v":""}]
[null,{"$f":"IF(ISBLANK(A3870),\"\",VLOOKUP(A3870,base_itens,2,FALSE))","v":""}]
[null,{"$f":"IF(ISBLANK(A3871),\"\",VLOOKUP(A3871,base_itens,2,FALSE))","v":""}]
[null,{"$f":"IF(ISBLANK(A3872),\"\",VLOOKUP(A3872,base_itens,2,FALSE))","v":""}]
[null,{"$f":"IF(ISBLANK(A3873),\"\",VLOOKUP(A3873,base_itens,2,FALSE))","v":""}]
[null,{"$f":"IF(ISBLANK(A3874),\"\",VLOOKUP(A3874,base_itens,2,FALSE))","v":""}]
[null,{"$f":"IF(ISBLANK(A3875),\"\",VLOOKUP(A3875,base_itens,2,FALSE))","v":""}]
[null,{"$f":"IF(ISBLANK(A3876),\"\",VLOOKUP(A3876,base_itens,2,FALSE))","v":""}]
[null,{"$f":"IF(ISBLANK(A3877),\"\",VLOOKUP(A3877,base_itens,2,FALSE))","v":""}]
[null,{"$f":"IF(ISBLANK(A3878),\"\",VLOOKUP(A3878,base_itens,2,FALSE))","v":""}]
[null,{"$f":"IF(ISBLANK(A3879),\"\",VLOOKUP(A3879,base_itens,2,FALSE))","v":""}]
[null,{"$f":"IF(ISBLANK(A3880),\"\",VLOOKUP(A3880,base_itens,2,FALSE))","v":""}]
[null,{"$f":"IF(ISBLANK(A3881),\"\",VLOOKUP(A3881,base_itens,2,FALSE))","v":""}]
[null,{"$f":"IF(ISBLANK(A3882),\"\",VLOOKUP(A3882,base_itens,2,FALSE))","v":""}]
[null,{"$f":"IF(ISBLANK(A3883),\"\",VLOOKUP(A3883,base_itens,2,FALSE))","v":""}]
[null,{"$f":"IF(ISBLANK(A3884),\"\",VLOOKUP(A3884,base_itens,2,FALSE))","v":""}]
[null,{"$f":"IF(ISBLANK(A3885),\"\",VLOOKUP(A3885,base_itens,2,FALSE))","v":""}]
[null,{"$f":"IF(ISBLANK(A3886),\"\",VLOOKUP(A3886,base_itens,2,FALSE))","v":""}]
[null,{"$f":"IF(ISBLANK(A3887),\"\",VLOOKUP(A3887,base_itens,2,FALSE))","v":""}]
[null,{"$f":"IF(ISBLANK(A3888),\"\",VLOOKUP(A3888,base_itens,2,FALSE))","v":""}]
[null,{"$f":"IF(ISBLANK(A3889),\"\",VLOOKUP(A3889,base_itens,2,FALSE))","v":""}]
[null,{"$f":"IF(ISBLANK(A3890),\"\",VLOOKUP(A3890,base_itens,2,FALSE))","v":""}]
[null,{"$f":"IF(ISBLANK(A3891),\"\",VLOOKUP(A3891,base_itens,2,FALSE))","v":""}]
[null,{"$f":"IF(ISBLANK(A3892),\"\",VLOOKUP(A3892,base_itens,2,FALSE))","v":""}]
[null,{"$f":"IF(ISBLANK(A3893),\"\",VLOOKUP(A3893,base_itens,2,FALSE))","v":""}]
[null,{"$f":"IF(ISBLANK(A3894),\"\",VLOOKUP(A3894,base_itens,2,FALSE))","v":""}]
[null,{"$f":"IF(ISBLANK(A3895),\"\",VLOOKUP(A3895,base_itens,2,FALSE))","v":""}]
[null,{"$f":"IF(ISBLANK(A3896),\"\",VLOOKUP(A3896,base_itens,2,FALSE))","v":""}]
[null,{"$f":"IF(ISBLANK(A3897),\"\",VLOOKUP(A3897,base_itens,2,FALSE))","v":""}]
[null,{"$f":"IF(ISBLANK(A3898),\"\",VLOOKUP(A3898,base_itens,2,FALSE))","v":""}]
[null,{"$f":"IF(ISBLANK(A3899),\"\",VLOOKUP(A3899,base_itens,2,FALSE))","v":""}]
[null,{"$f":"IF(ISBLANK(A3900),\"\",VLOOKUP(A3900,base_itens,2,FALSE))","v":""}]
[null,{"$f":"IF(ISBLANK(A3901),\"\",VLOOKUP(A3901,base_itens,2,FALSE))","v":""}]
[null,{"$f":"IF(ISBLANK(A3902),\"\",VLOOKUP(A3902,base_itens,2,FALSE))","v":""}]
[null,{"$f":"IF(ISBLANK(A3903),\"\",VLOOKUP(A3903,base_itens,2,FALSE))","v":""}]
[null,{"$f":"IF(ISBLANK(A3904),\"\",VLOOKUP(A3904,base_itens,2,FALSE))","v":""}]
[null,{"$f":"IF(ISBLANK(A3905),\"\",VLOOKUP(A3905,base_itens,2,FALSE))","v":""}]
[null,{"$f":"IF(ISBLANK(A3906),\"\",VLOOKUP(A3906,base_itens,2,FALSE))","v":""}]
[null,{"$f":"IF(ISBLANK(A3907),\"\",VLOOKUP(A3907,base_itens,2,FALSE))","v":""}]
[null,{"$f":"IF(ISBLANK(A3908),\"\",VLOOKUP(A3908,base_itens,2,FALSE))","v":""}]
[null,{"$f":"IF(ISBLANK(A3909),\"\",VLOOKUP(A3909,base_itens,2,FALSE))","v":""}]
[null,{"$f":"IF(ISBLANK(A3910),\"\",VLOOKUP(A3910,base_itens,2,FALSE))","v":""}]
[null,{"$f":"IF(ISBLANK(A3911),\"\",VLOOKUP(A3911,base_itens,2,FALSE))","v":""}]
[null,{"$f":"IF(ISBLANK(A3912),\"\",VLOOKUP(A3912,base_itens,2,FALSE))","v":""}]
[null,{"$f":"IF(ISBLANK(A3913),\"\",VLOOKUP(A3913,base_itens,2,FALSE))","v":""}]
[null,{"$f":"IF(ISBLANK(A3914),\"\",VLOOKUP(A3914,base_itens,2,FALSE))","v":""}]
[null,{"$f":"IF(ISBLANK(A3915),\"\",VLOOKUP(A3915,base_itens,2,FALSE))","v":""}]
[null,{"$f":"IF(ISBLANK(A3916),\"\",VLOOKUP(A3916,base_itens,2,FALSE))","v":""}]
[null,{"$f":"IF(ISBLANK(A3917),\"\",VLOOKUP(A3917,base_itens,2,FALSE))","v":""}]
[null,{"$f":"IF(ISBLANK(A3918),\"\",VLOOKUP(A3918,base_itens,2,FALSE))","v":""}]
[null,{"$f":"IF(ISBLANK(A3919),\"\",VLOOKUP(A3919,base_itens,2,FALSE))","v":""}]
[null,{"$f":"IF(ISBLANK(A3920),\"\",VLOOKUP(A3920,base_itens,2,FALSE))","v":""}]
[null,{"$f":"IF(ISBLANK(A3921),\"\",VLOOKUP(A3921,base_itens,2,FALSE))","v":""}]
[null,{"$f":"IF(ISBLANK(A3922),\"\",VLOOKUP(A3922,base_itens,2,FALSE))","v":""}]
[null,{"$f":"IF(ISBLANK(A3923),\"\",VLOOKUP(A3923,base_itens,2,FALSE))","v":""}]
[null,{"$f":"IF(ISBLANK(A3924),\"\",VLOOKUP(A3924,base_itens,2,FALSE))","v":""}]
[null,{"$f":"IF(ISBLANK(A3925),\"\",VLOOKUP(A3925,base_itens,2,FALSE))","v":""}]
[null,{"$f":"IF(ISBLANK(A3926),\"\",VLOOKUP(A3926,base_itens,2,FALSE))","v":""}]
[null,{"$f":"IF(ISBLANK(A3927),\"\",VLOOKUP(A3927,base_itens,2,FALSE))","v":""}]
[null,{"$f":"IF(ISBLANK(A3928),\"\",VLOOKUP(A3928,base_itens,2,FALSE))","v":""}]
[null,{"$f":"IF(ISBLANK(A3929),\"\",VLOOKUP(A3929,base_itens,2,FALSE))","v":""}]
[null,{"$f":"IF(ISBLANK(A3930),\"\",VLOOKUP(A3930,base_itens,2,FALSE))","v":""}]
[null,{"$f":"IF(ISBLANK(A3931),\"\",VLOOKUP(A3931,base_itens,2,FALSE))","v":""}]
[null,{"$f":"IF(ISBLANK(A3932),\"\",VLOOKUP(A3932,base_itens,2,FALSE))","v":""}]
[null,{"$f":"IF(ISBLANK(A3933),\"\",VLOOKUP(A3933,base_itens,2,FALSE))","v":""}]
[null,{"$f":"IF(ISBLANK(A3934),\"\",VLOOKUP(A3934,base_itens,2,FALSE))","v":""}]
[null,{"$f":"IF(ISBLANK(A3935),\"\",VLOOKUP(A3935,base_itens,2,FALSE))","v":""}]
[null,{"$f":"IF(ISBLANK(A3936),\"\",VLOOKUP(A3936,base_itens,2,FALSE))","v":""}]
[null,{"$f":"IF(ISBLANK(A3937),\"\",VLOOKUP(A3937,base_itens,2,FALSE))","v":""}]
[null,{"$f":"IF(ISBLANK(A3938),\"\",VLOOKUP(A3938,base_itens,2,FALSE))","v":""}]
[null,{"$f":"IF(ISBLANK(A3939),\"\",VLOOKUP(A3939,base_itens,2,FALSE))","v":""}]
[null,{"$f":"IF(ISBLANK(A3940),\"\",VLOOKUP(A3940,base_itens,2,FALSE))","v":""}]
[null,{"$f":"IF(ISBLANK(A3941),\"\",VLOOKUP(A3941,base_itens,2,FALSE))","v":""}]
[null,{"$f":"IF(ISBLANK(A3942),\"\",VLOOKUP(A3942,base_itens,2,FALSE))","v":""}]
[null,{"$f":"IF(ISBLANK(A3943),\"\",VLOOKUP(A3943,base_itens,2,FALSE))","v":""}]
[null,{"$f":"IF(ISBLANK(A3944),\"\",VLOOKUP(A3944,base_itens,2,FALSE))","v":""}]
[null,{"$f":"IF(ISBLANK(A3945),\"\",VLOOKUP(A3945,base_itens,2,FALSE))","v":""}]
[null,{"$f":"IF(ISBLANK(A3946),\"\",VLOOKUP(A3946,base_itens,2,FALSE))","v":""}]
[null,{"$f":"IF(ISBLANK(A3947),\"\",VLOOKUP(A3947,base_itens,2,FALSE))","v":""}]
[null,{"$f":"IF(ISBLANK(A3948),\"\",VLOOKUP(A3948,base_itens,2,FALSE))","v":""}]
[null,{"$f":"IF(ISBLANK(A3949),\"\",VLOOKUP(A3949,base_itens,2,FALSE))","v":""}]
[null,{"$f":"IF(ISBLANK(A3950),\"\",VLOOKUP(A3950,base_itens,2,FALSE))","v":""}]
[null,{"$f":"IF(ISBLANK(A3951),\"\",VLOOKUP(A3951,base_itens,2,FALSE))","v":""}]
[null,{"$f":"IF(ISBLANK(A3952),\"\",VLOOKUP(A3952,base_itens,2,FALSE))","v":""}]
[null,{"$f":"IF(ISBLANK(A3953),\"\",VLOOKUP(A3953,base_itens,2,FALSE))","v":""}]
[null,{"$f":"IF(ISBLANK(A3954),\"\",VLOOKUP(A3954,base_itens,2,FALSE))","v":""}]
[null,{"$f":"IF(ISBLANK(A3955),\"\",VLOOKUP(A3955,base_itens,2,FALSE))","v":""}]
[null,{"$f":"IF(ISBLANK(A3956),\"\",VLOOKUP(A3956,base_itens,2,FALSE))","v":""}]
[null,{"$f":"IF(ISBLANK(A3957),\"\",VLOOKUP(A3957,base_itens,2,FALSE))","v":""}]
[null,{"$f":"IF(ISBLANK(A3958),\"\",VLOOKUP(A3958,base_itens,2,FALSE))","v":""}]
[null,{"$f":"IF(ISBLANK(A3959),\"\",VLOOKUP(A3959,base_itens,2,FALSE))","v":""}]
[null,{"$f":"IF(ISBLANK(A3960),\"\",VLOOKUP(A3960,base_itens,2,FALSE))","v":""}]
[null,{"$f":"IF(ISBLANK(A3961),\"\",VLOOKUP(A3961,base_itens,2,FALSE))","v":""}]
[null,{"$f":"IF(ISBLANK(A3962),\"\",VLOOKUP(A3962,base_itens,2,FALSE))","v":""}]
[null,{"$f":"IF(ISBLANK(A3963),\"\",VLOOKUP(A3963,base_itens,2,FALSE))","v":""}]
[null,{"$f":"IF(ISBLANK(A3964),\"\",VLOOKUP(A3964,base_itens,2,FALSE))","v":""}]
[null,{"$f":"IF(ISBLANK(A3965),\"\",VLOOKUP(A3965,base_itens,2,FALSE))","v":""}]
[null,{"$f":"IF(ISBLANK(A3966),\"\",VLOOKUP(A3966,base_itens,2,FALSE))","v":""}]
[null,{"$f":"IF(ISBLANK(A3967),\"\",VLOOKUP(A3967,base_itens,2,FALSE))","v":""}]
[null,{"$f":"IF(ISBLANK(A3968),\"\",VLOOKUP(A3968,base_itens,2,FALSE))","v":""}]
[null,{"$f":"IF(ISBLANK(A3969),\"\",VLOOKUP(A3969,base_itens,2,FALSE))","v":""}]
[null,{"$f":"IF(ISBLANK(A3970),\"\",VLOOKUP(A3970,base_itens,2,FALSE))","v":""}]
[null,{"$f":"IF(ISBLANK(A3971),\"\",VLOOKUP(A3971,base_itens,2,FALSE))","v":""}]
[null,{"$f":"IF(ISBLANK(A3972),\"\",VLOOKUP(A3972,base_itens,2,FALSE))","v":""}]
[null,{"$f":"IF(ISBLANK(A3973),\"\",VLOOKUP(A3973,base_itens,2,FALSE))","v":""}]
[null,{"$f":"IF(ISBLANK(A3974),\"\",VLOOKUP(A3974,base_itens,2,FALSE))","v":""}]
[null,{"$f":"IF(ISBLANK(A3975),\"\",VLOOKUP(A3975,base_itens,2,FALSE))","v":""}]
[null,{"$f":"IF(ISBLANK(A3976),\"\",VLOOKUP(A3976,base_itens,2,FALSE))","v":""}]
[null,{"$f":"IF(ISBLANK(A3977),\"\",VLOOKUP(A3977,base_itens,2,FALSE))","v":""}]
[null,{"$f":"IF(ISBLANK(A3978),\"\",VLOOKUP(A3978,base_itens,2,FALSE))","v":""}]
[null,{"$f":"IF(ISBLANK(A3979),\"\",VLOOKUP(A3979,base_itens,2,FALSE))","v":""}]
[null,{"$f":"IF(ISBLANK(A3980),\"\",VLOOKUP(A3980,base_itens,2,FALSE))","v":""}]
[null,{"$f":"IF(ISBLANK(A3981),\"\",VLOOKUP(A3981,base_itens,2,FALSE))","v":""}]
[null,{"$f":"IF(ISBLANK(A3982),\"\",VLOOKUP(A3982,base_itens,2,FALSE))","v":""}]
[null,{"$f":"IF(ISBLANK(A3983),\"\",VLOOKUP(A3983,base_itens,2,FALSE))","v":""}]
[null,{"$f":"IF(ISBLANK(A3984),\"\",VLOOKUP(A3984,base_itens,2,FALSE))","v":""}]
[null,{"$f":"IF(ISBLANK(A3985),\"\",VLOOKUP(A3985,base_itens,2,FALSE))","v":""}]
[null,{"$f":"IF(ISBLANK(A3986),\"\",VLOOKUP(A3986,base_itens,2,FALSE))","v":""}]
[null,{"$f":"IF(ISBLANK(A3987),\"\",VLOOKUP(A3987,base_itens,2,FALSE))","v":""}]
[null,{"$f":"IF(ISBLANK(A3988),\"\",VLOOKUP(A3988,base_itens,2,FALSE))","v":""}]
[null,{"$f":"IF(ISBLANK(A3989),\"\",VLOOKUP(A3989,base_itens,2,FALSE))","v":""}]
[null,{"$f":"IF(ISBLANK(A3990),\"\",VLOOKUP(A3990,base_itens,2,FALSE))","v":""}]
[null,{"$f":"IF(ISBLANK(A3991),\"\",VLOOKUP(A3991,base_itens,2,FALSE))","v":""}]
[null,{"$f":"IF(ISBLANK(A3992),\"\",VLOOKUP(A3992,base_itens,2,FALSE))","v":""}]
[null,{"$f":"IF(ISBLANK(A3993),\"\",VLOOKUP(A3993,base_itens,2,FALSE))","v":""}]
[null,{"$f":"IF(ISBLANK(A3994),\"\",VLOOKUP(A3994,base_itens,2,FALSE))","v":""}]
[null,{"$f":"IF(ISBLANK(A3995),\"\",VLOOKUP(A3995,base_itens,2,FALSE))","v":""}]
[null,{"$f":"IF(ISBLANK(A3996),\"\",VLOOKUP(A3996,base_itens,2,FALSE))","v":""}]
[null,{"$f":"IF(ISBLANK(A3997),\"\",VLOOKUP(A3997,base_itens,2,FALSE))","v":""}]
[null,{"$f":"IF(ISBLANK(A3998),\"\",VLOOKUP(A3998,base_itens,2,FALSE))","v":""}]
[null,{"$f":"IF(ISBLANK(A3999),\"\",VLOOKUP(A3999,base_itens,2,FALSE))","v":""}]
[null,{"$f":"IF(ISBLANK(A4000),\"\",VLOOKUP(A4000,base_itens,2,FALSE))","v":""}]
[null,{"$f":"IF(ISBLANK(A4001),\"\",VLOOKUP(A4001,base_itens,2,FALSE))","v":""}]
[null,{"$f":"IF(ISBLANK(A4002),\"\",VLOOKUP(A4002,base_itens,2,FALSE))","v":""}]
[null,{"$f":"IF(ISBLANK(A4003),\"\",VLOOKUP(A4003,base_itens,2,FALSE))","v":""}]
[null,{"$f":"IF(ISBLANK(A4004),\"\",VLOOKUP(A4004,base_itens,2,FALSE))","v":""}]
[null,{"$f":"IF(ISBLANK(A4005),\"\",VLOOKUP(A4005,base_itens,2,FALSE))","v":""}]
[null,{"$f":"IF(ISBLANK(A4006),\"\",VLOOKUP(A4006,base_itens,2,FALSE))","v":""}]
[null,{"$f":"IF(ISBLANK(A4007),\"\",VLOOKUP(A4007,base_itens,2,FALSE))","v":""}]
[null,{"$f":"IF(ISBLANK(A4008),\"\",VLOOKUP(A4008,base_itens,2,FALSE))","v":""}]
[null,{"$f":"IF(ISBLANK(A4009),\"\",VLOOKUP(A4009,base_itens,2,FALSE))","v":""}]
[null,{"$f":"IF(ISBLANK(A4010),\"\",VLOOKUP(A4010,base_itens,2,FALSE))","v":""}]
[null,{"$f":"IF(ISBLANK(A4011),\"\",VLOOKUP(A4011,base_itens,2,FALSE))","v":""}]
[null,{"$f":"IF(ISBLANK(A4012),\"\",VLOOKUP(A4012,base_itens,2,FALSE))","v":""}]
[null,{"$f":"IF(ISBLANK(A4013),\"\",VLOOKUP(A4013,base_itens,2,FALSE))","v":""}]
[null,{"$f":"IF(ISBLANK(A4014),\"\",VLOOKUP(A4014,base_itens,2,FALSE))","v":""}]
[null,{"$f":"IF(ISBLANK(A4015),\"\",VLOOKUP(A4015,base_itens,2,FALSE))","v":""}]
[null,{"$f":"IF(ISBLANK(A4016),\"\",VLOOKUP(A4016,base_itens,2,FALSE))","v":""}]
[null,{"$f":"IF(ISBLANK(A4017),\"\",VLOOKUP(A4017,base_itens,2,FALSE))","v":""}]
[null,{"$f":"IF(ISBLANK(A4018),\"\",VLOOKUP(A4018,base_itens,2,FALSE))","v":""}]
[null,{"$f":"IF(ISBLANK(A4019),\"\",VLOOKUP(A4019,base_itens,2,FALSE))","v":""}]
[null,{"$f":"IF(ISBLANK(A4020),\"\",VLOOKUP(A4020,base_itens,2,FALSE))","v":""}]
[null,{"$f":"IF(ISBLANK(A4021),\"\",VLOOKUP(A4021,base_itens,2,FALSE))","v":""}]
[null,{"$f":"IF(ISBLANK(A4022),\"\",VLOOKUP(A4022,base_itens,2,FALSE))","v":""}]
[null,{"$f":"IF(ISBLANK(A4023),\"\",VLOOKUP(A4023,base_itens,2,FALSE))","v":""}]
[null,{"$f":"IF(ISBLANK(A4024),\"\",VLOOKUP(A4024,base_itens,2,FALSE))","v":""}]
[null,{"$f":"IF(ISBLANK(A4025),\"\",VLOOKUP(A4025,base_itens,2,FALSE))","v":""}]
[null,{"$f":"IF(ISBLANK(A4026),\"\",VLOOKUP(A4026,base_itens,2,FALSE))","v":""}]
[null,{"$f":"IF(ISBLANK(A4027),\"\",VLOOKUP(A4027,base_itens,2,FALSE))","v":""}]
[null,{"$f":"IF(ISBLANK(A4028),\"\",VLOOKUP(A4028,base_itens,2,FALSE))","v":""}]
[null,{"$f":"IF(ISBLANK(A4029),\"\",VLOOKUP(A4029,base_itens,2,FALSE))","v":""}]
[null,{"$f":"IF(ISBLANK(A4030),\"\",VLOOKUP(A4030,base_itens,2,FALSE))","v":""}]
[null,{"$f":"IF(ISBLANK(A4031),\"\",VLOOKUP(A4031,base_itens,2,FALSE))","v":""}]
[null,{"$f":"IF(ISBLANK(A4032),\"\",VLOOKUP(A4032,base_itens,2,FALSE))","v":""}]
[null,{"$f":"IF(ISBLANK(A4033),\"\",VLOOKUP(A4033,base_itens,2,FALSE))","v":""}]
[null,{"$f":"IF(ISBLANK(A4034),\"\",VLOOKUP(A4034,base_itens,2,FALSE))","v":""}]
[null,{"$f":"IF(ISBLANK(A4035),\"\",VLOOKUP(A4035,base_itens,2,FALSE))","v":""}]
[null,{"$f":"IF(ISBLANK(A4036),\"\",VLOOKUP(A4036,base_itens,2,FALSE))","v":""}]
[null,{"$f":"IF(ISBLANK(A4037),\"\",VLOOKUP(A4037,base_itens,2,FALSE))","v":""}]
[null,{"$f":"IF(ISBLANK(A4038),\"\",VLOOKUP(A4038,base_itens,2,FALSE))","v":""}]
[null,{"$f":"IF(ISBLANK(A4039),\"\",VLOOKUP(A4039,base_itens,2,FALSE))","v":""}]
[null,{"$f":"IF(ISBLANK(A4040),\"\",VLOOKUP(A4040,base_itens,2,FALSE))","v":""}]
[null,{"$f":"IF(ISBLANK(A4041),\"\",VLOOKUP(A4041,base_itens,2,FALSE))","v":""}]
[null,{"$f":"IF(ISBLANK(A4042),\"\",VLOOKUP(A4042,base_itens,2,FALSE))","v":""}]
[null,{"$f":"IF(ISBLANK(A4043),\"\",VLOOKUP(A4043,base_itens,2,FALSE))","v":""}]
[null,{"$f":"IF(ISBLANK(A4044),\"\",VLOOKUP(A4044,base_itens,2,FALSE))","v":""}]
[null,{"$f":"IF(ISBLANK(A4045),\"\",VLOOKUP(A4045,base_itens,2,FALSE))","v":""}]
[null,{"$f":"IF(ISBLANK(A4046),\"\",VLOOKUP(A4046,base_itens,2,FALSE))","v":""}]
[null,{"$f":"IF(ISBLANK(A4047),\"\",VLOOKUP(A4047,base_itens,2,FALSE))","v":""}]
[null,{"$f":"IF(ISBLANK(A4048),\"\",VLOOKUP(A4048,base_itens,2,FALSE))","v":""}]
[null,{"$f":"IF(ISBLANK(A4049),\"\",VLOOKUP(A4049,base_itens,2,FALSE))","v":""}]
[null,{"$f":"IF(ISBLANK(A4050),\"\",VLOOKUP(A4050,base_itens,2,FALSE))","v":""}]
[null,{"$f":"IF(ISBLANK(A4051),\"\",VLOOKUP(A4051,base_itens,2,FALSE))","v":""}]
[null,{"$f":"IF(ISBLANK(A4052),\"\",VLOOKUP(A4052,base_itens,2,FALSE))","v":""}]
[null,{"$f":"IF(ISBLANK(A4053),\"\",VLOOKUP(A4053,base_itens,2,FALSE))","v":""}]
[null,{"$f":"IF(ISBLANK(A4054),\"\",VLOOKUP(A4054,base_itens,2,FALSE))","v":""}]
[null,{"$f":"IF(ISBLANK(A4055),\"\",VLOOKUP(A4055,base_itens,2,FALSE))","v":""}]
[null,{"$f":"IF(ISBLANK(A4056),\"\",VLOOKUP(A4056,base_itens,2,FALSE))","v":""}]
[null,{"$f":"IF(ISBLANK(A4057),\"\",VLOOKUP(A4057,base_itens,2,FALSE))","v":""}]
[null,{"$f":"IF(ISBLANK(A4058),\"\",VLOOKUP(A4058,base_itens,2,FALSE))","v":""}]
[null,{"$f":"IF(ISBLANK(A4059),\"\",VLOOKUP(A4059,base_itens,2,FALSE))","v":""}]
[null,{"$f":"IF(ISBLANK(A4060),\"\",VLOOKUP(A4060,base_itens,2,FALSE))","v":""}]
[null,{"$f":"IF(ISBLANK(A4061),\"\",VLOOKUP(A4061,base_itens,2,FALSE))","v":""}]
[null,{"$f":"IF(ISBLANK(A4062),\"\",VLOOKUP(A4062,base_itens,2,FALSE))","v":""}]
[null,{"$f":"IF(ISBLANK(A4063),\"\",VLOOKUP(A4063,base_itens,2,FALSE))","v":""}]
[null,{"$f":"IF(ISBLANK(A4064),\"\",VLOOKUP(A4064,base_itens,2,FALSE))","v":""}]
[null,{"$f":"IF(ISBLANK(A4065),\"\",VLOOKUP(A4065,base_itens,2,FALSE))","v":""}]
[null,{"$f":"IF(ISBLANK(A4066),\"\",VLOOKUP(A4066,base_itens,2,FALSE))","v":""}]
[null,{"$f":"IF(ISBLANK(A4067),\"\",VLOOKUP(A4067,base_itens,2,FALSE))","v":""}]
[null,{"$f":"IF(ISBLANK(A4068),\"\",VLOOKUP(A4068,base_itens,2,FALSE))","v":""}]
[null,{"$f":"IF(ISBLANK(A4069),\"\",VLOOKUP(A4069,base_itens,2,FALSE))","v":""}]
[null,{"$f":"IF(ISBLANK(A4070),\"\",VLOOKUP(A4070,base_itens,2,FALSE))","v":""}]
[null,{"$f":"IF(ISBLANK(A4071),\"\",VLOOKUP(A4071,base_itens,2,FALSE))","v":""}]
[null,{"$f":"IF(ISBLANK(A4072),\"\",VLOOKUP(A4072,base_itens,2,FALSE))","v":""}]
[null,{"$f":"IF(ISBLANK(A4073),\"\",VLOOKUP(A4073,base_itens,2,FALSE))","v":""}]
[null,{"$f":"IF(ISBLANK(A4074),\"\",VLOOKUP(A4074,base_itens,2,FALSE))","v":""}]
[null,{"$f":"IF(ISBLANK(A4075),\"\",VLOOKUP(A4075,base_itens,2,FALSE))","v":""}]
[null,{"$f":"IF(ISBLANK(A4076),\"\",VLOOKUP(A4076,base_itens,2,FALSE))","v":""}]
[null,{"$f":"IF(ISBLANK(A4077),\"\",VLOOKUP(A4077,base_itens,2,FALSE))","v":""}]
[null,{"$f":"IF(ISBLANK(A4078),\"\",VLOOKUP(A4078,base_itens,2,FALSE))","v":""}]
[null,{"$f":"IF(ISBLANK(A4079),\"\",VLOOKUP(A4079,base_itens,2,FALSE))","v":""}]
[null,{"$f":"IF(ISBLANK(A4080),\"\",VLOOKUP(A4080,base_itens,2,FALSE))","v":""}]
[null,{"$f":"IF(ISBLANK(A4081),\"\",VLOOKUP(A4081,base_itens,2,FALSE))","v":""}]
[null,{"$f":"IF(ISBLANK(A4082),\"\",VLOOKUP(A4082,base_itens,2,FALSE))","v":""}]
[null,{"$f":"IF(ISBLANK(A4083),\"\",VLOOKUP(A4083,base_itens,2,FALSE))","v":""}]
[null,{"$f":"IF(ISBLANK(A4084),\"\",VLOOKUP(A4084,base_itens,2,FALSE))","v":""}]
[null,{"$f":"IF(ISBLANK(A4085),\"\",VLOOKUP(A4085,base_itens,2,FALSE))","v":""}]
[null,{"$f":"IF(ISBLANK(A4086),\"\",VLOOKUP(A4086,base_itens,2,FALSE))","v":""}]
[null,{"$f":"IF(ISBLANK(A4087),\"\",VLOOKUP(A4087,base_itens,2,FALSE))","v":""}]
[null,{"$f":"IF(ISBLANK(A4088),\"\",VLOOKUP(A4088,base_itens,2,FALSE))","v":""}]
[null,{"$f":"IF(ISBLANK(A4089),\"\",VLOOKUP(A4089,base_itens,2,FALSE))","v":""}]
[null,{"$f":"IF(ISBLANK(A4090),\"\",VLOOKUP(A4090,base_itens,2,FALSE))","v":""}]
[null,{"$f":"IF(ISBLANK(A4091),\"\",VLOOKUP(A4091,base_itens,2,FALSE))","v":""}]
[null,{"$f":"IF(ISBLANK(A4092),\"\",VLOOKUP(A4092,base_itens,2,FALSE))","v":""}]
[null,{"$f":"IF(ISBLANK(A4093),\"\",VLOOKUP(A4093,base_itens,2,FALSE))","v":""}]
[null,{"$f":"IF(ISBLANK(A4094),\"\",VLOOKUP(A4094,base_itens,2,FALSE))","v":""}]
[null,{"$f":"IF(ISBLANK(A4095),\"\",VLOOKUP(A4095,base_itens,2,FALSE))","v":""}]
[null,{"$f":"IF(ISBLANK(A4096),\"\",VLOOKUP(A4096,base_itens,2,FALSE))","v":""}]
[null,{"$f":"IF(ISBLANK(A4097),\"\",VLOOKUP(A4097,base_itens,2,FALSE))","v":""}]
[null,{"$f":"IF(ISBLANK(A4098),\"\",VLOOKUP(A4098,base_itens,2,FALSE))","v":""}]
[null,{"$f":"IF(ISBLANK(A4099),\"\",VLOOKUP(A4099,base_itens,2,FALSE))","v":""}]
[null,{"$f":"IF(ISBLANK(A4100),\"\",VLOOKUP(A4100,base_itens,2,FALSE))","v":""}]
[null,{"$f":"IF(ISBLANK(A4101),\"\",VLOOKUP(A4101,base_itens,2,FALSE))","v":""}]
[null,{"$f":"IF(ISBLANK(A4102),\"\",VLOOKUP(A4102,base_itens,2,FALSE))","v":""}]
[null,{"$f":"IF(ISBLANK(A4103),\"\",VLOOKUP(A4103,base_itens,2,FALSE))","v":""}]
[null,{"$f":"IF(ISBLANK(A4104),\"\",VLOOKUP(A4104,base_itens,2,FALSE))","v":""}]
[null,{"$f":"IF(ISBLANK(A4105),\"\",VLOOKUP(A4105,base_itens,2,FALSE))","v":""}]
[null,{"$f":"IF(ISBLANK(A4106),\"\",VLOOKUP(A4106,base_itens,2,FALSE))","v":""}]
[null,{"$f":"IF(ISBLANK(A4107),\"\",VLOOKUP(A4107,base_itens,2,FALSE))","v":""}]
[null,{"$f":"IF(ISBLANK(A4108),\"\",VLOOKUP(A4108,base_itens,2,FALSE))","v":""}]
[null,{"$f":"IF(ISBLANK(A4109),\"\",VLOOKUP(A4109,base_itens,2,FALSE))","v":""}]
[null,{"$f":"IF(ISBLANK(A4110),\"\",VLOOKUP(A4110,base_itens,2,FALSE))","v":""}]
[null,{"$f":"IF(ISBLANK(A4111),\"\",VLOOKUP(A4111,base_itens,2,FALSE))","v":""}]
[null,{"$f":"IF(ISBLANK(A4112),\"\",VLOOKUP(A4112,base_itens,2,FALSE))","v":""}]
[null,{"$f":"IF(ISBLANK(A4113),\"\",VLOOKUP(A4113,base_itens,2,FALSE))","v":""}]
[null,{"$f":"IF(ISBLANK(A4114),\"\",VLOOKUP(A4114,base_itens,2,FALSE))","v":""}]
[null,{"$f":"IF(ISBLANK(A4115),\"\",VLOOKUP(A4115,base_itens,2,FALSE))","v":""}]
[null,{"$f":"IF(ISBLANK(A4116),\"\",VLOOKUP(A4116,base_itens,2,FALSE))","v":""}]
[null,{"$f":"IF(ISBLANK(A4117),\"\",VLOOKUP(A4117,base_itens,2,FALSE))","v":""}]
[null,{"$f":"IF(ISBLANK(A4118),\"\",VLOOKUP(A4118,base_itens,2,FALSE))","v":""}]
[null,{"$f":"IF(ISBLANK(A4119),\"\",VLOOKUP(A4119,base_itens,2,FALSE))","v":""}]
[null,{"$f":"IF(ISBLANK(A4120),\"\",VLOOKUP(A4120,base_itens,2,FALSE))","v":""}]
[null,{"$f":"IF(ISBLANK(A4121),\"\",VLOOKUP(A4121,base_itens,2,FALSE))","v":""}]
[null,{"$f":"IF(ISBLANK(A4122),\"\",VLOOKUP(A4122,base_itens,2,FALSE))","v":""}]
[null,{"$f":"IF(ISBLANK(A4123),\"\",VLOOKUP(A4123,base_itens,2,FALSE))","v":""}]
[null,{"$f":"IF(ISBLANK(A4124),\"\",VLOOKUP(A4124,base_itens,2,FALSE))","v":""}]
[null,{"$f":"IF(ISBLANK(A4125),\"\",VLOOKUP(A4125,base_itens,2,FALSE))","v":""}]
[null,{"$f":"IF(ISBLANK(A4126),\"\",VLOOKUP(A4126,base_itens,2,FALSE))","v":""}]
[null,{"$f":"IF(ISBLANK(A4127),\"\",VLOOKUP(A4127,base_itens,2,FALSE))","v":""}]
[null,{"$f":"IF(ISBLANK(A4128),\"\",VLOOKUP(A4128,base_itens,2,FALSE))","v":""}]
[null,{"$f":"IF(ISBLANK(A4129),\"\",VLOOKUP(A4129,base_itens,2,FALSE))","v":""}]
[null,{"$f":"IF(ISBLANK(A4130),\"\",VLOOKUP(A4130,base_itens,2,FALSE))","v":""}]
[null,{"$f":"IF(ISBLANK(A4131),\"\",VLOOKUP(A4131,base_itens,2,FALSE))","v":""}]
[null,{"$f":"IF(ISBLANK(A4132),\"\",VLOOKUP(A4132,base_itens,2,FALSE))","v":""}]
[null,{"$f":"IF(ISBLANK(A4133),\"\",VLOOKUP(A4133,base_itens,2,FALSE))","v":""}]
[null,{"$f":"IF(ISBLANK(A4134),\"\",VLOOKUP(A4134,base_itens,2,FALSE))","v":""}]
[null,{"$f":"IF(ISBLANK(A4135),\"\",VLOOKUP(A4135,base_itens,2,FALSE))","v":""}]
[null,{"$f":"IF(ISBLANK(A4136),\"\",VLOOKUP(A4136,base_itens,2,FALSE))","v":""}]
[null,{"$f":"IF(ISBLANK(A4137),\"\",VLOOKUP(A4137,base_itens,2,FALSE))","v":""}]
[null,{"$f":"IF(ISBLANK(A4138),\"\",VLOOKUP(A4138,base_itens,2,FALSE))","v":""}]
[null,""]
[null,""]
[null,""]
[null,""]
[null,""]
[null,""]
[null,""]
[null,""]
[null,""]
[null,""]
[null,""]
[null,""]
[null,""]
[null,""]
[null,""]
[null,""]
[null,""]
[null,""]
[null,""]
[null,""]
[null,""]
[null,""]
[null,""]
[null,""]
[null,""]
[null,""]
[null,""]
[null,""]
[null,""]
[null,""]
[null,""]
[null,""]
[null,""]
[null,""]
[null,{"$f":"IF(ISBLANK(A4173),\"\",VLOOKUP(A4173,base_itens,2,FALSE))","v":""}]
[null,""]
[null,""]
[null,""]
[null,""]
[null,""]
[null,""]
[null,""]
[null,""]
[null,""]
[null,""]
[null,""]
[null,""]
[null,""]
[null,""]
[null,""]
[null,""]
[null,""]
[null,""]
[null,""]
[null,""]
[null,""]
[null,""]
[null,""]
[null,""]
[null,""]
[null,""]
[null,""]
[null,""]
[null,""]
[null,""]
[null,""]
[null,""]
[null,""]
[null,""]
[null,""]
[null,""]
[null,""]
[null,""]
[null,""]
[null,""]
[null,""]
[null,""]
[null,""]
[null,""]
[null,""]
[null,""]
[null,""]
[null,""]
[null,""]
[null,""]
[null,""]
[null,""]
[null,""]
[null,""]
[null,""]
[null,""]
[null,""]
[null,""]
[null,""]
[null,""]
[null,""]
[null,""]
[null,""]
[null,{"$f":"IF(ISBLANK(A4237),\"\",VLOOKUP(A4237,base_itens,2,FALSE))","v":""}]
[null,""]
[null,""]
[null,""]
[null,""]
[null,""]
[null,""]
[null,""]
[null,""]
[null,""]
[null,""]
[null,""]
[null,""]
[null,""]
[null,""]
[null,""]
[null,""]
[null,""]
[null,""]
[null,""]
[null,""]
[null,""]
[null,""]
[null,""]
[null,""]
[null,""]
[null,""]
[null,""]
[null,""]
[null,""]
[null,""]
[null,""]
[null,""]
[null,""]
[null,""]
[null,""]
[null,""]
[null,""]
[null,""]
[null,""]
[null,""]
[null,""]
[null,""]
[null,""]
[null,""]
[null,""]
[null,""]
[null,""]
[null,""]
[null,""]
[null,""]
[null,""]
[null,""]
[null,""]
[null,""]
[null,""]
[null,""]
[null,""]
[null,""]
[null,""]
[null,""]
[null,""]
[null,""]
[null,""]
[null,{"$f":"IF(ISBLANK(A4301),\"\",VLOOKUP(A4301,base_itens,2,FALSE))","v":""}]
[null,""]
[null,""]
[null,""]
[null,""]
[null,""]
[null,""]
[null,""]
[null,""]
[null,""]
[null,""]
[null,""]
[null,""]
[null,""]
[null,""]
[null,""]
[null,""]
[null,""]
[null,""]
[null,""]
[null,""]
[null,""]
[null,""]
[null,""]
[null,""]
[null,""]
[null,""]
[null,""]
[null,""]
[null,""]
[null,""]
[null,""]
[null,""]
[null,""]
[null,""]
[null,""]
[null,""]
[null,""]
[null,""]
[null,""]
[null,""]
[null,""]
[null,""]
[null,""]
[null,""]
[null,""]
[null,""]
[null,""]
[null,""]
[null,""]
[null,""]
[null,""]
[null,""]
[null,""]
[null,""]
[null,""]
[null,""]
[null,""]
[null,""]
[null,""]
[null,""]
[null,""]
[null,""]
[null,""]
[null,{"$f":"IF(ISBLANK(A4365),\"\",VLOOKUP(A4365,base_itens,2,FALSE))","v":""}]
[null,""]
[null,""]
[null,""]
[null,""]
[null,""]
[null,""]
[null,""]
[null,""]
[null,""]
[null,""]
[null,""]
[null,""]
[null,""]
[null,""]
[null,""]
[null,""]
[null,""]
[null,""]
[null,""]
[null,""]
[null,""]
[null,""]
[null,""]
[null,""]
[null,""]
[null,""]
[null,""]
[null,""]
[null,""]
[null,""]
[null,""]
[null,""]
[null,""]
[null,""]
[null,""]
[null,""]
[null,""]
[null,""]
[null,""]
[null,""]
[null,""]
[null,""]
[null,""]
[null,""]
[null,""]
[null,""]
[null,""]
[null,""]
[null,""]
[null,""]
[null,""]
[null,""]
[null,""]
[null,""]
[null,""]
[null,""]
[null,""]
[null,""]
[null,""]
[null,""]
[null,""]
[null,""]
[null,""]
[null,{"$f":"IF(ISBLANK(A4429),\"\",VLOOKUP(A4429,base_itens,2,FALSE))","v":""}]
[null,""]
[null,""]
[null,""]
[null,""]
[null,""]
[null,""]
[null,""]
[null,""]
[null,""]
[null,""]
[null,""]
[null,""]
[null,""]
[null,""]
[null,""]
[null,""]
[null,""]
[null,""]
[null,""]
[null,""]
[null,""]
[null,""]
[null,""]
[null,""]
[null,""]
[null,""]
[null,""]
[null,""]
[null,""]
[null,""]
[null,""]
[null,""]
[null,""]
[null,""]
[null,""]
[null,""]
[null,""]
[null,""]
[null,""]
[null,""]
[null,""]
[null,""]
[null,""]
[null,""]
[null,""]
[null,""]
[null,""]
[null,""]
[null,""]
[null,""]
[null,""]
[null,""]
[null,""]
[null,""]
[null,""]
[null,""]
[null,""]
[null,""]
[null,""]
[null,""]
[null,""]
[null,""]
[null,""]
[null,{"$f":"IF(ISBLANK(A4493),\"\",VLOOKUP(A4493,base_itens,2,FALSE))","v":""}]
[null,""]
[null,""]
[null,""]
[null,""]
[null,""]
[null,""]
[null,""]

{"sheet":"r50","index":4,"n_rows":4137,"n_cols":7,"rows_kept":4137,"cut":false,"hidden":false,"merged":[]}
[]
[]
["Datasentralnummer (3 siffer)",43]
["Organisasjonsnr. (9 siffer)",{"$f":"Startside!G8","v":0}]
["Rapport nr. (50, 2 siffer)",50]
["Periode (år og måned; ååååmm, 6 siffer)  ",202112]
["Sum eiendeler ",{"$f":"Kontroll!G8","v":0}]
["Sum egenkapital og gjeld",{"$f":"Kontroll!G12","v":0}]
["Differanse",{"$f":"Kontroll!G14","v":0}]
[]
["POSTER I ÅRSBALANSEN","KODE","PORTEFØLJE","VERDSETTING","SEKTOR","VALUTA","BELØP"]
["",null,"","","",""]
[null,{"$f":"IF(ISBLANK(A13),\"\",VLOOKUP(A13,base_itens_50,2,FALSE))","v":""}]
[null,""]
[null,""]
[null,""]
[null,""]
[null,""]
[null,""]
[null,""]
[null,""]
[null,""]
[null,""]
[null,""]
[null,""]
[null,""]
[null,""]
[null,""]
[null,""]
[null,""]
[null,""]
[null,""]
[null,""]
[null,""]
[null,""]
[null,""]
[null,""]
[null,""]
[null,""]
[null,""]
[null,""]
[null,""]
[null,""]
[null,""]
[null,""]
[null,""]
[null,""]
[null,""]
[null,""]
[null,""]
[null,""]
[null,""]
[null,""]
[null,""]
[null,""]
[null,""]
[null,""]
[null,""]
[null,""]
[null,""]
[null,""]
[null,""]
[null,""]
[null,""]
[null,""]
[null,""]
[null,""]
[null,""]
[null,""]
[null,""]
[null,""]
[null,""]
[null,""]
[null,""]
[null,""]
[null,""]
[null,{"$f":"IF(ISBLANK(A77),\"\",VLOOKUP(A77,base_itens_50,2,FALSE))","v":""}]
[null,""]
[null,""]
[null,""]
[null,""]
[null,""]
[null,""]
[null,""]
[null,""]
[null,""]
[null,""]
[null,""]
[null,""]
[null,""]
[null,""]
[null,""]
[null,""]
[null,""]
[null,""]
[null,""]
[null,""]
[null,""]
[null,""]
[null,""]
[null,""]
[null,""]
[null,""]
[null,""]
[null,""]
[null,""]
[null,""]
[null,""]
[null,""]
[null,""]
[null,""]
[null,""]
[null,""]
[null,""]
[null,""]
[null,""]
[null,""]
[null,""]
[null,""]
[null,""]
[null,""]
[null,""]
[null,""]
[null,""]
[null,""]
[null,""]
[null,""]
[null,""]
[null,""]
[null,""]
[null,""]
[null,""]
[null,""]
[null,""]
[null,""]
[null,""]
[null,""]
[null,""]
[null,""]
[null,""]
[null,{"$f":"IF(ISBLANK(A141),\"\",VLOOKUP(A141,base_itens_50,2,FALSE))","v":""}]
[null,""]
[null,""]
[null,""]
[null,""]
[null,""]
[null,""]
[null,""]
[null,""]
[null,""]
[null,""]
[null,""]
[null,""]
[null,""]
[null,""]
[null,""]
[null,""]
[null,""]
[null,""]
[null,""]
[null,""]
[null,""]
[null,""]
[null,""]
[null,""]
[null,""]
[null,""]
[null,""]
[null,""]
[null,""]
[null,""]
[null,""]
[null,""]
[null,""]
[null,""]
[null,""]
[null,""]
[null,""]
[null,""]
[null,""]
[null,""]
[null,""]
[null,""]
[null,""]
[null,""]
[null,""]
[null,""]
[null,""]
[null,""]
[null,""]
[null,""]
[null,""]
[null,""]
[null,""]
[null,""]
[null,""]
[null,""]
[null,""]
[null,""]
[null,""]
[null,""]
[null,""]
[null,""]
[null,""]
[null,{"$f":"IF(ISBLANK(A205),\"\",VLOOKUP(A205,base_itens_50,2,FALSE))","v":""}]
[null,""]
[null,""]
[null,""]
[null,""]
[null,""]
[null,""]
[null,""]
[null,""]
[null,""]
[null,""]
[null,""]
[null,""]
[null,""]
[null,""]
[null,""]
[null,""]
[null,""]
[null,""]
[null,""]
[null,""]
[null,""]
[null,""]
[null,""]
[null,""]
[null,""]
[null,""]
[null,""]
[null,""]
[null,""]
[null,""]
[null,""]
[null,""]
[null,""]
[null,""]
[null,""]
[null,""]
[null,""]
[null,""]
[null,""]
[null,""]
[null,""]
[null,""]
[null,""]
[null,""]
[null,""]
[null,""]
[null,""]
[null,""]
[null,""]
[null,""]
[null,""]
[null,""]
[null,""]
[null,""]
[null,""]
[null,""]
[null,""]
[null,""]
[null,""]
[null,""]
[null,""]
[null,""]
[null,""]
[null,{"$f":"IF(ISBLANK(A269),\"\",VLOOKUP(A269,base_itens_50,2,FALSE))","v":""}]
[null,""]
[null,""]
[null,""]
[null,""]
[null,""]
[null,""]
[null,""]
[null,""]
[null,""]
[null,""]
[null,""]
[null,""]
[null,""]
[null,""]
[null,""]
[null,""]
[null,""]
[null,""]
[null,""]
[null,""]
[null,""]
[null,""]
[null,""]
[null,""]
[null,""]
[null,""]
[null,""]
[null,""]
[null,""]
[null,""]
[null,""]
[null,""]
[null,""]
[null,""]
[null,""]
[null,""]
[null,""]
[null,""]
[null,""]
[null,""]
[null,""]
[null,""]
[null,""]
[null,""]
[null,""]
[null,""]
[null,""]
[null,""]
[null,""]
[null,""]
[null,""]
[null,""]
[null,""]
[null,""]
[null,""]
[null,""]
[null,""]
[null,""]
[null,""]
[null,""]
[null,""]
[null,""]
[null,""]
[null,{"$f":"IF(ISBLANK(A333),\"\",VLOOKUP(A333,base_itens_50,2,FALSE))","v":""}]
[null,""]
[null,""]
[null,""]
[null,""]
[null,""]
[null,""]
[null,""]
[null,""]
[null,""]
[null,""]
[null,""]
[null,""]
[null,""]
[null,""]
[null,""]
[null,""]
[null,""]
[null,""]
[null,""]
[null,""]
[null,""]
[null,""]
[null,""]
[null,""]
[null,""]
[null,""]
[null,""]
[null,""]
[null,""]
[null,""]
[null,""]
[null,""]
[null,""]
[null,""]
[null,""]
[null,""]
[null,""]
[null,""]
[null,""]
[null,""]
[null,""]
[null,""]
[null,""]
[null,""]
[null,""]
[null,""]
[null,""]
[null,""]
[null,""]
[null,""]
[null,""]
[null,""]
[null,""]
[null,""]
[null,""]
[null,""]
[null,""]
[null,""]
[null,""]
[null,""]
[null,""]
[null,""]
[null,""]
[null,{"$f":"IF(ISBLANK(A397),\"\",VLOOKUP(A397,base_itens_50,2,FALSE))","v":""}]
[null,""]
[null,""]
[null,""]
[null,""]
[null,""]
[null,""]
[null,""]
[null,""]
[null,""]
[null,""]
[null,""]
[null,""]
[null,""]
[null,""]
[null,""]
[null,""]
[null,""]
[null,""]
[null,""]
[null,""]
[null,""]
[null,""]
[null,""]
[null,""]
[null,""]
[null,""]
[null,""]
[null,""]
[null,""]
[null,""]
[null,""]
[null,""]
[null,""]
[null,""]
[null,""]
[null,""]
[null,""]
[null,""]
[null,""]
[null,""]
[null,""]
[null,""]
[null,""]
[null,""]
[null,""]
[null,""]
[null,""]
[null,""]
[null,""]
[null,""]
[null,""]
[null,""]
[null,""]
[null,""]
[null,""]
[null,""]
[null,""]
[null,""]
[null,""]
[null,""]
[null,""]
[null,""]
[null,""]
[null,{"$f":"IF(ISBLANK(A461),\"\",VLOOKUP(A461,base_itens_50,2,FALSE))","v":""}]
[null,""]
[null,""]
[null,""]
[null,""]
[null,""]
[null,""]
[null,""]
[null,""]
[null,""]
[null,""]
[null,""]
[null,""]
[null,""]
[null,""]
[null,""]
[null,""]
[null,""]
[null,""]
[null,""]
[null,""]
[null,""]
[null,""]
[null,""]
[null,""]
[null,""]
[null,""]
[null,""]
[null,""]
[null,""]
[null,""]
[null,""]
[null,""]
[null,""]
[null,""]
[null,""]
[null,""]
[null,""]
[null,""]
[null,""]
[null,""]
[null,""]
[null,""]
[null,""]
[null,""]
[null,""]
[null,""]
[null,""]
[null,""]
[null,""]
[null,""]
[null,""]
[null,""]
[null,""]
[null,""]
[null,""]
[null,""]
[null,""]
[null,""]
[null,""]
[null,""]
[null,""]
[null,""]
[null,""]
[null,{"$f":"IF(ISBLANK(A525),\"\",VLOOKUP(A525,base_itens_50,2,FALSE))","v":""}]
[null,""]
[null,""]
[null,""]
[null,""]
[null,""]
[null,""]
[null,""]
[null,""]
[null,""]
[null,""]
[null,""]
[null,""]
[null,""]
[null,""]
[null,""]
[null,""]
[null,""]
[null,""]
[null,""]
[null,""]
[null,""]
[null,""]
[null,""]
[null,""]
[null,""]
[null,""]
[null,""]
[null,""]
[null,""]
[null,""]
[null,""]
[null,""]
[null,""]
[null,""]
[null,""]
[null,""]
[null,""]
[null,""]
[null,""]
[null,""]
[null,""]
[null,""]
[null,""]
[null,""]
[null,""]
[null,""]
[null,""]
[null,""]
[null,""]
[null,""]
[null,""]
[null,""]
[null,""]
[null,""]
[null,""]
[null,""]
[null,""]
[null,""]
[null,""]
[null,""]
[null,""]
[null,""]
[null,""]
[null,{"$f":"IF(ISBLANK(A589),\"\",VLOOKUP(A589,base_itens_50,2,FALSE))","v":""}]
[null,""]
[null,""]
[null,""]
[null,""]
[null,""]
[null,""]
[null,""]
[null,""]
[null,""]
[null,""]
[null,""]
[null,""]
[null,""]
[null,""]
[null,""]
[null,""]
[null,""]
[null,""]
[null,""]
[null,""]
[null,""]
[null,""]
[null,""]
[null,""]
[null,""]
[null,""]
[null,""]
[null,""]
[null,""]
[null,""]
[null,""]
[null,""]
[null,""]
[null,""]
[null,""]
[null,""]
[null,""]
[null,""]
[null,""]
[null,""]
[null,""]
[null,""]
[null,""]
[null,""]
[null,""]
[null,""]
[null,""]
[null,""]
[null,""]
[null,""]
[null,""]
[null,""]
[null,""]
[null,""]
[null,""]
[null,""]
[null,""]
[null,""]
[null,""]
[null,""]
[null,""]
[null,""]
[null,""]
[null,{"$f":"IF(ISBLANK(A653),\"\",VLOOKUP(A653,base_itens_50,2,FALSE))","v":""}]
[null,""]
[null,""]
[null,""]
[null,""]
[null,""]
[null,""]
[null,""]
[null,""]
[null,""]
[null,""]
[null,""]
[null,""]
[null,""]
[null,""]
[null,""]
[null,""]
[null,""]
[null,""]
[null,""]
[null,""]
[null,""]
[null,""]
[null,""]
[null,""]
[null,""]
[null,""]
[null,""]
[null,""]
[null,""]
[null,""]
[null,""]
[null,""]
[null,""]
[null,""]
[null,""]
[null,""]
[null,""]
[null,""]
[null,""]
[null,""]
[null,""]
[null,""]
[null,""]
[null,""]
[null,""]
[null,""]
[null,""]
[null,""]
[null,""]
[null,""]
[null,""]
[null,""]
[null,""]
[null,""]
[null,""]
[null,""]
[null,""]
[null,""]
[null,""]
[null,""]
[null,""]
[null,""]
[null,""]
[null,{"$f":"IF(ISBLANK(A717),\"\",VLOOKUP(A717,base_itens_50,2,FALSE))","v":""}]
[null,""]
[null,""]
[null,""]
[null,""]
[null,""]
[null,""]
[null,""]
[null,""]
[null,""]
[null,""]
[null,""]
[null,""]
[null,""]
[null,""]
[null,""]
[null,""]
[null,""]
[null,""]
[null,""]
[null,""]
[null,""]
[null,""]
[null,""]
[null,""]
[null,""]
[null,""]
[null,""]
[null,""]
[null,""]
[null,""]
[null,""]
[null,""]
[null,""]
[null,""]
[null,""]
[null,""]
[null,""]
[null,""]
[null,""]
[null,""]
[null,""]
[null,""]
[null,""]
[null,""]
[null,""]
[null,""]
[null,""]
[null,""]
[null,""]
[null,""]
[null,""]
[null,""]
[null,""]
[null,""]
[null,""]
[null,""]
[null,""]
[null,""]
[null,""]
[null,""]
[null,""]
[null,""]
[null,""]
[null,{"$f":"IF(ISBLANK(A781),\"\",VLOOKUP(A781,base_itens_50,2,FALSE))","v":""}]
[null,""]
[null,""]
[null,""]
[null,""]
[null,""]
[null,""]
[null,""]
[null,""]
[null,""]
[null,""]
[null,""]
[null,""]
[null,""]
[null,""]
[null,""]
[null,""]
[null,""]
[null,""]
[null,""]
[null,""]
[null,""]
[null,""]
[null,""]
[null,""]
[null,""]
[null,""]
[null,""]
[null,""]
[null,""]
[null,""]
[null,""]
[null,""]
[null,""]
[null,""]
[null,""]
[null,""]
[null,""]
[null,""]
[null,""]
[null,""]
[null,""]
[null,""]
[null,""]
[null,""]
[null,""]
[null,""]
[null,""]
[null,""]
[null,""]
[null,""]
[null,""]
[null,""]
[null,""]
[null,""]
[null,""]
[null,""]
[null,""]
[null,""]
[null,""]
[null,""]
[null,""]
[null,""]
[null,""]
[null,{"$f":"IF(ISBLANK(A845),\"\",VLOOKUP(A845,base_itens_50,2,FALSE))","v":""}]
[null,""]
[null,""]
[null,""]
[null,""]
[null,""]
[null,""]
[null,""]
[null,""]
[null,""]
[null,""]
[null,""]
[null,""]
[null,""]
[null,""]
[null,""]
[null,""]
[null,""]
[null,""]
[null,""]
[null,""]
[null,""]
[null,""]
[null,""]
[null,""]
[null,""]
[null,""]
[null,""]
[null,""]
[null,""]
[null,""]
[null,""]
[null,""]
[null,""]
[null,""]
[null,""]
[null,""]
[null,""]
[null,""]
[null,""]
[null,""]
[null,""]
[null,""]
[null,""]
[null,""]
[null,""]
[null,""]
[null,""]
[null,""]
[null,""]
[null,""]
[null,""]
[null,""]
[null,""]
[null,""]
[null,""]
[null,""]
[null,""]
[null,""]
[null,""]
[null,""]
[null,""]
[null,""]
[null,""]
[null,{"$f":"IF(ISBLANK(A909),\"\",VLOOKUP(A909,base_itens_50,2,FALSE))","v":""}]
[null,""]
[null,""]
[null,""]
[null,""]
[null,""]
[null,""]
[null,""]
[null,""]
[null,""]
[null,""]
[null,""]
[null,""]
[null,""]
[null,""]
[null,""]
[null,""]
[null,""]
[null,""]
[null,""]
[null,""]
[null,""]
[null,""]
[null,""]
[null,""]
[null,""]
[null,""]
[null,""]
[null,""]
[null,""]
[null,""]
[null,""]
[null,""]
[null,""]
[null,""]
[null,""]
[null,""]
[null,""]
[null,""]
[null,""]
[null,""]
[null,""]
[null,""]
[null,""]
[null,""]
[null,""]
[null,""]
[null,""]
[null,""]
[null,""]
[null,""]
[null,""]
[null,""]
[null,""]
[null,""]
[null,""]
[null,""]
[null,""]
[null,""]
[null,""]
[null,""]
[null,""]
[null,""]
[null,""]
[null,{"$f":"IF(ISBLANK(A973),\"\",VLOOKUP(A973,base_itens_50,2,FALSE))","v":""}]
[null,""]
[null,""]
[null,""]
[null,""]
[null,""]
[null,""]
[null,""]
[null,""]
[null,""]
[null,""]
[null,""]
[null,""]
[null,""]
[null,""]
[null,""]
[null,""]
[null,""]
[null,""]
[null,""]
[null,""]
[null,""]
[null,""]
[null,""]
[null,""]
[null,""]
[null,{"$f":"IF(ISBLANK(A999),\"\",VLOOKUP(A999,base_itens,2,FALSE))","v":""}]
[null,{"$f":"IF(ISBLANK(A1000),\"\",VLOOKUP(A1000,base_itens,2,FALSE))","v":""}]
[null,{"$f":"IF(ISBLANK(A1001),\"\",VLOOKUP(A1001,base_itens,2,FALSE))","v":""}]
[null,{"$f":"IF(ISBLANK(A1002),\"\",VLOOKUP(A1002,base_itens,2,FALSE))","v":""}]
[null,{"$f":"IF(ISBLANK(A1003),\"\",VLOOKUP(A1003,base_itens,2,FALSE))","v":""}]
[null,{"$f":"IF(ISBLANK(A1004),\"\",VLOOKUP(A1004,base_itens,2,FALSE))","v":""}]
[null,{"$f":"IF(ISBLANK(A1005),\"\",VLOOKUP(A1005,base_itens,2,FALSE))","v":""}]
[null,{"$f":"IF(ISBLANK(A1006),\"\",VLOOKUP(A1006,base_itens,2,FALSE))","v":""}]
[null,{"$f":"IF(ISBLANK(A1007),\"\",VLOOKUP(A1007,base_itens,2,FALSE))","v":""}]
[null,{"$f":"IF(ISBLANK(A1008),\"\",VLOOKUP(A1008,base_itens,2,FALSE))","v":""}]
[null,{"$f":"IF(ISBLANK(A1009),\"\",VLOOKUP(A1009,base_itens,2,FALSE))","v":""}]
[null,{"$f":"IF(ISBLANK(A1010),\"\",VLOOKUP(A1010,base_itens,2,FALSE))","v":""}]
[null,{"$f":"IF(ISBLANK(A1011),\"\",VLOOKUP(A1011,base_itens,2,FALSE))","v":""}]
[null,{"$f":"IF(ISBLANK(A1012),\"\",VLOOKUP(A1012,base_itens,2,FALSE))","v":""}]
[null,{"$f":"IF(ISBLANK(A1013),\"\",VLOOKUP(A1013,base_itens,2,FALSE))","v":""}]
[null,{"$f":"IF(ISBLANK(A1014),\"\",VLOOKUP(A1014,base_itens,2,FALSE))","v":""}]
[null,{"$f":"IF(ISBLANK(A1015),\"\",VLOOKUP(A1015,base_itens,2,FALSE))","v":""}]
[null,{"$f":"IF(ISBLANK(A1016),\"\",VLOOKUP(A1016,base_itens,2,FALSE))","v":""}]
[null,{"$f":"IF(ISBLANK(A1017),\"\",VLOOKUP(A1017,base_itens,2,FALSE))","v":""}]
[null,{"$f":"IF(ISBLANK(A1018),\"\",VLOOKUP(A1018,base_itens,2,FALSE))","v":""}]
[null,{"$f":"IF(ISBLANK(A1019),\"\",VLOOKUP(A1019,base_itens,2,FALSE))","v":""}]
[null,{"$f":"IF(ISBLANK(A1020),\"\",VLOOKUP(A1020,base_itens,2,FALSE))","v":""}]
[null,{"$f":"IF(ISBLANK(A1021),\"\",VLOOKUP(A1021,base_itens,2,FALSE))","v":""}]
[null,{"$f":"IF(ISBLANK(A1022),\"\",VLOOKUP(A1022,base_itens,2,FALSE))","v":""}]
[null,{"$f":"IF(ISBLANK(A1023),\"\",VLOOKUP(A1023,base_itens,2,FALSE))","v":""}]
[null,{"$f":"IF(ISBLANK(A1024),\"\",VLOOKUP(A1024,base_itens,2,FALSE))","v":""}]
[null,{"$f":"IF(ISBLANK(A1025),\"\",VLOOKUP(A1025,base_itens,2,FALSE))","v":""}]
[null,{"$f":"IF(ISBLANK(A1026),\"\",VLOOKUP(A1026,base_itens,2,FALSE))","v":""}]
[null,{"$f":"IF(ISBLANK(A1027),\"\",VLOOKUP(A1027,base_itens,2,FALSE))","v":""}]
[null,{"$f":"IF(ISBLANK(A1028),\"\",VLOOKUP(A1028,base_itens,2,FALSE))","v":""}]
[null,{"$f":"IF(ISBLANK(A1029),\"\",VLOOKUP(A1029,base_itens,2,FALSE))","v":""}]
[null,{"$f":"IF(ISBLANK(A1030),\"\",VLOOKUP(A1030,base_itens,2,FALSE))","v":""}]
[null,{"$f":"IF(ISBLANK(A1031),\"\",VLOOKUP(A1031,base_itens,2,FALSE))","v":""}]
[null,{"$f":"IF(ISBLANK(A1032),\"\",VLOOKUP(A1032,base_itens,2,FALSE))","v":""}]
[null,{"$f":"IF(ISBLANK(A1033),\"\",VLOOKUP(A1033,base_itens,2,FALSE))","v":""}]
[null,{"$f":"IF(ISBLANK(A1034),\"\",VLOOKUP(A1034,base_itens,2,FALSE))","v":""}]
[null,{"$f":"IF(ISBLANK(A1035),\"\",VLOOKUP(A1035,base_itens,2,FALSE))","v":""}]
[null,{"$f":"IF(ISBLANK(A1036),\"\",VLOOKUP(A1036,base_itens,2,FALSE))","v":""}]
[null,{"$f":"IF(ISBLANK(A1037),\"\",VLOOKUP(A1037,base_itens,2,FALSE))","v":""}]
[null,{"$f":"IF(ISBLANK(A1038),\"\",VLOOKUP(A1038,base_itens,2,FALSE))","v":""}]
[null,{"$f":"IF(ISBLANK(A1039),\"\",VLOOKUP(A1039,base_itens,2,FALSE))","v":""}]
[null,{"$f":"IF(ISBLANK(A1040),\"\",VLOOKUP(A1040,base_itens,2,FALSE))","v":""}]
[null,{"$f":"IF(ISBLANK(A1041),\"\",VLOOKUP(A1041,base_itens,2,FALSE))","v":""}]
[null,{"$f":"IF(ISBLANK(A1042),\"\",VLOOKUP(A1042,base_itens,2,FALSE))","v":""}]
[null,{"$f":"IF(ISBLANK(A1043),\"\",VLOOKUP(A1043,base_itens,2,FALSE))","v":""}]
[null,{"$f":"IF(ISBLANK(A1044),\"\",VLOOKUP(A1044,base_itens,2,FALSE))","v":""}]
[null,{"$f":"IF(ISBLANK(A1045),\"\",VLOOKUP(A1045,base_itens,2,FALSE))","v":""}]
[null,{"$f":"IF(ISBLANK(A1046),\"\",VLOOKUP(A1046,base_itens,2,FALSE))","v":""}]
[null,{"$f":"IF(ISBLANK(A1047),\"\",VLOOKUP(A1047,base_itens,2,FALSE))","v":""}]
[null,{"$f":"IF(ISBLANK(A1048),\"\",VLOOKUP(A1048,base_itens,2,FALSE))","v":""}]
[null,{"$f":"IF(ISBLANK(A1049),\"\",VLOOKUP(A1049,base_itens,2,FALSE))","v":""}]
[null,{"$f":"IF(ISBLANK(A1050),\"\",VLOOKUP(A1050,base_itens,2,FALSE))","v":""}]
[null,{"$f":"IF(ISBLANK(A1051),\"\",VLOOKUP(A1051,base_itens,2,FALSE))","v":""}]
[null,{"$f":"IF(ISBLANK(A1052),\"\",VLOOKUP(A1052,base_itens,2,FALSE))","v":""}]
[null,{"$f":"IF(ISBLANK(A1053),\"\",VLOOKUP(A1053,base_itens,2,FALSE))","v":""}]
[null,{"$f":"IF(ISBLANK(A1054),\"\",VLOOKUP(A1054,base_itens,2,FALSE))","v":""}]
[null,{"$f":"IF(ISBLANK(A1055),\"\",VLOOKUP(A1055,base_itens,2,FALSE))","v":""}]
[null,{"$f":"IF(ISBLANK(A1056),\"\",VLOOKUP(A1056,base_itens,2,FALSE))","v":""}]
[null,{"$f":"IF(ISBLANK(A1057),\"\",VLOOKUP(A1057,base_itens,2,FALSE))","v":""}]
[null,{"$f":"IF(ISBLANK(A1058),\"\",VLOOKUP(A1058,base_itens,2,FALSE))","v":""}]
[null,{"$f":"IF(ISBLANK(A1059),\"\",VLOOKUP(A1059,base_itens,2,FALSE))","v":""}]
[null,{"$f":"IF(ISBLANK(A1060),\"\",VLOOKUP(A1060,base_itens,2,FALSE))","v":""}]
[null,{"$f":"IF(ISBLANK(A1061),\"\",VLOOKUP(A1061,base_itens,2,FALSE))","v":""}]
[null,{"$f":"IF(ISBLANK(A1062),\"\",VLOOKUP(A1062,base_itens,2,FALSE))","v":""}]
[null,{"$f":"IF(ISBLANK(A1063),\"\",VLOOKUP(A1063,base_itens,2,FALSE))","v":""}]
[null,{"$f":"IF(ISBLANK(A1064),\"\",VLOOKUP(A1064,base_itens,2,FALSE))","v":""}]
[null,{"$f":"IF(ISBLANK(A1065),\"\",VLOOKUP(A1065,base_itens,2,FALSE))","v":""}]
[null,{"$f":"IF(ISBLANK(A1066),\"\",VLOOKUP(A1066,base_itens,2,FALSE))","v":""}]
[null,{"$f":"IF(ISBLANK(A1067),\"\",VLOOKUP(A1067,base_itens,2,FALSE))","v":""}]
[null,{"$f":"IF(ISBLANK(A1068),\"\",VLOOKUP(A1068,base_itens,2,FALSE))","v":""}]
[null,{"$f":"IF(ISBLANK(A1069),\"\",VLOOKUP(A1069,base_itens,2,FALSE))","v":""}]
[null,{"$f":"IF(ISBLANK(A1070),\"\",VLOOKUP(A1070,base_itens,2,FALSE))","v":""}]
[null,{"$f":"IF(ISBLANK(A1071),\"\",VLOOKUP(A1071,base_itens,2,FALSE))","v":""}]
[null,{"$f":"IF(ISBLANK(A1072),\"\",VLOOKUP(A1072,base_itens,2,FALSE))","v":""}]
[null,{"$f":"IF(ISBLANK(A1073),\"\",VLOOKUP(A1073,base_itens,2,FALSE))","v":""}]
[null,{"$f":"IF(ISBLANK(A1074),\"\",VLOOKUP(A1074,base_itens,2,FALSE))","v":""}]
[null,{"$f":"IF(ISBLANK(A1075),\"\",VLOOKUP(A1075,base_itens,2,FALSE))","v":""}]
[null,{"$f":"IF(ISBLANK(A1076),\"\",VLOOKUP(A1076,base_itens,2,FALSE))","v":""}]
[null,{"$f":"IF(ISBLANK(A1077),\"\",VLOOKUP(A1077,base_itens,2,FALSE))","v":""}]
[null,{"$f":"IF(ISBLANK(A1078),\"\",VLOOKUP(A1078,base_itens,2,FALSE))","v":""}]
[null,{"$f":"IF(ISBLANK(A1079),\"\",VLOOKUP(A1079,base_itens,2,FALSE))","v":""}]
[null,{"$f":"IF(ISBLANK(A1080),\"\",VLOOKUP(A1080,base_itens,2,FALSE))","v":""}]
[null,{"$f":"IF(ISBLANK(A1081),\"\",VLOOKUP(A1081,base_itens,2,FALSE))","v":""}]
[null,{"$f":"IF(ISBLANK(A1082),\"\",VLOOKUP(A1082,base_itens,2,FALSE))","v":""}]
[null,{"$f":"IF(ISBLANK(A1083),\"\",VLOOKUP(A1083,base_itens,2,FALSE))","v":""}]
[null,{"$f":"IF(ISBLANK(A1084),\"\",VLOOKUP(A1084,base_itens,2,FALSE))","v":""}]
[null,{"$f":"IF(ISBLANK(A1085),\"\",VLOOKUP(A1085,base_itens,2,FALSE))","v":""}]
[null,{"$f":"IF(ISBLANK(A1086),\"\",VLOOKUP(A1086,base_itens,2,FALSE))","v":""}]
[null,{"$f":"IF(ISBLANK(A1087),\"\",VLOOKUP(A1087,base_itens,2,FALSE))","v":""}]
[null,{"$f":"IF(ISBLANK(A1088),\"\",VLOOKUP(A1088,base_itens,2,FALSE))","v":""}]
[null,{"$f":"IF(ISBLANK(A1089),\"\",VLOOKUP(A1089,base_itens,2,FALSE))","v":""}]
[null,{"$f":"IF(ISBLANK(A1090),\"\",VLOOKUP(A1090,base_itens,2,FALSE))","v":""}]
[null,{"$f":"IF(ISBLANK(A1091),\"\",VLOOKUP(A1091,base_itens,2,FALSE))","v":""}]
[null,{"$f":"IF(ISBLANK(A1092),\"\",VLOOKUP(A1092,base_itens,2,FALSE))","v":""}]
[null,{"$f":"IF(ISBLANK(A1093),\"\",VLOOKUP(A1093,base_itens,2,FALSE))","v":""}]
[null,{"$f":"IF(ISBLANK(A1094),\"\",VLOOKUP(A1094,base_itens,2,FALSE))","v":""}]
[null,{"$f":"IF(ISBLANK(A1095),\"\",VLOOKUP(A1095,base_itens,2,FALSE))","v":""}]
[null,{"$f":"IF(ISBLANK(A1096),\"\",VLOOKUP(A1096,base_itens,2,FALSE))","v":""}]
[null,{"$f":"IF(ISBLANK(A1097),\"\",VLOOKUP(A1097,base_itens,2,FALSE))","v":""}]
[null,{"$f":"IF(ISBLANK(A1098),\"\",VLOOKUP(A1098,base_itens,2,FALSE))","v":""}]
[null,{"$f":"IF(ISBLANK(A1099),\"\",VLOOKUP(A1099,base_itens,2,FALSE))","v":""}]
[null,{"$f":"IF(ISBLANK(A1100),\"\",VLOOKUP(A1100,base_itens,2,FALSE))","v":""}]
[null,{"$f":"IF(ISBLANK(A1101),\"\",VLOOKUP(A1101,base_itens,2,FALSE))","v":""}]
[null,{"$f":"IF(ISBLANK(A1102),\"\",VLOOKUP(A1102,base_itens,2,FALSE))","v":""}]
[null,{"$f":"IF(ISBLANK(A1103),\"\",VLOOKUP(A1103,base_itens,2,FALSE))","v":""}]
[null,{"$f":"IF(ISBLANK(A1104),\"\",VLOOKUP(A1104,base_itens,2,FALSE))","v":""}]
[null,{"$f":"IF(ISBLANK(A1105),\"\",VLOOKUP(A1105,base_itens,2,FALSE))","v":""}]
[null,{"$f":"IF(ISBLANK(A1106),\"\",VLOOKUP(A1106,base_itens,2,FALSE))","v":""}]
[null,{"$f":"IF(ISBLANK(A1107),\"\",VLOOKUP(A1107,base_itens,2,FALSE))","v":""}]
[null,{"$f":"IF(ISBLANK(A1108),\"\",VLOOKUP(A1108,base_itens,2,FALSE))","v":""}]
[null,{"$f":"IF(ISBLANK(A1109),\"\",VLOOKUP(A1109,base_itens,2,FALSE))","v":""}]
[null,{"$f":"IF(ISBLANK(A1110),\"\",VLOOKUP(A1110,base_itens,2,FALSE))","v":""}]
[null,{"$f":"IF(ISBLANK(A1111),\"\",VLOOKUP(A1111,base_itens,2,FALSE))","v":""}]
[null,{"$f":"IF(ISBLANK(A1112),\"\",VLOOKUP(A1112,base_itens,2,FALSE))","v":""}]
[null,{"$f":"IF(ISBLANK(A1113),\"\",VLOOKUP(A1113,base_itens,2,FALSE))","v":""}]
[null,{"$f":"IF(ISBLANK(A1114),\"\",VLOOKUP(A1114,base_itens,2,FALSE))","v":""}]
[null,{"$f":"IF(ISBLANK(A1115),\"\",VLOOKUP(A1115,base_itens,2,FALSE))","v":""}]
[null,{"$f":"IF(ISBLANK(A1116),\"\",VLOOKUP(A1116,base_itens,2,FALSE))","v":""}]
[null,{"$f":"IF(ISBLANK(A1117),\"\",VLOOKUP(A1117,base_itens,2,FALSE))","v":""}]
[null,{"$f":"IF(ISBLANK(A1118),\"\",VLOOKUP(A1118,base_itens,2,FALSE))","v":""}]
[null,{"$f":"IF(ISBLANK(A1119),\"\",VLOOKUP(A1119,base_itens,2,FALSE))","v":""}]
[null,{"$f":"IF(ISBLANK(A1120),\"\",VLOOKUP(A1120,base_itens,2,FALSE))","v":""}]
[null,{"$f":"IF(ISBLANK(A1121),\"\",VLOOKUP(A1121,base_itens,2,FALSE))","v":""}]
[null,{"$f":"IF(ISBLANK(A1122),\"\",VLOOKUP(A1122,base_itens,2,FALSE))","v":""}]
[null,{"$f":"IF(ISBLANK(A1123),\"\",VLOOKUP(A1123,base_itens,2,FALSE))","v":""}]
[null,{"$f":"IF(ISBLANK(A1124),\"\",VLOOKUP(A1124,base_itens,2,FALSE))","v":""}]
[null,{"$f":"IF(ISBLANK(A1125),\"\",VLOOKUP(A1125,base_itens,2,FALSE))","v":""}]
[null,{"$f":"IF(ISBLANK(A1126),\"\",VLOOKUP(A1126,base_itens,2,FALSE))","v":""}]
[null,{"$f":"IF(ISBLANK(A1127),\"\",VLOOKUP(A1127,base_itens,2,FALSE))","v":""}]
[null,{"$f":"IF(ISBLANK(A1128),\"\",VLOOKUP(A1128,base_itens,2,FALSE))","v":""}]
[null,{"$f":"IF(ISBLANK(A1129),\"\",VLOOKUP(A1129,base_itens,2,FALSE))","v":""}]
[null,{"$f":"IF(ISBLANK(A1130),\"\",VLOOKUP(A1130,base_itens,2,FALSE))","v":""}]
[null,{"$f":"IF(ISBLANK(A1131),\"\",VLOOKUP(A1131,base_itens,2,FALSE))","v":""}]
[null,{"$f":"IF(ISBLANK(A1132),\"\",VLOOKUP(A1132,base_itens,2,FALSE))","v":""}]
[null,{"$f":"IF(ISBLANK(A1133),\"\",VLOOKUP(A1133,base_itens,2,FALSE))","v":""}]
[null,{"$f":"IF(ISBLANK(A1134),\"\",VLOOKUP(A1134,base_itens,2,FALSE))","v":""}]
[null,{"$f":"IF(ISBLANK(A1135),\"\",VLOOKUP(A1135,base_itens,2,FALSE))","v":""}]
[null,{"$f":"IF(ISBLANK(A1136),\"\",VLOOKUP(A1136,base_itens,2,FALSE))","v":""}]
[null,{"$f":"IF(ISBLANK(A1137),\"\",VLOOKUP(A1137,base_itens,2,FALSE))","v":""}]
[null,{"$f":"IF(ISBLANK(A1138),\"\",VLOOKUP(A1138,base_itens,2,FALSE))","v":""}]
[null,{"$f":"IF(ISBLANK(A1139),\"\",VLOOKUP(A1139,base_itens,2,FALSE))","v":""}]
[null,{"$f":"IF(ISBLANK(A1140),\"\",VLOOKUP(A1140,base_itens,2,FALSE))","v":""}]
[null,{"$f":"IF(ISBLANK(A1141),\"\",VLOOKUP(A1141,base_itens,2,FALSE))","v":""}]
[null,{"$f":"IF(ISBLANK(A1142),\"\",VLOOKUP(A1142,base_itens,2,FALSE))","v":""}]
[null,{"$f":"IF(ISBLANK(A1143),\"\",VLOOKUP(A1143,base_itens,2,FALSE))","v":""}]
[null,{"$f":"IF(ISBLANK(A1144),\"\",VLOOKUP(A1144,base_itens,2,FALSE))","v":""}]
[null,{"$f":"IF(ISBLANK(A1145),\"\",VLOOKUP(A1145,base_itens,2,FALSE))","v":""}]
[null,{"$f":"IF(ISBLANK(A1146),\"\",VLOOKUP(A1146,base_itens,2,FALSE))","v":""}]
[null,{"$f":"IF(ISBLANK(A1147),\"\",VLOOKUP(A1147,base_itens,2,FALSE))","v":""}]
[null,{"$f":"IF(ISBLANK(A1148),\"\",VLOOKUP(A1148,base_itens,2,FALSE))","v":""}]
[null,{"$f":"IF(ISBLANK(A1149),\"\",VLOOKUP(A1149,base_itens,2,FALSE))","v":""}]
[null,{"$f":"IF(ISBLANK(A1150),\"\",VLOOKUP(A1150,base_itens,2,FALSE))","v":""}]
[null,{"$f":"IF(ISBLANK(A1151),\"\",VLOOKUP(A1151,base_itens,2,FALSE))","v":""}]
[null,{"$f":"IF(ISBLANK(A1152),\"\",VLOOKUP(A1152,base_itens,2,FALSE))","v":""}]
[null,{"$f":"IF(ISBLANK(A1153),\"\",VLOOKUP(A1153,base_itens,2,FALSE))","v":""}]
[null,{"$f":"IF(ISBLANK(A1154),\"\",VLOOKUP(A1154,base_itens,2,FALSE))","v":""}]
[null,{"$f":"IF(ISBLANK(A1155),\"\",VLOOKUP(A1155,base_itens,2,FALSE))","v":""}]
[null,{"$f":"IF(ISBLANK(A1156),\"\",VLOOKUP(A1156,base_itens,2,FALSE))","v":""}]
[null,{"$f":"IF(ISBLANK(A1157),\"\",VLOOKUP(A1157,base_itens,2,FALSE))","v":""}]
[null,{"$f":"IF(ISBLANK(A1158),\"\",VLOOKUP(A1158,base_itens,2,FALSE))","v":""}]
[null,{"$f":"IF(ISBLANK(A1159),\"\",VLOOKUP(A1159,base_itens,2,FALSE))","v":""}]
[null,{"$f":"IF(ISBLANK(A1160),\"\",VLOOKUP(A1160,base_itens,2,FALSE))","v":""}]
[null,{"$f":"IF(ISBLANK(A1161),\"\",VLOOKUP(A1161,base_itens,2,FALSE))","v":""}]
[null,{"$f":"IF(ISBLANK(A1162),\"\",VLOOKUP(A1162,base_itens,2,FALSE))","v":""}]
[null,{"$f":"IF(ISBLANK(A1163),\"\",VLOOKUP(A1163,base_itens,2,FALSE))","v":""}]
[null,{"$f":"IF(ISBLANK(A1164),\"\",VLOOKUP(A1164,base_itens,2,FALSE))","v":""}]
[null,{"$f":"IF(ISBLANK(A1165),\"\",VLOOKUP(A1165,base_itens,2,FALSE))","v":""}]
[null,{"$f":"IF(ISBLANK(A1166),\"\",VLOOKUP(A1166,base_itens,2,FALSE))","v":""}]
[null,{"$f":"IF(ISBLANK(A1167),\"\",VLOOKUP(A1167,base_itens,2,FALSE))","v":""}]
[null,{"$f":"IF(ISBLANK(A1168),\"\",VLOOKUP(A1168,base_itens,2,FALSE))","v":""}]
[null,{"$f":"IF(ISBLANK(A1169),\"\",VLOOKUP(A1169,base_itens,2,FALSE))","v":""}]
[null,{"$f":"IF(ISBLANK(A1170),\"\",VLOOKUP(A1170,base_itens,2,FALSE))","v":""}]
[null,{"$f":"IF(ISBLANK(A1171),\"\",VLOOKUP(A1171,base_itens,2,FALSE))","v":""}]
[null,{"$f":"IF(ISBLANK(A1172),\"\",VLOOKUP(A1172,base_itens,2,FALSE))","v":""}]
[null,{"$f":"IF(ISBLANK(A1173),\"\",VLOOKUP(A1173,base_itens,2,FALSE))","v":""}]
[null,{"$f":"IF(ISBLANK(A1174),\"\",VLOOKUP(A1174,base_itens,2,FALSE))","v":""}]
[null,{"$f":"IF(ISBLANK(A1175),\"\",VLOOKUP(A1175,base_itens,2,FALSE))","v":""}]
[null,{"$f":"IF(ISBLANK(A1176),\"\",VLOOKUP(A1176,base_itens,2,FALSE))","v":""}]
[null,{"$f":"IF(ISBLANK(A1177),\"\",VLOOKUP(A1177,base_itens,2,FALSE))","v":""}]
[null,{"$f":"IF(ISBLANK(A1178),\"\",VLOOKUP(A1178,base_itens,2,FALSE))","v":""}]
[null,{"$f":"IF(ISBLANK(A1179),\"\",VLOOKUP(A1179,base_itens,2,FALSE))","v":""}]
[null,{"$f":"IF(ISBLANK(A1180),\"\",VLOOKUP(A1180,base_itens,2,FALSE))","v":""}]
[null,{"$f":"IF(ISBLANK(A1181),\"\",VLOOKUP(A1181,base_itens,2,FALSE))","v":""}]
[null,{"$f":"IF(ISBLANK(A1182),\"\",VLOOKUP(A1182,base_itens,2,FALSE))","v":""}]
[null,{"$f":"IF(ISBLANK(A1183),\"\",VLOOKUP(A1183,base_itens,2,FALSE))","v":""}]
[null,{"$f":"IF(ISBLANK(A1184),\"\",VLOOKUP(A1184,base_itens,2,FALSE))","v":""}]
[null,{"$f":"IF(ISBLANK(A1185),\"\",VLOOKUP(A1185,base_itens,2,FALSE))","v":""}]
[null,{"$f":"IF(ISBLANK(A1186),\"\",VLOOKUP(A1186,base_itens,2,FALSE))","v":""}]
[null,{"$f":"IF(ISBLANK(A1187),\"\",VLOOKUP(A1187,base_itens,2,FALSE))","v":""}]
[null,{"$f":"IF(ISBLANK(A1188),\"\",VLOOKUP(A1188,base_itens,2,FALSE))","v":""}]
[null,{"$f":"IF(ISBLANK(A1189),\"\",VLOOKUP(A1189,base_itens,2,FALSE))","v":""}]
[null,{"$f":"IF(ISBLANK(A1190),\"\",VLOOKUP(A1190,base_itens,2,FALSE))","v":""}]
[null,{"$f":"IF(ISBLANK(A1191),\"\",VLOOKUP(A1191,base_itens,2,FALSE))","v":""}]
[null,{"$f":"IF(ISBLANK(A1192),\"\",VLOOKUP(A1192,base_itens,2,FALSE))","v":""}]
[null,{"$f":"IF(ISBLANK(A1193),\"\",VLOOKUP(A1193,base_itens,2,FALSE))","v":""}]
[null,{"$f":"IF(ISBLANK(A1194),\"\",VLOOKUP(A1194,base_itens,2,FALSE))","v":""}]
[null,{"$f":"IF(ISBLANK(A1195),\"\",VLOOKUP(A1195,base_itens,2,FALSE))","v":""}]
[null,{"$f":"IF(ISBLANK(A1196),\"\",VLOOKUP(A1196,base_itens,2,FALSE))","v":""}]
[null,{"$f":"IF(ISBLANK(A1197),\"\",VLOOKUP(A1197,base_itens,2,FALSE))","v":""}]
[null,{"$f":"IF(ISBLANK(A1198),\"\",VLOOKUP(A1198,base_itens,2,FALSE))","v":""}]
[null,{"$f":"IF(ISBLANK(A1199),\"\",VLOOKUP(A1199,base_itens,2,FALSE))","v":""}]
[null,{"$f":"IF(ISBLANK(A1200),\"\",VLOOKUP(A1200,base_itens,2,FALSE))","v":""}]
[null,{"$f":"IF(ISBLANK(A1201),\"\",VLOOKUP(A1201,base_itens,2,FALSE))","v":""}]
[null,{"$f":"IF(ISBLANK(A1202),\"\",VLOOKUP(A1202,base_itens,2,FALSE))","v":""}]
[null,{"$f":"IF(ISBLANK(A1203),\"\",VLOOKUP(A1203,base_itens,2,FALSE))","v":""}]
[null,{"$f":"IF(ISBLANK(A1204),\"\",VLOOKUP(A1204,base_itens,2,FALSE))","v":""}]
[null,{"$f":"IF(ISBLANK(A1205),\"\",VLOOKUP(A1205,base_itens,2,FALSE))","v":""}]
[null,{"$f":"IF(ISBLANK(A1206),\"\",VLOOKUP(A1206,base_itens,2,FALSE))","v":""}]
[null,{"$f":"IF(ISBLANK(A1207),\"\",VLOOKUP(A1207,base_itens,2,FALSE))","v":""}]
[null,{"$f":"IF(ISBLANK(A1208),\"\",VLOOKUP(A1208,base_itens,2,FALSE))","v":""}]
[null,{"$f":"IF(ISBLANK(A1209),\"\",VLOOKUP(A1209,base_itens,2,FALSE))","v":""}]
[null,{"$f":"IF(ISBLANK(A1210),\"\",VLOOKUP(A1210,base_itens,2,FALSE))","v":""}]
[null,{"$f":"IF(ISBLANK(A1211),\"\",VLOOKUP(A1211,base_itens,2,FALSE))","v":""}]
[null,{"$f":"IF(ISBLANK(A1212),\"\",VLOOKUP(A1212,base_itens,2,FALSE))","v":""}]
[null,{"$f":"IF(ISBLANK(A1213),\"\",VLOOKUP(A1213,base_itens,2,FALSE))","v":""}]
[null,{"$f":"IF(ISBLANK(A1214),\"\",VLOOKUP(A1214,base_itens,2,FALSE))","v":""}]
[null,{"$f":"IF(ISBLANK(A1215),\"\",VLOOKUP(A1215,base_itens,2,FALSE))","v":""}]
[null,{"$f":"IF(ISBLANK(A1216),\"\",VLOOKUP(A1216,base_itens,2,FALSE))","v":""}]
[null,{"$f":"IF(ISBLANK(A1217),\"\",VLOOKUP(A1217,base_itens,2,FALSE))","v":""}]
[null,{"$f":"IF(ISBLANK(A1218),\"\",VLOOKUP(A1218,base_itens,2,FALSE))","v":""}]
[null,{"$f":"IF(ISBLANK(A1219),\"\",VLOOKUP(A1219,base_itens,2,FALSE))","v":""}]
[null,{"$f":"IF(ISBLANK(A1220),\"\",VLOOKUP(A1220,base_itens,2,FALSE))","v":""}]
[null,{"$f":"IF(ISBLANK(A1221),\"\",VLOOKUP(A1221,base_itens,2,FALSE))","v":""}]
[null,{"$f":"IF(ISBLANK(A1222),\"\",VLOOKUP(A1222,base_itens,2,FALSE))","v":""}]
[null,{"$f":"IF(ISBLANK(A1223),\"\",VLOOKUP(A1223,base_itens,2,FALSE))","v":""}]
[null,{"$f":"IF(ISBLANK(A1224),\"\",VLOOKUP(A1224,base_itens,2,FALSE))","v":""}]
[null,{"$f":"IF(ISBLANK(A1225),\"\",VLOOKUP(A1225,base_itens,2,FALSE))","v":""}]
[null,{"$f":"IF(ISBLANK(A1226),\"\",VLOOKUP(A1226,base_itens,2,FALSE))","v":""}]
[null,{"$f":"IF(ISBLANK(A1227),\"\",VLOOKUP(A1227,base_itens,2,FALSE))","v":""}]
[null,{"$f":"IF(ISBLANK(A1228),\"\",VLOOKUP(A1228,base_itens,2,FALSE))","v":""}]
[null,{"$f":"IF(ISBLANK(A1229),\"\",VLOOKUP(A1229,base_itens,2,FALSE))","v":""}]
[null,{"$f":"IF(ISBLANK(A1230),\"\",VLOOKUP(A1230,base_itens,2,FALSE))","v":""}]
[null,{"$f":"IF(ISBLANK(A1231),\"\",VLOOKUP(A1231,base_itens,2,FALSE))","v":""}]
[null,{"$f":"IF(ISBLANK(A1232),\"\",VLOOKUP(A1232,base_itens,2,FALSE))","v":""}]
[null,{"$f":"IF(ISBLANK(A1233),\"\",VLOOKUP(A1233,base_itens,2,FALSE))","v":""}]
[null,{"$f":"IF(ISBLANK(A1234),\"\",VLOOKUP(A1234,base_itens,2,FALSE))","v":""}]
[null,{"$f":"IF(ISBLANK(A1235),\"\",VLOOKUP(A1235,base_itens,2,FALSE))","v":""}]
[null,{"$f":"IF(ISBLANK(A1236),\"\",VLOOKUP(A1236,base_itens,2,FALSE))","v":""}]
[null,{"$f":"IF(ISBLANK(A1237),\"\",VLOOKUP(A1237,base_itens,2,FALSE))","v":""}]
[null,{"$f":"IF(ISBLANK(A1238),\"\",VLOOKUP(A1238,base_itens,2,FALSE))","v":""}]
[null,{"$f":"IF(ISBLANK(A1239),\"\",VLOOKUP(A1239,base_itens,2,FALSE))","v":""}]
[null,{"$f":"IF(ISBLANK(A1240),\"\",VLOOKUP(A1240,base_itens,2,FALSE))","v":""}]
[null,{"$f":"IF(ISBLANK(A1241),\"\",VLOOKUP(A1241,base_itens,2,FALSE))","v":""}]
[null,{"$f":"IF(ISBLANK(A1242),\"\",VLOOKUP(A1242,base_itens,2,FALSE))","v":""}]
[null,{"$f":"IF(ISBLANK(A1243),\"\",VLOOKUP(A1243,base_itens,2,FALSE))","v":""}]
[null,{"$f":"IF(ISBLANK(A1244),\"\",VLOOKUP(A1244,base_itens,2,FALSE))","v":""}]
[null,{"$f":"IF(ISBLANK(A1245),\"\",VLOOKUP(A1245,base_itens,2,FALSE))","v":""}]
[null,{"$f":"IF(ISBLANK(A1246),\"\",VLOOKUP(A1246,base_itens,2,FALSE))","v":""}]
[null,{"$f":"IF(ISBLANK(A1247),\"\",VLOOKUP(A1247,base_itens,2,FALSE))","v":""}]
[null,{"$f":"IF(ISBLANK(A1248),\"\",VLOOKUP(A1248,base_itens,2,FALSE))","v":""}]
[null,{"$f":"IF(ISBLANK(A1249),\"\",VLOOKUP(A1249,base_itens,2,FALSE))","v":""}]
[null,{"$f":"IF(ISBLANK(A1250),\"\",VLOOKUP(A1250,base_itens,2,FALSE))","v":""}]
[null,{"$f":"IF(ISBLANK(A1251),\"\",VLOOKUP(A1251,base_itens,2,FALSE))","v":""}]
[null,{"$f":"IF(ISBLANK(A1252),\"\",VLOOKUP(A1252,base_itens,2,FALSE))","v":""}]
[null,{"$f":"IF(ISBLANK(A1253),\"\",VLOOKUP(A1253,base_itens,2,FALSE))","v":""}]
[null,{"$f":"IF(ISBLANK(A1254),\"\",VLOOKUP(A1254,base_itens,2,FALSE))","v":""}]
[null,{"$f":"IF(ISBLANK(A1255),\"\",VLOOKUP(A1255,base_itens,2,FALSE))","v":""}]
[null,{"$f":"IF(ISBLANK(A1256),\"\",VLOOKUP(A1256,base_itens,2,FALSE))","v":""}]
[null,{"$f":"IF(ISBLANK(A1257),\"\",VLOOKUP(A1257,base_itens,2,FALSE))","v":""}]
[null,{"$f":"IF(ISBLANK(A1258),\"\",VLOOKUP(A1258,base_itens,2,FALSE))","v":""}]
[null,{"$f":"IF(ISBLANK(A1259),\"\",VLOOKUP(A1259,base_itens,2,FALSE))","v":""}]
[null,{"$f":"IF(ISBLANK(A1260),\"\",VLOOKUP(A1260,base_itens,2,FALSE))","v":""}]
[null,{"$f":"IF(ISBLANK(A1261),\"\",VLOOKUP(A1261,base_itens,2,FALSE))","v":""}]
[null,{"$f":"IF(ISBLANK(A1262),\"\",VLOOKUP(A1262,base_itens,2,FALSE))","v":""}]
[null,{"$f":"IF(ISBLANK(A1263),\"\",VLOOKUP(A1263,base_itens,2,FALSE))","v":""}]
[null,{"$f":"IF(ISBLANK(A1264),\"\",VLOOKUP(A1264,base_itens,2,FALSE))","v":""}]
[null,{"$f":"IF(ISBLANK(A1265),\"\",VLOOKUP(A1265,base_itens,2,FALSE))","v":""}]
[null,{"$f":"IF(ISBLANK(A1266),\"\",VLOOKUP(A1266,base_itens,2,FALSE))","v":""}]
[null,{"$f":"IF(ISBLANK(A1267),\"\",VLOOKUP(A1267,base_itens,2,FALSE))","v":""}]
[null,{"$f":"IF(ISBLANK(A1268),\"\",VLOOKUP(A1268,base_itens,2,FALSE))","v":""}]
[null,{"$f":"IF(ISBLANK(A1269),\"\",VLOOKUP(A1269,base_itens,2,FALSE))","v":""}]
[null,{"$f":"IF(ISBLANK(A1270),\"\",VLOOKUP(A1270,base_itens,2,FALSE))","v":""}]
[null,{"$f":"IF(ISBLANK(A1271),\"\",VLOOKUP(A1271,base_itens,2,FALSE))","v":""}]
[null,{"$f":"IF(ISBLANK(A1272),\"\",VLOOKUP(A1272,base_itens,2,FALSE))","v":""}]
[null,{"$f":"IF(ISBLANK(A1273),\"\",VLOOKUP(A1273,base_itens,2,FALSE))","v":""}]
[null,{"$f":"IF(ISBLANK(A1274),\"\",VLOOKUP(A1274,base_itens,2,FALSE))","v":""}]
[null,{"$f":"IF(ISBLANK(A1275),\"\",VLOOKUP(A1275,base_itens,2,FALSE))","v":""}]
[null,{"$f":"IF(ISBLANK(A1276),\"\",VLOOKUP(A1276,base_itens,2,FALSE))","v":""}]
[null,{"$f":"IF(ISBLANK(A1277),\"\",VLOOKUP(A1277,base_itens,2,FALSE))","v":""}]
[null,{"$f":"IF(ISBLANK(A1278),\"\",VLOOKUP(A1278,base_itens,2,FALSE))","v":""}]
[null,{"$f":"IF(ISBLANK(A1279),\"\",VLOOKUP(A1279,base_itens,2,FALSE))","v":""}]
[null,{"$f":"IF(ISBLANK(A1280),\"\",VLOOKUP(A1280,base_itens,2,FALSE))","v":""}]
[null,{"$f":"IF(ISBLANK(A1281),\"\",VLOOKUP(A1281,base_itens,2,FALSE))","v":""}]
[null,{"$f":"IF(ISBLANK(A1282),\"\",VLOOKUP(A1282,base_itens,2,FALSE))","v":""}]
[null,{"$f":"IF(ISBLANK(A1283),\"\",VLOOKUP(A1283,base_itens,2,FALSE))","v":""}]
[null,{"$f":"IF(ISBLANK(A1284),\"\",VLOOKUP(A1284,base_itens,2,FALSE))","v":""}]
[null,{"$f":"IF(ISBLANK(A1285),\"\",VLOOKUP(A1285,base_itens,2,FALSE))","v":""}]
[null,{"$f":"IF(ISBLANK(A1286),\"\",VLOOKUP(A1286,base_itens,2,FALSE))","v":""}]
[null,{"$f":"IF(ISBLANK(A1287),\"\",VLOOKUP(A1287,base_itens,2,FALSE))","v":""}]
[null,{"$f":"IF(ISBLANK(A1288),\"\",VLOOKUP(A1288,base_itens,2,FALSE))","v":""}]
[null,{"$f":"IF(ISBLANK(A1289),\"\",VLOOKUP(A1289,base_itens,2,FALSE))","v":""}]
[null,{"$f":"IF(ISBLANK(A1290),\"\",VLOOKUP(A1290,base_itens,2,FALSE))","v":""}]
[null,{"$f":"IF(ISBLANK(A1291),\"\",VLOOKUP(A1291,base_itens,2,FALSE))","v":""}]
[null,{"$f":"IF(ISBLANK(A1292),\"\",VLOOKUP(A1292,base_itens,2,FALSE))","v":""}]
[null,{"$f":"IF(ISBLANK(A1293),\"\",VLOOKUP(A1293,base_itens,2,FALSE))","v":""}]
[null,{"$f":"IF(ISBLANK(A1294),\"\",VLOOKUP(A1294,base_itens,2,FALSE))","v":""}]
[null,{"$f":"IF(ISBLANK(A1295),\"\",VLOOKUP(A1295,base_itens,2,FALSE))","v":""}]
[null,{"$f":"IF(ISBLANK(A1296),\"\",VLOOKUP(A1296,base_itens,2,FALSE))","v":""}]
[null,{"$f":"IF(ISBLANK(A1297),\"\",VLOOKUP(A1297,base_itens,2,FALSE))","v":""}]
[null,{"$f":"IF(ISBLANK(A1298),\"\",VLOOKUP(A1298,base_itens,2,FALSE))","v":""}]
[null,{"$f":"IF(ISBLANK(A1299),\"\",VLOOKUP(A1299,base_itens,2,FALSE))","v":""}]
[null,{"$f":"IF(ISBLANK(A1300),\"\",VLOOKUP(A1300,base_itens,2,FALSE))","v":""}]
[null,{"$f":"IF(ISBLANK(A1301),\"\",VLOOKUP(A1301,base_itens,2,FALSE))","v":""}]
[null,{"$f":"IF(ISBLANK(A1302),\"\",VLOOKUP(A1302,base_itens,2,FALSE))","v":""}]
[null,{"$f":"IF(ISBLANK(A1303),\"\",VLOOKUP(A1303,base_itens,2,FALSE))","v":""}]
[null,{"$f":"IF(ISBLANK(A1304),\"\",VLOOKUP(A1304,base_itens,2,FALSE))","v":""}]
[null,{"$f":"IF(ISBLANK(A1305),\"\",VLOOKUP(A1305,base_itens,2,FALSE))","v":""}]
[null,{"$f":"IF(ISBLANK(A1306),\"\",VLOOKUP(A1306,base_itens,2,FALSE))","v":""}]
[null,{"$f":"IF(ISBLANK(A1307),\"\",VLOOKUP(A1307,base_itens,2,FALSE))","v":""}]
[null,{"$f":"IF(ISBLANK(A1308),\"\",VLOOKUP(A1308,base_itens,2,FALSE))","v":""}]
[null,{"$f":"IF(ISBLANK(A1309),\"\",VLOOKUP(A1309,base_itens,2,FALSE))","v":""}]
[null,{"$f":"IF(ISBLANK(A1310),\"\",VLOOKUP(A1310,base_itens,2,FALSE))","v":""}]
[null,{"$f":"IF(ISBLANK(A1311),\"\",VLOOKUP(A1311,base_itens,2,FALSE))","v":""}]
[null,{"$f":"IF(ISBLANK(A1312),\"\",VLOOKUP(A1312,base_itens,2,FALSE))","v":""}]
[null,{"$f":"IF(ISBLANK(A1313),\"\",VLOOKUP(A1313,base_itens,2,FALSE))","v":""}]
[null,{"$f":"IF(ISBLANK(A1314),\"\",VLOOKUP(A1314,base_itens,2,FALSE))","v":""}]
[null,{"$f":"IF(ISBLANK(A1315),\"\",VLOOKUP(A1315,base_itens,2,FALSE))","v":""}]
[null,{"$f":"IF(ISBLANK(A1316),\"\",VLOOKUP(A1316,base_itens,2,FALSE))","v":""}]
[null,{"$f":"IF(ISBLANK(A1317),\"\",VLOOKUP(A1317,base_itens,2,FALSE))","v":""}]
[null,{"$f":"IF(ISBLANK(A1318),\"\",VLOOKUP(A1318,base_itens,2,FALSE))","v":""}]
[null,{"$f":"IF(ISBLANK(A1319),\"\",VLOOKUP(A1319,base_itens,2,FALSE))","v":""}]
[null,{"$f":"IF(ISBLANK(A1320),\"\",VLOOKUP(A1320,base_itens,2,FALSE))","v":""}]
[null,{"$f":"IF(ISBLANK(A1321),\"\",VLOOKUP(A1321,base_itens,2,FALSE))","v":""}]
[null,{"$f":"IF(ISBLANK(A1322),\"\",VLOOKUP(A1322,base_itens,2,FALSE))","v":""}]
[null,{"$f":"IF(ISBLANK(A1323),\"\",VLOOKUP(A1323,base_itens,2,FALSE))","v":""}]
[null,{"$f":"IF(ISBLANK(A1324),\"\",VLOOKUP(A1324,base_itens,2,FALSE))","v":""}]
[null,{"$f":"IF(ISBLANK(A1325),\"\",VLOOKUP(A1325,base_itens,2,FALSE))","v":""}]
[null,{"$f":"IF(ISBLANK(A1326),\"\",VLOOKUP(A1326,base_itens,2,FALSE))","v":""}]
[null,{"$f":"IF(ISBLANK(A1327),\"\",VLOOKUP(A1327,base_itens,2,FALSE))","v":""}]
[null,{"$f":"IF(ISBLANK(A1328),\"\",VLOOKUP(A1328,base_itens,2,FALSE))","v":""}]
[null,{"$f":"IF(ISBLANK(A1329),\"\",VLOOKUP(A1329,base_itens,2,FALSE))","v":""}]
[null,{"$f":"IF(ISBLANK(A1330),\"\",VLOOKUP(A1330,base_itens,2,FALSE))","v":""}]
[null,{"$f":"IF(ISBLANK(A1331),\"\",VLOOKUP(A1331,base_itens,2,FALSE))","v":""}]
[null,{"$f":"IF(ISBLANK(A1332),\"\",VLOOKUP(A1332,base_itens,2,FALSE))","v":""}]
[null,{"$f":"IF(ISBLANK(A1333),\"\",VLOOKUP(A1333,base_itens,2,FALSE))","v":""}]
[null,{"$f":"IF(ISBLANK(A1334),\"\",VLOOKUP(A1334,base_itens,2,FALSE))","v":""}]
[null,{"$f":"IF(ISBLANK(A1335),\"\",VLOOKUP(A1335,base_itens,2,FALSE))","v":""}]
[null,{"$f":"IF(ISBLANK(A1336),\"\",VLOOKUP(A1336,base_itens,2,FALSE))","v":""}]
[null,{"$f":"IF(ISBLANK(A1337),\"\",VLOOKUP(A1337,base_itens,2,FALSE))","v":""}]
[null,{"$f":"IF(ISBLANK(A1338),\"\",VLOOKUP(A1338,base_itens,2,FALSE))","v":""}]
[null,{"$f":"IF(ISBLANK(A1339),\"\",VLOOKUP(A1339,base_itens,2,FALSE))","v":""}]
[null,{"$f":"IF(ISBLANK(A1340),\"\",VLOOKUP(A1340,base_itens,2,FALSE))","v":""}]
[null,{"$f":"IF(ISBLANK(A1341),\"\",VLOOKUP(A1341,base_itens,2,FALSE))","v":""}]
[null,{"$f":"IF(ISBLANK(A1342),\"\",VLOOKUP(A1342,base_itens,2,FALSE))","v":""}]
[null,{"$f":"IF(ISBLANK(A1343),\"\",VLOOKUP(A1343,base_itens,2,FALSE))","v":""}]
[null,{"$f":"IF(ISBLANK(A1344),\"\",VLOOKUP(A1344,base_itens,2,FALSE))","v":""}]
[null,{"$f":"IF(ISBLANK(A1345),\"\",VLOOKUP(A1345,base_itens,2,FALSE))","v":""}]
[null,{"$f":"IF(ISBLANK(A1346),\"\",VLOOKUP(A1346,base_itens,2,FALSE))","v":""}]
[null,{"$f":"IF(ISBLANK(A1347),\"\",VLOOKUP(A1347,base_itens,2,FALSE))","v":""}]
[null,{"$f":"IF(ISBLANK(A1348),\"\",VLOOKUP(A1348,base_itens,2,FALSE))","v":""}]
[null,{"$f":"IF(ISBLANK(A1349),\"\",VLOOKUP(A1349,base_itens,2,FALSE))","v":""}]
[null,{"$f":"IF(ISBLANK(A1350),\"\",VLOOKUP(A1350,base_itens,2,FALSE))","v":""}]
[null,{"$f":"IF(ISBLANK(A1351),\"\",VLOOKUP(A1351,base_itens,2,FALSE))","v":""}]
[null,{"$f":"IF(ISBLANK(A1352),\"\",VLOOKUP(A1352,base_itens,2,FALSE))","v":""}]
[null,{"$f":"IF(ISBLANK(A1353),\"\",VLOOKUP(A1353,base_itens,2,FALSE))","v":""}]
[null,{"$f":"IF(ISBLANK(A1354),\"\",VLOOKUP(A1354,base_itens,2,FALSE))","v":""}]
[null,{"$f":"IF(ISBLANK(A1355),\"\",VLOOKUP(A1355,base_itens,2,FALSE))","v":""}]
[null,{"$f":"IF(ISBLANK(A1356),\"\",VLOOKUP(A1356,base_itens,2,FALSE))","v":""}]
[null,{"$f":"IF(ISBLANK(A1357),\"\",VLOOKUP(A1357,base_itens,2,FALSE))","v":""}]
[null,{"$f":"IF(ISBLANK(A1358),\"\",VLOOKUP(A1358,base_itens,2,FALSE))","v":""}]
[null,{"$f":"IF(ISBLANK(A1359),\"\",VLOOKUP(A1359,base_itens,2,FALSE))","v":""}]
[null,{"$f":"IF(ISBLANK(A1360),\"\",VLOOKUP(A1360,base_itens,2,FALSE))","v":""}]
[null,{"$f":"IF(ISBLANK(A1361),\"\",VLOOKUP(A1361,base_itens,2,FALSE))","v":""}]
[null,{"$f":"IF(ISBLANK(A1362),\"\",VLOOKUP(A1362,base_itens,2,FALSE))","v":""}]
[null,{"$f":"IF(ISBLANK(A1363),\"\",VLOOKUP(A1363,base_itens,2,FALSE))","v":""}]
[null,{"$f":"IF(ISBLANK(A1364),\"\",VLOOKUP(A1364,base_itens,2,FALSE))","v":""}]
[null,{"$f":"IF(ISBLANK(A1365),\"\",VLOOKUP(A1365,base_itens,2,FALSE))","v":""}]
[null,{"$f":"IF(ISBLANK(A1366),\"\",VLOOKUP(A1366,base_itens,2,FALSE))","v":""}]
[null,{"$f":"IF(ISBLANK(A1367),\"\",VLOOKUP(A1367,base_itens,2,FALSE))","v":""}]
[null,{"$f":"IF(ISBLANK(A1368),\"\",VLOOKUP(A1368,base_itens,2,FALSE))","v":""}]
[null,{"$f":"IF(ISBLANK(A1369),\"\",VLOOKUP(A1369,base_itens,2,FALSE))","v":""}]
[null,{"$f":"IF(ISBLANK(A1370),\"\",VLOOKUP(A1370,base_itens,2,FALSE))","v":""}]
[null,{"$f":"IF(ISBLANK(A1371),\"\",VLOOKUP(A1371,base_itens,2,FALSE))","v":""}]
[null,{"$f":"IF(ISBLANK(A1372),\"\",VLOOKUP(A1372,base_itens,2,FALSE))","v":""}]
[null,{"$f":"IF(ISBLANK(A1373),\"\",VLOOKUP(A1373,base_itens,2,FALSE))","v":""}]
[null,{"$f":"IF(ISBLANK(A1374),\"\",VLOOKUP(A1374,base_itens,2,FALSE))","v":""}]
[null,{"$f":"IF(ISBLANK(A1375),\"\",VLOOKUP(A1375,base_itens,2,FALSE))","v":""}]
[null,{"$f":"IF(ISBLANK(A1376),\"\",VLOOKUP(A1376,base_itens,2,FALSE))","v":""}]
[null,{"$f":"IF(ISBLANK(A1377),\"\",VLOOKUP(A1377,base_itens,2,FALSE))","v":""}]
[null,{"$f":"IF(ISBLANK(A1378),\"\",VLOOKUP(A1378,base_itens,2,FALSE))","v":""}]
[null,{"$f":"IF(ISBLANK(A1379),\"\",VLOOKUP(A1379,base_itens,2,FALSE))","v":""}]
[null,{"$f":"IF(ISBLANK(A1380),\"\",VLOOKUP(A1380,base_itens,2,FALSE))","v":""}]
[null,{"$f":"IF(ISBLANK(A1381),\"\",VLOOKUP(A1381,base_itens,2,FALSE))","v":""}]
[null,{"$f":"IF(ISBLANK(A1382),\"\",VLOOKUP(A1382,base_itens,2,FALSE))","v":""}]
[null,{"$f":"IF(ISBLANK(A1383),\"\",VLOOKUP(A1383,base_itens,2,FALSE))","v":""}]
[null,{"$f":"IF(ISBLANK(A1384),\"\",VLOOKUP(A1384,base_itens,2,FALSE))","v":""}]
[null,{"$f":"IF(ISBLANK(A1385),\"\",VLOOKUP(A1385,base_itens,2,FALSE))","v":""}]
[null,{"$f":"IF(ISBLANK(A1386),\"\",VLOOKUP(A1386,base_itens,2,FALSE))","v":""}]
[null,{"$f":"IF(ISBLANK(A1387),\"\",VLOOKUP(A1387,base_itens,2,FALSE))","v":""}]
[null,{"$f":"IF(ISBLANK(A1388),\"\",VLOOKUP(A1388,base_itens,2,FALSE))","v":""}]
[null,{"$f":"IF(ISBLANK(A1389),\"\",VLOOKUP(A1389,base_itens,2,FALSE))","v":""}]
[null,{"$f":"IF(ISBLANK(A1390),\"\",VLOOKUP(A1390,base_itens,2,FALSE))","v":""}]
[null,{"$f":"IF(ISBLANK(A1391),\"\",VLOOKUP(A1391,base_itens,2,FALSE))","v":""}]
[null,{"$f":"IF(ISBLANK(A1392),\"\",VLOOKUP(A1392,base_itens,2,FALSE))","v":""}]
[null,{"$f":"IF(ISBLANK(A1393),\"\",VLOOKUP(A1393,base_itens,2,FALSE))","v":""}]
[null,{"$f":"IF(ISBLANK(A1394),\"\",VLOOKUP(A1394,base_itens,2,FALSE))","v":""}]
[null,{"$f":"IF(ISBLANK(A1395),\"\",VLOOKUP(A1395,base_itens,2,FALSE))","v":""}]
[null,{"$f":"IF(ISBLANK(A1396),\"\",VLOOKUP(A1396,base_itens,2,FALSE))","v":""}]
[null,{"$f":"IF(ISBLANK(A1397),\"\",VLOOKUP(A1397,base_itens,2,FALSE))","v":""}]
[null,{"$f":"IF(ISBLANK(A1398),\"\",VLOOKUP(A1398,base_itens,2,FALSE))","v":""}]
[null,{"$f":"IF(ISBLANK(A1399),\"\",VLOOKUP(A1399,base_itens,2,FALSE))","v":""}]
[null,{"$f":"IF(ISBLANK(A1400),\"\",VLOOKUP(A1400,base_itens,2,FALSE))","v":""}]
[null,{"$f":"IF(ISBLANK(A1401),\"\",VLOOKUP(A1401,base_itens,2,FALSE))","v":""}]
[null,{"$f":"IF(ISBLANK(A1402),\"\",VLOOKUP(A1402,base_itens,2,FALSE))","v":""}]
[null,{"$f":"IF(ISBLANK(A1403),\"\",VLOOKUP(A1403,base_itens,2,FALSE))","v":""}]
[null,{"$f":"IF(ISBLANK(A1404),\"\",VLOOKUP(A1404,base_itens,2,FALSE))","v":""}]
[null,{"$f":"IF(ISBLANK(A1405),\"\",VLOOKUP(A1405,base_itens,2,FALSE))","v":""}]
[null,{"$f":"IF(ISBLANK(A1406),\"\",VLOOKUP(A1406,base_itens,2,FALSE))","v":""}]
[null,{"$f":"IF(ISBLANK(A1407),\"\",VLOOKUP(A1407,base_itens,2,FALSE))","v":""}]
[null,{"$f":"IF(ISBLANK(A1408),\"\",VLOOKUP(A1408,base_itens,2,FALSE))","v":""}]
[null,{"$f":"IF(ISBLANK(A1409),\"\",VLOOKUP(A1409,base_itens,2,FALSE))","v":""}]
[null,{"$f":"IF(ISBLANK(A1410),\"\",VLOOKUP(A1410,base_itens,2,FALSE))","v":""}]
[null,{"$f":"IF(ISBLANK(A1411),\"\",VLOOKUP(A1411,base_itens,2,FALSE))","v":""}]
[null,{"$f":"IF(ISBLANK(A1412),\"\",VLOOKUP(A1412,base_itens,2,FALSE))","v":""}]
[null,{"$f":"IF(ISBLANK(A1413),\"\",VLOOKUP(A1413,base_itens,2,FALSE))","v":""}]
[null,{"$f":"IF(ISBLANK(A1414),\"\",VLOOKUP(A1414,base_itens,2,FALSE))","v":""}]
[null,{"$f":"IF(ISBLANK(A1415),\"\",VLOOKUP(A1415,base_itens,2,FALSE))","v":""}]
[null,{"$f":"IF(ISBLANK(A1416),\"\",VLOOKUP(A1416,base_itens,2,FALSE))","v":""}]
[null,{"$f":"IF(ISBLANK(A1417),\"\",VLOOKUP(A1417,base_itens,2,FALSE))","v":""}]
[null,{"$f":"IF(ISBLANK(A1418),\"\",VLOOKUP(A1418,base_itens,2,FALSE))","v":""}]
[null,{"$f":"IF(ISBLANK(A1419),\"\",VLOOKUP(A1419,base_itens,2,FALSE))","v":""}]
[null,{"$f":"IF(ISBLANK(A1420),\"\",VLOOKUP(A1420,base_itens,2,FALSE))","v":""}]
[null,{"$f":"IF(ISBLANK(A1421),\"\",VLOOKUP(A1421,base_itens,2,FALSE))","v":""}]
[null,{"$f":"IF(ISBLANK(A1422),\"\",VLOOKUP(A1422,base_itens,2,FALSE))","v":""}]
[null,{"$f":"IF(ISBLANK(A1423),\"\",VLOOKUP(A1423,base_itens,2,FALSE))","v":""}]
[null,{"$f":"IF(ISBLANK(A1424),\"\",VLOOKUP(A1424,base_itens,2,FALSE))","v":""}]
[null,{"$f":"IF(ISBLANK(A1425),\"\",VLOOKUP(A1425,base_itens,2,FALSE))","v":""}]
[null,{"$f":"IF(ISBLANK(A1426),\"\",VLOOKUP(A1426,base_itens,2,FALSE))","v":""}]
[null,{"$f":"IF(ISBLANK(A1427),\"\",VLOOKUP(A1427,base_itens,2,FALSE))","v":""}]
[null,{"$f":"IF(ISBLANK(A1428),\"\",VLOOKUP(A1428,base_itens,2,FALSE))","v":""}]
[null,{"$f":"IF(ISBLANK(A1429),\"\",VLOOKUP(A1429,base_itens,2,FALSE))","v":""}]
[null,{"$f":"IF(ISBLANK(A1430),\"\",VLOOKUP(A1430,base_itens,2,FALSE))","v":""}]
[null,{"$f":"IF(ISBLANK(A1431),\"\",VLOOKUP(A1431,base_itens,2,FALSE))","v":""}]
[null,{"$f":"IF(ISBLANK(A1432),\"\",VLOOKUP(A1432,base_itens,2,FALSE))","v":""}]
[null,{"$f":"IF(ISBLANK(A1433),\"\",VLOOKUP(A1433,base_itens,2,FALSE))","v":""}]
[null,{"$f":"IF(ISBLANK(A1434),\"\",VLOOKUP(A1434,base_itens,2,FALSE))","v":""}]
[null,{"$f":"IF(ISBLANK(A1435),\"\",VLOOKUP(A1435,base_itens,2,FALSE))","v":""}]
[null,{"$f":"IF(ISBLANK(A1436),\"\",VLOOKUP(A1436,base_itens,2,FALSE))","v":""}]
[null,{"$f":"IF(ISBLANK(A1437),\"\",VLOOKUP(A1437,base_itens,2,FALSE))","v":""}]
[null,{"$f":"IF(ISBLANK(A1438),\"\",VLOOKUP(A1438,base_itens,2,FALSE))","v":""}]
[null,{"$f":"IF(ISBLANK(A1439),\"\",VLOOKUP(A1439,base_itens,2,FALSE))","v":""}]
[null,{"$f":"IF(ISBLANK(A1440),\"\",VLOOKUP(A1440,base_itens,2,FALSE))","v":""}]
[null,{"$f":"IF(ISBLANK(A1441),\"\",VLOOKUP(A1441,base_itens,2,FALSE))","v":""}]
[null,{"$f":"IF(ISBLANK(A1442),\"\",VLOOKUP(A1442,base_itens,2,FALSE))","v":""}]
[null,{"$f":"IF(ISBLANK(A1443),\"\",VLOOKUP(A1443,base_itens,2,FALSE))","v":""}]
[null,{"$f":"IF(ISBLANK(A1444),\"\",VLOOKUP(A1444,base_itens,2,FALSE))","v":""}]
[null,{"$f":"IF(ISBLANK(A1445),\"\",VLOOKUP(A1445,base_itens,2,FALSE))","v":""}]
[null,{"$f":"IF(ISBLANK(A1446),\"\",VLOOKUP(A1446,base_itens,2,FALSE))","v":""}]
[null,{"$f":"IF(ISBLANK(A1447),\"\",VLOOKUP(A1447,base_itens,2,FALSE))","v":""}]
[null,{"$f":"IF(ISBLANK(A1448),\"\",VLOOKUP(A1448,base_itens,2,FALSE))","v":""}]
[null,{"$f":"IF(ISBLANK(A1449),\"\",VLOOKUP(A1449,base_itens,2,FALSE))","v":""}]
[null,{"$f":"IF(ISBLANK(A1450),\"\",VLOOKUP(A1450,base_itens,2,FALSE))","v":""}]
[null,{"$f":"IF(ISBLANK(A1451),\"\",VLOOKUP(A1451,base_itens,2,FALSE))","v":""}]
[null,{"$f":"IF(ISBLANK(A1452),\"\",VLOOKUP(A1452,base_itens,2,FALSE))","v":""}]
[null,{"$f":"IF(ISBLANK(A1453),\"\",VLOOKUP(A1453,base_itens,2,FALSE))","v":""}]
[null,{"$f":"IF(ISBLANK(A1454),\"\",VLOOKUP(A1454,base_itens,2,FALSE))","v":""}]
[null,{"$f":"IF(ISBLANK(A1455),\"\",VLOOKUP(A1455,base_itens,2,FALSE))","v":""}]
[null,{"$f":"IF(ISBLANK(A1456),\"\",VLOOKUP(A1456,base_itens,2,FALSE))","v":""}]
[null,{"$f":"IF(ISBLANK(A1457),\"\",VLOOKUP(A1457,base_itens,2,FALSE))","v":""}]
[null,{"$f":"IF(ISBLANK(A1458),\"\",VLOOKUP(A1458,base_itens,2,FALSE))","v":""}]
[null,{"$f":"IF(ISBLANK(A1459),\"\",VLOOKUP(A1459,base_itens,2,FALSE))","v":""}]
[null,{"$f":"IF(ISBLANK(A1460),\"\",VLOOKUP(A1460,base_itens,2,FALSE))","v":""}]
[null,{"$f":"IF(ISBLANK(A1461),\"\",VLOOKUP(A1461,base_itens,2,FALSE))","v":""}]
[null,{"$f":"IF(ISBLANK(A1462),\"\",VLOOKUP(A1462,base_itens,2,FALSE))","v":""}]
[null,{"$f":"IF(ISBLANK(A1463),\"\",VLOOKUP(A1463,base_itens,2,FALSE))","v":""}]
[null,{"$f":"IF(ISBLANK(A1464),\"\",VLOOKUP(A1464,base_itens,2,FALSE))","v":""}]
[null,{"$f":"IF(ISBLANK(A1465),\"\",VLOOKUP(A1465,base_itens,2,FALSE))","v":""}]
[null,{"$f":"IF(ISBLANK(A1466),\"\",VLOOKUP(A1466,base_itens,2,FALSE))","v":""}]
[null,{"$f":"IF(ISBLANK(A1467),\"\",VLOOKUP(A1467,base_itens,2,FALSE))","v":""}]
[null,{"$f":"IF(ISBLANK(A1468),\"\",VLOOKUP(A1468,base_itens,2,FALSE))","v":""}]
[null,{"$f":"IF(ISBLANK(A1469),\"\",VLOOKUP(A1469,base_itens,2,FALSE))","v":""}]
[null,{"$f":"IF(ISBLANK(A1470),\"\",VLOOKUP(A1470,base_itens,2,FALSE))","v":""}]
[null,{"$f":"IF(ISBLANK(A1471),\"\",VLOOKUP(A1471,base_itens,2,FALSE))","v":""}]
[null,{"$f":"IF(ISBLANK(A1472),\"\",VLOOKUP(A1472,base_itens,2,FALSE))","v":""}]
[null,{"$f":"IF(ISBLANK(A1473),\"\",VLOOKUP(A1473,base_itens,2,FALSE))","v":""}]
[null,{"$f":"IF(ISBLANK(A1474),\"\",VLOOKUP(A1474,base_itens,2,FALSE))","v":""}]
[null,{"$f":"IF(ISBLANK(A1475),\"\",VLOOKUP(A1475,base_itens,2,FALSE))","v":""}]
[null,{"$f":"IF(ISBLANK(A1476),\"\",VLOOKUP(A1476,base_itens,2,FALSE))","v":""}]
[null,{"$f":"IF(ISBLANK(A1477),\"\",VLOOKUP(A1477,base_itens,2,FALSE))","v":""}]
[null,{"$f":"IF(ISBLANK(A1478),\"\",VLOOKUP(A1478,base_itens,2,FALSE))","v":""}]
[null,{"$f":"IF(ISBLANK(A1479),\"\",VLOOKUP(A1479,base_itens,2,FALSE))","v":""}]
[null,{"$f":"IF(ISBLANK(A1480),\"\",VLOOKUP(A1480,base_itens,2,FALSE))","v":""}]
[null,{"$f":"IF(ISBLANK(A1481),\"\",VLOOKUP(A1481,base_itens,2,FALSE))","v":""}]
[null,{"$f":"IF(ISBLANK(A1482),\"\",VLOOKUP(A1482,base_itens,2,FALSE))","v":""}]
[null,{"$f":"IF(ISBLANK(A1483),\"\",VLOOKUP(A1483,base_itens,2,FALSE))","v":""}]
[null,{"$f":"IF(ISBLANK(A1484),\"\",VLOOKUP(A1484,base_itens,2,FALSE))","v":""}]
[null,{"$f":"IF(ISBLANK(A1485),\"\",VLOOKUP(A1485,base_itens,2,FALSE))","v":""}]
[null,{"$f":"IF(ISBLANK(A1486),\"\",VLOOKUP(A1486,base_itens,2,FALSE))","v":""}]
[null,{"$f":"IF(ISBLANK(A1487),\"\",VLOOKUP(A1487,base_itens,2,FALSE))","v":""}]
[null,{"$f":"IF(ISBLANK(A1488),\"\",VLOOKUP(A1488,base_itens,2,FALSE))","v":""}]
[null,{"$f":"IF(ISBLANK(A1489),\"\",VLOOKUP(A1489,base_itens,2,FALSE))","v":""}]
[null,{"$f":"IF(ISBLANK(A1490),\"\",VLOOKUP(A1490,base_itens,2,FALSE))","v":""}]
[null,{"$f":"IF(ISBLANK(A1491),\"\",VLOOKUP(A1491,base_itens,2,FALSE))","v":""}]
[null,{"$f":"IF(ISBLANK(A1492),\"\",VLOOKUP(A1492,base_itens,2,FALSE))","v":""}]
[null,{"$f":"IF(ISBLANK(A1493),\"\",VLOOKUP(A1493,base_itens,2,FALSE))","v":""}]
[null,{"$f":"IF(ISBLANK(A1494),\"\",VLOOKUP(A1494,base_itens,2,FALSE))","v":""}]
[null,{"$f":"IF(ISBLANK(A1495),\"\",VLOOKUP(A1495,base_itens,2,FALSE))","v":""}]
[null,{"$f":"IF(ISBLANK(A1496),\"\",VLOOKUP(A1496,base_itens,2,FALSE))","v":""}]
[null,{"$f":"IF(ISBLANK(A1497),\"\",VLOOKUP(A1497,base_itens,2,FALSE))","v":""}]
[null,{"$f":"IF(ISBLANK(A1498),\"\",VLOOKUP(A1498,base_itens,2,FALSE))","v":""}]
[null,{"$f":"IF(ISBLANK(A1499),\"\",VLOOKUP(A1499,base_itens,2,FALSE))","v":""}]
[null,{"$f":"IF(ISBLANK(A1500),\"\",VLOOKUP(A1500,base_itens,2,FALSE))","v":""}]
[null,{"$f":"IF(ISBLANK(A1501),\"\",VLOOKUP(A1501,base_itens,2,FALSE))","v":""}]
[null,{"$f":"IF(ISBLANK(A1502),\"\",VLOOKUP(A1502,base_itens,2,FALSE))","v":""}]
[null,{"$f":"IF(ISBLANK(A1503),\"\",VLOOKUP(A1503,base_itens,2,FALSE))","v":""}]
[null,{"$f":"IF(ISBLANK(A1504),\"\",VLOOKUP(A1504,base_itens,2,FALSE))","v":""}]
[null,{"$f":"IF(ISBLANK(A1505),\"\",VLOOKUP(A1505,base_itens,2,FALSE))","v":""}]
[null,{"$f":"IF(ISBLANK(A1506),\"\",VLOOKUP(A1506,base_itens,2,FALSE))","v":""}]
[null,{"$f":"IF(ISBLANK(A1507),\"\",VLOOKUP(A1507,base_itens,2,FALSE))","v":""}]
[null,{"$f":"IF(ISBLANK(A1508),\"\",VLOOKUP(A1508,base_itens,2,FALSE))","v":""}]
[null,{"$f":"IF(ISBLANK(A1509),\"\",VLOOKUP(A1509,base_itens,2,FALSE))","v":""}]
[null,{"$f":"IF(ISBLANK(A1510),\"\",VLOOKUP(A1510,base_itens,2,FALSE))","v":""}]
[null,{"$f":"IF(ISBLANK(A1511),\"\",VLOOKUP(A1511,base_itens,2,FALSE))","v":""}]
[null,{"$f":"IF(ISBLANK(A1512),\"\",VLOOKUP(A1512,base_itens,2,FALSE))","v":""}]
[null,{"$f":"IF(ISBLANK(A1513),\"\",VLOOKUP(A1513,base_itens,2,FALSE))","v":""}]
[null,{"$f":"IF(ISBLANK(A1514),\"\",VLOOKUP(A1514,base_itens,2,FALSE))","v":""}]
[null,{"$f":"IF(ISBLANK(A1515),\"\",VLOOKUP(A1515,base_itens,2,FALSE))","v":""}]
[null,{"$f":"IF(ISBLANK(A1516),\"\",VLOOKUP(A1516,base_itens,2,FALSE))","v":""}]
[null,{"$f":"IF(ISBLANK(A1517),\"\",VLOOKUP(A1517,base_itens,2,FALSE))","v":""}]
[null,{"$f":"IF(ISBLANK(A1518),\"\",VLOOKUP(A1518,base_itens,2,FALSE))","v":""}]
[null,{"$f":"IF(ISBLANK(A1519),\"\",VLOOKUP(A1519,base_itens,2,FALSE))","v":""}]
[null,{"$f":"IF(ISBLANK(A1520),\"\",VLOOKUP(A1520,base_itens,2,FALSE))","v":""}]
[null,{"$f":"IF(ISBLANK(A1521),\"\",VLOOKUP(A1521,base_itens,2,FALSE))","v":""}]
[null,{"$f":"IF(ISBLANK(A1522),\"\",VLOOKUP(A1522,base_itens,2,FALSE))","v":""}]
[null,{"$f":"IF(ISBLANK(A1523),\"\",VLOOKUP(A1523,base_itens,2,FALSE))","v":""}]
[null,{"$f":"IF(ISBLANK(A1524),\"\",VLOOKUP(A1524,base_itens,2,FALSE))","v":""}]
[null,{"$f":"IF(ISBLANK(A1525),\"\",VLOOKUP(A1525,base_itens,2,FALSE))","v":""}]
[null,{"$f":"IF(ISBLANK(A1526),\"\",VLOOKUP(A1526,base_itens,2,FALSE))","v":""}]
[null,{"$f":"IF(ISBLANK(A1527),\"\",VLOOKUP(A1527,base_itens,2,FALSE))","v":""}]
[null,{"$f":"IF(ISBLANK(A1528),\"\",VLOOKUP(A1528,base_itens,2,FALSE))","v":""}]
[null,{"$f":"IF(ISBLANK(A1529),\"\",VLOOKUP(A1529,base_itens,2,FALSE))","v":""}]
[null,{"$f":"IF(ISBLANK(A1530),\"\",VLOOKUP(A1530,base_itens,2,FALSE))","v":""}]
[null,{"$f":"IF(ISBLANK(A1531),\"\",VLOOKUP(A1531,base_itens,2,FALSE))","v":""}]
[null,{"$f":"IF(ISBLANK(A1532),\"\",VLOOKUP(A1532,base_itens,2,FALSE))","v":""}]
[null,{"$f":"IF(ISBLANK(A1533),\"\",VLOOKUP(A1533,base_itens,2,FALSE))","v":""}]
[null,{"$f":"IF(ISBLANK(A1534),\"\",VLOOKUP(A1534,base_itens,2,FALSE))","v":""}]
[null,{"$f":"IF(ISBLANK(A1535),\"\",VLOOKUP(A1535,base_itens,2,FALSE))","v":""}]
[null,{"$f":"IF(ISBLANK(A1536),\"\",VLOOKUP(A1536,base_itens,2,FALSE))","v":""}]
[null,{"$f":"IF(ISBLANK(A1537),\"\",VLOOKUP(A1537,base_itens,2,FALSE))","v":""}]
[null,{"$f":"IF(ISBLANK(A1538),\"\",VLOOKUP(A1538,base_itens,2,FALSE))","v":""}]
[null,{"$f":"IF(ISBLANK(A1539),\"\",VLOOKUP(A1539,base_itens,2,FALSE))","v":""}]
[null,{"$f":"IF(ISBLANK(A1540),\"\",VLOOKUP(A1540,base_itens,2,FALSE))","v":""}]
[null,{"$f":"IF(ISBLANK(A1541),\"\",VLOOKUP(A1541,base_itens,2,FALSE))","v":""}]
[null,{"$f":"IF(ISBLANK(A1542),\"\",VLOOKUP(A1542,base_itens,2,FALSE))","v":""}]
[null,{"$f":"IF(ISBLANK(A1543),\"\",VLOOKUP(A1543,base_itens,2,FALSE))","v":""}]
[null,{"$f":"IF(ISBLANK(A1544),\"\",VLOOKUP(A1544,base_itens,2,FALSE))","v":""}]
[null,{"$f":"IF(ISBLANK(A1545),\"\",VLOOKUP(A1545,base_itens,2,FALSE))","v":""}]
[null,{"$f":"IF(ISBLANK(A1546),\"\",VLOOKUP(A1546,base_itens,2,FALSE))","v":""}]
[null,{"$f":"IF(ISBLANK(A1547),\"\",VLOOKUP(A1547,base_itens,2,FALSE))","v":""}]
[null,{"$f":"IF(ISBLANK(A1548),\"\",VLOOKUP(A1548,base_itens,2,FALSE))","v":""}]
[null,{"$f":"IF(ISBLANK(A1549),\"\",VLOOKUP(A1549,base_itens,2,FALSE))","v":""}]
[null,{"$f":"IF(ISBLANK(A1550),\"\",VLOOKUP(A1550,base_itens,2,FALSE))","v":""}]
[null,{"$f":"IF(ISBLANK(A1551),\"\",VLOOKUP(A1551,base_itens,2,FALSE))","v":""}]
[null,{"$f":"IF(ISBLANK(A1552),\"\",VLOOKUP(A1552,base_itens,2,FALSE))","v":""}]
[null,{"$f":"IF(ISBLANK(A1553),\"\",VLOOKUP(A1553,base_itens,2,FALSE))","v":""}]
[null,{"$f":"IF(ISBLANK(A1554),\"\",VLOOKUP(A1554,base_itens,2,FALSE))","v":""}]
[null,{"$f":"IF(ISBLANK(A1555),\"\",VLOOKUP(A1555,base_itens,2,FALSE))","v":""}]
[null,{"$f":"IF(ISBLANK(A1556),\"\",VLOOKUP(A1556,base_itens,2,FALSE))","v":""}]
[null,{"$f":"IF(ISBLANK(A1557),\"\",VLOOKUP(A1557,base_itens,2,FALSE))","v":""}]
[null,{"$f":"IF(ISBLANK(A1558),\"\",VLOOKUP(A1558,base_itens,2,FALSE))","v":""}]
[null,{"$f":"IF(ISBLANK(A1559),\"\",VLOOKUP(A1559,base_itens,2,FALSE))","v":""}]
[null,{"$f":"IF(ISBLANK(A1560),\"\",VLOOKUP(A1560,base_itens,2,FALSE))","v":""}]
[null,{"$f":"IF(ISBLANK(A1561),\"\",VLOOKUP(A1561,base_itens,2,FALSE))","v":""}]
[null,{"$f":"IF(ISBLANK(A1562),\"\",VLOOKUP(A1562,base_itens,2,FALSE))","v":""}]
[null,{"$f":"IF(ISBLANK(A1563),\"\",VLOOKUP(A1563,base_itens,2,FALSE))","v":""}]
[null,{"$f":"IF(ISBLANK(A1564),\"\",VLOOKUP(A1564,base_itens,2,FALSE))","v":""}]
[null,{"$f":"IF(ISBLANK(A1565),\"\",VLOOKUP(A1565,base_itens,2,FALSE))","v":""}]
[null,{"$f":"IF(ISBLANK(A1566),\"\",VLOOKUP(A1566,base_itens,2,FALSE))","v":""}]
[null,{"$f":"IF(ISBLANK(A1567),\"\",VLOOKUP(A1567,base_itens,2,FALSE))","v":""}]
[null,{"$f":"IF(ISBLANK(A1568),\"\",VLOOKUP(A1568,base_itens,2,FALSE))","v":""}]
[null,{"$f":"IF(ISBLANK(A1569),\"\",VLOOKUP(A1569,base_itens,2,FALSE))","v":""}]
[null,{"$f":"IF(ISBLANK(A1570),\"\",VLOOKUP(A1570,base_itens,2,FALSE))","v":""}]
[null,{"$f":"IF(ISBLANK(A1571),\"\",VLOOKUP(A1571,base_itens,2,FALSE))","v":""}]
[null,{"$f":"IF(ISBLANK(A1572),\"\",VLOOKUP(A1572,base_itens,2,FALSE))","v":""}]
[null,{"$f":"IF(ISBLANK(A1573),\"\",VLOOKUP(A1573,base_itens,2,FALSE))","v":""}]
[null,{"$f":"IF(ISBLANK(A1574),\"\",VLOOKUP(A1574,base_itens,2,FALSE))","v":""}]
[null,{"$f":"IF(ISBLANK(A1575),\"\",VLOOKUP(A1575,base_itens,2,FALSE))","v":""}]
[null,{"$f":"IF(ISBLANK(A1576),\"\",VLOOKUP(A1576,base_itens,2,FALSE))","v":""}]
[null,{"$f":"IF(ISBLANK(A1577),\"\",VLOOKUP(A1577,base_itens,2,FALSE))","v":""}]
[null,{"$f":"IF(ISBLANK(A1578),\"\",VLOOKUP(A1578,base_itens,2,FALSE))","v":""}]
[null,{"$f":"IF(ISBLANK(A1579),\"\",VLOOKUP(A1579,base_itens,2,FALSE))","v":""}]
[null,{"$f":"IF(ISBLANK(A1580),\"\",VLOOKUP(A1580,base_itens,2,FALSE))","v":""}]
[null,{"$f":"IF(ISBLANK(A1581),\"\",VLOOKUP(A1581,base_itens,2,FALSE))","v":""}]
[null,{"$f":"IF(ISBLANK(A1582),\"\",VLOOKUP(A1582,base_itens,2,FALSE))","v":""}]
[null,{"$f":"IF(ISBLANK(A1583),\"\",VLOOKUP(A1583,base_itens,2,FALSE))","v":""}]
[null,{"$f":"IF(ISBLANK(A1584),\"\",VLOOKUP(A1584,base_itens,2,FALSE))","v":""}]
[null,{"$f":"IF(ISBLANK(A1585),\"\",VLOOKUP(A1585,base_itens,2,FALSE))","v":""}]
[null,{"$f":"IF(ISBLANK(A1586),\"\",VLOOKUP(A1586,base_itens,2,FALSE))","v":""}]
[null,{"$f":"IF(ISBLANK(A1587),\"\",VLOOKUP(A1587,base_itens,2,FALSE))","v":""}]
[null,{"$f":"IF(ISBLANK(A1588),\"\",VLOOKUP(A1588,base_itens,2,FALSE))","v":""}]
[null,{"$f":"IF(ISBLANK(A1589),\"\",VLOOKUP(A1589,base_itens,2,FALSE))","v":""}]
[null,{"$f":"IF(ISBLANK(A1590),\"\",VLOOKUP(A1590,base_itens,2,FALSE))","v":""}]
[null,{"$f":"IF(ISBLANK(A1591),\"\",VLOOKUP(A1591,base_itens,2,FALSE))","v":""}]
[null,{"$f":"IF(ISBLANK(A1592),\"\",VLOOKUP(A1592,base_itens,2,FALSE))","v":""}]
[null,{"$f":"IF(ISBLANK(A1593),\"\",VLOOKUP(A1593,base_itens,2,FALSE))","v":""}]
[null,{"$f":"IF(ISBLANK(A1594),\"\",VLOOKUP(A1594,base_itens,2,FALSE))","v":""}]
[null,{"$f":"IF(ISBLANK(A1595),\"\",VLOOKUP(A1595,base_itens,2,FALSE))","v":""}]
[null,{"$f":"IF(ISBLANK(A1596),\"\",VLOOKUP(A1596,base_itens,2,FALSE))","v":""}]
[null,{"$f":"IF(ISBLANK(A1597),\"\",VLOOKUP(A1597,base_itens,2,FALSE))","v":""}]
[null,{"$f":"IF(ISBLANK(A1598),\"\",VLOOKUP(A1598,base_itens,2,FALSE))","v":""}]
[null,{"$f":"IF(ISBLANK(A1599),\"\",VLOOKUP(A1599,base_itens,2,FALSE))","v":""}]
[null,{"$f":"IF(ISBLANK(A1600),\"\",VLOOKUP(A1600,base_itens,2,FALSE))","v":""}]
[null,{"$f":"IF(ISBLANK(A1601),\"\",VLOOKUP(A1601,base_itens,2,FALSE))","v":""}]
[null,{"$f":"IF(ISBLANK(A1602),\"\",VLOOKUP(A1602,base_itens,2,FALSE))","v":""}]
[null,{"$f":"IF(ISBLANK(A1603),\"\",VLOOKUP(A1603,base_itens,2,FALSE))","v":""}]
[null,{"$f":"IF(ISBLANK(A1604),\"\",VLOOKUP(A1604,base_itens,2,FALSE))","v":""}]
[null,{"$f":"IF(ISBLANK(A1605),\"\",VLOOKUP(A1605,base_itens,2,FALSE))","v":""}]
[null,{"$f":"IF(ISBLANK(A1606),\"\",VLOOKUP(A1606,base_itens,2,FALSE))","v":""}]
[null,{"$f":"IF(ISBLANK(A1607),\"\",VLOOKUP(A1607,base_itens,2,FALSE))","v":""}]
[null,{"$f":"IF(ISBLANK(A1608),\"\",VLOOKUP(A1608,base_itens,2,FALSE))","v":""}]
[null,{"$f":"IF(ISBLANK(A1609),\"\",VLOOKUP(A1609,base_itens,2,FALSE))","v":""}]
[null,{"$f":"IF(ISBLANK(A1610),\"\",VLOOKUP(A1610,base_itens,2,FALSE))","v":""}]
[null,{"$f":"IF(ISBLANK(A1611),\"\",VLOOKUP(A1611,base_itens,2,FALSE))","v":""}]
[null,{"$f":"IF(ISBLANK(A1612),\"\",VLOOKUP(A1612,base_itens,2,FALSE))","v":""}]
[null,{"$f":"IF(ISBLANK(A1613),\"\",VLOOKUP(A1613,base_itens,2,FALSE))","v":""}]
[null,{"$f":"IF(ISBLANK(A1614),\"\",VLOOKUP(A1614,base_itens,2,FALSE))","v":""}]
[null,{"$f":"IF(ISBLANK(A1615),\"\",VLOOKUP(A1615,base_itens,2,FALSE))","v":""}]
[null,{"$f":"IF(ISBLANK(A1616),\"\",VLOOKUP(A1616,base_itens,2,FALSE))","v":""}]
[null,{"$f":"IF(ISBLANK(A1617),\"\",VLOOKUP(A1617,base_itens,2,FALSE))","v":""}]
[null,{"$f":"IF(ISBLANK(A1618),\"\",VLOOKUP(A1618,base_itens,2,FALSE))","v":""}]
[null,{"$f":"IF(ISBLANK(A1619),\"\",VLOOKUP(A1619,base_itens,2,FALSE))","v":""}]
[null,{"$f":"IF(ISBLANK(A1620),\"\",VLOOKUP(A1620,base_itens,2,FALSE))","v":""}]
[null,{"$f":"IF(ISBLANK(A1621),\"\",VLOOKUP(A1621,base_itens,2,FALSE))","v":""}]
[null,{"$f":"IF(ISBLANK(A1622),\"\",VLOOKUP(A1622,base_itens,2,FALSE))","v":""}]
[null,{"$f":"IF(ISBLANK(A1623),\"\",VLOOKUP(A1623,base_itens,2,FALSE))","v":""}]
[null,{"$f":"IF(ISBLANK(A1624),\"\",VLOOKUP(A1624,base_itens,2,FALSE))","v":""}]
[null,{"$f":"IF(ISBLANK(A1625),\"\",VLOOKUP(A1625,base_itens,2,FALSE))","v":""}]
[null,{"$f":"IF(ISBLANK(A1626),\"\",VLOOKUP(A1626,base_itens,2,FALSE))","v":""}]
[null,{"$f":"IF(ISBLANK(A1627),\"\",VLOOKUP(A1627,base_itens,2,FALSE))","v":""}]
[null,{"$f":"IF(ISBLANK(A1628),\"\",VLOOKUP(A1628,base_itens,2,FALSE))","v":""}]
[null,{"$f":"IF(ISBLANK(A1629),\"\",VLOOKUP(A1629,base_itens,2,FALSE))","v":""}]
[null,{"$f":"IF(ISBLANK(A1630),\"\",VLOOKUP(A1630,base_itens,2,FALSE))","v":""}]
[null,{"$f":"IF(ISBLANK(A1631),\"\",VLOOKUP(A1631,base_itens,2,FALSE))","v":""}]
[null,{"$f":"IF(ISBLANK(A1632),\"\",VLOOKUP(A1632,base_itens,2,FALSE))","v":""}]
[null,{"$f":"IF(ISBLANK(A1633),\"\",VLOOKUP(A1633,base_itens,2,FALSE))","v":""}]
[null,{"$f":"IF(ISBLANK(A1634),\"\",VLOOKUP(A1634,base_itens,2,FALSE))","v":""}]
[null,{"$f":"IF(ISBLANK(A1635),\"\",VLOOKUP(A1635,base_itens,2,FALSE))","v":""}]
[null,{"$f":"IF(ISBLANK(A1636),\"\",VLOOKUP(A1636,base_itens,2,FALSE))","v":""}]
[null,{"$f":"IF(ISBLANK(A1637),\"\",VLOOKUP(A1637,base_itens,2,FALSE))","v":""}]
[null,{"$f":"IF(ISBLANK(A1638),\"\",VLOOKUP(A1638,base_itens,2,FALSE))","v":""}]
[null,{"$f":"IF(ISBLANK(A1639),\"\",VLOOKUP(A1639,base_itens,2,FALSE))","v":""}]
[null,{"$f":"IF(ISBLANK(A1640),\"\",VLOOKUP(A1640,base_itens,2,FALSE))","v":""}]
[null,{"$f":"IF(ISBLANK(A1641),\"\",VLOOKUP(A1641,base_itens,2,FALSE))","v":""}]
[null,{"$f":"IF(ISBLANK(A1642),\"\",VLOOKUP(A1642,base_itens,2,FALSE))","v":""}]
[null,{"$f":"IF(ISBLANK(A1643),\"\",VLOOKUP(A1643,base_itens,2,FALSE))","v":""}]
[null,{"$f":"IF(ISBLANK(A1644),\"\",VLOOKUP(A1644,base_itens,2,FALSE))","v":""}]
[null,{"$f":"IF(ISBLANK(A1645),\"\",VLOOKUP(A1645,base_itens,2,FALSE))","v":""}]
[null,{"$f":"IF(ISBLANK(A1646),\"\",VLOOKUP(A1646,base_itens,2,FALSE))","v":""}]
[null,{"$f":"IF(ISBLANK(A1647),\"\",VLOOKUP(A1647,base_itens,2,FALSE))","v":""}]
[null,{"$f":"IF(ISBLANK(A1648),\"\",VLOOKUP(A1648,base_itens,2,FALSE))","v":""}]
[null,{"$f":"IF(ISBLANK(A1649),\"\",VLOOKUP(A1649,base_itens,2,FALSE))","v":""}]
[null,{"$f":"IF(ISBLANK(A1650),\"\",VLOOKUP(A1650,base_itens,2,FALSE))","v":""}]
[null,{"$f":"IF(ISBLANK(A1651),\"\",VLOOKUP(A1651,base_itens,2,FALSE))","v":""}]
[null,{"$f":"IF(ISBLANK(A1652),\"\",VLOOKUP(A1652,base_itens,2,FALSE))","v":""}]
[null,{"$f":"IF(ISBLANK(A1653),\"\",VLOOKUP(A1653,base_itens,2,FALSE))","v":""}]
[null,{"$f":"IF(ISBLANK(A1654),\"\",VLOOKUP(A1654,base_itens,2,FALSE))","v":""}]
[null,{"$f":"IF(ISBLANK(A1655),\"\",VLOOKUP(A1655,base_itens,2,FALSE))","v":""}]
[null,{"$f":"IF(ISBLANK(A1656),\"\",VLOOKUP(A1656,base_itens,2,FALSE))","v":""}]
[null,{"$f":"IF(ISBLANK(A1657),\"\",VLOOKUP(A1657,base_itens,2,FALSE))","v":""}]
[null,{"$f":"IF(ISBLANK(A1658),\"\",VLOOKUP(A1658,base_itens,2,FALSE))","v":""}]
[null,{"$f":"IF(ISBLANK(A1659),\"\",VLOOKUP(A1659,base_itens,2,FALSE))","v":""}]
[null,{"$f":"IF(ISBLANK(A1660),\"\",VLOOKUP(A1660,base_itens,2,FALSE))","v":""}]
[null,{"$f":"IF(ISBLANK(A1661),\"\",VLOOKUP(A1661,base_itens,2,FALSE))","v":""}]
[null,{"$f":"IF(ISBLANK(A1662),\"\",VLOOKUP(A1662,base_itens,2,FALSE))","v":""}]
[null,{"$f":"IF(ISBLANK(A1663),\"\",VLOOKUP(A1663,base_itens,2,FALSE))","v":""}]
[null,{"$f":"IF(ISBLANK(A1664),\"\",VLOOKUP(A1664,base_itens,2,FALSE))","v":""}]
[null,{"$f":"IF(ISBLANK(A1665),\"\",VLOOKUP(A1665,base_itens,2,FALSE))","v":""}]
[null,{"$f":"IF(ISBLANK(A1666),\"\",VLOOKUP(A1666,base_itens,2,FALSE))","v":""}]
[null,{"$f":"IF(ISBLANK(A1667),\"\",VLOOKUP(A1667,base_itens,2,FALSE))","v":""}]
[null,{"$f":"IF(ISBLANK(A1668),\"\",VLOOKUP(A1668,base_itens,2,FALSE))","v":""}]
[null,{"$f":"IF(ISBLANK(A1669),\"\",VLOOKUP(A1669,base_itens,2,FALSE))","v":""}]
[null,{"$f":"IF(ISBLANK(A1670),\"\",VLOOKUP(A1670,base_itens,2,FALSE))","v":""}]
[null,{"$f":"IF(ISBLANK(A1671),\"\",VLOOKUP(A1671,base_itens,2,FALSE))","v":""}]
[null,{"$f":"IF(ISBLANK(A1672),\"\",VLOOKUP(A1672,base_itens,2,FALSE))","v":""}]
[null,{"$f":"IF(ISBLANK(A1673),\"\",VLOOKUP(A1673,base_itens,2,FALSE))","v":""}]
[null,{"$f":"IF(ISBLANK(A1674),\"\",VLOOKUP(A1674,base_itens,2,FALSE))","v":""}]
[null,{"$f":"IF(ISBLANK(A1675),\"\",VLOOKUP(A1675,base_itens,2,FALSE))","v":""}]
[null,{"$f":"IF(ISBLANK(A1676),\"\",VLOOKUP(A1676,base_itens,2,FALSE))","v":""}]
[null,{"$f":"IF(ISBLANK(A1677),\"\",VLOOKUP(A1677,base_itens,2,FALSE))","v":""}]
[null,{"$f":"IF(ISBLANK(A1678),\"\",VLOOKUP(A1678,base_itens,2,FALSE))","v":""}]
[null,{"$f":"IF(ISBLANK(A1679),\"\",VLOOKUP(A1679,base_itens,2,FALSE))","v":""}]
[null,{"$f":"IF(ISBLANK(A1680),\"\",VLOOKUP(A1680,base_itens,2,FALSE))","v":""}]
[null,{"$f":"IF(ISBLANK(A1681),\"\",VLOOKUP(A1681,base_itens,2,FALSE))","v":""}]
[null,{"$f":"IF(ISBLANK(A1682),\"\",VLOOKUP(A1682,base_itens,2,FALSE))","v":""}]
[null,{"$f":"IF(ISBLANK(A1683),\"\",VLOOKUP(A1683,base_itens,2,FALSE))","v":""}]
[null,{"$f":"IF(ISBLANK(A1684),\"\",VLOOKUP(A1684,base_itens,2,FALSE))","v":""}]
[null,{"$f":"IF(ISBLANK(A1685),\"\",VLOOKUP(A1685,base_itens,2,FALSE))","v":""}]
[null,{"$f":"IF(ISBLANK(A1686),\"\",VLOOKUP(A1686,base_itens,2,FALSE))","v":""}]
[null,{"$f":"IF(ISBLANK(A1687),\"\",VLOOKUP(A1687,base_itens,2,FALSE))","v":""}]
[null,{"$f":"IF(ISBLANK(A1688),\"\",VLOOKUP(A1688,base_itens,2,FALSE))","v":""}]
[null,{"$f":"IF(ISBLANK(A1689),\"\",VLOOKUP(A1689,base_itens,2,FALSE))","v":""}]
[null,{"$f":"IF(ISBLANK(A1690),\"\",VLOOKUP(A1690,base_itens,2,FALSE))","v":""}]
[null,{"$f":"IF(ISBLANK(A1691),\"\",VLOOKUP(A1691,base_itens,2,FALSE))","v":""}]
[null,{"$f":"IF(ISBLANK(A1692),\"\",VLOOKUP(A1692,base_itens,2,FALSE))","v":""}]
[null,{"$f":"IF(ISBLANK(A1693),\"\",VLOOKUP(A1693,base_itens,2,FALSE))","v":""}]
[null,{"$f":"IF(ISBLANK(A1694),\"\",VLOOKUP(A1694,base_itens,2,FALSE))","v":""}]
[null,{"$f":"IF(ISBLANK(A1695),\"\",VLOOKUP(A1695,base_itens,2,FALSE))","v":""}]
[null,{"$f":"IF(ISBLANK(A1696),\"\",VLOOKUP(A1696,base_itens,2,FALSE))","v":""}]
[null,{"$f":"IF(ISBLANK(A1697),\"\",VLOOKUP(A1697,base_itens,2,FALSE))","v":""}]
[null,{"$f":"IF(ISBLANK(A1698),\"\",VLOOKUP(A1698,base_itens,2,FALSE))","v":""}]
[null,{"$f":"IF(ISBLANK(A1699),\"\",VLOOKUP(A1699,base_itens,2,FALSE))","v":""}]
[null,{"$f":"IF(ISBLANK(A1700),\"\",VLOOKUP(A1700,base_itens,2,FALSE))","v":""}]
[null,{"$f":"IF(ISBLANK(A1701),\"\",VLOOKUP(A1701,base_itens,2,FALSE))","v":""}]
[null,{"$f":"IF(ISBLANK(A1702),\"\",VLOOKUP(A1702,base_itens,2,FALSE))","v":""}]
[null,{"$f":"IF(ISBLANK(A1703),\"\",VLOOKUP(A1703,base_itens,2,FALSE))","v":""}]
[null,{"$f":"IF(ISBLANK(A1704),\"\",VLOOKUP(A1704,base_itens,2,FALSE))","v":""}]
[null,{"$f":"IF(ISBLANK(A1705),\"\",VLOOKUP(A1705,base_itens,2,FALSE))","v":""}]
[null,{"$f":"IF(ISBLANK(A1706),\"\",VLOOKUP(A1706,base_itens,2,FALSE))","v":""}]
[null,{"$f":"IF(ISBLANK(A1707),\"\",VLOOKUP(A1707,base_itens,2,FALSE))","v":""}]
[null,{"$f":"IF(ISBLANK(A1708),\"\",VLOOKUP(A1708,base_itens,2,FALSE))","v":""}]
[null,{"$f":"IF(ISBLANK(A1709),\"\",VLOOKUP(A1709,base_itens,2,FALSE))","v":""}]
[null,{"$f":"IF(ISBLANK(A1710),\"\",VLOOKUP(A1710,base_itens,2,FALSE))","v":""}]
[null,{"$f":"IF(ISBLANK(A1711),\"\",VLOOKUP(A1711,base_itens,2,FALSE))","v":""}]
[null,{"$f":"IF(ISBLANK(A1712),\"\",VLOOKUP(A1712,base_itens,2,FALSE))","v":""}]
[null,{"$f":"IF(ISBLANK(A1713),\"\",VLOOKUP(A1713,base_itens,2,FALSE))","v":""}]
[null,{"$f":"IF(ISBLANK(A1714),\"\",VLOOKUP(A1714,base_itens,2,FALSE))","v":""}]
[null,{"$f":"IF(ISBLANK(A1715),\"\",VLOOKUP(A1715,base_itens,2,FALSE))","v":""}]
[null,{"$f":"IF(ISBLANK(A1716),\"\",VLOOKUP(A1716,base_itens,2,FALSE))","v":""}]
[null,{"$f":"IF(ISBLANK(A1717),\"\",VLOOKUP(A1717,base_itens,2,FALSE))","v":""}]
[null,{"$f":"IF(ISBLANK(A1718),\"\",VLOOKUP(A1718,base_itens,2,FALSE))","v":""}]
[null,{"$f":"IF(ISBLANK(A1719),\"\",VLOOKUP(A1719,base_itens,2,FALSE))","v":""}]
[null,{"$f":"IF(ISBLANK(A1720),\"\",VLOOKUP(A1720,base_itens,2,FALSE))","v":""}]
[null,{"$f":"IF(ISBLANK(A1721),\"\",VLOOKUP(A1721,base_itens,2,FALSE))","v":""}]
[null,{"$f":"IF(ISBLANK(A1722),\"\",VLOOKUP(A1722,base_itens,2,FALSE))","v":""}]
[null,{"$f":"IF(ISBLANK(A1723),\"\",VLOOKUP(A1723,base_itens,2,FALSE))","v":""}]
[null,{"$f":"IF(ISBLANK(A1724),\"\",VLOOKUP(A1724,base_itens,2,FALSE))","v":""}]
[null,{"$f":"IF(ISBLANK(A1725),\"\",VLOOKUP(A1725,base_itens,2,FALSE))","v":""}]
[null,{"$f":"IF(ISBLANK(A1726),\"\",VLOOKUP(A1726,base_itens,2,FALSE))","v":""}]
[null,{"$f":"IF(ISBLANK(A1727),\"\",VLOOKUP(A1727,base_itens,2,FALSE))","v":""}]
[null,{"$f":"IF(ISBLANK(A1728),\"\",VLOOKUP(A1728,base_itens,2,FALSE))","v":""}]
[null,{"$f":"IF(ISBLANK(A1729),\"\",VLOOKUP(A1729,base_itens,2,FALSE))","v":""}]
[null,{"$f":"IF(ISBLANK(A1730),\"\",VLOOKUP(A1730,base_itens,2,FALSE))","v":""}]
[null,{"$f":"IF(ISBLANK(A1731),\"\",VLOOKUP(A1731,base_itens,2,FALSE))","v":""}]
[null,{"$f":"IF(ISBLANK(A1732),\"\",VLOOKUP(A1732,base_itens,2,FALSE))","v":""}]
[null,{"$f":"IF(ISBLANK(A1733),\"\",VLOOKUP(A1733,base_itens,2,FALSE))","v":""}]
[null,{"$f":"IF(ISBLANK(A1734),\"\",VLOOKUP(A1734,base_itens,2,FALSE))","v":""}]
[null,{"$f":"IF(ISBLANK(A1735),\"\",VLOOKUP(A1735,base_itens,2,FALSE))","v":""}]
[null,{"$f":"IF(ISBLANK(A1736),\"\",VLOOKUP(A1736,base_itens,2,FALSE))","v":""}]
[null,{"$f":"IF(ISBLANK(A1737),\"\",VLOOKUP(A1737,base_itens,2,FALSE))","v":""}]
[null,{"$f":"IF(ISBLANK(A1738),\"\",VLOOKUP(A1738,base_itens,2,FALSE))","v":""}]
[null,{"$f":"IF(ISBLANK(A1739),\"\",VLOOKUP(A1739,base_itens,2,FALSE))","v":""}]
[null,{"$f":"IF(ISBLANK(A1740),\"\",VLOOKUP(A1740,base_itens,2,FALSE))","v":""}]
[null,{"$f":"IF(ISBLANK(A1741),\"\",VLOOKUP(A1741,base_itens,2,FALSE))","v":""}]
[null,{"$f":"IF(ISBLANK(A1742),\"\",VLOOKUP(A1742,base_itens,2,FALSE))","v":""}]
[null,{"$f":"IF(ISBLANK(A1743),\"\",VLOOKUP(A1743,base_itens,2,FALSE))","v":""}]
[null,{"$f":"IF(ISBLANK(A1744),\"\",VLOOKUP(A1744,base_itens,2,FALSE))","v":""}]
[null,{"$f":"IF(ISBLANK(A1745),\"\",VLOOKUP(A1745,base_itens,2,FALSE))","v":""}]
[null,{"$f":"IF(ISBLANK(A1746),\"\",VLOOKUP(A1746,base_itens,2,FALSE))","v":""}]
[null,{"$f":"IF(ISBLANK(A1747),\"\",VLOOKUP(A1747,base_itens,2,FALSE))","v":""}]
[null,{"$f":"IF(ISBLANK(A1748),\"\",VLOOKUP(A1748,base_itens,2,FALSE))","v":""}]
[null,{"$f":"IF(ISBLANK(A1749),\"\",VLOOKUP(A1749,base_itens,2,FALSE))","v":""}]
[null,{"$f":"IF(ISBLANK(A1750),\"\",VLOOKUP(A1750,base_itens,2,FALSE))","v":""}]
[null,{"$f":"IF(ISBLANK(A1751),\"\",VLOOKUP(A1751,base_itens,2,FALSE))","v":""}]
[null,{"$f":"IF(ISBLANK(A1752),\"\",VLOOKUP(A1752,base_itens,2,FALSE))","v":""}]
[null,{"$f":"IF(ISBLANK(A1753),\"\",VLOOKUP(A1753,base_itens,2,FALSE))","v":""}]
[null,{"$f":"IF(ISBLANK(A1754),\"\",VLOOKUP(A1754,base_itens,2,FALSE))","v":""}]
[null,{"$f":"IF(ISBLANK(A1755),\"\",VLOOKUP(A1755,base_itens,2,FALSE))","v":""}]
[null,{"$f":"IF(ISBLANK(A1756),\"\",VLOOKUP(A1756,base_itens,2,FALSE))","v":""}]
[null,{"$f":"IF(ISBLANK(A1757),\"\",VLOOKUP(A1757,base_itens,2,FALSE))","v":""}]
[null,{"$f":"IF(ISBLANK(A1758),\"\",VLOOKUP(A1758,base_itens,2,FALSE))","v":""}]
[null,{"$f":"IF(ISBLANK(A1759),\"\",VLOOKUP(A1759,base_itens,2,FALSE))","v":""}]
[null,{"$f":"IF(ISBLANK(A1760),\"\",VLOOKUP(A1760,base_itens,2,FALSE))","v":""}]
[null,{"$f":"IF(ISBLANK(A1761),\"\",VLOOKUP(A1761,base_itens,2,FALSE))","v":""}]
[null,{"$f":"IF(ISBLANK(A1762),\"\",VLOOKUP(A1762,base_itens,2,FALSE))","v":""}]
[null,{"$f":"IF(ISBLANK(A1763),\"\",VLOOKUP(A1763,base_itens,2,FALSE))","v":""}]
[null,{"$f":"IF(ISBLANK(A1764),\"\",VLOOKUP(A1764,base_itens,2,FALSE))","v":""}]
[null,{"$f":"IF(ISBLANK(A1765),\"\",VLOOKUP(A1765,base_itens,2,FALSE))","v":""}]
[null,{"$f":"IF(ISBLANK(A1766),\"\",VLOOKUP(A1766,base_itens,2,FALSE))","v":""}]
[null,{"$f":"IF(ISBLANK(A1767),\"\",VLOOKUP(A1767,base_itens,2,FALSE))","v":""}]
[null,{"$f":"IF(ISBLANK(A1768),\"\",VLOOKUP(A1768,base_itens,2,FALSE))","v":""}]
[null,{"$f":"IF(ISBLANK(A1769),\"\",VLOOKUP(A1769,base_itens,2,FALSE))","v":""}]
[null,{"$f":"IF(ISBLANK(A1770),\"\",VLOOKUP(A1770,base_itens,2,FALSE))","v":""}]
[null,{"$f":"IF(ISBLANK(A1771),\"\",VLOOKUP(A1771,base_itens,2,FALSE))","v":""}]
[null,{"$f":"IF(ISBLANK(A1772),\"\",VLOOKUP(A1772,base_itens,2,FALSE))","v":""}]
[null,{"$f":"IF(ISBLANK(A1773),\"\",VLOOKUP(A1773,base_itens,2,FALSE))","v":""}]
[null,{"$f":"IF(ISBLANK(A1774),\"\",VLOOKUP(A1774,base_itens,2,FALSE))","v":""}]
[null,{"$f":"IF(ISBLANK(A1775),\"\",VLOOKUP(A1775,base_itens,2,FALSE))","v":""}]
[null,{"$f":"IF(ISBLANK(A1776),\"\",VLOOKUP(A1776,base_itens,2,FALSE))","v":""}]
[null,{"$f":"IF(ISBLANK(A1777),\"\",VLOOKUP(A1777,base_itens,2,FALSE))","v":""}]
[null,{"$f":"IF(ISBLANK(A1778),\"\",VLOOKUP(A1778,base_itens,2,FALSE))","v":""}]
[null,{"$f":"IF(ISBLANK(A1779),\"\",VLOOKUP(A1779,base_itens,2,FALSE))","v":""}]
[null,{"$f":"IF(ISBLANK(A1780),\"\",VLOOKUP(A1780,base_itens,2,FALSE))","v":""}]
[null,{"$f":"IF(ISBLANK(A1781),\"\",VLOOKUP(A1781,base_itens,2,FALSE))","v":""}]
[null,{"$f":"IF(ISBLANK(A1782),\"\",VLOOKUP(A1782,base_itens,2,FALSE))","v":""}]
[null,{"$f":"IF(ISBLANK(A1783),\"\",VLOOKUP(A1783,base_itens,2,FALSE))","v":""}]
[null,{"$f":"IF(ISBLANK(A1784),\"\",VLOOKUP(A1784,base_itens,2,FALSE))","v":""}]
[null,{"$f":"IF(ISBLANK(A1785),\"\",VLOOKUP(A1785,base_itens,2,FALSE))","v":""}]
[null,{"$f":"IF(ISBLANK(A1786),\"\",VLOOKUP(A1786,base_itens,2,FALSE))","v":""}]
[null,{"$f":"IF(ISBLANK(A1787),\"\",VLOOKUP(A1787,base_itens,2,FALSE))","v":""}]
[null,{"$f":"IF(ISBLANK(A1788),\"\",VLOOKUP(A1788,base_itens,2,FALSE))","v":""}]
[null,{"$f":"IF(ISBLANK(A1789),\"\",VLOOKUP(A1789,base_itens,2,FALSE))","v":""}]
[null,{"$f":"IF(ISBLANK(A1790),\"\",VLOOKUP(A1790,base_itens,2,FALSE))","v":""}]
[null,{"$f":"IF(ISBLANK(A1791),\"\",VLOOKUP(A1791,base_itens,2,FALSE))","v":""}]
[null,{"$f":"IF(ISBLANK(A1792),\"\",VLOOKUP(A1792,base_itens,2,FALSE))","v":""}]
[null,{"$f":"IF(ISBLANK(A1793),\"\",VLOOKUP(A1793,base_itens,2,FALSE))","v":""}]
[null,{"$f":"IF(ISBLANK(A1794),\"\",VLOOKUP(A1794,base_itens,2,FALSE))","v":""}]
[null,{"$f":"IF(ISBLANK(A1795),\"\",VLOOKUP(A1795,base_itens,2,FALSE))","v":""}]
[null,{"$f":"IF(ISBLANK(A1796),\"\",VLOOKUP(A1796,base_itens,2,FALSE))","v":""}]
[null,{"$f":"IF(ISBLANK(A1797),\"\",VLOOKUP(A1797,base_itens,2,FALSE))","v":""}]
[null,{"$f":"IF(ISBLANK(A1798),\"\",VLOOKUP(A1798,base_itens,2,FALSE))","v":""}]
[null,{"$f":"IF(ISBLANK(A1799),\"\",VLOOKUP(A1799,base_itens,2,FALSE))","v":""}]
[null,{"$f":"IF(ISBLANK(A1800),\"\",VLOOKUP(A1800,base_itens,2,FALSE))","v":""}]
[null,{"$f":"IF(ISBLANK(A1801),\"\",VLOOKUP(A1801,base_itens,2,FALSE))","v":""}]
[null,{"$f":"IF(ISBLANK(A1802),\"\",VLOOKUP(A1802,base_itens,2,FALSE))","v":""}]
[null,{"$f":"IF(ISBLANK(A1803),\"\",VLOOKUP(A1803,base_itens,2,FALSE))","v":""}]
[null,{"$f":"IF(ISBLANK(A1804),\"\",VLOOKUP(A1804,base_itens,2,FALSE))","v":""}]
[null,{"$f":"IF(ISBLANK(A1805),\"\",VLOOKUP(A1805,base_itens,2,FALSE))","v":""}]
[null,{"$f":"IF(ISBLANK(A1806),\"\",VLOOKUP(A1806,base_itens,2,FALSE))","v":""}]
[null,{"$f":"IF(ISBLANK(A1807),\"\",VLOOKUP(A1807,base_itens,2,FALSE))","v":""}]
[null,{"$f":"IF(ISBLANK(A1808),\"\",VLOOKUP(A1808,base_itens,2,FALSE))","v":""}]
[null,{"$f":"IF(ISBLANK(A1809),\"\",VLOOKUP(A1809,base_itens,2,FALSE))","v":""}]
[null,{"$f":"IF(ISBLANK(A1810),\"\",VLOOKUP(A1810,base_itens,2,FALSE))","v":""}]
[null,{"$f":"IF(ISBLANK(A1811),\"\",VLOOKUP(A1811,base_itens,2,FALSE))","v":""}]
[null,{"$f":"IF(ISBLANK(A1812),\"\",VLOOKUP(A1812,base_itens,2,FALSE))","v":""}]
[null,{"$f":"IF(ISBLANK(A1813),\"\",VLOOKUP(A1813,base_itens,2,FALSE))","v":""}]
[null,{"$f":"IF(ISBLANK(A1814),\"\",VLOOKUP(A1814,base_itens,2,FALSE))","v":""}]
[null,{"$f":"IF(ISBLANK(A1815),\"\",VLOOKUP(A1815,base_itens,2,FALSE))","v":""}]
[null,{"$f":"IF(ISBLANK(A1816),\"\",VLOOKUP(A1816,base_itens,2,FALSE))","v":""}]
[null,{"$f":"IF(ISBLANK(A1817),\"\",VLOOKUP(A1817,base_itens,2,FALSE))","v":""}]
[null,{"$f":"IF(ISBLANK(A1818),\"\",VLOOKUP(A1818,base_itens,2,FALSE))","v":""}]
[null,{"$f":"IF(ISBLANK(A1819),\"\",VLOOKUP(A1819,base_itens,2,FALSE))","v":""}]
[null,{"$f":"IF(ISBLANK(A1820),\"\",VLOOKUP(A1820,base_itens,2,FALSE))","v":""}]
[null,{"$f":"IF(ISBLANK(A1821),\"\",VLOOKUP(A1821,base_itens,2,FALSE))","v":""}]
[null,{"$f":"IF(ISBLANK(A1822),\"\",VLOOKUP(A1822,base_itens,2,FALSE))","v":""}]
[null,{"$f":"IF(ISBLANK(A1823),\"\",VLOOKUP(A1823,base_itens,2,FALSE))","v":""}]
[null,{"$f":"IF(ISBLANK(A1824),\"\",VLOOKUP(A1824,base_itens,2,FALSE))","v":""}]
[null,{"$f":"IF(ISBLANK(A1825),\"\",VLOOKUP(A1825,base_itens,2,FALSE))","v":""}]
[null,{"$f":"IF(ISBLANK(A1826),\"\",VLOOKUP(A1826,base_itens,2,FALSE))","v":""}]
[null,{"$f":"IF(ISBLANK(A1827),\"\",VLOOKUP(A1827,base_itens,2,FALSE))","v":""}]
[null,{"$f":"IF(ISBLANK(A1828),\"\",VLOOKUP(A1828,base_itens,2,FALSE))","v":""}]
[null,{"$f":"IF(ISBLANK(A1829),\"\",VLOOKUP(A1829,base_itens,2,FALSE))","v":""}]
[null,{"$f":"IF(ISBLANK(A1830),\"\",VLOOKUP(A1830,base_itens,2,FALSE))","v":""}]
[null,{"$f":"IF(ISBLANK(A1831),\"\",VLOOKUP(A1831,base_itens,2,FALSE))","v":""}]
[null,{"$f":"IF(ISBLANK(A1832),\"\",VLOOKUP(A1832,base_itens,2,FALSE))","v":""}]
[null,{"$f":"IF(ISBLANK(A1833),\"\",VLOOKUP(A1833,base_itens,2,FALSE))","v":""}]
[null,{"$f":"IF(ISBLANK(A1834),\"\",VLOOKUP(A1834,base_itens,2,FALSE))","v":""}]
[null,{"$f":"IF(ISBLANK(A1835),\"\",VLOOKUP(A1835,base_itens,2,FALSE))","v":""}]
[null,{"$f":"IF(ISBLANK(A1836),\"\",VLOOKUP(A1836,base_itens,2,FALSE))","v":""}]
[null,{"$f":"IF(ISBLANK(A1837),\"\",VLOOKUP(A1837,base_itens,2,FALSE))","v":""}]
[null,{"$f":"IF(ISBLANK(A1838),\"\",VLOOKUP(A1838,base_itens,2,FALSE))","v":""}]
[null,{"$f":"IF(ISBLANK(A1839),\"\",VLOOKUP(A1839,base_itens,2,FALSE))","v":""}]
[null,{"$f":"IF(ISBLANK(A1840),\"\",VLOOKUP(A1840,base_itens,2,FALSE))","v":""}]
[null,{"$f":"IF(ISBLANK(A1841),\"\",VLOOKUP(A1841,base_itens,2,FALSE))","v":""}]
[null,{"$f":"IF(ISBLANK(A1842),\"\",VLOOKUP(A1842,base_itens,2,FALSE))","v":""}]
[null,{"$f":"IF(ISBLANK(A1843),\"\",VLOOKUP(A1843,base_itens,2,FALSE))","v":""}]
[null,{"$f":"IF(ISBLANK(A1844),\"\",VLOOKUP(A1844,base_itens,2,FALSE))","v":""}]
[null,{"$f":"IF(ISBLANK(A1845),\"\",VLOOKUP(A1845,base_itens,2,FALSE))","v":""}]
[null,{"$f":"IF(ISBLANK(A1846),\"\",VLOOKUP(A1846,base_itens,2,FALSE))","v":""}]
[null,{"$f":"IF(ISBLANK(A1847),\"\",VLOOKUP(A1847,base_itens,2,FALSE))","v":""}]
[null,{"$f":"IF(ISBLANK(A1848),\"\",VLOOKUP(A1848,base_itens,2,FALSE))","v":""}]
[null,{"$f":"IF(ISBLANK(A1849),\"\",VLOOKUP(A1849,base_itens,2,FALSE))","v":""}]
[null,{"$f":"IF(ISBLANK(A1850),\"\",VLOOKUP(A1850,base_itens,2,FALSE))","v":""}]
[null,{"$f":"IF(ISBLANK(A1851),\"\",VLOOKUP(A1851,base_itens,2,FALSE))","v":""}]
[null,{"$f":"IF(ISBLANK(A1852),\"\",VLOOKUP(A1852,base_itens,2,FALSE))","v":""}]
[null,{"$f":"IF(ISBLANK(A1853),\"\",VLOOKUP(A1853,base_itens,2,FALSE))","v":""}]
[null,{"$f":"IF(ISBLANK(A1854),\"\",VLOOKUP(A1854,base_itens,2,FALSE))","v":""}]
[null,{"$f":"IF(ISBLANK(A1855),\"\",VLOOKUP(A1855,base_itens,2,FALSE))","v":""}]
[null,{"$f":"IF(ISBLANK(A1856),\"\",VLOOKUP(A1856,base_itens,2,FALSE))","v":""}]
[null,{"$f":"IF(ISBLANK(A1857),\"\",VLOOKUP(A1857,base_itens,2,FALSE))","v":""}]
[null,{"$f":"IF(ISBLANK(A1858),\"\",VLOOKUP(A1858,base_itens,2,FALSE))","v":""}]
[null,{"$f":"IF(ISBLANK(A1859),\"\",VLOOKUP(A1859,base_itens,2,FALSE))","v":""}]
[null,{"$f":"IF(ISBLANK(A1860),\"\",VLOOKUP(A1860,base_itens,2,FALSE))","v":""}]
[null,{"$f":"IF(ISBLANK(A1861),\"\",VLOOKUP(A1861,base_itens,2,FALSE))","v":""}]
[null,{"$f":"IF(ISBLANK(A1862),\"\",VLOOKUP(A1862,base_itens,2,FALSE))","v":""}]
[null,{"$f":"IF(ISBLANK(A1863),\"\",VLOOKUP(A1863,base_itens,2,FALSE))","v":""}]
[null,{"$f":"IF(ISBLANK(A1864),\"\",VLOOKUP(A1864,base_itens,2,FALSE))","v":""}]
[null,{"$f":"IF(ISBLANK(A1865),\"\",VLOOKUP(A1865,base_itens,2,FALSE))","v":""}]
[null,{"$f":"IF(ISBLANK(A1866),\"\",VLOOKUP(A1866,base_itens,2,FALSE))","v":""}]
[null,{"$f":"IF(ISBLANK(A1867),\"\",VLOOKUP(A1867,base_itens,2,FALSE))","v":""}]
[null,{"$f":"IF(ISBLANK(A1868),\"\",VLOOKUP(A1868,base_itens,2,FALSE))","v":""}]
[null,{"$f":"IF(ISBLANK(A1869),\"\",VLOOKUP(A1869,base_itens,2,FALSE))","v":""}]
[null,{"$f":"IF(ISBLANK(A1870),\"\",VLOOKUP(A1870,base_itens,2,FALSE))","v":""}]
[null,{"$f":"IF(ISBLANK(A1871),\"\",VLOOKUP(A1871,base_itens,2,FALSE))","v":""}]
[null,{"$f":"IF(ISBLANK(A1872),\"\",VLOOKUP(A1872,base_itens,2,FALSE))","v":""}]
[null,{"$f":"IF(ISBLANK(A1873),\"\",VLOOKUP(A1873,base_itens,2,FALSE))","v":""}]
[null,{"$f":"IF(ISBLANK(A1874),\"\",VLOOKUP(A1874,base_itens,2,FALSE))","v":""}]
[null,{"$f":"IF(ISBLANK(A1875),\"\",VLOOKUP(A1875,base_itens,2,FALSE))","v":""}]
[null,{"$f":"IF(ISBLANK(A1876),\"\",VLOOKUP(A1876,base_itens,2,FALSE))","v":""}]
[null,{"$f":"IF(ISBLANK(A1877),\"\",VLOOKUP(A1877,base_itens,2,FALSE))","v":""}]
[null,{"$f":"IF(ISBLANK(A1878),\"\",VLOOKUP(A1878,base_itens,2,FALSE))","v":""}]
[null,{"$f":"IF(ISBLANK(A1879),\"\",VLOOKUP(A1879,base_itens,2,FALSE))","v":""}]
[null,{"$f":"IF(ISBLANK(A1880),\"\",VLOOKUP(A1880,base_itens,2,FALSE))","v":""}]
[null,{"$f":"IF(ISBLANK(A1881),\"\",VLOOKUP(A1881,base_itens,2,FALSE))","v":""}]
[null,{"$f":"IF(ISBLANK(A1882),\"\",VLOOKUP(A1882,base_itens,2,FALSE))","v":""}]
[null,{"$f":"IF(ISBLANK(A1883),\"\",VLOOKUP(A1883,base_itens,2,FALSE))","v":""}]
[null,{"$f":"IF(ISBLANK(A1884),\"\",VLOOKUP(A1884,base_itens,2,FALSE))","v":""}]
[null,{"$f":"IF(ISBLANK(A1885),\"\",VLOOKUP(A1885,base_itens,2,FALSE))","v":""}]
[null,{"$f":"IF(ISBLANK(A1886),\"\",VLOOKUP(A1886,base_itens,2,FALSE))","v":""}]
[null,{"$f":"IF(ISBLANK(A1887),\"\",VLOOKUP(A1887,base_itens,2,FALSE))","v":""}]
[null,{"$f":"IF(ISBLANK(A1888),\"\",VLOOKUP(A1888,base_itens,2,FALSE))","v":""}]
[null,{"$f":"IF(ISBLANK(A1889),\"\",VLOOKUP(A1889,base_itens,2,FALSE))","v":""}]
[null,{"$f":"IF(ISBLANK(A1890),\"\",VLOOKUP(A1890,base_itens,2,FALSE))","v":""}]
[null,{"$f":"IF(ISBLANK(A1891),\"\",VLOOKUP(A1891,base_itens,2,FALSE))","v":""}]
[null,{"$f":"IF(ISBLANK(A1892),\"\",VLOOKUP(A1892,base_itens,2,FALSE))","v":""}]
[null,{"$f":"IF(ISBLANK(A1893),\"\",VLOOKUP(A1893,base_itens,2,FALSE))","v":""}]
[null,{"$f":"IF(ISBLANK(A1894),\"\",VLOOKUP(A1894,base_itens,2,FALSE))","v":""}]
[null,{"$f":"IF(ISBLANK(A1895),\"\",VLOOKUP(A1895,base_itens,2,FALSE))","v":""}]
[null,{"$f":"IF(ISBLANK(A1896),\"\",VLOOKUP(A1896,base_itens,2,FALSE))","v":""}]
[null,{"$f":"IF(ISBLANK(A1897),\"\",VLOOKUP(A1897,base_itens,2,FALSE))","v":""}]
[null,{"$f":"IF(ISBLANK(A1898),\"\",VLOOKUP(A1898,base_itens,2,FALSE))","v":""}]
[null,{"$f":"IF(ISBLANK(A1899),\"\",VLOOKUP(A1899,base_itens,2,FALSE))","v":""}]
[null,{"$f":"IF(ISBLANK(A1900),\"\",VLOOKUP(A1900,base_itens,2,FALSE))","v":""}]
[null,{"$f":"IF(ISBLANK(A1901),\"\",VLOOKUP(A1901,base_itens,2,FALSE))","v":""}]
[null,{"$f":"IF(ISBLANK(A1902),\"\",VLOOKUP(A1902,base_itens,2,FALSE))","v":""}]
[null,{"$f":"IF(ISBLANK(A1903),\"\",VLOOKUP(A1903,base_itens,2,FALSE))","v":""}]
[null,{"$f":"IF(ISBLANK(A1904),\"\",VLOOKUP(A1904,base_itens,2,FALSE))","v":""}]
[null,{"$f":"IF(ISBLANK(A1905),\"\",VLOOKUP(A1905,base_itens,2,FALSE))","v":""}]
[null,{"$f":"IF(ISBLANK(A1906),\"\",VLOOKUP(A1906,base_itens,2,FALSE))","v":""}]
[null,{"$f":"IF(ISBLANK(A1907),\"\",VLOOKUP(A1907,base_itens,2,FALSE))","v":""}]
[null,{"$f":"IF(ISBLANK(A1908),\"\",VLOOKUP(A1908,base_itens,2,FALSE))","v":""}]
[null,{"$f":"IF(ISBLANK(A1909),\"\",VLOOKUP(A1909,base_itens,2,FALSE))","v":""}]
[null,{"$f":"IF(ISBLANK(A1910),\"\",VLOOKUP(A1910,base_itens,2,FALSE))","v":""}]
[null,{"$f":"IF(ISBLANK(A1911),\"\",VLOOKUP(A1911,base_itens,2,FALSE))","v":""}]
[null,{"$f":"IF(ISBLANK(A1912),\"\",VLOOKUP(A1912,base_itens,2,FALSE))","v":""}]
[null,{"$f":"IF(ISBLANK(A1913),\"\",VLOOKUP(A1913,base_itens,2,FALSE))","v":""}]
[null,{"$f":"IF(ISBLANK(A1914),\"\",VLOOKUP(A1914,base_itens,2,FALSE))","v":""}]
[null,{"$f":"IF(ISBLANK(A1915),\"\",VLOOKUP(A1915,base_itens,2,FALSE))","v":""}]
[null,{"$f":"IF(ISBLANK(A1916),\"\",VLOOKUP(A1916,base_itens,2,FALSE))","v":""}]
[null,{"$f":"IF(ISBLANK(A1917),\"\",VLOOKUP(A1917,base_itens,2,FALSE))","v":""}]
[null,{"$f":"IF(ISBLANK(A1918),\"\",VLOOKUP(A1918,base_itens,2,FALSE))","v":""}]
[null,{"$f":"IF(ISBLANK(A1919),\"\",VLOOKUP(A1919,base_itens,2,FALSE))","v":""}]
[null,{"$f":"IF(ISBLANK(A1920),\"\",VLOOKUP(A1920,base_itens,2,FALSE))","v":""}]
[null,{"$f":"IF(ISBLANK(A1921),\"\",VLOOKUP(A1921,base_itens,2,FALSE))","v":""}]
[null,{"$f":"IF(ISBLANK(A1922),\"\",VLOOKUP(A1922,base_itens,2,FALSE))","v":""}]
[null,{"$f":"IF(ISBLANK(A1923),\"\",VLOOKUP(A1923,base_itens,2,FALSE))","v":""}]
[null,{"$f":"IF(ISBLANK(A1924),\"\",VLOOKUP(A1924,base_itens,2,FALSE))","v":""}]
[null,{"$f":"IF(ISBLANK(A1925),\"\",VLOOKUP(A1925,base_itens,2,FALSE))","v":""}]
[null,{"$f":"IF(ISBLANK(A1926),\"\",VLOOKUP(A1926,base_itens,2,FALSE))","v":""}]
[null,{"$f":"IF(ISBLANK(A1927),\"\",VLOOKUP(A1927,base_itens,2,FALSE))","v":""}]
[null,{"$f":"IF(ISBLANK(A1928),\"\",VLOOKUP(A1928,base_itens,2,FALSE))","v":""}]
[null,{"$f":"IF(ISBLANK(A1929),\"\",VLOOKUP(A1929,base_itens,2,FALSE))","v":""}]
[null,{"$f":"IF(ISBLANK(A1930),\"\",VLOOKUP(A1930,base_itens,2,FALSE))","v":""}]
[null,{"$f":"IF(ISBLANK(A1931),\"\",VLOOKUP(A1931,base_itens,2,FALSE))","v":""}]
[null,{"$f":"IF(ISBLANK(A1932),\"\",VLOOKUP(A1932,base_itens,2,FALSE))","v":""}]
[null,{"$f":"IF(ISBLANK(A1933),\"\",VLOOKUP(A1933,base_itens,2,FALSE))","v":""}]
[null,{"$f":"IF(ISBLANK(A1934),\"\",VLOOKUP(A1934,base_itens,2,FALSE))","v":""}]
[null,{"$f":"IF(ISBLANK(A1935),\"\",VLOOKUP(A1935,base_itens,2,FALSE))","v":""}]
[null,{"$f":"IF(ISBLANK(A1936),\"\",VLOOKUP(A1936,base_itens,2,FALSE))","v":""}]
[null,{"$f":"IF(ISBLANK(A1937),\"\",VLOOKUP(A1937,base_itens,2,FALSE))","v":""}]
[null,{"$f":"IF(ISBLANK(A1938),\"\",VLOOKUP(A1938,base_itens,2,FALSE))","v":""}]
[null,{"$f":"IF(ISBLANK(A1939),\"\",VLOOKUP(A1939,base_itens,2,FALSE))","v":""}]
[null,{"$f":"IF(ISBLANK(A1940),\"\",VLOOKUP(A1940,base_itens,2,FALSE))","v":""}]
[null,{"$f":"IF(ISBLANK(A1941),\"\",VLOOKUP(A1941,base_itens,2,FALSE))","v":""}]
[null,{"$f":"IF(ISBLANK(A1942),\"\",VLOOKUP(A1942,base_itens,2,FALSE))","v":""}]
[null,{"$f":"IF(ISBLANK(A1943),\"\",VLOOKUP(A1943,base_itens,2,FALSE))","v":""}]
[null,{"$f":"IF(ISBLANK(A1944),\"\",VLOOKUP(A1944,base_itens,2,FALSE))","v":""}]
[null,{"$f":"IF(ISBLANK(A1945),\"\",VLOOKUP(A1945,base_itens,2,FALSE))","v":""}]
[null,{"$f":"IF(ISBLANK(A1946),\"\",VLOOKUP(A1946,base_itens,2,FALSE))","v":""}]
[null,{"$f":"IF(ISBLANK(A1947),\"\",VLOOKUP(A1947,base_itens,2,FALSE))","v":""}]
[null,{"$f":"IF(ISBLANK(A1948),\"\",VLOOKUP(A1948,base_itens,2,FALSE))","v":""}]
[null,{"$f":"IF(ISBLANK(A1949),\"\",VLOOKUP(A1949,base_itens,2,FALSE))","v":""}]
[null,{"$f":"IF(ISBLANK(A1950),\"\",VLOOKUP(A1950,base_itens,2,FALSE))","v":""}]
[null,{"$f":"IF(ISBLANK(A1951),\"\",VLOOKUP(A1951,base_itens,2,FALSE))","v":""}]
[null,{"$f":"IF(ISBLANK(A1952),\"\",VLOOKUP(A1952,base_itens,2,FALSE))","v":""}]
[null,{"$f":"IF(ISBLANK(A1953),\"\",VLOOKUP(A1953,base_itens,2,FALSE))","v":""}]
[null,{"$f":"IF(ISBLANK(A1954),\"\",VLOOKUP(A1954,base_itens,2,FALSE))","v":""}]
[null,{"$f":"IF(ISBLANK(A1955),\"\",VLOOKUP(A1955,base_itens,2,FALSE))","v":""}]
[null,{"$f":"IF(ISBLANK(A1956),\"\",VLOOKUP(A1956,base_itens,2,FALSE))","v":""}]
[null,{"$f":"IF(ISBLANK(A1957),\"\",VLOOKUP(A1957,base_itens,2,FALSE))","v":""}]
[null,{"$f":"IF(ISBLANK(A1958),\"\",VLOOKUP(A1958,base_itens,2,FALSE))","v":""}]
[null,{"$f":"IF(ISBLANK(A1959),\"\",VLOOKUP(A1959,base_itens,2,FALSE))","v":""}]
[null,{"$f":"IF(ISBLANK(A1960),\"\",VLOOKUP(A1960,base_itens,2,FALSE))","v":""}]
[null,{"$f":"IF(ISBLANK(A1961),\"\",VLOOKUP(A1961,base_itens,2,FALSE))","v":""}]
[null,{"$f":"IF(ISBLANK(A1962),\"\",VLOOKUP(A1962,base_itens,2,FALSE))","v":""}]
[null,{"$f":"IF(ISBLANK(A1963),\"\",VLOOKUP(A1963,base_itens,2,FALSE))","v":""}]
[null,{"$f":"IF(ISBLANK(A1964),\"\",VLOOKUP(A1964,base_itens,2,FALSE))","v":""}]
[null,{"$f":"IF(ISBLANK(A1965),\"\",VLOOKUP(A1965,base_itens,2,FALSE))","v":""}]
[null,{"$f":"IF(ISBLANK(A1966),\"\",VLOOKUP(A1966,base_itens,2,FALSE))","v":""}]
[null,{"$f":"IF(ISBLANK(A1967),\"\",VLOOKUP(A1967,base_itens,2,FALSE))","v":""}]
[null,{"$f":"IF(ISBLANK(A1968),\"\",VLOOKUP(A1968,base_itens,2,FALSE))","v":""}]
[null,{"$f":"IF(ISBLANK(A1969),\"\",VLOOKUP(A1969,base_itens,2,FALSE))","v":""}]
[null,{"$f":"IF(ISBLANK(A1970),\"\",VLOOKUP(A1970,base_itens,2,FALSE))","v":""}]
[null,{"$f":"IF(ISBLANK(A1971),\"\",VLOOKUP(A1971,base_itens,2,FALSE))","v":""}]
[null,{"$f":"IF(ISBLANK(A1972),\"\",VLOOKUP(A1972,base_itens,2,FALSE))","v":""}]
[null,{"$f":"IF(ISBLANK(A1973),\"\",VLOOKUP(A1973,base_itens,2,FALSE))","v":""}]
[null,{"$f":"IF(ISBLANK(A1974),\"\",VLOOKUP(A1974,base_itens,2,FALSE))","v":""}]
[null,{"$f":"IF(ISBLANK(A1975),\"\",VLOOKUP(A1975,base_itens,2,FALSE))","v":""}]
[null,{"$f":"IF(ISBLANK(A1976),\"\",VLOOKUP(A1976,base_itens,2,FALSE))","v":""}]
[null,{"$f":"IF(ISBLANK(A1977),\"\",VLOOKUP(A1977,base_itens,2,FALSE))","v":""}]
[null,{"$f":"IF(ISBLANK(A1978),\"\",VLOOKUP(A1978,base_itens,2,FALSE))","v":""}]
[null,{"$f":"IF(ISBLANK(A1979),\"\",VLOOKUP(A1979,base_itens,2,FALSE))","v":""}]
[null,{"$f":"IF(ISBLANK(A1980),\"\",VLOOKUP(A1980,base_itens,2,FALSE))","v":""}]
[null,{"$f":"IF(ISBLANK(A1981),\"\",VLOOKUP(A1981,base_itens,2,FALSE))","v":""}]
[null,{"$f":"IF(ISBLANK(A1982),\"\",VLOOKUP(A1982,base_itens,2,FALSE))","v":""}]
[null,{"$f":"IF(ISBLANK(A1983),\"\",VLOOKUP(A1983,base_itens,2,FALSE))","v":""}]
[null,{"$f":"IF(ISBLANK(A1984),\"\",VLOOKUP(A1984,base_itens,2,FALSE))","v":""}]
[null,{"$f":"IF(ISBLANK(A1985),\"\",VLOOKUP(A1985,base_itens,2,FALSE))","v":""}]
[null,{"$f":"IF(ISBLANK(A1986),\"\",VLOOKUP(A1986,base_itens,2,FALSE))","v":""}]
[null,{"$f":"IF(ISBLANK(A1987),\"\",VLOOKUP(A1987,base_itens,2,FALSE))","v":""}]
[null,{"$f":"IF(ISBLANK(A1988),\"\",VLOOKUP(A1988,base_itens,2,FALSE))","v":""}]
[null,{"$f":"IF(ISBLANK(A1989),\"\",VLOOKUP(A1989,base_itens,2,FALSE))","v":""}]
[null,{"$f":"IF(ISBLANK(A1990),\"\",VLOOKUP(A1990,base_itens,2,FALSE))","v":""}]
[null,{"$f":"IF(ISBLANK(A1991),\"\",VLOOKUP(A1991,base_itens,2,FALSE))","v":""}]
[null,{"$f":"IF(ISBLANK(A1992),\"\",VLOOKUP(A1992,base_itens,2,FALSE))","v":""}]
[null,{"$f":"IF(ISBLANK(A1993),\"\",VLOOKUP(A1993,base_itens,2,FALSE))","v":""}]
[null,{"$f":"IF(ISBLANK(A1994),\"\",VLOOKUP(A1994,base_itens,2,FALSE))","v":""}]
[null,{"$f":"IF(ISBLANK(A1995),\"\",VLOOKUP(A1995,base_itens,2,FALSE))","v":""}]
[null,{"$f":"IF(ISBLANK(A1996),\"\",VLOOKUP(A1996,base_itens,2,FALSE))","v":""}]
[null,{"$f":"IF(ISBLANK(A1997),\"\",VLOOKUP(A1997,base_itens,2,FALSE))","v":""}]
[null,{"$f":"IF(ISBLANK(A1998),\"\",VLOOKUP(A1998,base_itens,2,FALSE))","v":""}]
[null,{"$f":"IF(ISBLANK(A1999),\"\",VLOOKUP(A1999,base_itens,2,FALSE))","v":""}]
[null,{"$f":"IF(ISBLANK(A2000),\"\",VLOOKUP(A2000,base_itens,2,FALSE))","v":""}]
[null,{"$f":"IF(ISBLANK(A2001),\"\",VLOOKUP(A2001,base_itens,2,FALSE))","v":""}]
[null,{"$f":"IF(ISBLANK(A2002),\"\",VLOOKUP(A2002,base_itens,2,FALSE))","v":""}]
[null,{"$f":"IF(ISBLANK(A2003),\"\",VLOOKUP(A2003,base_itens,2,FALSE))","v":""}]
[null,{"$f":"IF(ISBLANK(A2004),\"\",VLOOKUP(A2004,base_itens,2,FALSE))","v":""}]
[null,{"$f":"IF(ISBLANK(A2005),\"\",VLOOKUP(A2005,base_itens,2,FALSE))","v":""}]
[null,{"$f":"IF(ISBLANK(A2006),\"\",VLOOKUP(A2006,base_itens,2,FALSE))","v":""}]
[null,{"$f":"IF(ISBLANK(A2007),\"\",VLOOKUP(A2007,base_itens,2,FALSE))","v":""}]
[null,{"$f":"IF(ISBLANK(A2008),\"\",VLOOKUP(A2008,base_itens,2,FALSE))","v":""}]
[null,{"$f":"IF(ISBLANK(A2009),\"\",VLOOKUP(A2009,base_itens,2,FALSE))","v":""}]
[null,{"$f":"IF(ISBLANK(A2010),\"\",VLOOKUP(A2010,base_itens,2,FALSE))","v":""}]
[null,{"$f":"IF(ISBLANK(A2011),\"\",VLOOKUP(A2011,base_itens,2,FALSE))","v":""}]
[null,{"$f":"IF(ISBLANK(A2012),\"\",VLOOKUP(A2012,base_itens,2,FALSE))","v":""}]
[null,{"$f":"IF(ISBLANK(A2013),\"\",VLOOKUP(A2013,base_itens,2,FALSE))","v":""}]
[null,{"$f":"IF(ISBLANK(A2014),\"\",VLOOKUP(A2014,base_itens,2,FALSE))","v":""}]
[null,{"$f":"IF(ISBLANK(A2015),\"\",VLOOKUP(A2015,base_itens,2,FALSE))","v":""}]
[null,{"$f":"IF(ISBLANK(A2016),\"\",VLOOKUP(A2016,base_itens,2,FALSE))","v":""}]
[null,{"$f":"IF(ISBLANK(A2017),\"\",VLOOKUP(A2017,base_itens,2,FALSE))","v":""}]
[null,{"$f":"IF(ISBLANK(A2018),\"\",VLOOKUP(A2018,base_itens,2,FALSE))","v":""}]
[null,{"$f":"IF(ISBLANK(A2019),\"\",VLOOKUP(A2019,base_itens,2,FALSE))","v":""}]
[null,{"$f":"IF(ISBLANK(A2020),\"\",VLOOKUP(A2020,base_itens,2,FALSE))","v":""}]
[null,{"$f":"IF(ISBLANK(A2021),\"\",VLOOKUP(A2021,base_itens,2,FALSE))","v":""}]
[null,{"$f":"IF(ISBLANK(A2022),\"\",VLOOKUP(A2022,base_itens,2,FALSE))","v":""}]
[null,{"$f":"IF(ISBLANK(A2023),\"\",VLOOKUP(A2023,base_itens,2,FALSE))","v":""}]
[null,{"$f":"IF(ISBLANK(A2024),\"\",VLOOKUP(A2024,base_itens,2,FALSE))","v":""}]
[null,{"$f":"IF(ISBLANK(A2025),\"\",VLOOKUP(A2025,base_itens,2,FALSE))","v":""}]
[null,{"$f":"IF(ISBLANK(A2026),\"\",VLOOKUP(A2026,base_itens,2,FALSE))","v":""}]
[null,{"$f":"IF(ISBLANK(A2027),\"\",VLOOKUP(A2027,base_itens,2,FALSE))","v":""}]
[null,{"$f":"IF(ISBLANK(A2028),\"\",VLOOKUP(A2028,base_itens,2,FALSE))","v":""}]
[null,{"$f":"IF(ISBLANK(A2029),\"\",VLOOKUP(A2029,base_itens,2,FALSE))","v":""}]
[null,{"$f":"IF(ISBLANK(A2030),\"\",VLOOKUP(A2030,base_itens,2,FALSE))","v":""}]
[null,{"$f":"IF(ISBLANK(A2031),\"\",VLOOKUP(A2031,base_itens,2,FALSE))","v":""}]
[null,{"$f":"IF(ISBLANK(A2032),\"\",VLOOKUP(A2032,base_itens,2,FALSE))","v":""}]
[null,{"$f":"IF(ISBLANK(A2033),\"\",VLOOKUP(A2033,base_itens,2,FALSE))","v":""}]
[null,{"$f":"IF(ISBLANK(A2034),\"\",VLOOKUP(A2034,base_itens,2,FALSE))","v":""}]
[null,{"$f":"IF(ISBLANK(A2035),\"\",VLOOKUP(A2035,base_itens,2,FALSE))","v":""}]
[null,{"$f":"IF(ISBLANK(A2036),\"\",VLOOKUP(A2036,base_itens,2,FALSE))","v":""}]
[null,{"$f":"IF(ISBLANK(A2037),\"\",VLOOKUP(A2037,base_itens,2,FALSE))","v":""}]
[null,{"$f":"IF(ISBLANK(A2038),\"\",VLOOKUP(A2038,base_itens,2,FALSE))","v":""}]
[null,{"$f":"IF(ISBLANK(A2039),\"\",VLOOKUP(A2039,base_itens,2,FALSE))","v":""}]
[null,{"$f":"IF(ISBLANK(A2040),\"\",VLOOKUP(A2040,base_itens,2,FALSE))","v":""}]
[null,{"$f":"IF(ISBLANK(A2041),\"\",VLOOKUP(A2041,base_itens,2,FALSE))","v":""}]
[null,{"$f":"IF(ISBLANK(A2042),\"\",VLOOKUP(A2042,base_itens,2,FALSE))","v":""}]
[null,{"$f":"IF(ISBLANK(A2043),\"\",VLOOKUP(A2043,base_itens,2,FALSE))","v":""}]
[null,{"$f":"IF(ISBLANK(A2044),\"\",VLOOKUP(A2044,base_itens,2,FALSE))","v":""}]
[null,{"$f":"IF(ISBLANK(A2045),\"\",VLOOKUP(A2045,base_itens,2,FALSE))","v":""}]
[null,{"$f":"IF(ISBLANK(A2046),\"\",VLOOKUP(A2046,base_itens,2,FALSE))","v":""}]
[null,{"$f":"IF(ISBLANK(A2047),\"\",VLOOKUP(A2047,base_itens,2,FALSE))","v":""}]
[null,{"$f":"IF(ISBLANK(A2048),\"\",VLOOKUP(A2048,base_itens,2,FALSE))","v":""}]
[null,{"$f":"IF(ISBLANK(A2049),\"\",VLOOKUP(A2049,base_itens,2,FALSE))","v":""}]
[null,{"$f":"IF(ISBLANK(A2050),\"\",VLOOKUP(A2050,base_itens,2,FALSE))","v":""}]
[null,{"$f":"IF(ISBLANK(A2051),\"\",VLOOKUP(A2051,base_itens,2,FALSE))","v":""}]
[null,{"$f":"IF(ISBLANK(A2052),\"\",VLOOKUP(A2052,base_itens,2,FALSE))","v":""}]
[null,{"$f":"IF(ISBLANK(A2053),\"\",VLOOKUP(A2053,base_itens,2,FALSE))","v":""}]
[null,{"$f":"IF(ISBLANK(A2054),\"\",VLOOKUP(A2054,base_itens,2,FALSE))","v":""}]
[null,{"$f":"IF(ISBLANK(A2055),\"\",VLOOKUP(A2055,base_itens,2,FALSE))","v":""}]
[null,{"$f":"IF(ISBLANK(A2056),\"\",VLOOKUP(A2056,base_itens,2,FALSE))","v":""}]
[null,{"$f":"IF(ISBLANK(A2057),\"\",VLOOKUP(A2057,base_itens,2,FALSE))","v":""}]
[null,{"$f":"IF(ISBLANK(A2058),\"\",VLOOKUP(A2058,base_itens,2,FALSE))","v":""}]
[null,{"$f":"IF(ISBLANK(A2059),\"\",VLOOKUP(A2059,base_itens,2,FALSE))","v":""}]
[null,{"$f":"IF(ISBLANK(A2060),\"\",VLOOKUP(A2060,base_itens,2,FALSE))","v":""}]
[null,{"$f":"IF(ISBLANK(A2061),\"\",VLOOKUP(A2061,base_itens,2,FALSE))","v":""}]
[null,{"$f":"IF(ISBLANK(A2062),\"\",VLOOKUP(A2062,base_itens,2,FALSE))","v":""}]
[null,{"$f":"IF(ISBLANK(A2063),\"\",VLOOKUP(A2063,base_itens,2,FALSE))","v":""}]
[null,{"$f":"IF(ISBLANK(A2064),\"\",VLOOKUP(A2064,base_itens,2,FALSE))","v":""}]
[null,{"$f":"IF(ISBLANK(A2065),\"\",VLOOKUP(A2065,base_itens,2,FALSE))","v":""}]
[null,{"$f":"IF(ISBLANK(A2066),\"\",VLOOKUP(A2066,base_itens,2,FALSE))","v":""}]
[null,{"$f":"IF(ISBLANK(A2067),\"\",VLOOKUP(A2067,base_itens,2,FALSE))","v":""}]
[null,{"$f":"IF(ISBLANK(A2068),\"\",VLOOKUP(A2068,base_itens,2,FALSE))","v":""}]
[null,{"$f":"IF(ISBLANK(A2069),\"\",VLOOKUP(A2069,base_itens,2,FALSE))","v":""}]
[null,{"$f":"IF(ISBLANK(A2070),\"\",VLOOKUP(A2070,base_itens,2,FALSE))","v":""}]
[null,{"$f":"IF(ISBLANK(A2071),\"\",VLOOKUP(A2071,base_itens,2,FALSE))","v":""}]
[null,{"$f":"IF(ISBLANK(A2072),\"\",VLOOKUP(A2072,base_itens,2,FALSE))","v":""}]
[null,{"$f":"IF(ISBLANK(A2073),\"\",VLOOKUP(A2073,base_itens,2,FALSE))","v":""}]
[null,{"$f":"IF(ISBLANK(A2074),\"\",VLOOKUP(A2074,base_itens,2,FALSE))","v":""}]
[null,{"$f":"IF(ISBLANK(A2075),\"\",VLOOKUP(A2075,base_itens,2,FALSE))","v":""}]
[null,{"$f":"IF(ISBLANK(A2076),\"\",VLOOKUP(A2076,base_itens,2,FALSE))","v":""}]
[null,{"$f":"IF(ISBLANK(A2077),\"\",VLOOKUP(A2077,base_itens,2,FALSE))","v":""}]
[null,{"$f":"IF(ISBLANK(A2078),\"\",VLOOKUP(A2078,base_itens,2,FALSE))","v":""}]
[null,{"$f":"IF(ISBLANK(A2079),\"\",VLOOKUP(A2079,base_itens,2,FALSE))","v":""}]
[null,{"$f":"IF(ISBLANK(A2080),\"\",VLOOKUP(A2080,base_itens,2,FALSE))","v":""}]
[null,{"$f":"IF(ISBLANK(A2081),\"\",VLOOKUP(A2081,base_itens,2,FALSE))","v":""}]
[null,{"$f":"IF(ISBLANK(A2082),\"\",VLOOKUP(A2082,base_itens,2,FALSE))","v":""}]
[null,{"$f":"IF(ISBLANK(A2083),\"\",VLOOKUP(A2083,base_itens,2,FALSE))","v":""}]
[null,{"$f":"IF(ISBLANK(A2084),\"\",VLOOKUP(A2084,base_itens,2,FALSE))","v":""}]
[null,{"$f":"IF(ISBLANK(A2085),\"\",VLOOKUP(A2085,base_itens,2,FALSE))","v":""}]
[null,{"$f":"IF(ISBLANK(A2086),\"\",VLOOKUP(A2086,base_itens,2,FALSE))","v":""}]
[null,{"$f":"IF(ISBLANK(A2087),\"\",VLOOKUP(A2087,base_itens,2,FALSE))","v":""}]
[null,{"$f":"IF(ISBLANK(A2088),\"\",VLOOKUP(A2088,base_itens,2,FALSE))","v":""}]
[null,{"$f":"IF(ISBLANK(A2089),\"\",VLOOKUP(A2089,base_itens,2,FALSE))","v":""}]
[null,{"$f":"IF(ISBLANK(A2090),\"\",VLOOKUP(A2090,base_itens,2,FALSE))","v":""}]
[null,{"$f":"IF(ISBLANK(A2091),\"\",VLOOKUP(A2091,base_itens,2,FALSE))","v":""}]
[null,{"$f":"IF(ISBLANK(A2092),\"\",VLOOKUP(A2092,base_itens,2,FALSE))","v":""}]
[null,{"$f":"IF(ISBLANK(A2093),\"\",VLOOKUP(A2093,base_itens,2,FALSE))","v":""}]
[null,{"$f":"IF(ISBLANK(A2094),\"\",VLOOKUP(A2094,base_itens,2,FALSE))","v":""}]
[null,{"$f":"IF(ISBLANK(A2095),\"\",VLOOKUP(A2095,base_itens,2,FALSE))","v":""}]
[null,{"$f":"IF(ISBLANK(A2096),\"\",VLOOKUP(A2096,base_itens,2,FALSE))","v":""}]
[null,{"$f":"IF(ISBLANK(A2097),\"\",VLOOKUP(A2097,base_itens,2,FALSE))","v":""}]
[null,{"$f":"IF(ISBLANK(A2098),\"\",VLOOKUP(A2098,base_itens,2,FALSE))","v":""}]
[null,{"$f":"IF(ISBLANK(A2099),\"\",VLOOKUP(A2099,base_itens,2,FALSE))","v":""}]
[null,{"$f":"IF(ISBLANK(A2100),\"\",VLOOKUP(A2100,base_itens,2,FALSE))","v":""}]
[null,{"$f":"IF(ISBLANK(A2101),\"\",VLOOKUP(A2101,base_itens,2,FALSE))","v":""}]
[null,{"$f":"IF(ISBLANK(A2102),\"\",VLOOKUP(A2102,base_itens,2,FALSE))","v":""}]
[null,{"$f":"IF(ISBLANK(A2103),\"\",VLOOKUP(A2103,base_itens,2,FALSE))","v":""}]
[null,{"$f":"IF(ISBLANK(A2104),\"\",VLOOKUP(A2104,base_itens,2,FALSE))","v":""}]
[null,{"$f":"IF(ISBLANK(A2105),\"\",VLOOKUP(A2105,base_itens,2,FALSE))","v":""}]
[null,{"$f":"IF(ISBLANK(A2106),\"\",VLOOKUP(A2106,base_itens,2,FALSE))","v":""}]
[null,{"$f":"IF(ISBLANK(A2107),\"\",VLOOKUP(A2107,base_itens,2,FALSE))","v":""}]
[null,{"$f":"IF(ISBLANK(A2108),\"\",VLOOKUP(A2108,base_itens,2,FALSE))","v":""}]
[null,{"$f":"IF(ISBLANK(A2109),\"\",VLOOKUP(A2109,base_itens,2,FALSE))","v":""}]
[null,{"$f":"IF(ISBLANK(A2110),\"\",VLOOKUP(A2110,base_itens,2,FALSE))","v":""}]
[null,{"$f":"IF(ISBLANK(A2111),\"\",VLOOKUP(A2111,base_itens,2,FALSE))","v":""}]
[null,{"$f":"IF(ISBLANK(A2112),\"\",VLOOKUP(A2112,base_itens,2,FALSE))","v":""}]
[null,{"$f":"IF(ISBLANK(A2113),\"\",VLOOKUP(A2113,base_itens,2,FALSE))","v":""}]
[null,{"$f":"IF(ISBLANK(A2114),\"\",VLOOKUP(A2114,base_itens,2,FALSE))","v":""}]
[null,{"$f":"IF(ISBLANK(A2115),\"\",VLOOKUP(A2115,base_itens,2,FALSE))","v":""}]
[null,{"$f":"IF(ISBLANK(A2116),\"\",VLOOKUP(A2116,base_itens,2,FALSE))","v":""}]
[null,{"$f":"IF(ISBLANK(A2117),\"\",VLOOKUP(A2117,base_itens,2,FALSE))","v":""}]
[null,{"$f":"IF(ISBLANK(A2118),\"\",VLOOKUP(A2118,base_itens,2,FALSE))","v":""}]
[null,{"$f":"IF(ISBLANK(A2119),\"\",VLOOKUP(A2119,base_itens,2,FALSE))","v":""}]
[null,{"$f":"IF(ISBLANK(A2120),\"\",VLOOKUP(A2120,base_itens,2,FALSE))","v":""}]
[null,{"$f":"IF(ISBLANK(A2121),\"\",VLOOKUP(A2121,base_itens,2,FALSE))","v":""}]
[null,{"$f":"IF(ISBLANK(A2122),\"\",VLOOKUP(A2122,base_itens,2,FALSE))","v":""}]
[null,{"$f":"IF(ISBLANK(A2123),\"\",VLOOKUP(A2123,base_itens,2,FALSE))","v":""}]
[null,{"$f":"IF(ISBLANK(A2124),\"\",VLOOKUP(A2124,base_itens,2,FALSE))","v":""}]
[null,{"$f":"IF(ISBLANK(A2125),\"\",VLOOKUP(A2125,base_itens,2,FALSE))","v":""}]
[null,{"$f":"IF(ISBLANK(A2126),\"\",VLOOKUP(A2126,base_itens,2,FALSE))","v":""}]
[null,{"$f":"IF(ISBLANK(A2127),\"\",VLOOKUP(A2127,base_itens,2,FALSE))","v":""}]
[null,{"$f":"IF(ISBLANK(A2128),\"\",VLOOKUP(A2128,base_itens,2,FALSE))","v":""}]
[null,{"$f":"IF(ISBLANK(A2129),\"\",VLOOKUP(A2129,base_itens,2,FALSE))","v":""}]
[null,{"$f":"IF(ISBLANK(A2130),\"\",VLOOKUP(A2130,base_itens,2,FALSE))","v":""}]
[null,{"$f":"IF(ISBLANK(A2131),\"\",VLOOKUP(A2131,base_itens,2,FALSE))","v":""}]
[null,{"$f":"IF(ISBLANK(A2132),\"\",VLOOKUP(A2132,base_itens,2,FALSE))","v":""}]
[null,{"$f":"IF(ISBLANK(A2133),\"\",VLOOKUP(A2133,base_itens,2,FALSE))","v":""}]
[null,{"$f":"IF(ISBLANK(A2134),\"\",VLOOKUP(A2134,base_itens,2,FALSE))","v":""}]
[null,{"$f":"IF(ISBLANK(A2135),\"\",VLOOKUP(A2135,base_itens,2,FALSE))","v":""}]
[null,{"$f":"IF(ISBLANK(A2136),\"\",VLOOKUP(A2136,base_itens,2,FALSE))","v":""}]
[null,{"$f":"IF(ISBLANK(A2137),\"\",VLOOKUP(A2137,base_itens,2,FALSE))","v":""}]
[null,{"$f":"IF(ISBLANK(A2138),\"\",VLOOKUP(A2138,base_itens,2,FALSE))","v":""}]
[null,{"$f":"IF(ISBLANK(A2139),\"\",VLOOKUP(A2139,base_itens,2,FALSE))","v":""}]
[null,{"$f":"IF(ISBLANK(A2140),\"\",VLOOKUP(A2140,base_itens,2,FALSE))","v":""}]
[null,{"$f":"IF(ISBLANK(A2141),\"\",VLOOKUP(A2141,base_itens,2,FALSE))","v":""}]
[null,{"$f":"IF(ISBLANK(A2142),\"\",VLOOKUP(A2142,base_itens,2,FALSE))","v":""}]
[null,{"$f":"IF(ISBLANK(A2143),\"\",VLOOKUP(A2143,base_itens,2,FALSE))","v":""}]
[null,{"$f":"IF(ISBLANK(A2144),\"\",VLOOKUP(A2144,base_itens,2,FALSE))","v":""}]
[null,{"$f":"IF(ISBLANK(A2145),\"\",VLOOKUP(A2145,base_itens,2,FALSE))","v":""}]
[null,{"$f":"IF(ISBLANK(A2146),\"\",VLOOKUP(A2146,base_itens,2,FALSE))","v":""}]
[null,{"$f":"IF(ISBLANK(A2147),\"\",VLOOKUP(A2147,base_itens,2,FALSE))","v":""}]
[null,{"$f":"IF(ISBLANK(A2148),\"\",VLOOKUP(A2148,base_itens,2,FALSE))","v":""}]
[null,{"$f":"IF(ISBLANK(A2149),\"\",VLOOKUP(A2149,base_itens,2,FALSE))","v":""}]
[null,{"$f":"IF(ISBLANK(A2150),\"\",VLOOKUP(A2150,base_itens,2,FALSE))","v":""}]
[null,{"$f":"IF(ISBLANK(A2151),\"\",VLOOKUP(A2151,base_itens,2,FALSE))","v":""}]
[null,{"$f":"IF(ISBLANK(A2152),\"\",VLOOKUP(A2152,base_itens,2,FALSE))","v":""}]
[null,{"$f":"IF(ISBLANK(A2153),\"\",VLOOKUP(A2153,base_itens,2,FALSE))","v":""}]
[null,{"$f":"IF(ISBLANK(A2154),\"\",VLOOKUP(A2154,base_itens,2,FALSE))","v":""}]
[null,{"$f":"IF(ISBLANK(A2155),\"\",VLOOKUP(A2155,base_itens,2,FALSE))","v":""}]
[null,{"$f":"IF(ISBLANK(A2156),\"\",VLOOKUP(A2156,base_itens,2,FALSE))","v":""}]
[null,{"$f":"IF(ISBLANK(A2157),\"\",VLOOKUP(A2157,base_itens,2,FALSE))","v":""}]
[null,{"$f":"IF(ISBLANK(A2158),\"\",VLOOKUP(A2158,base_itens,2,FALSE))","v":""}]
[null,{"$f":"IF(ISBLANK(A2159),\"\",VLOOKUP(A2159,base_itens,2,FALSE))","v":""}]
[null,{"$f":"IF(ISBLANK(A2160),\"\",VLOOKUP(A2160,base_itens,2,FALSE))","v":""}]
[null,{"$f":"IF(ISBLANK(A2161),\"\",VLOOKUP(A2161,base_itens,2,FALSE))","v":""}]
[null,{"$f":"IF(ISBLANK(A2162),\"\",VLOOKUP(A2162,base_itens,2,FALSE))","v":""}]
[null,{"$f":"IF(ISBLANK(A2163),\"\",VLOOKUP(A2163,base_itens,2,FALSE))","v":""}]
[null,{"$f":"IF(ISBLANK(A2164),\"\",VLOOKUP(A2164,base_itens,2,FALSE))","v":""}]
[null,{"$f":"IF(ISBLANK(A2165),\"\",VLOOKUP(A2165,base_itens,2,FALSE))","v":""}]
[null,{"$f":"IF(ISBLANK(A2166),\"\",VLOOKUP(A2166,base_itens,2,FALSE))","v":""}]
[null,{"$f":"IF(ISBLANK(A2167),\"\",VLOOKUP(A2167,base_itens,2,FALSE))","v":""}]
[null,{"$f":"IF(ISBLANK(A2168),\"\",VLOOKUP(A2168,base_itens,2,FALSE))","v":""}]
[null,{"$f":"IF(ISBLANK(A2169),\"\",VLOOKUP(A2169,base_itens,2,FALSE))","v":""}]
[null,{"$f":"IF(ISBLANK(A2170),\"\",VLOOKUP(A2170,base_itens,2,FALSE))","v":""}]
[null,{"$f":"IF(ISBLANK(A2171),\"\",VLOOKUP(A2171,base_itens,2,FALSE))","v":""}]
[null,{"$f":"IF(ISBLANK(A2172),\"\",VLOOKUP(A2172,base_itens,2,FALSE))","v":""}]
[null,{"$f":"IF(ISBLANK(A2173),\"\",VLOOKUP(A2173,base_itens,2,FALSE))","v":""}]
[null,{"$f":"IF(ISBLANK(A2174),\"\",VLOOKUP(A2174,base_itens,2,FALSE))","v":""}]
[null,{"$f":"IF(ISBLANK(A2175),\"\",VLOOKUP(A2175,base_itens,2,FALSE))","v":""}]
[null,{"$f":"IF(ISBLANK(A2176),\"\",VLOOKUP(A2176,base_itens,2,FALSE))","v":""}]
[null,{"$f":"IF(ISBLANK(A2177),\"\",VLOOKUP(A2177,base_itens,2,FALSE))","v":""}]
[null,{"$f":"IF(ISBLANK(A2178),\"\",VLOOKUP(A2178,base_itens,2,FALSE))","v":""}]
[null,{"$f":"IF(ISBLANK(A2179),\"\",VLOOKUP(A2179,base_itens,2,FALSE))","v":""}]
[null,{"$f":"IF(ISBLANK(A2180),\"\",VLOOKUP(A2180,base_itens,2,FALSE))","v":""}]
[null,{"$f":"IF(ISBLANK(A2181),\"\",VLOOKUP(A2181,base_itens,2,FALSE))","v":""}]
[null,{"$f":"IF(ISBLANK(A2182),\"\",VLOOKUP(A2182,base_itens,2,FALSE))","v":""}]
[null,{"$f":"IF(ISBLANK(A2183),\"\",VLOOKUP(A2183,base_itens,2,FALSE))","v":""}]
[null,{"$f":"IF(ISBLANK(A2184),\"\",VLOOKUP(A2184,base_itens,2,FALSE))","v":""}]
[null,{"$f":"IF(ISBLANK(A2185),\"\",VLOOKUP(A2185,base_itens,2,FALSE))","v":""}]
[null,{"$f":"IF(ISBLANK(A2186),\"\",VLOOKUP(A2186,base_itens,2,FALSE))","v":""}]
[null,{"$f":"IF(ISBLANK(A2187),\"\",VLOOKUP(A2187,base_itens,2,FALSE))","v":""}]
[null,{"$f":"IF(ISBLANK(A2188),\"\",VLOOKUP(A2188,base_itens,2,FALSE))","v":""}]
[null,{"$f":"IF(ISBLANK(A2189),\"\",VLOOKUP(A2189,base_itens,2,FALSE))","v":""}]
[null,{"$f":"IF(ISBLANK(A2190),\"\",VLOOKUP(A2190,base_itens,2,FALSE))","v":""}]
[null,{"$f":"IF(ISBLANK(A2191),\"\",VLOOKUP(A2191,base_itens,2,FALSE))","v":""}]
[null,{"$f":"IF(ISBLANK(A2192),\"\",VLOOKUP(A2192,base_itens,2,FALSE))","v":""}]
[null,{"$f":"IF(ISBLANK(A2193),\"\",VLOOKUP(A2193,base_itens,2,FALSE))","v":""}]
[null,{"$f":"IF(ISBLANK(A2194),\"\",VLOOKUP(A2194,base_itens,2,FALSE))","v":""}]
[null,{"$f":"IF(ISBLANK(A2195),\"\",VLOOKUP(A2195,base_itens,2,FALSE))","v":""}]
[null,{"$f":"IF(ISBLANK(A2196),\"\",VLOOKUP(A2196,base_itens,2,FALSE))","v":""}]
[null,{"$f":"IF(ISBLANK(A2197),\"\",VLOOKUP(A2197,base_itens,2,FALSE))","v":""}]
[null,{"$f":"IF(ISBLANK(A2198),\"\",VLOOKUP(A2198,base_itens,2,FALSE))","v":""}]
[null,{"$f":"IF(ISBLANK(A2199),\"\",VLOOKUP(A2199,base_itens,2,FALSE))","v":""}]
[null,{"$f":"IF(ISBLANK(A2200),\"\",VLOOKUP(A2200,base_itens,2,FALSE))","v":""}]
[null,{"$f":"IF(ISBLANK(A2201),\"\",VLOOKUP(A2201,base_itens,2,FALSE))","v":""}]
[null,{"$f":"IF(ISBLANK(A2202),\"\",VLOOKUP(A2202,base_itens,2,FALSE))","v":""}]
[null,{"$f":"IF(ISBLANK(A2203),\"\",VLOOKUP(A2203,base_itens,2,FALSE))","v":""}]
[null,{"$f":"IF(ISBLANK(A2204),\"\",VLOOKUP(A2204,base_itens,2,FALSE))","v":""}]
[null,{"$f":"IF(ISBLANK(A2205),\"\",VLOOKUP(A2205,base_itens,2,FALSE))","v":""}]
[null,{"$f":"IF(ISBLANK(A2206),\"\",VLOOKUP(A2206,base_itens,2,FALSE))","v":""}]
[null,{"$f":"IF(ISBLANK(A2207),\"\",VLOOKUP(A2207,base_itens,2,FALSE))","v":""}]
[null,{"$f":"IF(ISBLANK(A2208),\"\",VLOOKUP(A2208,base_itens,2,FALSE))","v":""}]
[null,{"$f":"IF(ISBLANK(A2209),\"\",VLOOKUP(A2209,base_itens,2,FALSE))","v":""}]
[null,{"$f":"IF(ISBLANK(A2210),\"\",VLOOKUP(A2210,base_itens,2,FALSE))","v":""}]
[null,{"$f":"IF(ISBLANK(A2211),\"\",VLOOKUP(A2211,base_itens,2,FALSE))","v":""}]
[null,{"$f":"IF(ISBLANK(A2212),\"\",VLOOKUP(A2212,base_itens,2,FALSE))","v":""}]
[null,{"$f":"IF(ISBLANK(A2213),\"\",VLOOKUP(A2213,base_itens,2,FALSE))","v":""}]
[null,{"$f":"IF(ISBLANK(A2214),\"\",VLOOKUP(A2214,base_itens,2,FALSE))","v":""}]
[null,{"$f":"IF(ISBLANK(A2215),\"\",VLOOKUP(A2215,base_itens,2,FALSE))","v":""}]
[null,{"$f":"IF(ISBLANK(A2216),\"\",VLOOKUP(A2216,base_itens,2,FALSE))","v":""}]
[null,{"$f":"IF(ISBLANK(A2217),\"\",VLOOKUP(A2217,base_itens,2,FALSE))","v":""}]
[null,{"$f":"IF(ISBLANK(A2218),\"\",VLOOKUP(A2218,base_itens,2,FALSE))","v":""}]
[null,{"$f":"IF(ISBLANK(A2219),\"\",VLOOKUP(A2219,base_itens,2,FALSE))","v":""}]
[null,{"$f":"IF(ISBLANK(A2220),\"\",VLOOKUP(A2220,base_itens,2,FALSE))","v":""}]
[null,{"$f":"IF(ISBLANK(A2221),\"\",VLOOKUP(A2221,base_itens,2,FALSE))","v":""}]
[null,{"$f":"IF(ISBLANK(A2222),\"\",VLOOKUP(A2222,base_itens,2,FALSE))","v":""}]
[null,{"$f":"IF(ISBLANK(A2223),\"\",VLOOKUP(A2223,base_itens,2,FALSE))","v":""}]
[null,{"$f":"IF(ISBLANK(A2224),\"\",VLOOKUP(A2224,base_itens,2,FALSE))","v":""}]
[null,{"$f":"IF(ISBLANK(A2225),\"\",VLOOKUP(A2225,base_itens,2,FALSE))","v":""}]
[null,{"$f":"IF(ISBLANK(A2226),\"\",VLOOKUP(A2226,base_itens,2,FALSE))","v":""}]
[null,{"$f":"IF(ISBLANK(A2227),\"\",VLOOKUP(A2227,base_itens,2,FALSE))","v":""}]
[null,{"$f":"IF(ISBLANK(A2228),\"\",VLOOKUP(A2228,base_itens,2,FALSE))","v":""}]
[null,{"$f":"IF(ISBLANK(A2229),\"\",VLOOKUP(A2229,base_itens,2,FALSE))","v":""}]
[null,{"$f":"IF(ISBLANK(A2230),\"\",VLOOKUP(A2230,base_itens,2,FALSE))","v":""}]
[null,{"$f":"IF(ISBLANK(A2231),\"\",VLOOKUP(A2231,base_itens,2,FALSE))","v":""}]
[null,{"$f":"IF(ISBLANK(A2232),\"\",VLOOKUP(A2232,base_itens,2,FALSE))","v":""}]
[null,{"$f":"IF(ISBLANK(A2233),\"\",VLOOKUP(A2233,base_itens,2,FALSE))","v":""}]
[null,{"$f":"IF(ISBLANK(A2234),\"\",VLOOKUP(A2234,base_itens,2,FALSE))","v":""}]
[null,{"$f":"IF(ISBLANK(A2235),\"\",VLOOKUP(A2235,base_itens,2,FALSE))","v":""}]
[null,{"$f":"IF(ISBLANK(A2236),\"\",VLOOKUP(A2236,base_itens,2,FALSE))","v":""}]
[null,{"$f":"IF(ISBLANK(A2237),\"\",VLOOKUP(A2237,base_itens,2,FALSE))","v":""}]
[null,{"$f":"IF(ISBLANK(A2238),\"\",VLOOKUP(A2238,base_itens,2,FALSE))","v":""}]
[null,{"$f":"IF(ISBLANK(A2239),\"\",VLOOKUP(A2239,base_itens,2,FALSE))","v":""}]
[null,{"$f":"IF(ISBLANK(A2240),\"\",VLOOKUP(A2240,base_itens,2,FALSE))","v":""}]
[null,{"$f":"IF(ISBLANK(A2241),\"\",VLOOKUP(A2241,base_itens,2,FALSE))","v":""}]
[null,{"$f":"IF(ISBLANK(A2242),\"\",VLOOKUP(A2242,base_itens,2,FALSE))","v":""}]
[null,{"$f":"IF(ISBLANK(A2243),\"\",VLOOKUP(A2243,base_itens,2,FALSE))","v":""}]
[null,{"$f":"IF(ISBLANK(A2244),\"\",VLOOKUP(A2244,base_itens,2,FALSE))","v":""}]
[null,{"$f":"IF(ISBLANK(A2245),\"\",VLOOKUP(A2245,base_itens,2,FALSE))","v":""}]
[null,{"$f":"IF(ISBLANK(A2246),\"\",VLOOKUP(A2246,base_itens,2,FALSE))","v":""}]
[null,{"$f":"IF(ISBLANK(A2247),\"\",VLOOKUP(A2247,base_itens,2,FALSE))","v":""}]
[null,{"$f":"IF(ISBLANK(A2248),\"\",VLOOKUP(A2248,base_itens,2,FALSE))","v":""}]
[null,{"$f":"IF(ISBLANK(A2249),\"\",VLOOKUP(A2249,base_itens,2,FALSE))","v":""}]
[null,{"$f":"IF(ISBLANK(A2250),\"\",VLOOKUP(A2250,base_itens,2,FALSE))","v":""}]
[null,{"$f":"IF(ISBLANK(A2251),\"\",VLOOKUP(A2251,base_itens,2,FALSE))","v":""}]
[null,{"$f":"IF(ISBLANK(A2252),\"\",VLOOKUP(A2252,base_itens,2,FALSE))","v":""}]
[null,{"$f":"IF(ISBLANK(A2253),\"\",VLOOKUP(A2253,base_itens,2,FALSE))","v":""}]
[null,{"$f":"IF(ISBLANK(A2254),\"\",VLOOKUP(A2254,base_itens,2,FALSE))","v":""}]
[null,{"$f":"IF(ISBLANK(A2255),\"\",VLOOKUP(A2255,base_itens,2,FALSE))","v":""}]
[null,{"$f":"IF(ISBLANK(A2256),\"\",VLOOKUP(A2256,base_itens,2,FALSE))","v":""}]
[null,{"$f":"IF(ISBLANK(A2257),\"\",VLOOKUP(A2257,base_itens,2,FALSE))","v":""}]
[null,{"$f":"IF(ISBLANK(A2258),\"\",VLOOKUP(A2258,base_itens,2,FALSE))","v":""}]
[null,{"$f":"IF(ISBLANK(A2259),\"\",VLOOKUP(A2259,base_itens,2,FALSE))","v":""}]
[null,{"$f":"IF(ISBLANK(A2260),\"\",VLOOKUP(A2260,base_itens,2,FALSE))","v":""}]
[null,{"$f":"IF(ISBLANK(A2261),\"\",VLOOKUP(A2261,base_itens,2,FALSE))","v":""}]
[null,{"$f":"IF(ISBLANK(A2262),\"\",VLOOKUP(A2262,base_itens,2,FALSE))","v":""}]
[null,{"$f":"IF(ISBLANK(A2263),\"\",VLOOKUP(A2263,base_itens,2,FALSE))","v":""}]
[null,{"$f":"IF(ISBLANK(A2264),\"\",VLOOKUP(A2264,base_itens,2,FALSE))","v":""}]
[null,{"$f":"IF(ISBLANK(A2265),\"\",VLOOKUP(A2265,base_itens,2,FALSE))","v":""}]
[null,{"$f":"IF(ISBLANK(A2266),\"\",VLOOKUP(A2266,base_itens,2,FALSE))","v":""}]
[null,{"$f":"IF(ISBLANK(A2267),\"\",VLOOKUP(A2267,base_itens,2,FALSE))","v":""}]
[null,{"$f":"IF(ISBLANK(A2268),\"\",VLOOKUP(A2268,base_itens,2,FALSE))","v":""}]
[null,{"$f":"IF(ISBLANK(A2269),\"\",VLOOKUP(A2269,base_itens,2,FALSE))","v":""}]
[null,{"$f":"IF(ISBLANK(A2270),\"\",VLOOKUP(A2270,base_itens,2,FALSE))","v":""}]
[null,{"$f":"IF(ISBLANK(A2271),\"\",VLOOKUP(A2271,base_itens,2,FALSE))","v":""}]
[null,{"$f":"IF(ISBLANK(A2272),\"\",VLOOKUP(A2272,base_itens,2,FALSE))","v":""}]
[null,{"$f":"IF(ISBLANK(A2273),\"\",VLOOKUP(A2273,base_itens,2,FALSE))","v":""}]
[null,{"$f":"IF(ISBLANK(A2274),\"\",VLOOKUP(A2274,base_itens,2,FALSE))","v":""}]
[null,{"$f":"IF(ISBLANK(A2275),\"\",VLOOKUP(A2275,base_itens,2,FALSE))","v":""}]
[null,{"$f":"IF(ISBLANK(A2276),\"\",VLOOKUP(A2276,base_itens,2,FALSE))","v":""}]
[null,{"$f":"IF(ISBLANK(A2277),\"\",VLOOKUP(A2277,base_itens,2,FALSE))","v":""}]
[null,{"$f":"IF(ISBLANK(A2278),\"\",VLOOKUP(A2278,base_itens,2,FALSE))","v":""}]
[null,{"$f":"IF(ISBLANK(A2279),\"\",VLOOKUP(A2279,base_itens,2,FALSE))","v":""}]
[null,{"$f":"IF(ISBLANK(A2280),\"\",VLOOKUP(A2280,base_itens,2,FALSE))","v":""}]
[null,{"$f":"IF(ISBLANK(A2281),\"\",VLOOKUP(A2281,base_itens,2,FALSE))","v":""}]
[null,{"$f":"IF(ISBLANK(A2282),\"\",VLOOKUP(A2282,base_itens,2,FALSE))","v":""}]
[null,{"$f":"IF(ISBLANK(A2283),\"\",VLOOKUP(A2283,base_itens,2,FALSE))","v":""}]
[null,{"$f":"IF(ISBLANK(A2284),\"\",VLOOKUP(A2284,base_itens,2,FALSE))","v":""}]
[null,{"$f":"IF(ISBLANK(A2285),\"\",VLOOKUP(A2285,base_itens,2,FALSE))","v":""}]
[null,{"$f":"IF(ISBLANK(A2286),\"\",VLOOKUP(A2286,base_itens,2,FALSE))","v":""}]
[null,{"$f":"IF(ISBLANK(A2287),\"\",VLOOKUP(A2287,base_itens,2,FALSE))","v":""}]
[null,{"$f":"IF(ISBLANK(A2288),\"\",VLOOKUP(A2288,base_itens,2,FALSE))","v":""}]
[null,{"$f":"IF(ISBLANK(A2289),\"\",VLOOKUP(A2289,base_itens,2,FALSE))","v":""}]
[null,{"$f":"IF(ISBLANK(A2290),\"\",VLOOKUP(A2290,base_itens,2,FALSE))","v":""}]
[null,{"$f":"IF(ISBLANK(A2291),\"\",VLOOKUP(A2291,base_itens,2,FALSE))","v":""}]
[null,{"$f":"IF(ISBLANK(A2292),\"\",VLOOKUP(A2292,base_itens,2,FALSE))","v":""}]
[null,{"$f":"IF(ISBLANK(A2293),\"\",VLOOKUP(A2293,base_itens,2,FALSE))","v":""}]
[null,{"$f":"IF(ISBLANK(A2294),\"\",VLOOKUP(A2294,base_itens,2,FALSE))","v":""}]
[null,{"$f":"IF(ISBLANK(A2295),\"\",VLOOKUP(A2295,base_itens,2,FALSE))","v":""}]
[null,{"$f":"IF(ISBLANK(A2296),\"\",VLOOKUP(A2296,base_itens,2,FALSE))","v":""}]
[null,{"$f":"IF(ISBLANK(A2297),\"\",VLOOKUP(A2297,base_itens,2,FALSE))","v":""}]
[null,{"$f":"IF(ISBLANK(A2298),\"\",VLOOKUP(A2298,base_itens,2,FALSE))","v":""}]
[null,{"$f":"IF(ISBLANK(A2299),\"\",VLOOKUP(A2299,base_itens,2,FALSE))","v":""}]
[null,{"$f":"IF(ISBLANK(A2300),\"\",VLOOKUP(A2300,base_itens,2,FALSE))","v":""}]
[null,{"$f":"IF(ISBLANK(A2301),\"\",VLOOKUP(A2301,base_itens,2,FALSE))","v":""}]
[null,{"$f":"IF(ISBLANK(A2302),\"\",VLOOKUP(A2302,base_itens,2,FALSE))","v":""}]
[null,{"$f":"IF(ISBLANK(A2303),\"\",VLOOKUP(A2303,base_itens,2,FALSE))","v":""}]
[null,{"$f":"IF(ISBLANK(A2304),\"\",VLOOKUP(A2304,base_itens,2,FALSE))","v":""}]
[null,{"$f":"IF(ISBLANK(A2305),\"\",VLOOKUP(A2305,base_itens,2,FALSE))","v":""}]
[null,{"$f":"IF(ISBLANK(A2306),\"\",VLOOKUP(A2306,base_itens,2,FALSE))","v":""}]
[null,{"$f":"IF(ISBLANK(A2307),\"\",VLOOKUP(A2307,base_itens,2,FALSE))","v":""}]
[null,{"$f":"IF(ISBLANK(A2308),\"\",VLOOKUP(A2308,base_itens,2,FALSE))","v":""}]
[null,{"$f":"IF(ISBLANK(A2309),\"\",VLOOKUP(A2309,base_itens,2,FALSE))","v":""}]
[null,{"$f":"IF(ISBLANK(A2310),\"\",VLOOKUP(A2310,base_itens,2,FALSE))","v":""}]
[null,{"$f":"IF(ISBLANK(A2311),\"\",VLOOKUP(A2311,base_itens,2,FALSE))","v":""}]
[null,{"$f":"IF(ISBLANK(A2312),\"\",VLOOKUP(A2312,base_itens,2,FALSE))","v":""}]
[null,{"$f":"IF(ISBLANK(A2313),\"\",VLOOKUP(A2313,base_itens,2,FALSE))","v":""}]
[null,{"$f":"IF(ISBLANK(A2314),\"\",VLOOKUP(A2314,base_itens,2,FALSE))","v":""}]
[null,{"$f":"IF(ISBLANK(A2315),\"\",VLOOKUP(A2315,base_itens,2,FALSE))","v":""}]
[null,{"$f":"IF(ISBLANK(A2316),\"\",VLOOKUP(A2316,base_itens,2,FALSE))","v":""}]
[null,{"$f":"IF(ISBLANK(A2317),\"\",VLOOKUP(A2317,base_itens,2,FALSE))","v":""}]
[null,{"$f":"IF(ISBLANK(A2318),\"\",VLOOKUP(A2318,base_itens,2,FALSE))","v":""}]
[null,{"$f":"IF(ISBLANK(A2319),\"\",VLOOKUP(A2319,base_itens,2,FALSE))","v":""}]
[null,{"$f":"IF(ISBLANK(A2320),\"\",VLOOKUP(A2320,base_itens,2,FALSE))","v":""}]
[null,{"$f":"IF(ISBLANK(A2321),\"\",VLOOKUP(A2321,base_itens,2,FALSE))","v":""}]
[null,{"$f":"IF(ISBLANK(A2322),\"\",VLOOKUP(A2322,base_itens,2,FALSE))","v":""}]
[null,{"$f":"IF(ISBLANK(A2323),\"\",VLOOKUP(A2323,base_itens,2,FALSE))","v":""}]
[null,{"$f":"IF(ISBLANK(A2324),\"\",VLOOKUP(A2324,base_itens,2,FALSE))","v":""}]
[null,{"$f":"IF(ISBLANK(A2325),\"\",VLOOKUP(A2325,base_itens,2,FALSE))","v":""}]
[null,{"$f":"IF(ISBLANK(A2326),\"\",VLOOKUP(A2326,base_itens,2,FALSE))","v":""}]
[null,{"$f":"IF(ISBLANK(A2327),\"\",VLOOKUP(A2327,base_itens,2,FALSE))","v":""}]
[null,{"$f":"IF(ISBLANK(A2328),\"\",VLOOKUP(A2328,base_itens,2,FALSE))","v":""}]
[null,{"$f":"IF(ISBLANK(A2329),\"\",VLOOKUP(A2329,base_itens,2,FALSE))","v":""}]
[null,{"$f":"IF(ISBLANK(A2330),\"\",VLOOKUP(A2330,base_itens,2,FALSE))","v":""}]
[null,{"$f":"IF(ISBLANK(A2331),\"\",VLOOKUP(A2331,base_itens,2,FALSE))","v":""}]
[null,{"$f":"IF(ISBLANK(A2332),\"\",VLOOKUP(A2332,base_itens,2,FALSE))","v":""}]
[null,{"$f":"IF(ISBLANK(A2333),\"\",VLOOKUP(A2333,base_itens,2,FALSE))","v":""}]
[null,{"$f":"IF(ISBLANK(A2334),\"\",VLOOKUP(A2334,base_itens,2,FALSE))","v":""}]
[null,{"$f":"IF(ISBLANK(A2335),\"\",VLOOKUP(A2335,base_itens,2,FALSE))","v":""}]
[null,{"$f":"IF(ISBLANK(A2336),\"\",VLOOKUP(A2336,base_itens,2,FALSE))","v":""}]
[null,{"$f":"IF(ISBLANK(A2337),\"\",VLOOKUP(A2337,base_itens,2,FALSE))","v":""}]
[null,{"$f":"IF(ISBLANK(A2338),\"\",VLOOKUP(A2338,base_itens,2,FALSE))","v":""}]
[null,{"$f":"IF(ISBLANK(A2339),\"\",VLOOKUP(A2339,base_itens,2,FALSE))","v":""}]
[null,{"$f":"IF(ISBLANK(A2340),\"\",VLOOKUP(A2340,base_itens,2,FALSE))","v":""}]
[null,{"$f":"IF(ISBLANK(A2341),\"\",VLOOKUP(A2341,base_itens,2,FALSE))","v":""}]
[null,{"$f":"IF(ISBLANK(A2342),\"\",VLOOKUP(A2342,base_itens,2,FALSE))","v":""}]
[null,{"$f":"IF(ISBLANK(A2343),\"\",VLOOKUP(A2343,base_itens,2,FALSE))","v":""}]
[null,{"$f":"IF(ISBLANK(A2344),\"\",VLOOKUP(A2344,base_itens,2,FALSE))","v":""}]
[null,{"$f":"IF(ISBLANK(A2345),\"\",VLOOKUP(A2345,base_itens,2,FALSE))","v":""}]
[null,{"$f":"IF(ISBLANK(A2346),\"\",VLOOKUP(A2346,base_itens,2,FALSE))","v":""}]
[null,{"$f":"IF(ISBLANK(A2347),\"\",VLOOKUP(A2347,base_itens,2,FALSE))","v":""}]
[null,{"$f":"IF(ISBLANK(A2348),\"\",VLOOKUP(A2348,base_itens,2,FALSE))","v":""}]
[null,{"$f":"IF(ISBLANK(A2349),\"\",VLOOKUP(A2349,base_itens,2,FALSE))","v":""}]
[null,{"$f":"IF(ISBLANK(A2350),\"\",VLOOKUP(A2350,base_itens,2,FALSE))","v":""}]
[null,{"$f":"IF(ISBLANK(A2351),\"\",VLOOKUP(A2351,base_itens,2,FALSE))","v":""}]
[null,{"$f":"IF(ISBLANK(A2352),\"\",VLOOKUP(A2352,base_itens,2,FALSE))","v":""}]
[null,{"$f":"IF(ISBLANK(A2353),\"\",VLOOKUP(A2353,base_itens,2,FALSE))","v":""}]
[null,{"$f":"IF(ISBLANK(A2354),\"\",VLOOKUP(A2354,base_itens,2,FALSE))","v":""}]
[null,{"$f":"IF(ISBLANK(A2355),\"\",VLOOKUP(A2355,base_itens,2,FALSE))","v":""}]
[null,{"$f":"IF(ISBLANK(A2356),\"\",VLOOKUP(A2356,base_itens,2,FALSE))","v":""}]
[null,{"$f":"IF(ISBLANK(A2357),\"\",VLOOKUP(A2357,base_itens,2,FALSE))","v":""}]
[null,{"$f":"IF(ISBLANK(A2358),\"\",VLOOKUP(A2358,base_itens,2,FALSE))","v":""}]
[null,{"$f":"IF(ISBLANK(A2359),\"\",VLOOKUP(A2359,base_itens,2,FALSE))","v":""}]
[null,{"$f":"IF(ISBLANK(A2360),\"\",VLOOKUP(A2360,base_itens,2,FALSE))","v":""}]
[null,{"$f":"IF(ISBLANK(A2361),\"\",VLOOKUP(A2361,base_itens,2,FALSE))","v":""}]
[null,{"$f":"IF(ISBLANK(A2362),\"\",VLOOKUP(A2362,base_itens,2,FALSE))","v":""}]
[null,{"$f":"IF(ISBLANK(A2363),\"\",VLOOKUP(A2363,base_itens,2,FALSE))","v":""}]
[null,{"$f":"IF(ISBLANK(A2364),\"\",VLOOKUP(A2364,base_itens,2,FALSE))","v":""}]
[null,{"$f":"IF(ISBLANK(A2365),\"\",VLOOKUP(A2365,base_itens,2,FALSE))","v":""}]
[null,{"$f":"IF(ISBLANK(A2366),\"\",VLOOKUP(A2366,base_itens,2,FALSE))","v":""}]
[null,{"$f":"IF(ISBLANK(A2367),\"\",VLOOKUP(A2367,base_itens,2,FALSE))","v":""}]
[null,{"$f":"IF(ISBLANK(A2368),\"\",VLOOKUP(A2368,base_itens,2,FALSE))","v":""}]
[null,{"$f":"IF(ISBLANK(A2369),\"\",VLOOKUP(A2369,base_itens,2,FALSE))","v":""}]
[null,{"$f":"IF(ISBLANK(A2370),\"\",VLOOKUP(A2370,base_itens,2,FALSE))","v":""}]
[null,{"$f":"IF(ISBLANK(A2371),\"\",VLOOKUP(A2371,base_itens,2,FALSE))","v":""}]
[null,{"$f":"IF(ISBLANK(A2372),\"\",VLOOKUP(A2372,base_itens,2,FALSE))","v":""}]
[null,{"$f":"IF(ISBLANK(A2373),\"\",VLOOKUP(A2373,base_itens,2,FALSE))","v":""}]
[null,{"$f":"IF(ISBLANK(A2374),\"\",VLOOKUP(A2374,base_itens,2,FALSE))","v":""}]
[null,{"$f":"IF(ISBLANK(A2375),\"\",VLOOKUP(A2375,base_itens,2,FALSE))","v":""}]
[null,{"$f":"IF(ISBLANK(A2376),\"\",VLOOKUP(A2376,base_itens,2,FALSE))","v":""}]
[null,{"$f":"IF(ISBLANK(A2377),\"\",VLOOKUP(A2377,base_itens,2,FALSE))","v":""}]
[null,{"$f":"IF(ISBLANK(A2378),\"\",VLOOKUP(A2378,base_itens,2,FALSE))","v":""}]
[null,{"$f":"IF(ISBLANK(A2379),\"\",VLOOKUP(A2379,base_itens,2,FALSE))","v":""}]
[null,{"$f":"IF(ISBLANK(A2380),\"\",VLOOKUP(A2380,base_itens,2,FALSE))","v":""}]
[null,{"$f":"IF(ISBLANK(A2381),\"\",VLOOKUP(A2381,base_itens,2,FALSE))","v":""}]
[null,{"$f":"IF(ISBLANK(A2382),\"\",VLOOKUP(A2382,base_itens,2,FALSE))","v":""}]
[null,{"$f":"IF(ISBLANK(A2383),\"\",VLOOKUP(A2383,base_itens,2,FALSE))","v":""}]
[null,{"$f":"IF(ISBLANK(A2384),\"\",VLOOKUP(A2384,base_itens,2,FALSE))","v":""}]
[null,{"$f":"IF(ISBLANK(A2385),\"\",VLOOKUP(A2385,base_itens,2,FALSE))","v":""}]
[null,{"$f":"IF(ISBLANK(A2386),\"\",VLOOKUP(A2386,base_itens,2,FALSE))","v":""}]
[null,{"$f":"IF(ISBLANK(A2387),\"\",VLOOKUP(A2387,base_itens,2,FALSE))","v":""}]
[null,{"$f":"IF(ISBLANK(A2388),\"\",VLOOKUP(A2388,base_itens,2,FALSE))","v":""}]
[null,{"$f":"IF(ISBLANK(A2389),\"\",VLOOKUP(A2389,base_itens,2,FALSE))","v":""}]
[null,{"$f":"IF(ISBLANK(A2390),\"\",VLOOKUP(A2390,base_itens,2,FALSE))","v":""}]
[null,{"$f":"IF(ISBLANK(A2391),\"\",VLOOKUP(A2391,base_itens,2,FALSE))","v":""}]
[null,{"$f":"IF(ISBLANK(A2392),\"\",VLOOKUP(A2392,base_itens,2,FALSE))","v":""}]
[null,{"$f":"IF(ISBLANK(A2393),\"\",VLOOKUP(A2393,base_itens,2,FALSE))","v":""}]
[null,{"$f":"IF(ISBLANK(A2394),\"\",VLOOKUP(A2394,base_itens,2,FALSE))","v":""}]
[null,{"$f":"IF(ISBLANK(A2395),\"\",VLOOKUP(A2395,base_itens,2,FALSE))","v":""}]
[null,{"$f":"IF(ISBLANK(A2396),\"\",VLOOKUP(A2396,base_itens,2,FALSE))","v":""}]
[null,{"$f":"IF(ISBLANK(A2397),\"\",VLOOKUP(A2397,base_itens,2,FALSE))","v":""}]
[null,{"$f":"IF(ISBLANK(A2398),\"\",VLOOKUP(A2398,base_itens,2,FALSE))","v":""}]
[null,{"$f":"IF(ISBLANK(A2399),\"\",VLOOKUP(A2399,base_itens,2,FALSE))","v":""}]
[null,{"$f":"IF(ISBLANK(A2400),\"\",VLOOKUP(A2400,base_itens,2,FALSE))","v":""}]
[null,{"$f":"IF(ISBLANK(A2401),\"\",VLOOKUP(A2401,base_itens,2,FALSE))","v":""}]
[null,{"$f":"IF(ISBLANK(A2402),\"\",VLOOKUP(A2402,base_itens,2,FALSE))","v":""}]
[null,{"$f":"IF(ISBLANK(A2403),\"\",VLOOKUP(A2403,base_itens,2,FALSE))","v":""}]
[null,{"$f":"IF(ISBLANK(A2404),\"\",VLOOKUP(A2404,base_itens,2,FALSE))","v":""}]
[null,{"$f":"IF(ISBLANK(A2405),\"\",VLOOKUP(A2405,base_itens,2,FALSE))","v":""}]
[null,{"$f":"IF(ISBLANK(A2406),\"\",VLOOKUP(A2406,base_itens,2,FALSE))","v":""}]
[null,{"$f":"IF(ISBLANK(A2407),\"\",VLOOKUP(A2407,base_itens,2,FALSE))","v":""}]
[null,{"$f":"IF(ISBLANK(A2408),\"\",VLOOKUP(A2408,base_itens,2,FALSE))","v":""}]
[null,{"$f":"IF(ISBLANK(A2409),\"\",VLOOKUP(A2409,base_itens,2,FALSE))","v":""}]
[null,{"$f":"IF(ISBLANK(A2410),\"\",VLOOKUP(A2410,base_itens,2,FALSE))","v":""}]
[null,{"$f":"IF(ISBLANK(A2411),\"\",VLOOKUP(A2411,base_itens,2,FALSE))","v":""}]
[null,{"$f":"IF(ISBLANK(A2412),\"\",VLOOKUP(A2412,base_itens,2,FALSE))","v":""}]
[null,{"$f":"IF(ISBLANK(A2413),\"\",VLOOKUP(A2413,base_itens,2,FALSE))","v":""}]
[null,{"$f":"IF(ISBLANK(A2414),\"\",VLOOKUP(A2414,base_itens,2,FALSE))","v":""}]
[null,{"$f":"IF(ISBLANK(A2415),\"\",VLOOKUP(A2415,base_itens,2,FALSE))","v":""}]
[null,{"$f":"IF(ISBLANK(A2416),\"\",VLOOKUP(A2416,base_itens,2,FALSE))","v":""}]
[null,{"$f":"IF(ISBLANK(A2417),\"\",VLOOKUP(A2417,base_itens,2,FALSE))","v":""}]
[null,{"$f":"IF(ISBLANK(A2418),\"\",VLOOKUP(A2418,base_itens,2,FALSE))","v":""}]
[null,{"$f":"IF(ISBLANK(A2419),\"\",VLOOKUP(A2419,base_itens,2,FALSE))","v":""}]
[null,{"$f":"IF(ISBLANK(A2420),\"\",VLOOKUP(A2420,base_itens,2,FALSE))","v":""}]
[null,{"$f":"IF(ISBLANK(A2421),\"\",VLOOKUP(A2421,base_itens,2,FALSE))","v":""}]
[null,{"$f":"IF(ISBLANK(A2422),\"\",VLOOKUP(A2422,base_itens,2,FALSE))","v":""}]
[null,{"$f":"IF(ISBLANK(A2423),\"\",VLOOKUP(A2423,base_itens,2,FALSE))","v":""}]
[null,{"$f":"IF(ISBLANK(A2424),\"\",VLOOKUP(A2424,base_itens,2,FALSE))","v":""}]
[null,{"$f":"IF(ISBLANK(A2425),\"\",VLOOKUP(A2425,base_itens,2,FALSE))","v":""}]
[null,{"$f":"IF(ISBLANK(A2426),\"\",VLOOKUP(A2426,base_itens,2,FALSE))","v":""}]
[null,{"$f":"IF(ISBLANK(A2427),\"\",VLOOKUP(A2427,base_itens,2,FALSE))","v":""}]
[null,{"$f":"IF(ISBLANK(A2428),\"\",VLOOKUP(A2428,base_itens,2,FALSE))","v":""}]
[null,{"$f":"IF(ISBLANK(A2429),\"\",VLOOKUP(A2429,base_itens,2,FALSE))","v":""}]
[null,{"$f":"IF(ISBLANK(A2430),\"\",VLOOKUP(A2430,base_itens,2,FALSE))","v":""}]
[null,{"$f":"IF(ISBLANK(A2431),\"\",VLOOKUP(A2431,base_itens,2,FALSE))","v":""}]
[null,{"$f":"IF(ISBLANK(A2432),\"\",VLOOKUP(A2432,base_itens,2,FALSE))","v":""}]
[null,{"$f":"IF(ISBLANK(A2433),\"\",VLOOKUP(A2433,base_itens,2,FALSE))","v":""}]
[null,{"$f":"IF(ISBLANK(A2434),\"\",VLOOKUP(A2434,base_itens,2,FALSE))","v":""}]
[null,{"$f":"IF(ISBLANK(A2435),\"\",VLOOKUP(A2435,base_itens,2,FALSE))","v":""}]
[null,{"$f":"IF(ISBLANK(A2436),\"\",VLOOKUP(A2436,base_itens,2,FALSE))","v":""}]
[null,{"$f":"IF(ISBLANK(A2437),\"\",VLOOKUP(A2437,base_itens,2,FALSE))","v":""}]
[null,{"$f":"IF(ISBLANK(A2438),\"\",VLOOKUP(A2438,base_itens,2,FALSE))","v":""}]
[null,{"$f":"IF(ISBLANK(A2439),\"\",VLOOKUP(A2439,base_itens,2,FALSE))","v":""}]
[null,{"$f":"IF(ISBLANK(A2440),\"\",VLOOKUP(A2440,base_itens,2,FALSE))","v":""}]
[null,{"$f":"IF(ISBLANK(A2441),\"\",VLOOKUP(A2441,base_itens,2,FALSE))","v":""}]
[null,{"$f":"IF(ISBLANK(A2442),\"\",VLOOKUP(A2442,base_itens,2,FALSE))","v":""}]
[null,{"$f":"IF(ISBLANK(A2443),\"\",VLOOKUP(A2443,base_itens,2,FALSE))","v":""}]
[null,{"$f":"IF(ISBLANK(A2444),\"\",VLOOKUP(A2444,base_itens,2,FALSE))","v":""}]
[null,{"$f":"IF(ISBLANK(A2445),\"\",VLOOKUP(A2445,base_itens,2,FALSE))","v":""}]
[null,{"$f":"IF(ISBLANK(A2446),\"\",VLOOKUP(A2446,base_itens,2,FALSE))","v":""}]
[null,{"$f":"IF(ISBLANK(A2447),\"\",VLOOKUP(A2447,base_itens,2,FALSE))","v":""}]
[null,{"$f":"IF(ISBLANK(A2448),\"\",VLOOKUP(A2448,base_itens,2,FALSE))","v":""}]
[null,{"$f":"IF(ISBLANK(A2449),\"\",VLOOKUP(A2449,base_itens,2,FALSE))","v":""}]
[null,{"$f":"IF(ISBLANK(A2450),\"\",VLOOKUP(A2450,base_itens,2,FALSE))","v":""}]
[null,{"$f":"IF(ISBLANK(A2451),\"\",VLOOKUP(A2451,base_itens,2,FALSE))","v":""}]
[null,{"$f":"IF(ISBLANK(A2452),\"\",VLOOKUP(A2452,base_itens,2,FALSE))","v":""}]
[null,{"$f":"IF(ISBLANK(A2453),\"\",VLOOKUP(A2453,base_itens,2,FALSE))","v":""}]
[null,{"$f":"IF(ISBLANK(A2454),\"\",VLOOKUP(A2454,base_itens,2,FALSE))","v":""}]
[null,{"$f":"IF(ISBLANK(A2455),\"\",VLOOKUP(A2455,base_itens,2,FALSE))","v":""}]
[null,{"$f":"IF(ISBLANK(A2456),\"\",VLOOKUP(A2456,base_itens,2,FALSE))","v":""}]
[null,{"$f":"IF(ISBLANK(A2457),\"\",VLOOKUP(A2457,base_itens,2,FALSE))","v":""}]
[null,{"$f":"IF(ISBLANK(A2458),\"\",VLOOKUP(A2458,base_itens,2,FALSE))","v":""}]
[null,{"$f":"IF(ISBLANK(A2459),\"\",VLOOKUP(A2459,base_itens,2,FALSE))","v":""}]
[null,{"$f":"IF(ISBLANK(A2460),\"\",VLOOKUP(A2460,base_itens,2,FALSE))","v":""}]
[null,{"$f":"IF(ISBLANK(A2461),\"\",VLOOKUP(A2461,base_itens,2,FALSE))","v":""}]
[null,{"$f":"IF(ISBLANK(A2462),\"\",VLOOKUP(A2462,base_itens,2,FALSE))","v":""}]
[null,{"$f":"IF(ISBLANK(A2463),\"\",VLOOKUP(A2463,base_itens,2,FALSE))","v":""}]
[null,{"$f":"IF(ISBLANK(A2464),\"\",VLOOKUP(A2464,base_itens,2,FALSE))","v":""}]
[null,{"$f":"IF(ISBLANK(A2465),\"\",VLOOKUP(A2465,base_itens,2,FALSE))","v":""}]
[null,{"$f":"IF(ISBLANK(A2466),\"\",VLOOKUP(A2466,base_itens,2,FALSE))","v":""}]
[null,{"$f":"IF(ISBLANK(A2467),\"\",VLOOKUP(A2467,base_itens,2,FALSE))","v":""}]
[null,{"$f":"IF(ISBLANK(A2468),\"\",VLOOKUP(A2468,base_itens,2,FALSE))","v":""}]
[null,{"$f":"IF(ISBLANK(A2469),\"\",VLOOKUP(A2469,base_itens,2,FALSE))","v":""}]
[null,{"$f":"IF(ISBLANK(A2470),\"\",VLOOKUP(A2470,base_itens,2,FALSE))","v":""}]
[null,{"$f":"IF(ISBLANK(A2471),\"\",VLOOKUP(A2471,base_itens,2,FALSE))","v":""}]
[null,{"$f":"IF(ISBLANK(A2472),\"\",VLOOKUP(A2472,base_itens,2,FALSE))","v":""}]
[null,{"$f":"IF(ISBLANK(A2473),\"\",VLOOKUP(A2473,base_itens,2,FALSE))","v":""}]
[null,{"$f":"IF(ISBLANK(A2474),\"\",VLOOKUP(A2474,base_itens,2,FALSE))","v":""}]
[null,{"$f":"IF(ISBLANK(A2475),\"\",VLOOKUP(A2475,base_itens,2,FALSE))","v":""}]
[null,{"$f":"IF(ISBLANK(A2476),\"\",VLOOKUP(A2476,base_itens,2,FALSE))","v":""}]
[null,{"$f":"IF(ISBLANK(A2477),\"\",VLOOKUP(A2477,base_itens,2,FALSE))","v":""}]
[null,{"$f":"IF(ISBLANK(A2478),\"\",VLOOKUP(A2478,base_itens,2,FALSE))","v":""}]
[null,{"$f":"IF(ISBLANK(A2479),\"\",VLOOKUP(A2479,base_itens,2,FALSE))","v":""}]
[null,{"$f":"IF(ISBLANK(A2480),\"\",VLOOKUP(A2480,base_itens,2,FALSE))","v":""}]
[null,{"$f":"IF(ISBLANK(A2481),\"\",VLOOKUP(A2481,base_itens,2,FALSE))","v":""}]
[null,{"$f":"IF(ISBLANK(A2482),\"\",VLOOKUP(A2482,base_itens,2,FALSE))","v":""}]
[null,{"$f":"IF(ISBLANK(A2483),\"\",VLOOKUP(A2483,base_itens,2,FALSE))","v":""}]
[null,{"$f":"IF(ISBLANK(A2484),\"\",VLOOKUP(A2484,base_itens,2,FALSE))","v":""}]
[null,{"$f":"IF(ISBLANK(A2485),\"\",VLOOKUP(A2485,base_itens,2,FALSE))","v":""}]
[null,{"$f":"IF(ISBLANK(A2486),\"\",VLOOKUP(A2486,base_itens,2,FALSE))","v":""}]
[null,{"$f":"IF(ISBLANK(A2487),\"\",VLOOKUP(A2487,base_itens,2,FALSE))","v":""}]
[null,{"$f":"IF(ISBLANK(A2488),\"\",VLOOKUP(A2488,base_itens,2,FALSE))","v":""}]
[null,{"$f":"IF(ISBLANK(A2489),\"\",VLOOKUP(A2489,base_itens,2,FALSE))","v":""}]
[null,{"$f":"IF(ISBLANK(A2490),\"\",VLOOKUP(A2490,base_itens,2,FALSE))","v":""}]
[null,{"$f":"IF(ISBLANK(A2491),\"\",VLOOKUP(A2491,base_itens,2,FALSE))","v":""}]
[null,{"$f":"IF(ISBLANK(A2492),\"\",VLOOKUP(A2492,base_itens,2,FALSE))","v":""}]
[null,{"$f":"IF(ISBLANK(A2493),\"\",VLOOKUP(A2493,base_itens,2,FALSE))","v":""}]
[null,{"$f":"IF(ISBLANK(A2494),\"\",VLOOKUP(A2494,base_itens,2,FALSE))","v":""}]
[null,{"$f":"IF(ISBLANK(A2495),\"\",VLOOKUP(A2495,base_itens,2,FALSE))","v":""}]
[null,{"$f":"IF(ISBLANK(A2496),\"\",VLOOKUP(A2496,base_itens,2,FALSE))","v":""}]
[null,{"$f":"IF(ISBLANK(A2497),\"\",VLOOKUP(A2497,base_itens,2,FALSE))","v":""}]
[null,{"$f":"IF(ISBLANK(A2498),\"\",VLOOKUP(A2498,base_itens,2,FALSE))","v":""}]
[null,{"$f":"IF(ISBLANK(A2499),\"\",VLOOKUP(A2499,base_itens,2,FALSE))","v":""}]
[null,{"$f":"IF(ISBLANK(A2500),\"\",VLOOKUP(A2500,base_itens,2,FALSE))","v":""}]
[null,{"$f":"IF(ISBLANK(A2501),\"\",VLOOKUP(A2501,base_itens,2,FALSE))","v":""}]
[null,{"$f":"IF(ISBLANK(A2502),\"\",VLOOKUP(A2502,base_itens,2,FALSE))","v":""}]
[null,{"$f":"IF(ISBLANK(A2503),\"\",VLOOKUP(A2503,base_itens,2,FALSE))","v":""}]
[null,{"$f":"IF(ISBLANK(A2504),\"\",VLOOKUP(A2504,base_itens,2,FALSE))","v":""}]
[null,{"$f":"IF(ISBLANK(A2505),\"\",VLOOKUP(A2505,base_itens,2,FALSE))","v":""}]
[null,{"$f":"IF(ISBLANK(A2506),\"\",VLOOKUP(A2506,base_itens,2,FALSE))","v":""}]
[null,{"$f":"IF(ISBLANK(A2507),\"\",VLOOKUP(A2507,base_itens,2,FALSE))","v":""}]
[null,{"$f":"IF(ISBLANK(A2508),\"\",VLOOKUP(A2508,base_itens,2,FALSE))","v":""}]
[null,{"$f":"IF(ISBLANK(A2509),\"\",VLOOKUP(A2509,base_itens,2,FALSE))","v":""}]
[null,{"$f":"IF(ISBLANK(A2510),\"\",VLOOKUP(A2510,base_itens,2,FALSE))","v":""}]
[null,{"$f":"IF(ISBLANK(A2511),\"\",VLOOKUP(A2511,base_itens,2,FALSE))","v":""}]
[null,{"$f":"IF(ISBLANK(A2512),\"\",VLOOKUP(A2512,base_itens,2,FALSE))","v":""}]
[null,{"$f":"IF(ISBLANK(A2513),\"\",VLOOKUP(A2513,base_itens,2,FALSE))","v":""}]
[null,{"$f":"IF(ISBLANK(A2514),\"\",VLOOKUP(A2514,base_itens,2,FALSE))","v":""}]
[null,{"$f":"IF(ISBLANK(A2515),\"\",VLOOKUP(A2515,base_itens,2,FALSE))","v":""}]
[null,{"$f":"IF(ISBLANK(A2516),\"\",VLOOKUP(A2516,base_itens,2,FALSE))","v":""}]
[null,{"$f":"IF(ISBLANK(A2517),\"\",VLOOKUP(A2517,base_itens,2,FALSE))","v":""}]
[null,{"$f":"IF(ISBLANK(A2518),\"\",VLOOKUP(A2518,base_itens,2,FALSE))","v":""}]
[null,{"$f":"IF(ISBLANK(A2519),\"\",VLOOKUP(A2519,base_itens,2,FALSE))","v":""}]
[null,{"$f":"IF(ISBLANK(A2520),\"\",VLOOKUP(A2520,base_itens,2,FALSE))","v":""}]
[null,{"$f":"IF(ISBLANK(A2521),\"\",VLOOKUP(A2521,base_itens,2,FALSE))","v":""}]
[null,{"$f":"IF(ISBLANK(A2522),\"\",VLOOKUP(A2522,base_itens,2,FALSE))","v":""}]
[null,{"$f":"IF(ISBLANK(A2523),\"\",VLOOKUP(A2523,base_itens,2,FALSE))","v":""}]
[null,{"$f":"IF(ISBLANK(A2524),\"\",VLOOKUP(A2524,base_itens,2,FALSE))","v":""}]
[null,{"$f":"IF(ISBLANK(A2525),\"\",VLOOKUP(A2525,base_itens,2,FALSE))","v":""}]
[null,{"$f":"IF(ISBLANK(A2526),\"\",VLOOKUP(A2526,base_itens,2,FALSE))","v":""}]
[null,{"$f":"IF(ISBLANK(A2527),\"\",VLOOKUP(A2527,base_itens,2,FALSE))","v":""}]
[null,{"$f":"IF(ISBLANK(A2528),\"\",VLOOKUP(A2528,base_itens,2,FALSE))","v":""}]
[null,{"$f":"IF(ISBLANK(A2529),\"\",VLOOKUP(A2529,base_itens,2,FALSE))","v":""}]
[null,{"$f":"IF(ISBLANK(A2530),\"\",VLOOKUP(A2530,base_itens,2,FALSE))","v":""}]
[null,{"$f":"IF(ISBLANK(A2531),\"\",VLOOKUP(A2531,base_itens,2,FALSE))","v":""}]
[null,{"$f":"IF(ISBLANK(A2532),\"\",VLOOKUP(A2532,base_itens,2,FALSE))","v":""}]
[null,{"$f":"IF(ISBLANK(A2533),\"\",VLOOKUP(A2533,base_itens,2,FALSE))","v":""}]
[null,{"$f":"IF(ISBLANK(A2534),\"\",VLOOKUP(A2534,base_itens,2,FALSE))","v":""}]
[null,{"$f":"IF(ISBLANK(A2535),\"\",VLOOKUP(A2535,base_itens,2,FALSE))","v":""}]
[null,{"$f":"IF(ISBLANK(A2536),\"\",VLOOKUP(A2536,base_itens,2,FALSE))","v":""}]
[null,{"$f":"IF(ISBLANK(A2537),\"\",VLOOKUP(A2537,base_itens,2,FALSE))","v":""}]
[null,{"$f":"IF(ISBLANK(A2538),\"\",VLOOKUP(A2538,base_itens,2,FALSE))","v":""}]
[null,{"$f":"IF(ISBLANK(A2539),\"\",VLOOKUP(A2539,base_itens,2,FALSE))","v":""}]
[null,{"$f":"IF(ISBLANK(A2540),\"\",VLOOKUP(A2540,base_itens,2,FALSE))","v":""}]
[null,{"$f":"IF(ISBLANK(A2541),\"\",VLOOKUP(A2541,base_itens,2,FALSE))","v":""}]
[null,{"$f":"IF(ISBLANK(A2542),\"\",VLOOKUP(A2542,base_itens,2,FALSE))","v":""}]
[null,{"$f":"IF(ISBLANK(A2543),\"\",VLOOKUP(A2543,base_itens,2,FALSE))","v":""}]
[null,{"$f":"IF(ISBLANK(A2544),\"\",VLOOKUP(A2544,base_itens,2,FALSE))","v":""}]
[null,{"$f":"IF(ISBLANK(A2545),\"\",VLOOKUP(A2545,base_itens,2,FALSE))","v":""}]
[null,{"$f":"IF(ISBLANK(A2546),\"\",VLOOKUP(A2546,base_itens,2,FALSE))","v":""}]
[null,{"$f":"IF(ISBLANK(A2547),\"\",VLOOKUP(A2547,base_itens,2,FALSE))","v":""}]
[null,{"$f":"IF(ISBLANK(A2548),\"\",VLOOKUP(A2548,base_itens,2,FALSE))","v":""}]
[null,{"$f":"IF(ISBLANK(A2549),\"\",VLOOKUP(A2549,base_itens,2,FALSE))","v":""}]
[null,{"$f":"IF(ISBLANK(A2550),\"\",VLOOKUP(A2550,base_itens,2,FALSE))","v":""}]
[null,{"$f":"IF(ISBLANK(A2551),\"\",VLOOKUP(A2551,base_itens,2,FALSE))","v":""}]
[null,{"$f":"IF(ISBLANK(A2552),\"\",VLOOKUP(A2552,base_itens,2,FALSE))","v":""}]
[null,{"$f":"IF(ISBLANK(A2553),\"\",VLOOKUP(A2553,base_itens,2,FALSE))","v":""}]
[null,{"$f":"IF(ISBLANK(A2554),\"\",VLOOKUP(A2554,base_itens,2,FALSE))","v":""}]
[null,{"$f":"IF(ISBLANK(A2555),\"\",VLOOKUP(A2555,base_itens,2,FALSE))","v":""}]
[null,{"$f":"IF(ISBLANK(A2556),\"\",VLOOKUP(A2556,base_itens,2,FALSE))","v":""}]
[null,{"$f":"IF(ISBLANK(A2557),\"\",VLOOKUP(A2557,base_itens,2,FALSE))","v":""}]
[null,{"$f":"IF(ISBLANK(A2558),\"\",VLOOKUP(A2558,base_itens,2,FALSE))","v":""}]
[null,{"$f":"IF(ISBLANK(A2559),\"\",VLOOKUP(A2559,base_itens,2,FALSE))","v":""}]
[null,{"$f":"IF(ISBLANK(A2560),\"\",VLOOKUP(A2560,base_itens,2,FALSE))","v":""}]
[null,{"$f":"IF(ISBLANK(A2561),\"\",VLOOKUP(A2561,base_itens,2,FALSE))","v":""}]
[null,{"$f":"IF(ISBLANK(A2562),\"\",VLOOKUP(A2562,base_itens,2,FALSE))","v":""}]
[null,{"$f":"IF(ISBLANK(A2563),\"\",VLOOKUP(A2563,base_itens,2,FALSE))","v":""}]
[null,{"$f":"IF(ISBLANK(A2564),\"\",VLOOKUP(A2564,base_itens,2,FALSE))","v":""}]
[null,{"$f":"IF(ISBLANK(A2565),\"\",VLOOKUP(A2565,base_itens,2,FALSE))","v":""}]
[null,{"$f":"IF(ISBLANK(A2566),\"\",VLOOKUP(A2566,base_itens,2,FALSE))","v":""}]
[null,{"$f":"IF(ISBLANK(A2567),\"\",VLOOKUP(A2567,base_itens,2,FALSE))","v":""}]
[null,{"$f":"IF(ISBLANK(A2568),\"\",VLOOKUP(A2568,base_itens,2,FALSE))","v":""}]
[null,{"$f":"IF(ISBLANK(A2569),\"\",VLOOKUP(A2569,base_itens,2,FALSE))","v":""}]
[null,{"$f":"IF(ISBLANK(A2570),\"\",VLOOKUP(A2570,base_itens,2,FALSE))","v":""}]
[null,{"$f":"IF(ISBLANK(A2571),\"\",VLOOKUP(A2571,base_itens,2,FALSE))","v":""}]
[null,{"$f":"IF(ISBLANK(A2572),\"\",VLOOKUP(A2572,base_itens,2,FALSE))","v":""}]
[null,{"$f":"IF(ISBLANK(A2573),\"\",VLOOKUP(A2573,base_itens,2,FALSE))","v":""}]
[null,{"$f":"IF(ISBLANK(A2574),\"\",VLOOKUP(A2574,base_itens,2,FALSE))","v":""}]
[null,{"$f":"IF(ISBLANK(A2575),\"\",VLOOKUP(A2575,base_itens,2,FALSE))","v":""}]
[null,{"$f":"IF(ISBLANK(A2576),\"\",VLOOKUP(A2576,base_itens,2,FALSE))","v":""}]
[null,{"$f":"IF(ISBLANK(A2577),\"\",VLOOKUP(A2577,base_itens,2,FALSE))","v":""}]
[null,{"$f":"IF(ISBLANK(A2578),\"\",VLOOKUP(A2578,base_itens,2,FALSE))","v":""}]
[null,{"$f":"IF(ISBLANK(A2579),\"\",VLOOKUP(A2579,base_itens,2,FALSE))","v":""}]
[null,{"$f":"IF(ISBLANK(A2580),\"\",VLOOKUP(A2580,base_itens,2,FALSE))","v":""}]
[null,{"$f":"IF(ISBLANK(A2581),\"\",VLOOKUP(A2581,base_itens,2,FALSE))","v":""}]
[null,{"$f":"IF(ISBLANK(A2582),\"\",VLOOKUP(A2582,base_itens,2,FALSE))","v":""}]
[null,{"$f":"IF(ISBLANK(A2583),\"\",VLOOKUP(A2583,base_itens,2,FALSE))","v":""}]
[null,{"$f":"IF(ISBLANK(A2584),\"\",VLOOKUP(A2584,base_itens,2,FALSE))","v":""}]
[null,{"$f":"IF(ISBLANK(A2585),\"\",VLOOKUP(A2585,base_itens,2,FALSE))","v":""}]
[null,{"$f":"IF(ISBLANK(A2586),\"\",VLOOKUP(A2586,base_itens,2,FALSE))","v":""}]
[null,{"$f":"IF(ISBLANK(A2587),\"\",VLOOKUP(A2587,base_itens,2,FALSE))","v":""}]
[null,{"$f":"IF(ISBLANK(A2588),\"\",VLOOKUP(A2588,base_itens,2,FALSE))","v":""}]
[null,{"$f":"IF(ISBLANK(A2589),\"\",VLOOKUP(A2589,base_itens,2,FALSE))","v":""}]
[null,{"$f":"IF(ISBLANK(A2590),\"\",VLOOKUP(A2590,base_itens,2,FALSE))","v":""}]
[null,{"$f":"IF(ISBLANK(A2591),\"\",VLOOKUP(A2591,base_itens,2,FALSE))","v":""}]
[null,{"$f":"IF(ISBLANK(A2592),\"\",VLOOKUP(A2592,base_itens,2,FALSE))","v":""}]
[null,{"$f":"IF(ISBLANK(A2593),\"\",VLOOKUP(A2593,base_itens,2,FALSE))","v":""}]
[null,{"$f":"IF(ISBLANK(A2594),\"\",VLOOKUP(A2594,base_itens,2,FALSE))","v":""}]
[null,{"$f":"IF(ISBLANK(A2595),\"\",VLOOKUP(A2595,base_itens,2,FALSE))","v":""}]
[null,{"$f":"IF(ISBLANK(A2596),\"\",VLOOKUP(A2596,base_itens,2,FALSE))","v":""}]
[null,{"$f":"IF(ISBLANK(A2597),\"\",VLOOKUP(A2597,base_itens,2,FALSE))","v":""}]
[null,{"$f":"IF(ISBLANK(A2598),\"\",VLOOKUP(A2598,base_itens,2,FALSE))","v":""}]
[null,{"$f":"IF(ISBLANK(A2599),\"\",VLOOKUP(A2599,base_itens,2,FALSE))","v":""}]
[null,{"$f":"IF(ISBLANK(A2600),\"\",VLOOKUP(A2600,base_itens,2,FALSE))","v":""}]
[null,{"$f":"IF(ISBLANK(A2601),\"\",VLOOKUP(A2601,base_itens,2,FALSE))","v":""}]
[null,{"$f":"IF(ISBLANK(A2602),\"\",VLOOKUP(A2602,base_itens,2,FALSE))","v":""}]
[null,{"$f":"IF(ISBLANK(A2603),\"\",VLOOKUP(A2603,base_itens,2,FALSE))","v":""}]
[null,{"$f":"IF(ISBLANK(A2604),\"\",VLOOKUP(A2604,base_itens,2,FALSE))","v":""}]
[null,{"$f":"IF(ISBLANK(A2605),\"\",VLOOKUP(A2605,base_itens,2,FALSE))","v":""}]
[null,{"$f":"IF(ISBLANK(A2606),\"\",VLOOKUP(A2606,base_itens,2,FALSE))","v":""}]
[null,{"$f":"IF(ISBLANK(A2607),\"\",VLOOKUP(A2607,base_itens,2,FALSE))","v":""}]
[null,{"$f":"IF(ISBLANK(A2608),\"\",VLOOKUP(A2608,base_itens,2,FALSE))","v":""}]
[null,{"$f":"IF(ISBLANK(A2609),\"\",VLOOKUP(A2609,base_itens,2,FALSE))","v":""}]
[null,{"$f":"IF(ISBLANK(A2610),\"\",VLOOKUP(A2610,base_itens,2,FALSE))","v":""}]
[null,{"$f":"IF(ISBLANK(A2611),\"\",VLOOKUP(A2611,base_itens,2,FALSE))","v":""}]
[null,{"$f":"IF(ISBLANK(A2612),\"\",VLOOKUP(A2612,base_itens,2,FALSE))","v":""}]
[null,{"$f":"IF(ISBLANK(A2613),\"\",VLOOKUP(A2613,base_itens,2,FALSE))","v":""}]
[null,{"$f":"IF(ISBLANK(A2614),\"\",VLOOKUP(A2614,base_itens,2,FALSE))","v":""}]
[null,{"$f":"IF(ISBLANK(A2615),\"\",VLOOKUP(A2615,base_itens,2,FALSE))","v":""}]
[null,{"$f":"IF(ISBLANK(A2616),\"\",VLOOKUP(A2616,base_itens,2,FALSE))","v":""}]
[null,{"$f":"IF(ISBLANK(A2617),\"\",VLOOKUP(A2617,base_itens,2,FALSE))","v":""}]
[null,{"$f":"IF(ISBLANK(A2618),\"\",VLOOKUP(A2618,base_itens,2,FALSE))","v":""}]
[null,{"$f":"IF(ISBLANK(A2619),\"\",VLOOKUP(A2619,base_itens,2,FALSE))","v":""}]
[null,{"$f":"IF(ISBLANK(A2620),\"\",VLOOKUP(A2620,base_itens,2,FALSE))","v":""}]
[null,{"$f":"IF(ISBLANK(A2621),\"\",VLOOKUP(A2621,base_itens,2,FALSE))","v":""}]
[null,{"$f":"IF(ISBLANK(A2622),\"\",VLOOKUP(A2622,base_itens,2,FALSE))","v":""}]
[null,{"$f":"IF(ISBLANK(A2623),\"\",VLOOKUP(A2623,base_itens,2,FALSE))","v":""}]
[null,{"$f":"IF(ISBLANK(A2624),\"\",VLOOKUP(A2624,base_itens,2,FALSE))","v":""}]
[null,{"$f":"IF(ISBLANK(A2625),\"\",VLOOKUP(A2625,base_itens,2,FALSE))","v":""}]
[null,{"$f":"IF(ISBLANK(A2626),\"\",VLOOKUP(A2626,base_itens,2,FALSE))","v":""}]
[null,{"$f":"IF(ISBLANK(A2627),\"\",VLOOKUP(A2627,base_itens,2,FALSE))","v":""}]
[null,{"$f":"IF(ISBLANK(A2628),\"\",VLOOKUP(A2628,base_itens,2,FALSE))","v":""}]
[null,{"$f":"IF(ISBLANK(A2629),\"\",VLOOKUP(A2629,base_itens,2,FALSE))","v":""}]
[null,{"$f":"IF(ISBLANK(A2630),\"\",VLOOKUP(A2630,base_itens,2,FALSE))","v":""}]
[null,{"$f":"IF(ISBLANK(A2631),\"\",VLOOKUP(A2631,base_itens,2,FALSE))","v":""}]
[null,{"$f":"IF(ISBLANK(A2632),\"\",VLOOKUP(A2632,base_itens,2,FALSE))","v":""}]
[null,{"$f":"IF(ISBLANK(A2633),\"\",VLOOKUP(A2633,base_itens,2,FALSE))","v":""}]
[null,{"$f":"IF(ISBLANK(A2634),\"\",VLOOKUP(A2634,base_itens,2,FALSE))","v":""}]
[null,{"$f":"IF(ISBLANK(A2635),\"\",VLOOKUP(A2635,base_itens,2,FALSE))","v":""}]
[null,{"$f":"IF(ISBLANK(A2636),\"\",VLOOKUP(A2636,base_itens,2,FALSE))","v":""}]
[null,{"$f":"IF(ISBLANK(A2637),\"\",VLOOKUP(A2637,base_itens,2,FALSE))","v":""}]
[null,{"$f":"IF(ISBLANK(A2638),\"\",VLOOKUP(A2638,base_itens,2,FALSE))","v":""}]
[null,{"$f":"IF(ISBLANK(A2639),\"\",VLOOKUP(A2639,base_itens,2,FALSE))","v":""}]
[null,{"$f":"IF(ISBLANK(A2640),\"\",VLOOKUP(A2640,base_itens,2,FALSE))","v":""}]
[null,{"$f":"IF(ISBLANK(A2641),\"\",VLOOKUP(A2641,base_itens,2,FALSE))","v":""}]
[null,{"$f":"IF(ISBLANK(A2642),\"\",VLOOKUP(A2642,base_itens,2,FALSE))","v":""}]
[null,{"$f":"IF(ISBLANK(A2643),\"\",VLOOKUP(A2643,base_itens,2,FALSE))","v":""}]
[null,{"$f":"IF(ISBLANK(A2644),\"\",VLOOKUP(A2644,base_itens,2,FALSE))","v":""}]
[null,{"$f":"IF(ISBLANK(A2645),\"\",VLOOKUP(A2645,base_itens,2,FALSE))","v":""}]
[null,{"$f":"IF(ISBLANK(A2646),\"\",VLOOKUP(A2646,base_itens,2,FALSE))","v":""}]
[null,{"$f":"IF(ISBLANK(A2647),\"\",VLOOKUP(A2647,base_itens,2,FALSE))","v":""}]
[null,{"$f":"IF(ISBLANK(A2648),\"\",VLOOKUP(A2648,base_itens,2,FALSE))","v":""}]
[null,{"$f":"IF(ISBLANK(A2649),\"\",VLOOKUP(A2649,base_itens,2,FALSE))","v":""}]
[null,{"$f":"IF(ISBLANK(A2650),\"\",VLOOKUP(A2650,base_itens,2,FALSE))","v":""}]
[null,{"$f":"IF(ISBLANK(A2651),\"\",VLOOKUP(A2651,base_itens,2,FALSE))","v":""}]
[null,{"$f":"IF(ISBLANK(A2652),\"\",VLOOKUP(A2652,base_itens,2,FALSE))","v":""}]
[null,{"$f":"IF(ISBLANK(A2653),\"\",VLOOKUP(A2653,base_itens,2,FALSE))","v":""}]
[null,{"$f":"IF(ISBLANK(A2654),\"\",VLOOKUP(A2654,base_itens,2,FALSE))","v":""}]
[null,{"$f":"IF(ISBLANK(A2655),\"\",VLOOKUP(A2655,base_itens,2,FALSE))","v":""}]
[null,{"$f":"IF(ISBLANK(A2656),\"\",VLOOKUP(A2656,base_itens,2,FALSE))","v":""}]
[null,{"$f":"IF(ISBLANK(A2657),\"\",VLOOKUP(A2657,base_itens,2,FALSE))","v":""}]
[null,{"$f":"IF(ISBLANK(A2658),\"\",VLOOKUP(A2658,base_itens,2,FALSE))","v":""}]
[null,{"$f":"IF(ISBLANK(A2659),\"\",VLOOKUP(A2659,base_itens,2,FALSE))","v":""}]
[null,{"$f":"IF(ISBLANK(A2660),\"\",VLOOKUP(A2660,base_itens,2,FALSE))","v":""}]
[null,{"$f":"IF(ISBLANK(A2661),\"\",VLOOKUP(A2661,base_itens,2,FALSE))","v":""}]
[null,{"$f":"IF(ISBLANK(A2662),\"\",VLOOKUP(A2662,base_itens,2,FALSE))","v":""}]
[null,{"$f":"IF(ISBLANK(A2663),\"\",VLOOKUP(A2663,base_itens,2,FALSE))","v":""}]
[null,{"$f":"IF(ISBLANK(A2664),\"\",VLOOKUP(A2664,base_itens,2,FALSE))","v":""}]
[null,{"$f":"IF(ISBLANK(A2665),\"\",VLOOKUP(A2665,base_itens,2,FALSE))","v":""}]
[null,{"$f":"IF(ISBLANK(A2666),\"\",VLOOKUP(A2666,base_itens,2,FALSE))","v":""}]
[null,{"$f":"IF(ISBLANK(A2667),\"\",VLOOKUP(A2667,base_itens,2,FALSE))","v":""}]
[null,{"$f":"IF(ISBLANK(A2668),\"\",VLOOKUP(A2668,base_itens,2,FALSE))","v":""}]
[null,{"$f":"IF(ISBLANK(A2669),\"\",VLOOKUP(A2669,base_itens,2,FALSE))","v":""}]
[null,{"$f":"IF(ISBLANK(A2670),\"\",VLOOKUP(A2670,base_itens,2,FALSE))","v":""}]
[null,{"$f":"IF(ISBLANK(A2671),\"\",VLOOKUP(A2671,base_itens,2,FALSE))","v":""}]
[null,{"$f":"IF(ISBLANK(A2672),\"\",VLOOKUP(A2672,base_itens,2,FALSE))","v":""}]
[null,{"$f":"IF(ISBLANK(A2673),\"\",VLOOKUP(A2673,base_itens,2,FALSE))","v":""}]
[null,{"$f":"IF(ISBLANK(A2674),\"\",VLOOKUP(A2674,base_itens,2,FALSE))","v":""}]
[null,{"$f":"IF(ISBLANK(A2675),\"\",VLOOKUP(A2675,base_itens,2,FALSE))","v":""}]
[null,{"$f":"IF(ISBLANK(A2676),\"\",VLOOKUP(A2676,base_itens,2,FALSE))","v":""}]
[null,{"$f":"IF(ISBLANK(A2677),\"\",VLOOKUP(A2677,base_itens,2,FALSE))","v":""}]
[null,{"$f":"IF(ISBLANK(A2678),\"\",VLOOKUP(A2678,base_itens,2,FALSE))","v":""}]
[null,{"$f":"IF(ISBLANK(A2679),\"\",VLOOKUP(A2679,base_itens,2,FALSE))","v":""}]
[null,{"$f":"IF(ISBLANK(A2680),\"\",VLOOKUP(A2680,base_itens,2,FALSE))","v":""}]
[null,{"$f":"IF(ISBLANK(A2681),\"\",VLOOKUP(A2681,base_itens,2,FALSE))","v":""}]
[null,{"$f":"IF(ISBLANK(A2682),\"\",VLOOKUP(A2682,base_itens,2,FALSE))","v":""}]
[null,{"$f":"IF(ISBLANK(A2683),\"\",VLOOKUP(A2683,base_itens,2,FALSE))","v":""}]
[null,{"$f":"IF(ISBLANK(A2684),\"\",VLOOKUP(A2684,base_itens,2,FALSE))","v":""}]
[null,{"$f":"IF(ISBLANK(A2685),\"\",VLOOKUP(A2685,base_itens,2,FALSE))","v":""}]
[null,{"$f":"IF(ISBLANK(A2686),\"\",VLOOKUP(A2686,base_itens,2,FALSE))","v":""}]
[null,{"$f":"IF(ISBLANK(A2687),\"\",VLOOKUP(A2687,base_itens,2,FALSE))","v":""}]
[null,{"$f":"IF(ISBLANK(A2688),\"\",VLOOKUP(A2688,base_itens,2,FALSE))","v":""}]
[null,{"$f":"IF(ISBLANK(A2689),\"\",VLOOKUP(A2689,base_itens,2,FALSE))","v":""}]
[null,{"$f":"IF(ISBLANK(A2690),\"\",VLOOKUP(A2690,base_itens,2,FALSE))","v":""}]
[null,{"$f":"IF(ISBLANK(A2691),\"\",VLOOKUP(A2691,base_itens,2,FALSE))","v":""}]
[null,{"$f":"IF(ISBLANK(A2692),\"\",VLOOKUP(A2692,base_itens,2,FALSE))","v":""}]
[null,{"$f":"IF(ISBLANK(A2693),\"\",VLOOKUP(A2693,base_itens,2,FALSE))","v":""}]
[null,{"$f":"IF(ISBLANK(A2694),\"\",VLOOKUP(A2694,base_itens,2,FALSE))","v":""}]
[null,{"$f":"IF(ISBLANK(A2695),\"\",VLOOKUP(A2695,base_itens,2,FALSE))","v":""}]
[null,{"$f":"IF(ISBLANK(A2696),\"\",VLOOKUP(A2696,base_itens,2,FALSE))","v":""}]
[null,{"$f":"IF(ISBLANK(A2697),\"\",VLOOKUP(A2697,base_itens,2,FALSE))","v":""}]
[null,{"$f":"IF(ISBLANK(A2698),\"\",VLOOKUP(A2698,base_itens,2,FALSE))","v":""}]
[null,{"$f":"IF(ISBLANK(A2699),\"\",VLOOKUP(A2699,base_itens,2,FALSE))","v":""}]
[null,{"$f":"IF(ISBLANK(A2700),\"\",VLOOKUP(A2700,base_itens,2,FALSE))","v":""}]
[null,{"$f":"IF(ISBLANK(A2701),\"\",VLOOKUP(A2701,base_itens,2,FALSE))","v":""}]
[null,{"$f":"IF(ISBLANK(A2702),\"\",VLOOKUP(A2702,base_itens,2,FALSE))","v":""}]
[null,{"$f":"IF(ISBLANK(A2703),\"\",VLOOKUP(A2703,base_itens,2,FALSE))","v":""}]
[null,{"$f":"IF(ISBLANK(A2704),\"\",VLOOKUP(A2704,base_itens,2,FALSE))","v":""}]
[null,{"$f":"IF(ISBLANK(A2705),\"\",VLOOKUP(A2705,base_itens,2,FALSE))","v":""}]
[null,{"$f":"IF(ISBLANK(A2706),\"\",VLOOKUP(A2706,base_itens,2,FALSE))","v":""}]
[null,{"$f":"IF(ISBLANK(A2707),\"\",VLOOKUP(A2707,base_itens,2,FALSE))","v":""}]
[null,{"$f":"IF(ISBLANK(A2708),\"\",VLOOKUP(A2708,base_itens,2,FALSE))","v":""}]
[null,{"$f":"IF(ISBLANK(A2709),\"\",VLOOKUP(A2709,base_itens,2,FALSE))","v":""}]
[null,{"$f":"IF(ISBLANK(A2710),\"\",VLOOKUP(A2710,base_itens,2,FALSE))","v":""}]
[null,{"$f":"IF(ISBLANK(A2711),\"\",VLOOKUP(A2711,base_itens,2,FALSE))","v":""}]
[null,{"$f":"IF(ISBLANK(A2712),\"\",VLOOKUP(A2712,base_itens,2,FALSE))","v":""}]
[null,{"$f":"IF(ISBLANK(A2713),\"\",VLOOKUP(A2713,base_itens,2,FALSE))","v":""}]
[null,{"$f":"IF(ISBLANK(A2714),\"\",VLOOKUP(A2714,base_itens,2,FALSE))","v":""}]
[null,{"$f":"IF(ISBLANK(A2715),\"\",VLOOKUP(A2715,base_itens,2,FALSE))","v":""}]
[null,{"$f":"IF(ISBLANK(A2716),\"\",VLOOKUP(A2716,base_itens,2,FALSE))","v":""}]
[null,{"$f":"IF(ISBLANK(A2717),\"\",VLOOKUP(A2717,base_itens,2,FALSE))","v":""}]
[null,{"$f":"IF(ISBLANK(A2718),\"\",VLOOKUP(A2718,base_itens,2,FALSE))","v":""}]
[null,{"$f":"IF(ISBLANK(A2719),\"\",VLOOKUP(A2719,base_itens,2,FALSE))","v":""}]
[null,{"$f":"IF(ISBLANK(A2720),\"\",VLOOKUP(A2720,base_itens,2,FALSE))","v":""}]
[null,{"$f":"IF(ISBLANK(A2721),\"\",VLOOKUP(A2721,base_itens,2,FALSE))","v":""}]
[null,{"$f":"IF(ISBLANK(A2722),\"\",VLOOKUP(A2722,base_itens,2,FALSE))","v":""}]
[null,{"$f":"IF(ISBLANK(A2723),\"\",VLOOKUP(A2723,base_itens,2,FALSE))","v":""}]
[null,{"$f":"IF(ISBLANK(A2724),\"\",VLOOKUP(A2724,base_itens,2,FALSE))","v":""}]
[null,{"$f":"IF(ISBLANK(A2725),\"\",VLOOKUP(A2725,base_itens,2,FALSE))","v":""}]
[null,{"$f":"IF(ISBLANK(A2726),\"\",VLOOKUP(A2726,base_itens,2,FALSE))","v":""}]
[null,{"$f":"IF(ISBLANK(A2727),\"\",VLOOKUP(A2727,base_itens,2,FALSE))","v":""}]
[null,{"$f":"IF(ISBLANK(A2728),\"\",VLOOKUP(A2728,base_itens,2,FALSE))","v":""}]
[null,{"$f":"IF(ISBLANK(A2729),\"\",VLOOKUP(A2729,base_itens,2,FALSE))","v":""}]
[null,{"$f":"IF(ISBLANK(A2730),\"\",VLOOKUP(A2730,base_itens,2,FALSE))","v":""}]
[null,{"$f":"IF(ISBLANK(A2731),\"\",VLOOKUP(A2731,base_itens,2,FALSE))","v":""}]
[null,{"$f":"IF(ISBLANK(A2732),\"\",VLOOKUP(A2732,base_itens,2,FALSE))","v":""}]
[null,{"$f":"IF(ISBLANK(A2733),\"\",VLOOKUP(A2733,base_itens,2,FALSE))","v":""}]
[null,{"$f":"IF(ISBLANK(A2734),\"\",VLOOKUP(A2734,base_itens,2,FALSE))","v":""}]
[null,{"$f":"IF(ISBLANK(A2735),\"\",VLOOKUP(A2735,base_itens,2,FALSE))","v":""}]
[null,{"$f":"IF(ISBLANK(A2736),\"\",VLOOKUP(A2736,base_itens,2,FALSE))","v":""}]
[null,{"$f":"IF(ISBLANK(A2737),\"\",VLOOKUP(A2737,base_itens,2,FALSE))","v":""}]
[null,{"$f":"IF(ISBLANK(A2738),\"\",VLOOKUP(A2738,base_itens,2,FALSE))","v":""}]
[null,{"$f":"IF(ISBLANK(A2739),\"\",VLOOKUP(A2739,base_itens,2,FALSE))","v":""}]
[null,{"$f":"IF(ISBLANK(A2740),\"\",VLOOKUP(A2740,base_itens,2,FALSE))","v":""}]
[null,{"$f":"IF(ISBLANK(A2741),\"\",VLOOKUP(A2741,base_itens,2,FALSE))","v":""}]
[null,{"$f":"IF(ISBLANK(A2742),\"\",VLOOKUP(A2742,base_itens,2,FALSE))","v":""}]
[null,{"$f":"IF(ISBLANK(A2743),\"\",VLOOKUP(A2743,base_itens,2,FALSE))","v":""}]
[null,{"$f":"IF(ISBLANK(A2744),\"\",VLOOKUP(A2744,base_itens,2,FALSE))","v":""}]
[null,{"$f":"IF(ISBLANK(A2745),\"\",VLOOKUP(A2745,base_itens,2,FALSE))","v":""}]
[null,{"$f":"IF(ISBLANK(A2746),\"\",VLOOKUP(A2746,base_itens,2,FALSE))","v":""}]
[null,{"$f":"IF(ISBLANK(A2747),\"\",VLOOKUP(A2747,base_itens,2,FALSE))","v":""}]
[null,{"$f":"IF(ISBLANK(A2748),\"\",VLOOKUP(A2748,base_itens,2,FALSE))","v":""}]
[null,{"$f":"IF(ISBLANK(A2749),\"\",VLOOKUP(A2749,base_itens,2,FALSE))","v":""}]
[null,{"$f":"IF(ISBLANK(A2750),\"\",VLOOKUP(A2750,base_itens,2,FALSE))","v":""}]
[null,{"$f":"IF(ISBLANK(A2751),\"\",VLOOKUP(A2751,base_itens,2,FALSE))","v":""}]
[null,{"$f":"IF(ISBLANK(A2752),\"\",VLOOKUP(A2752,base_itens,2,FALSE))","v":""}]
[null,{"$f":"IF(ISBLANK(A2753),\"\",VLOOKUP(A2753,base_itens,2,FALSE))","v":""}]
[null,{"$f":"IF(ISBLANK(A2754),\"\",VLOOKUP(A2754,base_itens,2,FALSE))","v":""}]
[null,{"$f":"IF(ISBLANK(A2755),\"\",VLOOKUP(A2755,base_itens,2,FALSE))","v":""}]
[null,{"$f":"IF(ISBLANK(A2756),\"\",VLOOKUP(A2756,base_itens,2,FALSE))","v":""}]
[null,{"$f":"IF(ISBLANK(A2757),\"\",VLOOKUP(A2757,base_itens,2,FALSE))","v":""}]
[null,{"$f":"IF(ISBLANK(A2758),\"\",VLOOKUP(A2758,base_itens,2,FALSE))","v":""}]
[null,{"$f":"IF(ISBLANK(A2759),\"\",VLOOKUP(A2759,base_itens,2,FALSE))","v":""}]
[null,{"$f":"IF(ISBLANK(A2760),\"\",VLOOKUP(A2760,base_itens,2,FALSE))","v":""}]
[null,{"$f":"IF(ISBLANK(A2761),\"\",VLOOKUP(A2761,base_itens,2,FALSE))","v":""}]
[null,{"$f":"IF(ISBLANK(A2762),\"\",VLOOKUP(A2762,base_itens,2,FALSE))","v":""}]
[null,{"$f":"IF(ISBLANK(A2763),\"\",VLOOKUP(A2763,base_itens,2,FALSE))","v":""}]
[null,{"$f":"IF(ISBLANK(A2764),\"\",VLOOKUP(A2764,base_itens,2,FALSE))","v":""}]
[null,{"$f":"IF(ISBLANK(A2765),\"\",VLOOKUP(A2765,base_itens,2,FALSE))","v":""}]
[null,{"$f":"IF(ISBLANK(A2766),\"\",VLOOKUP(A2766,base_itens,2,FALSE))","v":""}]
[null,{"$f":"IF(ISBLANK(A2767),\"\",VLOOKUP(A2767,base_itens,2,FALSE))","v":""}]
[null,{"$f":"IF(ISBLANK(A2768),\"\",VLOOKUP(A2768,base_itens,2,FALSE))","v":""}]
[null,{"$f":"IF(ISBLANK(A2769),\"\",VLOOKUP(A2769,base_itens,2,FALSE))","v":""}]
[null,{"$f":"IF(ISBLANK(A2770),\"\",VLOOKUP(A2770,base_itens,2,FALSE))","v":""}]
[null,{"$f":"IF(ISBLANK(A2771),\"\",VLOOKUP(A2771,base_itens,2,FALSE))","v":""}]
[null,{"$f":"IF(ISBLANK(A2772),\"\",VLOOKUP(A2772,base_itens,2,FALSE))","v":""}]
[null,{"$f":"IF(ISBLANK(A2773),\"\",VLOOKUP(A2773,base_itens,2,FALSE))","v":""}]
[null,{"$f":"IF(ISBLANK(A2774),\"\",VLOOKUP(A2774,base_itens,2,FALSE))","v":""}]
[null,{"$f":"IF(ISBLANK(A2775),\"\",VLOOKUP(A2775,base_itens,2,FALSE))","v":""}]
[null,{"$f":"IF(ISBLANK(A2776),\"\",VLOOKUP(A2776,base_itens,2,FALSE))","v":""}]
[null,{"$f":"IF(ISBLANK(A2777),\"\",VLOOKUP(A2777,base_itens,2,FALSE))","v":""}]
[null,{"$f":"IF(ISBLANK(A2778),\"\",VLOOKUP(A2778,base_itens,2,FALSE))","v":""}]
[null,{"$f":"IF(ISBLANK(A2779),\"\",VLOOKUP(A2779,base_itens,2,FALSE))","v":""}]
[null,{"$f":"IF(ISBLANK(A2780),\"\",VLOOKUP(A2780,base_itens,2,FALSE))","v":""}]
[null,{"$f":"IF(ISBLANK(A2781),\"\",VLOOKUP(A2781,base_itens,2,FALSE))","v":""}]
[null,{"$f":"IF(ISBLANK(A2782),\"\",VLOOKUP(A2782,base_itens,2,FALSE))","v":""}]
[null,{"$f":"IF(ISBLANK(A2783),\"\",VLOOKUP(A2783,base_itens,2,FALSE))","v":""}]
[null,{"$f":"IF(ISBLANK(A2784),\"\",VLOOKUP(A2784,base_itens,2,FALSE))","v":""}]
[null,{"$f":"IF(ISBLANK(A2785),\"\",VLOOKUP(A2785,base_itens,2,FALSE))","v":""}]
[null,{"$f":"IF(ISBLANK(A2786),\"\",VLOOKUP(A2786,base_itens,2,FALSE))","v":""}]
[null,{"$f":"IF(ISBLANK(A2787),\"\",VLOOKUP(A2787,base_itens,2,FALSE))","v":""}]
[null,{"$f":"IF(ISBLANK(A2788),\"\",VLOOKUP(A2788,base_itens,2,FALSE))","v":""}]
[null,{"$f":"IF(ISBLANK(A2789),\"\",VLOOKUP(A2789,base_itens,2,FALSE))","v":""}]
[null,{"$f":"IF(ISBLANK(A2790),\"\",VLOOKUP(A2790,base_itens,2,FALSE))","v":""}]
[null,{"$f":"IF(ISBLANK(A2791),\"\",VLOOKUP(A2791,base_itens,2,FALSE))","v":""}]
[null,{"$f":"IF(ISBLANK(A2792),\"\",VLOOKUP(A2792,base_itens,2,FALSE))","v":""}]
[null,{"$f":"IF(ISBLANK(A2793),\"\",VLOOKUP(A2793,base_itens,2,FALSE))","v":""}]
[null,{"$f":"IF(ISBLANK(A2794),\"\",VLOOKUP(A2794,base_itens,2,FALSE))","v":""}]
[null,{"$f":"IF(ISBLANK(A2795),\"\",VLOOKUP(A2795,base_itens,2,FALSE))","v":""}]
[null,{"$f":"IF(ISBLANK(A2796),\"\",VLOOKUP(A2796,base_itens,2,FALSE))","v":""}]
[null,{"$f":"IF(ISBLANK(A2797),\"\",VLOOKUP(A2797,base_itens,2,FALSE))","v":""}]
[null,{"$f":"IF(ISBLANK(A2798),\"\",VLOOKUP(A2798,base_itens,2,FALSE))","v":""}]
[null,{"$f":"IF(ISBLANK(A2799),\"\",VLOOKUP(A2799,base_itens,2,FALSE))","v":""}]
[null,{"$f":"IF(ISBLANK(A2800),\"\",VLOOKUP(A2800,base_itens,2,FALSE))","v":""}]
[null,{"$f":"IF(ISBLANK(A2801),\"\",VLOOKUP(A2801,base_itens,2,FALSE))","v":""}]
[null,{"$f":"IF(ISBLANK(A2802),\"\",VLOOKUP(A2802,base_itens,2,FALSE))","v":""}]
[null,{"$f":"IF(ISBLANK(A2803),\"\",VLOOKUP(A2803,base_itens,2,FALSE))","v":""}]
[null,{"$f":"IF(ISBLANK(A2804),\"\",VLOOKUP(A2804,base_itens,2,FALSE))","v":""}]
[null,{"$f":"IF(ISBLANK(A2805),\"\",VLOOKUP(A2805,base_itens,2,FALSE))","v":""}]
[null,{"$f":"IF(ISBLANK(A2806),\"\",VLOOKUP(A2806,base_itens,2,FALSE))","v":""}]
[null,{"$f":"IF(ISBLANK(A2807),\"\",VLOOKUP(A2807,base_itens,2,FALSE))","v":""}]
[null,{"$f":"IF(ISBLANK(A2808),\"\",VLOOKUP(A2808,base_itens,2,FALSE))","v":""}]
[null,{"$f":"IF(ISBLANK(A2809),\"\",VLOOKUP(A2809,base_itens,2,FALSE))","v":""}]
[null,{"$f":"IF(ISBLANK(A2810),\"\",VLOOKUP(A2810,base_itens,2,FALSE))","v":""}]
[null,{"$f":"IF(ISBLANK(A2811),\"\",VLOOKUP(A2811,base_itens,2,FALSE))","v":""}]
[null,{"$f":"IF(ISBLANK(A2812),\"\",VLOOKUP(A2812,base_itens,2,FALSE))","v":""}]
[null,{"$f":"IF(ISBLANK(A2813),\"\",VLOOKUP(A2813,base_itens,2,FALSE))","v":""}]
[null,{"$f":"IF(ISBLANK(A2814),\"\",VLOOKUP(A2814,base_itens,2,FALSE))","v":""}]
[null,{"$f":"IF(ISBLANK(A2815),\"\",VLOOKUP(A2815,base_itens,2,FALSE))","v":""}]
[null,{"$f":"IF(ISBLANK(A2816),\"\",VLOOKUP(A2816,base_itens,2,FALSE))","v":""}]
[null,{"$f":"IF(ISBLANK(A2817),\"\",VLOOKUP(A2817,base_itens,2,FALSE))","v":""}]
[null,{"$f":"IF(ISBLANK(A2818),\"\",VLOOKUP(A2818,base_itens,2,FALSE))","v":""}]
[null,{"$f":"IF(ISBLANK(A2819),\"\",VLOOKUP(A2819,base_itens,2,FALSE))","v":""}]
[null,{"$f":"IF(ISBLANK(A2820),\"\",VLOOKUP(A2820,base_itens,2,FALSE))","v":""}]
[null,{"$f":"IF(ISBLANK(A2821),\"\",VLOOKUP(A2821,base_itens,2,FALSE))","v":""}]
[null,{"$f":"IF(ISBLANK(A2822),\"\",VLOOKUP(A2822,base_itens,2,FALSE))","v":""}]
[null,{"$f":"IF(ISBLANK(A2823),\"\",VLOOKUP(A2823,base_itens,2,FALSE))","v":""}]
[null,{"$f":"IF(ISBLANK(A2824),\"\",VLOOKUP(A2824,base_itens,2,FALSE))","v":""}]
[null,{"$f":"IF(ISBLANK(A2825),\"\",VLOOKUP(A2825,base_itens,2,FALSE))","v":""}]
[null,{"$f":"IF(ISBLANK(A2826),\"\",VLOOKUP(A2826,base_itens,2,FALSE))","v":""}]
[null,{"$f":"IF(ISBLANK(A2827),\"\",VLOOKUP(A2827,base_itens,2,FALSE))","v":""}]
[null,{"$f":"IF(ISBLANK(A2828),\"\",VLOOKUP(A2828,base_itens,2,FALSE))","v":""}]
[null,{"$f":"IF(ISBLANK(A2829),\"\",VLOOKUP(A2829,base_itens,2,FALSE))","v":""}]
[null,{"$f":"IF(ISBLANK(A2830),\"\",VLOOKUP(A2830,base_itens,2,FALSE))","v":""}]
[null,{"$f":"IF(ISBLANK(A2831),\"\",VLOOKUP(A2831,base_itens,2,FALSE))","v":""}]
[null,{"$f":"IF(ISBLANK(A2832),\"\",VLOOKUP(A2832,base_itens,2,FALSE))","v":""}]
[null,{"$f":"IF(ISBLANK(A2833),\"\",VLOOKUP(A2833,base_itens,2,FALSE))","v":""}]
[null,{"$f":"IF(ISBLANK(A2834),\"\",VLOOKUP(A2834,base_itens,2,FALSE))","v":""}]
[null,{"$f":"IF(ISBLANK(A2835),\"\",VLOOKUP(A2835,base_itens,2,FALSE))","v":""}]
[null,{"$f":"IF(ISBLANK(A2836),\"\",VLOOKUP(A2836,base_itens,2,FALSE))","v":""}]
[null,{"$f":"IF(ISBLANK(A2837),\"\",VLOOKUP(A2837,base_itens,2,FALSE))","v":""}]
[null,{"$f":"IF(ISBLANK(A2838),\"\",VLOOKUP(A2838,base_itens,2,FALSE))","v":""}]
[null,{"$f":"IF(ISBLANK(A2839),\"\",VLOOKUP(A2839,base_itens,2,FALSE))","v":""}]
[null,{"$f":"IF(ISBLANK(A2840),\"\",VLOOKUP(A2840,base_itens,2,FALSE))","v":""}]
[null,{"$f":"IF(ISBLANK(A2841),\"\",VLOOKUP(A2841,base_itens,2,FALSE))","v":""}]
[null,{"$f":"IF(ISBLANK(A2842),\"\",VLOOKUP(A2842,base_itens,2,FALSE))","v":""}]
[null,{"$f":"IF(ISBLANK(A2843),\"\",VLOOKUP(A2843,base_itens,2,FALSE))","v":""}]
[null,{"$f":"IF(ISBLANK(A2844),\"\",VLOOKUP(A2844,base_itens,2,FALSE))","v":""}]
[null,{"$f":"IF(ISBLANK(A2845),\"\",VLOOKUP(A2845,base_itens,2,FALSE))","v":""}]
[null,{"$f":"IF(ISBLANK(A2846),\"\",VLOOKUP(A2846,base_itens,2,FALSE))","v":""}]
[null,{"$f":"IF(ISBLANK(A2847),\"\",VLOOKUP(A2847,base_itens,2,FALSE))","v":""}]
[null,{"$f":"IF(ISBLANK(A2848),\"\",VLOOKUP(A2848,base_itens,2,FALSE))","v":""}]
[null,{"$f":"IF(ISBLANK(A2849),\"\",VLOOKUP(A2849,base_itens,2,FALSE))","v":""}]
[null,{"$f":"IF(ISBLANK(A2850),\"\",VLOOKUP(A2850,base_itens,2,FALSE))","v":""}]
[null,{"$f":"IF(ISBLANK(A2851),\"\",VLOOKUP(A2851,base_itens,2,FALSE))","v":""}]
[null,{"$f":"IF(ISBLANK(A2852),\"\",VLOOKUP(A2852,base_itens,2,FALSE))","v":""}]
[null,{"$f":"IF(ISBLANK(A2853),\"\",VLOOKUP(A2853,base_itens,2,FALSE))","v":""}]
[null,{"$f":"IF(ISBLANK(A2854),\"\",VLOOKUP(A2854,base_itens,2,FALSE))","v":""}]
[null,{"$f":"IF(ISBLANK(A2855),\"\",VLOOKUP(A2855,base_itens,2,FALSE))","v":""}]
[null,{"$f":"IF(ISBLANK(A2856),\"\",VLOOKUP(A2856,base_itens,2,FALSE))","v":""}]
[null,{"$f":"IF(ISBLANK(A2857),\"\",VLOOKUP(A2857,base_itens,2,FALSE))","v":""}]
[null,{"$f":"IF(ISBLANK(A2858),\"\",VLOOKUP(A2858,base_itens,2,FALSE))","v":""}]
[null,{"$f":"IF(ISBLANK(A2859),\"\",VLOOKUP(A2859,base_itens,2,FALSE))","v":""}]
[null,{"$f":"IF(ISBLANK(A2860),\"\",VLOOKUP(A2860,base_itens,2,FALSE))","v":""}]
[null,{"$f":"IF(ISBLANK(A2861),\"\",VLOOKUP(A2861,base_itens,2,FALSE))","v":""}]
[null,{"$f":"IF(ISBLANK(A2862),\"\",VLOOKUP(A2862,base_itens,2,FALSE))","v":""}]
[null,{"$f":"IF(ISBLANK(A2863),\"\",VLOOKUP(A2863,base_itens,2,FALSE))","v":""}]
[null,{"$f":"IF(ISBLANK(A2864),\"\",VLOOKUP(A2864,base_itens,2,FALSE))","v":""}]
[null,{"$f":"IF(ISBLANK(A2865),\"\",VLOOKUP(A2865,base_itens,2,FALSE))","v":""}]
[null,{"$f":"IF(ISBLANK(A2866),\"\",VLOOKUP(A2866,base_itens,2,FALSE))","v":""}]
[null,{"$f":"IF(ISBLANK(A2867),\"\",VLOOKUP(A2867,base_itens,2,FALSE))","v":""}]
[null,{"$f":"IF(ISBLANK(A2868),\"\",VLOOKUP(A2868,base_itens,2,FALSE))","v":""}]
[null,{"$f":"IF(ISBLANK(A2869),\"\",VLOOKUP(A2869,base_itens,2,FALSE))","v":""}]
[null,{"$f":"IF(ISBLANK(A2870),\"\",VLOOKUP(A2870,base_itens,2,FALSE))","v":""}]
[null,{"$f":"IF(ISBLANK(A2871),\"\",VLOOKUP(A2871,base_itens,2,FALSE))","v":""}]
[null,{"$f":"IF(ISBLANK(A2872),\"\",VLOOKUP(A2872,base_itens,2,FALSE))","v":""}]
[null,{"$f":"IF(ISBLANK(A2873),\"\",VLOOKUP(A2873,base_itens,2,FALSE))","v":""}]
[null,{"$f":"IF(ISBLANK(A2874),\"\",VLOOKUP(A2874,base_itens,2,FALSE))","v":""}]
[null,{"$f":"IF(ISBLANK(A2875),\"\",VLOOKUP(A2875,base_itens,2,FALSE))","v":""}]
[null,{"$f":"IF(ISBLANK(A2876),\"\",VLOOKUP(A2876,base_itens,2,FALSE))","v":""}]
[null,{"$f":"IF(ISBLANK(A2877),\"\",VLOOKUP(A2877,base_itens,2,FALSE))","v":""}]
[null,{"$f":"IF(ISBLANK(A2878),\"\",VLOOKUP(A2878,base_itens,2,FALSE))","v":""}]
[null,{"$f":"IF(ISBLANK(A2879),\"\",VLOOKUP(A2879,base_itens,2,FALSE))","v":""}]
[null,{"$f":"IF(ISBLANK(A2880),\"\",VLOOKUP(A2880,base_itens,2,FALSE))","v":""}]
[null,{"$f":"IF(ISBLANK(A2881),\"\",VLOOKUP(A2881,base_itens,2,FALSE))","v":""}]
[null,{"$f":"IF(ISBLANK(A2882),\"\",VLOOKUP(A2882,base_itens,2,FALSE))","v":""}]
[null,{"$f":"IF(ISBLANK(A2883),\"\",VLOOKUP(A2883,base_itens,2,FALSE))","v":""}]
[null,{"$f":"IF(ISBLANK(A2884),\"\",VLOOKUP(A2884,base_itens,2,FALSE))","v":""}]
[null,{"$f":"IF(ISBLANK(A2885),\"\",VLOOKUP(A2885,base_itens,2,FALSE))","v":""}]
[null,{"$f":"IF(ISBLANK(A2886),\"\",VLOOKUP(A2886,base_itens,2,FALSE))","v":""}]
[null,{"$f":"IF(ISBLANK(A2887),\"\",VLOOKUP(A2887,base_itens,2,FALSE))","v":""}]
[null,{"$f":"IF(ISBLANK(A2888),\"\",VLOOKUP(A2888,base_itens,2,FALSE))","v":""}]
[null,{"$f":"IF(ISBLANK(A2889),\"\",VLOOKUP(A2889,base_itens,2,FALSE))","v":""}]
[null,{"$f":"IF(ISBLANK(A2890),\"\",VLOOKUP(A2890,base_itens,2,FALSE))","v":""}]
[null,{"$f":"IF(ISBLANK(A2891),\"\",VLOOKUP(A2891,base_itens,2,FALSE))","v":""}]
[null,{"$f":"IF(ISBLANK(A2892),\"\",VLOOKUP(A2892,base_itens,2,FALSE))","v":""}]
[null,{"$f":"IF(ISBLANK(A2893),\"\",VLOOKUP(A2893,base_itens,2,FALSE))","v":""}]
[null,{"$f":"IF(ISBLANK(A2894),\"\",VLOOKUP(A2894,base_itens,2,FALSE))","v":""}]
[null,{"$f":"IF(ISBLANK(A2895),\"\",VLOOKUP(A2895,base_itens,2,FALSE))","v":""}]
[null,{"$f":"IF(ISBLANK(A2896),\"\",VLOOKUP(A2896,base_itens,2,FALSE))","v":""}]
[null,{"$f":"IF(ISBLANK(A2897),\"\",VLOOKUP(A2897,base_itens,2,FALSE))","v":""}]
[null,{"$f":"IF(ISBLANK(A2898),\"\",VLOOKUP(A2898,base_itens,2,FALSE))","v":""}]
[null,{"$f":"IF(ISBLANK(A2899),\"\",VLOOKUP(A2899,base_itens,2,FALSE))","v":""}]
[null,{"$f":"IF(ISBLANK(A2900),\"\",VLOOKUP(A2900,base_itens,2,FALSE))","v":""}]
[null,{"$f":"IF(ISBLANK(A2901),\"\",VLOOKUP(A2901,base_itens,2,FALSE))","v":""}]
[null,{"$f":"IF(ISBLANK(A2902),\"\",VLOOKUP(A2902,base_itens,2,FALSE))","v":""}]
[null,{"$f":"IF(ISBLANK(A2903),\"\",VLOOKUP(A2903,base_itens,2,FALSE))","v":""}]
[null,{"$f":"IF(ISBLANK(A2904),\"\",VLOOKUP(A2904,base_itens,2,FALSE))","v":""}]
[null,{"$f":"IF(ISBLANK(A2905),\"\",VLOOKUP(A2905,base_itens,2,FALSE))","v":""}]
[null,{"$f":"IF(ISBLANK(A2906),\"\",VLOOKUP(A2906,base_itens,2,FALSE))","v":""}]
[null,{"$f":"IF(ISBLANK(A2907),\"\",VLOOKUP(A2907,base_itens,2,FALSE))","v":""}]
[null,{"$f":"IF(ISBLANK(A2908),\"\",VLOOKUP(A2908,base_itens,2,FALSE))","v":""}]
[null,{"$f":"IF(ISBLANK(A2909),\"\",VLOOKUP(A2909,base_itens,2,FALSE))","v":""}]
[null,{"$f":"IF(ISBLANK(A2910),\"\",VLOOKUP(A2910,base_itens,2,FALSE))","v":""}]
[null,{"$f":"IF(ISBLANK(A2911),\"\",VLOOKUP(A2911,base_itens,2,FALSE))","v":""}]
[null,{"$f":"IF(ISBLANK(A2912),\"\",VLOOKUP(A2912,base_itens,2,FALSE))","v":""}]
[null,{"$f":"IF(ISBLANK(A2913),\"\",VLOOKUP(A2913,base_itens,2,FALSE))","v":""}]
[null,{"$f":"IF(ISBLANK(A2914),\"\",VLOOKUP(A2914,base_itens,2,FALSE))","v":""}]
[null,{"$f":"IF(ISBLANK(A2915),\"\",VLOOKUP(A2915,base_itens,2,FALSE))","v":""}]
[null,{"$f":"IF(ISBLANK(A2916),\"\",VLOOKUP(A2916,base_itens,2,FALSE))","v":""}]
[null,{"$f":"IF(ISBLANK(A2917),\"\",VLOOKUP(A2917,base_itens,2,FALSE))","v":""}]
[null,{"$f":"IF(ISBLANK(A2918),\"\",VLOOKUP(A2918,base_itens,2,FALSE))","v":""}]
[null,{"$f":"IF(ISBLANK(A2919),\"\",VLOOKUP(A2919,base_itens,2,FALSE))","v":""}]
[null,{"$f":"IF(ISBLANK(A2920),\"\",VLOOKUP(A2920,base_itens,2,FALSE))","v":""}]
[null,{"$f":"IF(ISBLANK(A2921),\"\",VLOOKUP(A2921,base_itens,2,FALSE))","v":""}]
[null,{"$f":"IF(ISBLANK(A2922),\"\",VLOOKUP(A2922,base_itens,2,FALSE))","v":""}]
[null,{"$f":"IF(ISBLANK(A2923),\"\",VLOOKUP(A2923,base_itens,2,FALSE))","v":""}]
[null,{"$f":"IF(ISBLANK(A2924),\"\",VLOOKUP(A2924,base_itens,2,FALSE))","v":""}]
[null,{"$f":"IF(ISBLANK(A2925),\"\",VLOOKUP(A2925,base_itens,2,FALSE))","v":""}]
[null,{"$f":"IF(ISBLANK(A2926),\"\",VLOOKUP(A2926,base_itens,2,FALSE))","v":""}]
[null,{"$f":"IF(ISBLANK(A2927),\"\",VLOOKUP(A2927,base_itens,2,FALSE))","v":""}]
[null,{"$f":"IF(ISBLANK(A2928),\"\",VLOOKUP(A2928,base_itens,2,FALSE))","v":""}]
[null,{"$f":"IF(ISBLANK(A2929),\"\",VLOOKUP(A2929,base_itens,2,FALSE))","v":""}]
[null,{"$f":"IF(ISBLANK(A2930),\"\",VLOOKUP(A2930,base_itens,2,FALSE))","v":""}]
[null,{"$f":"IF(ISBLANK(A2931),\"\",VLOOKUP(A2931,base_itens,2,FALSE))","v":""}]
[null,{"$f":"IF(ISBLANK(A2932),\"\",VLOOKUP(A2932,base_itens,2,FALSE))","v":""}]
[null,{"$f":"IF(ISBLANK(A2933),\"\",VLOOKUP(A2933,base_itens,2,FALSE))","v":""}]
[null,{"$f":"IF(ISBLANK(A2934),\"\",VLOOKUP(A2934,base_itens,2,FALSE))","v":""}]
[null,{"$f":"IF(ISBLANK(A2935),\"\",VLOOKUP(A2935,base_itens,2,FALSE))","v":""}]
[null,{"$f":"IF(ISBLANK(A2936),\"\",VLOOKUP(A2936,base_itens,2,FALSE))","v":""}]
[null,{"$f":"IF(ISBLANK(A2937),\"\",VLOOKUP(A2937,base_itens,2,FALSE))","v":""}]
[null,{"$f":"IF(ISBLANK(A2938),\"\",VLOOKUP(A2938,base_itens,2,FALSE))","v":""}]
[null,{"$f":"IF(ISBLANK(A2939),\"\",VLOOKUP(A2939,base_itens,2,FALSE))","v":""}]
[null,{"$f":"IF(ISBLANK(A2940),\"\",VLOOKUP(A2940,base_itens,2,FALSE))","v":""}]
[null,{"$f":"IF(ISBLANK(A2941),\"\",VLOOKUP(A2941,base_itens,2,FALSE))","v":""}]
[null,{"$f":"IF(ISBLANK(A2942),\"\",VLOOKUP(A2942,base_itens,2,FALSE))","v":""}]
[null,{"$f":"IF(ISBLANK(A2943),\"\",VLOOKUP(A2943,base_itens,2,FALSE))","v":""}]
[null,{"$f":"IF(ISBLANK(A2944),\"\",VLOOKUP(A2944,base_itens,2,FALSE))","v":""}]
[null,{"$f":"IF(ISBLANK(A2945),\"\",VLOOKUP(A2945,base_itens,2,FALSE))","v":""}]
[null,{"$f":"IF(ISBLANK(A2946),\"\",VLOOKUP(A2946,base_itens,2,FALSE))","v":""}]
[null,{"$f":"IF(ISBLANK(A2947),\"\",VLOOKUP(A2947,base_itens,2,FALSE))","v":""}]
[null,{"$f":"IF(ISBLANK(A2948),\"\",VLOOKUP(A2948,base_itens,2,FALSE))","v":""}]
[null,{"$f":"IF(ISBLANK(A2949),\"\",VLOOKUP(A2949,base_itens,2,FALSE))","v":""}]
[null,{"$f":"IF(ISBLANK(A2950),\"\",VLOOKUP(A2950,base_itens,2,FALSE))","v":""}]
[null,{"$f":"IF(ISBLANK(A2951),\"\",VLOOKUP(A2951,base_itens,2,FALSE))","v":""}]
[null,{"$f":"IF(ISBLANK(A2952),\"\",VLOOKUP(A2952,base_itens,2,FALSE))","v":""}]
[null,{"$f":"IF(ISBLANK(A2953),\"\",VLOOKUP(A2953,base_itens,2,FALSE))","v":""}]
[null,{"$f":"IF(ISBLANK(A2954),\"\",VLOOKUP(A2954,base_itens,2,FALSE))","v":""}]
[null,{"$f":"IF(ISBLANK(A2955),\"\",VLOOKUP(A2955,base_itens,2,FALSE))","v":""}]
[null,{"$f":"IF(ISBLANK(A2956),\"\",VLOOKUP(A2956,base_itens,2,FALSE))","v":""}]
[null,{"$f":"IF(ISBLANK(A2957),\"\",VLOOKUP(A2957,base_itens,2,FALSE))","v":""}]
[null,{"$f":"IF(ISBLANK(A2958),\"\",VLOOKUP(A2958,base_itens,2,FALSE))","v":""}]
[null,{"$f":"IF(ISBLANK(A2959),\"\",VLOOKUP(A2959,base_itens,2,FALSE))","v":""}]
[null,{"$f":"IF(ISBLANK(A2960),\"\",VLOOKUP(A2960,base_itens,2,FALSE))","v":""}]
[null,{"$f":"IF(ISBLANK(A2961),\"\",VLOOKUP(A2961,base_itens,2,FALSE))","v":""}]
[null,{"$f":"IF(ISBLANK(A2962),\"\",VLOOKUP(A2962,base_itens,2,FALSE))","v":""}]
[null,{"$f":"IF(ISBLANK(A2963),\"\",VLOOKUP(A2963,base_itens,2,FALSE))","v":""}]
[null,{"$f":"IF(ISBLANK(A2964),\"\",VLOOKUP(A2964,base_itens,2,FALSE))","v":""}]
[null,{"$f":"IF(ISBLANK(A2965),\"\",VLOOKUP(A2965,base_itens,2,FALSE))","v":""}]
[null,{"$f":"IF(ISBLANK(A2966),\"\",VLOOKUP(A2966,base_itens,2,FALSE))","v":""}]
[null,{"$f":"IF(ISBLANK(A2967),\"\",VLOOKUP(A2967,base_itens,2,FALSE))","v":""}]
[null,{"$f":"IF(ISBLANK(A2968),\"\",VLOOKUP(A2968,base_itens,2,FALSE))","v":""}]
[null,{"$f":"IF(ISBLANK(A2969),\"\",VLOOKUP(A2969,base_itens,2,FALSE))","v":""}]
[null,{"$f":"IF(ISBLANK(A2970),\"\",VLOOKUP(A2970,base_itens,2,FALSE))","v":""}]
[null,{"$f":"IF(ISBLANK(A2971),\"\",VLOOKUP(A2971,base_itens,2,FALSE))","v":""}]
[null,{"$f":"IF(ISBLANK(A2972),\"\",VLOOKUP(A2972,base_itens,2,FALSE))","v":""}]
[null,{"$f":"IF(ISBLANK(A2973),\"\",VLOOKUP(A2973,base_itens,2,FALSE))","v":""}]
[null,{"$f":"IF(ISBLANK(A2974),\"\",VLOOKUP(A2974,base_itens,2,FALSE))","v":""}]
[null,{"$f":"IF(ISBLANK(A2975),\"\",VLOOKUP(A2975,base_itens,2,FALSE))","v":""}]
[null,{"$f":"IF(ISBLANK(A2976),\"\",VLOOKUP(A2976,base_itens,2,FALSE))","v":""}]
[null,{"$f":"IF(ISBLANK(A2977),\"\",VLOOKUP(A2977,base_itens,2,FALSE))","v":""}]
[null,{"$f":"IF(ISBLANK(A2978),\"\",VLOOKUP(A2978,base_itens,2,FALSE))","v":""}]
[null,{"$f":"IF(ISBLANK(A2979),\"\",VLOOKUP(A2979,base_itens,2,FALSE))","v":""}]
[null,{"$f":"IF(ISBLANK(A2980),\"\",VLOOKUP(A2980,base_itens,2,FALSE))","v":""}]
[null,{"$f":"IF(ISBLANK(A2981),\"\",VLOOKUP(A2981,base_itens,2,FALSE))","v":""}]
[null,{"$f":"IF(ISBLANK(A2982),\"\",VLOOKUP(A2982,base_itens,2,FALSE))","v":""}]
[null,{"$f":"IF(ISBLANK(A2983),\"\",VLOOKUP(A2983,base_itens,2,FALSE))","v":""}]
[null,{"$f":"IF(ISBLANK(A2984),\"\",VLOOKUP(A2984,base_itens,2,FALSE))","v":""}]
[null,{"$f":"IF(ISBLANK(A2985),\"\",VLOOKUP(A2985,base_itens,2,FALSE))","v":""}]
[null,{"$f":"IF(ISBLANK(A2986),\"\",VLOOKUP(A2986,base_itens,2,FALSE))","v":""}]
[null,{"$f":"IF(ISBLANK(A2987),\"\",VLOOKUP(A2987,base_itens,2,FALSE))","v":""}]
[null,{"$f":"IF(ISBLANK(A2988),\"\",VLOOKUP(A2988,base_itens,2,FALSE))","v":""}]
[null,{"$f":"IF(ISBLANK(A2989),\"\",VLOOKUP(A2989,base_itens,2,FALSE))","v":""}]
[null,{"$f":"IF(ISBLANK(A2990),\"\",VLOOKUP(A2990,base_itens,2,FALSE))","v":""}]
[null,{"$f":"IF(ISBLANK(A2991),\"\",VLOOKUP(A2991,base_itens,2,FALSE))","v":""}]
[null,{"$f":"IF(ISBLANK(A2992),\"\",VLOOKUP(A2992,base_itens,2,FALSE))","v":""}]
[null,{"$f":"IF(ISBLANK(A2993),\"\",VLOOKUP(A2993,base_itens,2,FALSE))","v":""}]
[null,{"$f":"IF(ISBLANK(A2994),\"\",VLOOKUP(A2994,base_itens,2,FALSE))","v":""}]
[null,{"$f":"IF(ISBLANK(A2995),\"\",VLOOKUP(A2995,base_itens,2,FALSE))","v":""}]
[null,{"$f":"IF(ISBLANK(A2996),\"\",VLOOKUP(A2996,base_itens,2,FALSE))","v":""}]
[null,{"$f":"IF(ISBLANK(A2997),\"\",VLOOKUP(A2997,base_itens,2,FALSE))","v":""}]
[null,{"$f":"IF(ISBLANK(A2998),\"\",VLOOKUP(A2998,base_itens,2,FALSE))","v":""}]
[null,{"$f":"IF(ISBLANK(A2999),\"\",VLOOKUP(A2999,base_itens,2,FALSE))","v":""}]
[null,{"$f":"IF(ISBLANK(A3000),\"\",VLOOKUP(A3000,base_itens,2,FALSE))","v":""}]
[null,{"$f":"IF(ISBLANK(A3001),\"\",VLOOKUP(A3001,base_itens,2,FALSE))","v":""}]
[null,{"$f":"IF(ISBLANK(A3002),\"\",VLOOKUP(A3002,base_itens,2,FALSE))","v":""}]
[null,{"$f":"IF(ISBLANK(A3003),\"\",VLOOKUP(A3003,base_itens,2,FALSE))","v":""}]
[null,{"$f":"IF(ISBLANK(A3004),\"\",VLOOKUP(A3004,base_itens,2,FALSE))","v":""}]
[null,{"$f":"IF(ISBLANK(A3005),\"\",VLOOKUP(A3005,base_itens,2,FALSE))","v":""}]
[null,{"$f":"IF(ISBLANK(A3006),\"\",VLOOKUP(A3006,base_itens,2,FALSE))","v":""}]
[null,{"$f":"IF(ISBLANK(A3007),\"\",VLOOKUP(A3007,base_itens,2,FALSE))","v":""}]
[null,{"$f":"IF(ISBLANK(A3008),\"\",VLOOKUP(A3008,base_itens,2,FALSE))","v":""}]
[null,{"$f":"IF(ISBLANK(A3009),\"\",VLOOKUP(A3009,base_itens,2,FALSE))","v":""}]
[null,{"$f":"IF(ISBLANK(A3010),\"\",VLOOKUP(A3010,base_itens,2,FALSE))","v":""}]
[null,{"$f":"IF(ISBLANK(A3011),\"\",VLOOKUP(A3011,base_itens,2,FALSE))","v":""}]
[null,{"$f":"IF(ISBLANK(A3012),\"\",VLOOKUP(A3012,base_itens,2,FALSE))","v":""}]
[null,{"$f":"IF(ISBLANK(A3013),\"\",VLOOKUP(A3013,base_itens,2,FALSE))","v":""}]
[null,{"$f":"IF(ISBLANK(A3014),\"\",VLOOKUP(A3014,base_itens,2,FALSE))","v":""}]
[null,{"$f":"IF(ISBLANK(A3015),\"\",VLOOKUP(A3015,base_itens,2,FALSE))","v":""}]
[null,{"$f":"IF(ISBLANK(A3016),\"\",VLOOKUP(A3016,base_itens,2,FALSE))","v":""}]
[null,{"$f":"IF(ISBLANK(A3017),\"\",VLOOKUP(A3017,base_itens,2,FALSE))","v":""}]
[null,{"$f":"IF(ISBLANK(A3018),\"\",VLOOKUP(A3018,base_itens,2,FALSE))","v":""}]
[null,{"$f":"IF(ISBLANK(A3019),\"\",VLOOKUP(A3019,base_itens,2,FALSE))","v":""}]
[null,{"$f":"IF(ISBLANK(A3020),\"\",VLOOKUP(A3020,base_itens,2,FALSE))","v":""}]
[null,{"$f":"IF(ISBLANK(A3021),\"\",VLOOKUP(A3021,base_itens,2,FALSE))","v":""}]
[null,{"$f":"IF(ISBLANK(A3022),\"\",VLOOKUP(A3022,base_itens,2,FALSE))","v":""}]
[null,{"$f":"IF(ISBLANK(A3023),\"\",VLOOKUP(A3023,base_itens,2,FALSE))","v":""}]
[null,{"$f":"IF(ISBLANK(A3024),\"\",VLOOKUP(A3024,base_itens,2,FALSE))","v":""}]
[null,{"$f":"IF(ISBLANK(A3025),\"\",VLOOKUP(A3025,base_itens,2,FALSE))","v":""}]
[null,{"$f":"IF(ISBLANK(A3026),\"\",VLOOKUP(A3026,base_itens,2,FALSE))","v":""}]
[null,{"$f":"IF(ISBLANK(A3027),\"\",VLOOKUP(A3027,base_itens,2,FALSE))","v":""}]
[null,{"$f":"IF(ISBLANK(A3028),\"\",VLOOKUP(A3028,base_itens,2,FALSE))","v":""}]
[null,{"$f":"IF(ISBLANK(A3029),\"\",VLOOKUP(A3029,base_itens,2,FALSE))","v":""}]
[null,{"$f":"IF(ISBLANK(A3030),\"\",VLOOKUP(A3030,base_itens,2,FALSE))","v":""}]
[null,{"$f":"IF(ISBLANK(A3031),\"\",VLOOKUP(A3031,base_itens,2,FALSE))","v":""}]
[null,{"$f":"IF(ISBLANK(A3032),\"\",VLOOKUP(A3032,base_itens,2,FALSE))","v":""}]
[null,{"$f":"IF(ISBLANK(A3033),\"\",VLOOKUP(A3033,base_itens,2,FALSE))","v":""}]
[null,{"$f":"IF(ISBLANK(A3034),\"\",VLOOKUP(A3034,base_itens,2,FALSE))","v":""}]
[null,{"$f":"IF(ISBLANK(A3035),\"\",VLOOKUP(A3035,base_itens,2,FALSE))","v":""}]
[null,{"$f":"IF(ISBLANK(A3036),\"\",VLOOKUP(A3036,base_itens,2,FALSE))","v":""}]
[null,{"$f":"IF(ISBLANK(A3037),\"\",VLOOKUP(A3037,base_itens,2,FALSE))","v":""}]
[null,{"$f":"IF(ISBLANK(A3038),\"\",VLOOKUP(A3038,base_itens,2,FALSE))","v":""}]
[null,{"$f":"IF(ISBLANK(A3039),\"\",VLOOKUP(A3039,base_itens,2,FALSE))","v":""}]
[null,{"$f":"IF(ISBLANK(A3040),\"\",VLOOKUP(A3040,base_itens,2,FALSE))","v":""}]
[null,{"$f":"IF(ISBLANK(A3041),\"\",VLOOKUP(A3041,base_itens,2,FALSE))","v":""}]
[null,{"$f":"IF(ISBLANK(A3042),\"\",VLOOKUP(A3042,base_itens,2,FALSE))","v":""}]
[null,{"$f":"IF(ISBLANK(A3043),\"\",VLOOKUP(A3043,base_itens,2,FALSE))","v":""}]
[null,{"$f":"IF(ISBLANK(A3044),\"\",VLOOKUP(A3044,base_itens,2,FALSE))","v":""}]
[null,{"$f":"IF(ISBLANK(A3045),\"\",VLOOKUP(A3045,base_itens,2,FALSE))","v":""}]
[null,{"$f":"IF(ISBLANK(A3046),\"\",VLOOKUP(A3046,base_itens,2,FALSE))","v":""}]
[null,{"$f":"IF(ISBLANK(A3047),\"\",VLOOKUP(A3047,base_itens,2,FALSE))","v":""}]
[null,{"$f":"IF(ISBLANK(A3048),\"\",VLOOKUP(A3048,base_itens,2,FALSE))","v":""}]
[null,{"$f":"IF(ISBLANK(A3049),\"\",VLOOKUP(A3049,base_itens,2,FALSE))","v":""}]
[null,{"$f":"IF(ISBLANK(A3050),\"\",VLOOKUP(A3050,base_itens,2,FALSE))","v":""}]
[null,{"$f":"IF(ISBLANK(A3051),\"\",VLOOKUP(A3051,base_itens,2,FALSE))","v":""}]
[null,{"$f":"IF(ISBLANK(A3052),\"\",VLOOKUP(A3052,base_itens,2,FALSE))","v":""}]
[null,{"$f":"IF(ISBLANK(A3053),\"\",VLOOKUP(A3053,base_itens,2,FALSE))","v":""}]
[null,{"$f":"IF(ISBLANK(A3054),\"\",VLOOKUP(A3054,base_itens,2,FALSE))","v":""}]
[null,{"$f":"IF(ISBLANK(A3055),\"\",VLOOKUP(A3055,base_itens,2,FALSE))","v":""}]
[null,{"$f":"IF(ISBLANK(A3056),\"\",VLOOKUP(A3056,base_itens,2,FALSE))","v":""}]
[null,{"$f":"IF(ISBLANK(A3057),\"\",VLOOKUP(A3057,base_itens,2,FALSE))","v":""}]
[null,{"$f":"IF(ISBLANK(A3058),\"\",VLOOKUP(A3058,base_itens,2,FALSE))","v":""}]
[null,{"$f":"IF(ISBLANK(A3059),\"\",VLOOKUP(A3059,base_itens,2,FALSE))","v":""}]
[null,{"$f":"IF(ISBLANK(A3060),\"\",VLOOKUP(A3060,base_itens,2,FALSE))","v":""}]
[null,{"$f":"IF(ISBLANK(A3061),\"\",VLOOKUP(A3061,base_itens,2,FALSE))","v":""}]
[null,{"$f":"IF(ISBLANK(A3062),\"\",VLOOKUP(A3062,base_itens,2,FALSE))","v":""}]
[null,{"$f":"IF(ISBLANK(A3063),\"\",VLOOKUP(A3063,base_itens,2,FALSE))","v":""}]
[null,{"$f":"IF(ISBLANK(A3064),\"\",VLOOKUP(A3064,base_itens,2,FALSE))","v":""}]
[null,{"$f":"IF(ISBLANK(A3065),\"\",VLOOKUP(A3065,base_itens,2,FALSE))","v":""}]
[null,{"$f":"IF(ISBLANK(A3066),\"\",VLOOKUP(A3066,base_itens,2,FALSE))","v":""}]
[null,{"$f":"IF(ISBLANK(A3067),\"\",VLOOKUP(A3067,base_itens,2,FALSE))","v":""}]
[null,{"$f":"IF(ISBLANK(A3068),\"\",VLOOKUP(A3068,base_itens,2,FALSE))","v":""}]
[null,{"$f":"IF(ISBLANK(A3069),\"\",VLOOKUP(A3069,base_itens,2,FALSE))","v":""}]
[null,{"$f":"IF(ISBLANK(A3070),\"\",VLOOKUP(A3070,base_itens,2,FALSE))","v":""}]
[null,{"$f":"IF(ISBLANK(A3071),\"\",VLOOKUP(A3071,base_itens,2,FALSE))","v":""}]
[null,{"$f":"IF(ISBLANK(A3072),\"\",VLOOKUP(A3072,base_itens,2,FALSE))","v":""}]
[null,{"$f":"IF(ISBLANK(A3073),\"\",VLOOKUP(A3073,base_itens,2,FALSE))","v":""}]
[null,{"$f":"IF(ISBLANK(A3074),\"\",VLOOKUP(A3074,base_itens,2,FALSE))","v":""}]
[null,{"$f":"IF(ISBLANK(A3075),\"\",VLOOKUP(A3075,base_itens,2,FALSE))","v":""}]
[null,{"$f":"IF(ISBLANK(A3076),\"\",VLOOKUP(A3076,base_itens,2,FALSE))","v":""}]
[null,{"$f":"IF(ISBLANK(A3077),\"\",VLOOKUP(A3077,base_itens,2,FALSE))","v":""}]
[null,{"$f":"IF(ISBLANK(A3078),\"\",VLOOKUP(A3078,base_itens,2,FALSE))","v":""}]
[null,{"$f":"IF(ISBLANK(A3079),\"\",VLOOKUP(A3079,base_itens,2,FALSE))","v":""}]
[null,{"$f":"IF(ISBLANK(A3080),\"\",VLOOKUP(A3080,base_itens,2,FALSE))","v":""}]
[null,{"$f":"IF(ISBLANK(A3081),\"\",VLOOKUP(A3081,base_itens,2,FALSE))","v":""}]
[null,{"$f":"IF(ISBLANK(A3082),\"\",VLOOKUP(A3082,base_itens,2,FALSE))","v":""}]
[null,{"$f":"IF(ISBLANK(A3083),\"\",VLOOKUP(A3083,base_itens,2,FALSE))","v":""}]
[null,{"$f":"IF(ISBLANK(A3084),\"\",VLOOKUP(A3084,base_itens,2,FALSE))","v":""}]
[null,{"$f":"IF(ISBLANK(A3085),\"\",VLOOKUP(A3085,base_itens,2,FALSE))","v":""}]
[null,{"$f":"IF(ISBLANK(A3086),\"\",VLOOKUP(A3086,base_itens,2,FALSE))","v":""}]
[null,{"$f":"IF(ISBLANK(A3087),\"\",VLOOKUP(A3087,base_itens,2,FALSE))","v":""}]
[null,{"$f":"IF(ISBLANK(A3088),\"\",VLOOKUP(A3088,base_itens,2,FALSE))","v":""}]
[null,{"$f":"IF(ISBLANK(A3089),\"\",VLOOKUP(A3089,base_itens,2,FALSE))","v":""}]
[null,{"$f":"IF(ISBLANK(A3090),\"\",VLOOKUP(A3090,base_itens,2,FALSE))","v":""}]
[null,{"$f":"IF(ISBLANK(A3091),\"\",VLOOKUP(A3091,base_itens,2,FALSE))","v":""}]
[null,{"$f":"IF(ISBLANK(A3092),\"\",VLOOKUP(A3092,base_itens,2,FALSE))","v":""}]
[null,{"$f":"IF(ISBLANK(A3093),\"\",VLOOKUP(A3093,base_itens,2,FALSE))","v":""}]
[null,{"$f":"IF(ISBLANK(A3094),\"\",VLOOKUP(A3094,base_itens,2,FALSE))","v":""}]
[null,{"$f":"IF(ISBLANK(A3095),\"\",VLOOKUP(A3095,base_itens,2,FALSE))","v":""}]
[null,{"$f":"IF(ISBLANK(A3096),\"\",VLOOKUP(A3096,base_itens,2,FALSE))","v":""}]
[null,{"$f":"IF(ISBLANK(A3097),\"\",VLOOKUP(A3097,base_itens,2,FALSE))","v":""}]
[null,{"$f":"IF(ISBLANK(A3098),\"\",VLOOKUP(A3098,base_itens,2,FALSE))","v":""}]
[null,{"$f":"IF(ISBLANK(A3099),\"\",VLOOKUP(A3099,base_itens,2,FALSE))","v":""}]
[null,{"$f":"IF(ISBLANK(A3100),\"\",VLOOKUP(A3100,base_itens,2,FALSE))","v":""}]
[null,{"$f":"IF(ISBLANK(A3101),\"\",VLOOKUP(A3101,base_itens,2,FALSE))","v":""}]
[null,{"$f":"IF(ISBLANK(A3102),\"\",VLOOKUP(A3102,base_itens,2,FALSE))","v":""}]
[null,{"$f":"IF(ISBLANK(A3103),\"\",VLOOKUP(A3103,base_itens,2,FALSE))","v":""}]
[null,{"$f":"IF(ISBLANK(A3104),\"\",VLOOKUP(A3104,base_itens,2,FALSE))","v":""}]
[null,{"$f":"IF(ISBLANK(A3105),\"\",VLOOKUP(A3105,base_itens,2,FALSE))","v":""}]
[null,{"$f":"IF(ISBLANK(A3106),\"\",VLOOKUP(A3106,base_itens,2,FALSE))","v":""}]
[null,{"$f":"IF(ISBLANK(A3107),\"\",VLOOKUP(A3107,base_itens,2,FALSE))","v":""}]
[null,{"$f":"IF(ISBLANK(A3108),\"\",VLOOKUP(A3108,base_itens,2,FALSE))","v":""}]
[null,{"$f":"IF(ISBLANK(A3109),\"\",VLOOKUP(A3109,base_itens,2,FALSE))","v":""}]
[null,{"$f":"IF(ISBLANK(A3110),\"\",VLOOKUP(A3110,base_itens,2,FALSE))","v":""}]
[null,{"$f":"IF(ISBLANK(A3111),\"\",VLOOKUP(A3111,base_itens,2,FALSE))","v":""}]
[null,{"$f":"IF(ISBLANK(A3112),\"\",VLOOKUP(A3112,base_itens,2,FALSE))","v":""}]
[null,{"$f":"IF(ISBLANK(A3113),\"\",VLOOKUP(A3113,base_itens,2,FALSE))","v":""}]
[null,{"$f":"IF(ISBLANK(A3114),\"\",VLOOKUP(A3114,base_itens,2,FALSE))","v":""}]
[null,{"$f":"IF(ISBLANK(A3115),\"\",VLOOKUP(A3115,base_itens,2,FALSE))","v":""}]
[null,{"$f":"IF(ISBLANK(A3116),\"\",VLOOKUP(A3116,base_itens,2,FALSE))","v":""}]
[null,{"$f":"IF(ISBLANK(A3117),\"\",VLOOKUP(A3117,base_itens,2,FALSE))","v":""}]
[null,{"$f":"IF(ISBLANK(A3118),\"\",VLOOKUP(A3118,base_itens,2,FALSE))","v":""}]
[null,{"$f":"IF(ISBLANK(A3119),\"\",VLOOKUP(A3119,base_itens,2,FALSE))","v":""}]
[null,{"$f":"IF(ISBLANK(A3120),\"\",VLOOKUP(A3120,base_itens,2,FALSE))","v":""}]
[null,{"$f":"IF(ISBLANK(A3121),\"\",VLOOKUP(A3121,base_itens,2,FALSE))","v":""}]
[null,{"$f":"IF(ISBLANK(A3122),\"\",VLOOKUP(A3122,base_itens,2,FALSE))","v":""}]
[null,{"$f":"IF(ISBLANK(A3123),\"\",VLOOKUP(A3123,base_itens,2,FALSE))","v":""}]
[null,{"$f":"IF(ISBLANK(A3124),\"\",VLOOKUP(A3124,base_itens,2,FALSE))","v":""}]
[null,{"$f":"IF(ISBLANK(A3125),\"\",VLOOKUP(A3125,base_itens,2,FALSE))","v":""}]
[null,{"$f":"IF(ISBLANK(A3126),\"\",VLOOKUP(A3126,base_itens,2,FALSE))","v":""}]
[null,{"$f":"IF(ISBLANK(A3127),\"\",VLOOKUP(A3127,base_itens,2,FALSE))","v":""}]
[null,{"$f":"IF(ISBLANK(A3128),\"\",VLOOKUP(A3128,base_itens,2,FALSE))","v":""}]
[null,{"$f":"IF(ISBLANK(A3129),\"\",VLOOKUP(A3129,base_itens,2,FALSE))","v":""}]
[null,{"$f":"IF(ISBLANK(A3130),\"\",VLOOKUP(A3130,base_itens,2,FALSE))","v":""}]
[null,{"$f":"IF(ISBLANK(A3131),\"\",VLOOKUP(A3131,base_itens,2,FALSE))","v":""}]
[null,{"$f":"IF(ISBLANK(A3132),\"\",VLOOKUP(A3132,base_itens,2,FALSE))","v":""}]
[null,{"$f":"IF(ISBLANK(A3133),\"\",VLOOKUP(A3133,base_itens,2,FALSE))","v":""}]
[null,{"$f":"IF(ISBLANK(A3134),\"\",VLOOKUP(A3134,base_itens,2,FALSE))","v":""}]
[null,{"$f":"IF(ISBLANK(A3135),\"\",VLOOKUP(A3135,base_itens,2,FALSE))","v":""}]
[null,{"$f":"IF(ISBLANK(A3136),\"\",VLOOKUP(A3136,base_itens,2,FALSE))","v":""}]
[null,{"$f":"IF(ISBLANK(A3137),\"\",VLOOKUP(A3137,base_itens,2,FALSE))","v":""}]
[null,{"$f":"IF(ISBLANK(A3138),\"\",VLOOKUP(A3138,base_itens,2,FALSE))","v":""}]
[null,{"$f":"IF(ISBLANK(A3139),\"\",VLOOKUP(A3139,base_itens,2,FALSE))","v":""}]
[null,{"$f":"IF(ISBLANK(A3140),\"\",VLOOKUP(A3140,base_itens,2,FALSE))","v":""}]
[null,{"$f":"IF(ISBLANK(A3141),\"\",VLOOKUP(A3141,base_itens,2,FALSE))","v":""}]
[null,{"$f":"IF(ISBLANK(A3142),\"\",VLOOKUP(A3142,base_itens,2,FALSE))","v":""}]
[null,{"$f":"IF(ISBLANK(A3143),\"\",VLOOKUP(A3143,base_itens,2,FALSE))","v":""}]
[null,{"$f":"IF(ISBLANK(A3144),\"\",VLOOKUP(A3144,base_itens,2,FALSE))","v":""}]
[null,{"$f":"IF(ISBLANK(A3145),\"\",VLOOKUP(A3145,base_itens,2,FALSE))","v":""}]
[null,{"$f":"IF(ISBLANK(A3146),\"\",VLOOKUP(A3146,base_itens,2,FALSE))","v":""}]
[null,{"$f":"IF(ISBLANK(A3147),\"\",VLOOKUP(A3147,base_itens,2,FALSE))","v":""}]
[null,{"$f":"IF(ISBLANK(A3148),\"\",VLOOKUP(A3148,base_itens,2,FALSE))","v":""}]
[null,{"$f":"IF(ISBLANK(A3149),\"\",VLOOKUP(A3149,base_itens,2,FALSE))","v":""}]
[null,{"$f":"IF(ISBLANK(A3150),\"\",VLOOKUP(A3150,base_itens,2,FALSE))","v":""}]
[null,{"$f":"IF(ISBLANK(A3151),\"\",VLOOKUP(A3151,base_itens,2,FALSE))","v":""}]
[null,{"$f":"IF(ISBLANK(A3152),\"\",VLOOKUP(A3152,base_itens,2,FALSE))","v":""}]
[null,{"$f":"IF(ISBLANK(A3153),\"\",VLOOKUP(A3153,base_itens,2,FALSE))","v":""}]
[null,{"$f":"IF(ISBLANK(A3154),\"\",VLOOKUP(A3154,base_itens,2,FALSE))","v":""}]
[null,{"$f":"IF(ISBLANK(A3155),\"\",VLOOKUP(A3155,base_itens,2,FALSE))","v":""}]
[null,{"$f":"IF(ISBLANK(A3156),\"\",VLOOKUP(A3156,base_itens,2,FALSE))","v":""}]
[null,{"$f":"IF(ISBLANK(A3157),\"\",VLOOKUP(A3157,base_itens,2,FALSE))","v":""}]
[null,{"$f":"IF(ISBLANK(A3158),\"\",VLOOKUP(A3158,base_itens,2,FALSE))","v":""}]
[null,{"$f":"IF(ISBLANK(A3159),\"\",VLOOKUP(A3159,base_itens,2,FALSE))","v":""}]
[null,{"$f":"IF(ISBLANK(A3160),\"\",VLOOKUP(A3160,base_itens,2,FALSE))","v":""}]
[null,{"$f":"IF(ISBLANK(A3161),\"\",VLOOKUP(A3161,base_itens,2,FALSE))","v":""}]
[null,{"$f":"IF(ISBLANK(A3162),\"\",VLOOKUP(A3162,base_itens,2,FALSE))","v":""}]
[null,{"$f":"IF(ISBLANK(A3163),\"\",VLOOKUP(A3163,base_itens,2,FALSE))","v":""}]
[null,{"$f":"IF(ISBLANK(A3164),\"\",VLOOKUP(A3164,base_itens,2,FALSE))","v":""}]
[null,{"$f":"IF(ISBLANK(A3165),\"\",VLOOKUP(A3165,base_itens,2,FALSE))","v":""}]
[null,{"$f":"IF(ISBLANK(A3166),\"\",VLOOKUP(A3166,base_itens,2,FALSE))","v":""}]
[null,{"$f":"IF(ISBLANK(A3167),\"\",VLOOKUP(A3167,base_itens,2,FALSE))","v":""}]
[null,{"$f":"IF(ISBLANK(A3168),\"\",VLOOKUP(A3168,base_itens,2,FALSE))","v":""}]
[null,{"$f":"IF(ISBLANK(A3169),\"\",VLOOKUP(A3169,base_itens,2,FALSE))","v":""}]
[null,{"$f":"IF(ISBLANK(A3170),\"\",VLOOKUP(A3170,base_itens,2,FALSE))","v":""}]
[null,{"$f":"IF(ISBLANK(A3171),\"\",VLOOKUP(A3171,base_itens,2,FALSE))","v":""}]
[null,{"$f":"IF(ISBLANK(A3172),\"\",VLOOKUP(A3172,base_itens,2,FALSE))","v":""}]
[null,{"$f":"IF(ISBLANK(A3173),\"\",VLOOKUP(A3173,base_itens,2,FALSE))","v":""}]
[null,{"$f":"IF(ISBLANK(A3174),\"\",VLOOKUP(A3174,base_itens,2,FALSE))","v":""}]
[null,{"$f":"IF(ISBLANK(A3175),\"\",VLOOKUP(A3175,base_itens,2,FALSE))","v":""}]
[null,{"$f":"IF(ISBLANK(A3176),\"\",VLOOKUP(A3176,base_itens,2,FALSE))","v":""}]
[null,{"$f":"IF(ISBLANK(A3177),\"\",VLOOKUP(A3177,base_itens,2,FALSE))","v":""}]
[null,{"$f":"IF(ISBLANK(A3178),\"\",VLOOKUP(A3178,base_itens,2,FALSE))","v":""}]
[null,{"$f":"IF(ISBLANK(A3179),\"\",VLOOKUP(A3179,base_itens,2,FALSE))","v":""}]
[null,{"$f":"IF(ISBLANK(A3180),\"\",VLOOKUP(A3180,base_itens,2,FALSE))","v":""}]
[null,{"$f":"IF(ISBLANK(A3181),\"\",VLOOKUP(A3181,base_itens,2,FALSE))","v":""}]
[null,{"$f":"IF(ISBLANK(A3182),\"\",VLOOKUP(A3182,base_itens,2,FALSE))","v":""}]
[null,{"$f":"IF(ISBLANK(A3183),\"\",VLOOKUP(A3183,base_itens,2,FALSE))","v":""}]
[null,{"$f":"IF(ISBLANK(A3184),\"\",VLOOKUP(A3184,base_itens,2,FALSE))","v":""}]
[null,{"$f":"IF(ISBLANK(A3185),\"\",VLOOKUP(A3185,base_itens,2,FALSE))","v":""}]
[null,{"$f":"IF(ISBLANK(A3186),\"\",VLOOKUP(A3186,base_itens,2,FALSE))","v":""}]
[null,{"$f":"IF(ISBLANK(A3187),\"\",VLOOKUP(A3187,base_itens,2,FALSE))","v":""}]
[null,{"$f":"IF(ISBLANK(A3188),\"\",VLOOKUP(A3188,base_itens,2,FALSE))","v":""}]
[null,{"$f":"IF(ISBLANK(A3189),\"\",VLOOKUP(A3189,base_itens,2,FALSE))","v":""}]
[null,{"$f":"IF(ISBLANK(A3190),\"\",VLOOKUP(A3190,base_itens,2,FALSE))","v":""}]
[null,{"$f":"IF(ISBLANK(A3191),\"\",VLOOKUP(A3191,base_itens,2,FALSE))","v":""}]
[null,{"$f":"IF(ISBLANK(A3192),\"\",VLOOKUP(A3192,base_itens,2,FALSE))","v":""}]
[null,{"$f":"IF(ISBLANK(A3193),\"\",VLOOKUP(A3193,base_itens,2,FALSE))","v":""}]
[null,{"$f":"IF(ISBLANK(A3194),\"\",VLOOKUP(A3194,base_itens,2,FALSE))","v":""}]
[null,{"$f":"IF(ISBLANK(A3195),\"\",VLOOKUP(A3195,base_itens,2,FALSE))","v":""}]
[null,{"$f":"IF(ISBLANK(A3196),\"\",VLOOKUP(A3196,base_itens,2,FALSE))","v":""}]
[null,{"$f":"IF(ISBLANK(A3197),\"\",VLOOKUP(A3197,base_itens,2,FALSE))","v":""}]
[null,{"$f":"IF(ISBLANK(A3198),\"\",VLOOKUP(A3198,base_itens,2,FALSE))","v":""}]
[null,{"$f":"IF(ISBLANK(A3199),\"\",VLOOKUP(A3199,base_itens,2,FALSE))","v":""}]
[null,{"$f":"IF(ISBLANK(A3200),\"\",VLOOKUP(A3200,base_itens,2,FALSE))","v":""}]
[null,{"$f":"IF(ISBLANK(A3201),\"\",VLOOKUP(A3201,base_itens,2,FALSE))","v":""}]
[null,{"$f":"IF(ISBLANK(A3202),\"\",VLOOKUP(A3202,base_itens,2,FALSE))","v":""}]
[null,{"$f":"IF(ISBLANK(A3203),\"\",VLOOKUP(A3203,base_itens,2,FALSE))","v":""}]
[null,{"$f":"IF(ISBLANK(A3204),\"\",VLOOKUP(A3204,base_itens,2,FALSE))","v":""}]
[null,{"$f":"IF(ISBLANK(A3205),\"\",VLOOKUP(A3205,base_itens,2,FALSE))","v":""}]
[null,{"$f":"IF(ISBLANK(A3206),\"\",VLOOKUP(A3206,base_itens,2,FALSE))","v":""}]
[null,{"$f":"IF(ISBLANK(A3207),\"\",VLOOKUP(A3207,base_itens,2,FALSE))","v":""}]
[null,{"$f":"IF(ISBLANK(A3208),\"\",VLOOKUP(A3208,base_itens,2,FALSE))","v":""}]
[null,{"$f":"IF(ISBLANK(A3209),\"\",VLOOKUP(A3209,base_itens,2,FALSE))","v":""}]
[null,{"$f":"IF(ISBLANK(A3210),\"\",VLOOKUP(A3210,base_itens,2,FALSE))","v":""}]
[null,{"$f":"IF(ISBLANK(A3211),\"\",VLOOKUP(A3211,base_itens,2,FALSE))","v":""}]
[null,{"$f":"IF(ISBLANK(A3212),\"\",VLOOKUP(A3212,base_itens,2,FALSE))","v":""}]
[null,{"$f":"IF(ISBLANK(A3213),\"\",VLOOKUP(A3213,base_itens,2,FALSE))","v":""}]
[null,{"$f":"IF(ISBLANK(A3214),\"\",VLOOKUP(A3214,base_itens,2,FALSE))","v":""}]
[null,{"$f":"IF(ISBLANK(A3215),\"\",VLOOKUP(A3215,base_itens,2,FALSE))","v":""}]
[null,{"$f":"IF(ISBLANK(A3216),\"\",VLOOKUP(A3216,base_itens,2,FALSE))","v":""}]
[null,{"$f":"IF(ISBLANK(A3217),\"\",VLOOKUP(A3217,base_itens,2,FALSE))","v":""}]
[null,{"$f":"IF(ISBLANK(A3218),\"\",VLOOKUP(A3218,base_itens,2,FALSE))","v":""}]
[null,{"$f":"IF(ISBLANK(A3219),\"\",VLOOKUP(A3219,base_itens,2,FALSE))","v":""}]
[null,{"$f":"IF(ISBLANK(A3220),\"\",VLOOKUP(A3220,base_itens,2,FALSE))","v":""}]
[null,{"$f":"IF(ISBLANK(A3221),\"\",VLOOKUP(A3221,base_itens,2,FALSE))","v":""}]
[null,{"$f":"IF(ISBLANK(A3222),\"\",VLOOKUP(A3222,base_itens,2,FALSE))","v":""}]
[null,{"$f":"IF(ISBLANK(A3223),\"\",VLOOKUP(A3223,base_itens,2,FALSE))","v":""}]
[null,{"$f":"IF(ISBLANK(A3224),\"\",VLOOKUP(A3224,base_itens,2,FALSE))","v":""}]
[null,{"$f":"IF(ISBLANK(A3225),\"\",VLOOKUP(A3225,base_itens,2,FALSE))","v":""}]
[null,{"$f":"IF(ISBLANK(A3226),\"\",VLOOKUP(A3226,base_itens,2,FALSE))","v":""}]
[null,{"$f":"IF(ISBLANK(A3227),\"\",VLOOKUP(A3227,base_itens,2,FALSE))","v":""}]
[null,{"$f":"IF(ISBLANK(A3228),\"\",VLOOKUP(A3228,base_itens,2,FALSE))","v":""}]
[null,{"$f":"IF(ISBLANK(A3229),\"\",VLOOKUP(A3229,base_itens,2,FALSE))","v":""}]
[null,{"$f":"IF(ISBLANK(A3230),\"\",VLOOKUP(A3230,base_itens,2,FALSE))","v":""}]
[null,{"$f":"IF(ISBLANK(A3231),\"\",VLOOKUP(A3231,base_itens,2,FALSE))","v":""}]
[null,{"$f":"IF(ISBLANK(A3232),\"\",VLOOKUP(A3232,base_itens,2,FALSE))","v":""}]
[null,{"$f":"IF(ISBLANK(A3233),\"\",VLOOKUP(A3233,base_itens,2,FALSE))","v":""}]
[null,{"$f":"IF(ISBLANK(A3234),\"\",VLOOKUP(A3234,base_itens,2,FALSE))","v":""}]
[null,{"$f":"IF(ISBLANK(A3235),\"\",VLOOKUP(A3235,base_itens,2,FALSE))","v":""}]
[null,{"$f":"IF(ISBLANK(A3236),\"\",VLOOKUP(A3236,base_itens,2,FALSE))","v":""}]
[null,{"$f":"IF(ISBLANK(A3237),\"\",VLOOKUP(A3237,base_itens,2,FALSE))","v":""}]
[null,{"$f":"IF(ISBLANK(A3238),\"\",VLOOKUP(A3238,base_itens,2,FALSE))","v":""}]
[null,{"$f":"IF(ISBLANK(A3239),\"\",VLOOKUP(A3239,base_itens,2,FALSE))","v":""}]
[null,{"$f":"IF(ISBLANK(A3240),\"\",VLOOKUP(A3240,base_itens,2,FALSE))","v":""}]
[null,{"$f":"IF(ISBLANK(A3241),\"\",VLOOKUP(A3241,base_itens,2,FALSE))","v":""}]
[null,{"$f":"IF(ISBLANK(A3242),\"\",VLOOKUP(A3242,base_itens,2,FALSE))","v":""}]
[null,{"$f":"IF(ISBLANK(A3243),\"\",VLOOKUP(A3243,base_itens,2,FALSE))","v":""}]
[null,{"$f":"IF(ISBLANK(A3244),\"\",VLOOKUP(A3244,base_itens,2,FALSE))","v":""}]
[null,{"$f":"IF(ISBLANK(A3245),\"\",VLOOKUP(A3245,base_itens,2,FALSE))","v":""}]
[null,{"$f":"IF(ISBLANK(A3246),\"\",VLOOKUP(A3246,base_itens,2,FALSE))","v":""}]
[null,{"$f":"IF(ISBLANK(A3247),\"\",VLOOKUP(A3247,base_itens,2,FALSE))","v":""}]
[null,{"$f":"IF(ISBLANK(A3248),\"\",VLOOKUP(A3248,base_itens,2,FALSE))","v":""}]
[null,{"$f":"IF(ISBLANK(A3249),\"\",VLOOKUP(A3249,base_itens,2,FALSE))","v":""}]
[null,{"$f":"IF(ISBLANK(A3250),\"\",VLOOKUP(A3250,base_itens,2,FALSE))","v":""}]
[null,{"$f":"IF(ISBLANK(A3251),\"\",VLOOKUP(A3251,base_itens,2,FALSE))","v":""}]
[null,{"$f":"IF(ISBLANK(A3252),\"\",VLOOKUP(A3252,base_itens,2,FALSE))","v":""}]
[null,{"$f":"IF(ISBLANK(A3253),\"\",VLOOKUP(A3253,base_itens,2,FALSE))","v":""}]
[null,{"$f":"IF(ISBLANK(A3254),\"\",VLOOKUP(A3254,base_itens,2,FALSE))","v":""}]
[null,{"$f":"IF(ISBLANK(A3255),\"\",VLOOKUP(A3255,base_itens,2,FALSE))","v":""}]
[null,{"$f":"IF(ISBLANK(A3256),\"\",VLOOKUP(A3256,base_itens,2,FALSE))","v":""}]
[null,{"$f":"IF(ISBLANK(A3257),\"\",VLOOKUP(A3257,base_itens,2,FALSE))","v":""}]
[null,{"$f":"IF(ISBLANK(A3258),\"\",VLOOKUP(A3258,base_itens,2,FALSE))","v":""}]
[null,{"$f":"IF(ISBLANK(A3259),\"\",VLOOKUP(A3259,base_itens,2,FALSE))","v":""}]
[null,{"$f":"IF(ISBLANK(A3260),\"\",VLOOKUP(A3260,base_itens,2,FALSE))","v":""}]
[null,{"$f":"IF(ISBLANK(A3261),\"\",VLOOKUP(A3261,base_itens,2,FALSE))","v":""}]
[null,{"$f":"IF(ISBLANK(A3262),\"\",VLOOKUP(A3262,base_itens,2,FALSE))","v":""}]
[null,{"$f":"IF(ISBLANK(A3263),\"\",VLOOKUP(A3263,base_itens,2,FALSE))","v":""}]
[null,{"$f":"IF(ISBLANK(A3264),\"\",VLOOKUP(A3264,base_itens,2,FALSE))","v":""}]
[null,{"$f":"IF(ISBLANK(A3265),\"\",VLOOKUP(A3265,base_itens,2,FALSE))","v":""}]
[null,{"$f":"IF(ISBLANK(A3266),\"\",VLOOKUP(A3266,base_itens,2,FALSE))","v":""}]
[null,{"$f":"IF(ISBLANK(A3267),\"\",VLOOKUP(A3267,base_itens,2,FALSE))","v":""}]
[null,{"$f":"IF(ISBLANK(A3268),\"\",VLOOKUP(A3268,base_itens,2,FALSE))","v":""}]
[null,{"$f":"IF(ISBLANK(A3269),\"\",VLOOKUP(A3269,base_itens,2,FALSE))","v":""}]
[null,{"$f":"IF(ISBLANK(A3270),\"\",VLOOKUP(A3270,base_itens,2,FALSE))","v":""}]
[null,{"$f":"IF(ISBLANK(A3271),\"\",VLOOKUP(A3271,base_itens,2,FALSE))","v":""}]
[null,{"$f":"IF(ISBLANK(A3272),\"\",VLOOKUP(A3272,base_itens,2,FALSE))","v":""}]
[null,{"$f":"IF(ISBLANK(A3273),\"\",VLOOKUP(A3273,base_itens,2,FALSE))","v":""}]
[null,{"$f":"IF(ISBLANK(A3274),\"\",VLOOKUP(A3274,base_itens,2,FALSE))","v":""}]
[null,{"$f":"IF(ISBLANK(A3275),\"\",VLOOKUP(A3275,base_itens,2,FALSE))","v":""}]
[null,{"$f":"IF(ISBLANK(A3276),\"\",VLOOKUP(A3276,base_itens,2,FALSE))","v":""}]
[null,{"$f":"IF(ISBLANK(A3277),\"\",VLOOKUP(A3277,base_itens,2,FALSE))","v":""}]
[null,{"$f":"IF(ISBLANK(A3278),\"\",VLOOKUP(A3278,base_itens,2,FALSE))","v":""}]
[null,{"$f":"IF(ISBLANK(A3279),\"\",VLOOKUP(A3279,base_itens,2,FALSE))","v":""}]
[null,{"$f":"IF(ISBLANK(A3280),\"\",VLOOKUP(A3280,base_itens,2,FALSE))","v":""}]
[null,{"$f":"IF(ISBLANK(A3281),\"\",VLOOKUP(A3281,base_itens,2,FALSE))","v":""}]
[null,{"$f":"IF(ISBLANK(A3282),\"\",VLOOKUP(A3282,base_itens,2,FALSE))","v":""}]
[null,{"$f":"IF(ISBLANK(A3283),\"\",VLOOKUP(A3283,base_itens,2,FALSE))","v":""}]
[null,{"$f":"IF(ISBLANK(A3284),\"\",VLOOKUP(A3284,base_itens,2,FALSE))","v":""}]
[null,{"$f":"IF(ISBLANK(A3285),\"\",VLOOKUP(A3285,base_itens,2,FALSE))","v":""}]
[null,{"$f":"IF(ISBLANK(A3286),\"\",VLOOKUP(A3286,base_itens,2,FALSE))","v":""}]
[null,{"$f":"IF(ISBLANK(A3287),\"\",VLOOKUP(A3287,base_itens,2,FALSE))","v":""}]
[null,{"$f":"IF(ISBLANK(A3288),\"\",VLOOKUP(A3288,base_itens,2,FALSE))","v":""}]
[null,{"$f":"IF(ISBLANK(A3289),\"\",VLOOKUP(A3289,base_itens,2,FALSE))","v":""}]
[null,{"$f":"IF(ISBLANK(A3290),\"\",VLOOKUP(A3290,base_itens,2,FALSE))","v":""}]
[null,{"$f":"IF(ISBLANK(A3291),\"\",VLOOKUP(A3291,base_itens,2,FALSE))","v":""}]
[null,{"$f":"IF(ISBLANK(A3292),\"\",VLOOKUP(A3292,base_itens,2,FALSE))","v":""}]
[null,{"$f":"IF(ISBLANK(A3293),\"\",VLOOKUP(A3293,base_itens,2,FALSE))","v":""}]
[null,{"$f":"IF(ISBLANK(A3294),\"\",VLOOKUP(A3294,base_itens,2,FALSE))","v":""}]
[null,{"$f":"IF(ISBLANK(A3295),\"\",VLOOKUP(A3295,base_itens,2,FALSE))","v":""}]
[null,{"$f":"IF(ISBLANK(A3296),\"\",VLOOKUP(A3296,base_itens,2,FALSE))","v":""}]
[null,{"$f":"IF(ISBLANK(A3297),\"\",VLOOKUP(A3297,base_itens,2,FALSE))","v":""}]
[null,{"$f":"IF(ISBLANK(A3298),\"\",VLOOKUP(A3298,base_itens,2,FALSE))","v":""}]
[null,{"$f":"IF(ISBLANK(A3299),\"\",VLOOKUP(A3299,base_itens,2,FALSE))","v":""}]
[null,{"$f":"IF(ISBLANK(A3300),\"\",VLOOKUP(A3300,base_itens,2,FALSE))","v":""}]
[null,{"$f":"IF(ISBLANK(A3301),\"\",VLOOKUP(A3301,base_itens,2,FALSE))","v":""}]
[null,{"$f":"IF(ISBLANK(A3302),\"\",VLOOKUP(A3302,base_itens,2,FALSE))","v":""}]
[null,{"$f":"IF(ISBLANK(A3303),\"\",VLOOKUP(A3303,base_itens,2,FALSE))","v":""}]
[null,{"$f":"IF(ISBLANK(A3304),\"\",VLOOKUP(A3304,base_itens,2,FALSE))","v":""}]
[null,{"$f":"IF(ISBLANK(A3305),\"\",VLOOKUP(A3305,base_itens,2,FALSE))","v":""}]
[null,{"$f":"IF(ISBLANK(A3306),\"\",VLOOKUP(A3306,base_itens,2,FALSE))","v":""}]
[null,{"$f":"IF(ISBLANK(A3307),\"\",VLOOKUP(A3307,base_itens,2,FALSE))","v":""}]
[null,{"$f":"IF(ISBLANK(A3308),\"\",VLOOKUP(A3308,base_itens,2,FALSE))","v":""}]
[null,{"$f":"IF(ISBLANK(A3309),\"\",VLOOKUP(A3309,base_itens,2,FALSE))","v":""}]
[null,{"$f":"IF(ISBLANK(A3310),\"\",VLOOKUP(A3310,base_itens,2,FALSE))","v":""}]
[null,{"$f":"IF(ISBLANK(A3311),\"\",VLOOKUP(A3311,base_itens,2,FALSE))","v":""}]
[null,{"$f":"IF(ISBLANK(A3312),\"\",VLOOKUP(A3312,base_itens,2,FALSE))","v":""}]
[null,{"$f":"IF(ISBLANK(A3313),\"\",VLOOKUP(A3313,base_itens,2,FALSE))","v":""}]
[null,{"$f":"IF(ISBLANK(A3314),\"\",VLOOKUP(A3314,base_itens,2,FALSE))","v":""}]
[null,{"$f":"IF(ISBLANK(A3315),\"\",VLOOKUP(A3315,base_itens,2,FALSE))","v":""}]
[null,{"$f":"IF(ISBLANK(A3316),\"\",VLOOKUP(A3316,base_itens,2,FALSE))","v":""}]
[null,{"$f":"IF(ISBLANK(A3317),\"\",VLOOKUP(A3317,base_itens,2,FALSE))","v":""}]
[null,{"$f":"IF(ISBLANK(A3318),\"\",VLOOKUP(A3318,base_itens,2,FALSE))","v":""}]
[null,{"$f":"IF(ISBLANK(A3319),\"\",VLOOKUP(A3319,base_itens,2,FALSE))","v":""}]
[null,{"$f":"IF(ISBLANK(A3320),\"\",VLOOKUP(A3320,base_itens,2,FALSE))","v":""}]
[null,{"$f":"IF(ISBLANK(A3321),\"\",VLOOKUP(A3321,base_itens,2,FALSE))","v":""}]
[null,{"$f":"IF(ISBLANK(A3322),\"\",VLOOKUP(A3322,base_itens,2,FALSE))","v":""}]
[null,{"$f":"IF(ISBLANK(A3323),\"\",VLOOKUP(A3323,base_itens,2,FALSE))","v":""}]
[null,{"$f":"IF(ISBLANK(A3324),\"\",VLOOKUP(A3324,base_itens,2,FALSE))","v":""}]
[null,{"$f":"IF(ISBLANK(A3325),\"\",VLOOKUP(A3325,base_itens,2,FALSE))","v":""}]
[null,{"$f":"IF(ISBLANK(A3326),\"\",VLOOKUP(A3326,base_itens,2,FALSE))","v":""}]
[null,{"$f":"IF(ISBLANK(A3327),\"\",VLOOKUP(A3327,base_itens,2,FALSE))","v":""}]
[null,{"$f":"IF(ISBLANK(A3328),\"\",VLOOKUP(A3328,base_itens,2,FALSE))","v":""}]
[null,{"$f":"IF(ISBLANK(A3329),\"\",VLOOKUP(A3329,base_itens,2,FALSE))","v":""}]
[null,{"$f":"IF(ISBLANK(A3330),\"\",VLOOKUP(A3330,base_itens,2,FALSE))","v":""}]
[null,{"$f":"IF(ISBLANK(A3331),\"\",VLOOKUP(A3331,base_itens,2,FALSE))","v":""}]
[null,{"$f":"IF(ISBLANK(A3332),\"\",VLOOKUP(A3332,base_itens,2,FALSE))","v":""}]
[null,{"$f":"IF(ISBLANK(A3333),\"\",VLOOKUP(A3333,base_itens,2,FALSE))","v":""}]
[null,{"$f":"IF(ISBLANK(A3334),\"\",VLOOKUP(A3334,base_itens,2,FALSE))","v":""}]
[null,{"$f":"IF(ISBLANK(A3335),\"\",VLOOKUP(A3335,base_itens,2,FALSE))","v":""}]
[null,{"$f":"IF(ISBLANK(A3336),\"\",VLOOKUP(A3336,base_itens,2,FALSE))","v":""}]
[null,{"$f":"IF(ISBLANK(A3337),\"\",VLOOKUP(A3337,base_itens,2,FALSE))","v":""}]
[null,{"$f":"IF(ISBLANK(A3338),\"\",VLOOKUP(A3338,base_itens,2,FALSE))","v":""}]
[null,{"$f":"IF(ISBLANK(A3339),\"\",VLOOKUP(A3339,base_itens,2,FALSE))","v":""}]
[null,{"$f":"IF(ISBLANK(A3340),\"\",VLOOKUP(A3340,base_itens,2,FALSE))","v":""}]
[null,{"$f":"IF(ISBLANK(A3341),\"\",VLOOKUP(A3341,base_itens,2,FALSE))","v":""}]
[null,{"$f":"IF(ISBLANK(A3342),\"\",VLOOKUP(A3342,base_itens,2,FALSE))","v":""}]
[null,{"$f":"IF(ISBLANK(A3343),\"\",VLOOKUP(A3343,base_itens,2,FALSE))","v":""}]
[null,{"$f":"IF(ISBLANK(A3344),\"\",VLOOKUP(A3344,base_itens,2,FALSE))","v":""}]
[null,{"$f":"IF(ISBLANK(A3345),\"\",VLOOKUP(A3345,base_itens,2,FALSE))","v":""}]
[null,{"$f":"IF(ISBLANK(A3346),\"\",VLOOKUP(A3346,base_itens,2,FALSE))","v":""}]
[null,{"$f":"IF(ISBLANK(A3347),\"\",VLOOKUP(A3347,base_itens,2,FALSE))","v":""}]
[null,{"$f":"IF(ISBLANK(A3348),\"\",VLOOKUP(A3348,base_itens,2,FALSE))","v":""}]
[null,{"$f":"IF(ISBLANK(A3349),\"\",VLOOKUP(A3349,base_itens,2,FALSE))","v":""}]
[null,{"$f":"IF(ISBLANK(A3350),\"\",VLOOKUP(A3350,base_itens,2,FALSE))","v":""}]
[null,{"$f":"IF(ISBLANK(A3351),\"\",VLOOKUP(A3351,base_itens,2,FALSE))","v":""}]
[null,{"$f":"IF(ISBLANK(A3352),\"\",VLOOKUP(A3352,base_itens,2,FALSE))","v":""}]
[null,{"$f":"IF(ISBLANK(A3353),\"\",VLOOKUP(A3353,base_itens,2,FALSE))","v":""}]
[null,{"$f":"IF(ISBLANK(A3354),\"\",VLOOKUP(A3354,base_itens,2,FALSE))","v":""}]
[null,{"$f":"IF(ISBLANK(A3355),\"\",VLOOKUP(A3355,base_itens,2,FALSE))","v":""}]
[null,{"$f":"IF(ISBLANK(A3356),\"\",VLOOKUP(A3356,base_itens,2,FALSE))","v":""}]
[null,{"$f":"IF(ISBLANK(A3357),\"\",VLOOKUP(A3357,base_itens,2,FALSE))","v":""}]
[null,{"$f":"IF(ISBLANK(A3358),\"\",VLOOKUP(A3358,base_itens,2,FALSE))","v":""}]
[null,{"$f":"IF(ISBLANK(A3359),\"\",VLOOKUP(A3359,base_itens,2,FALSE))","v":""}]
[null,{"$f":"IF(ISBLANK(A3360),\"\",VLOOKUP(A3360,base_itens,2,FALSE))","v":""}]
[null,{"$f":"IF(ISBLANK(A3361),\"\",VLOOKUP(A3361,base_itens,2,FALSE))","v":""}]
[null,{"$f":"IF(ISBLANK(A3362),\"\",VLOOKUP(A3362,base_itens,2,FALSE))","v":""}]
[null,{"$f":"IF(ISBLANK(A3363),\"\",VLOOKUP(A3363,base_itens,2,FALSE))","v":""}]
[null,{"$f":"IF(ISBLANK(A3364),\"\",VLOOKUP(A3364,base_itens,2,FALSE))","v":""}]
[null,{"$f":"IF(ISBLANK(A3365),\"\",VLOOKUP(A3365,base_itens,2,FALSE))","v":""}]
[null,{"$f":"IF(ISBLANK(A3366),\"\",VLOOKUP(A3366,base_itens,2,FALSE))","v":""}]
[null,{"$f":"IF(ISBLANK(A3367),\"\",VLOOKUP(A3367,base_itens,2,FALSE))","v":""}]
[null,{"$f":"IF(ISBLANK(A3368),\"\",VLOOKUP(A3368,base_itens,2,FALSE))","v":""}]
[null,{"$f":"IF(ISBLANK(A3369),\"\",VLOOKUP(A3369,base_itens,2,FALSE))","v":""}]
[null,{"$f":"IF(ISBLANK(A3370),\"\",VLOOKUP(A3370,base_itens,2,FALSE))","v":""}]
[null,{"$f":"IF(ISBLANK(A3371),\"\",VLOOKUP(A3371,base_itens,2,FALSE))","v":""}]
[null,{"$f":"IF(ISBLANK(A3372),\"\",VLOOKUP(A3372,base_itens,2,FALSE))","v":""}]
[null,{"$f":"IF(ISBLANK(A3373),\"\",VLOOKUP(A3373,base_itens,2,FALSE))","v":""}]
[null,{"$f":"IF(ISBLANK(A3374),\"\",VLOOKUP(A3374,base_itens,2,FALSE))","v":""}]
[null,{"$f":"IF(ISBLANK(A3375),\"\",VLOOKUP(A3375,base_itens,2,FALSE))","v":""}]
[null,{"$f":"IF(ISBLANK(A3376),\"\",VLOOKUP(A3376,base_itens,2,FALSE))","v":""}]
[null,{"$f":"IF(ISBLANK(A3377),\"\",VLOOKUP(A3377,base_itens,2,FALSE))","v":""}]
[null,{"$f":"IF(ISBLANK(A3378),\"\",VLOOKUP(A3378,base_itens,2,FALSE))","v":""}]
[null,{"$f":"IF(ISBLANK(A3379),\"\",VLOOKUP(A3379,base_itens,2,FALSE))","v":""}]
[null,{"$f":"IF(ISBLANK(A3380),\"\",VLOOKUP(A3380,base_itens,2,FALSE))","v":""}]
[null,{"$f":"IF(ISBLANK(A3381),\"\",VLOOKUP(A3381,base_itens,2,FALSE))","v":""}]
[null,{"$f":"IF(ISBLANK(A3382),\"\",VLOOKUP(A3382,base_itens,2,FALSE))","v":""}]
[null,{"$f":"IF(ISBLANK(A3383),\"\",VLOOKUP(A3383,base_itens,2,FALSE))","v":""}]
[null,{"$f":"IF(ISBLANK(A3384),\"\",VLOOKUP(A3384,base_itens,2,FALSE))","v":""}]
[null,{"$f":"IF(ISBLANK(A3385),\"\",VLOOKUP(A3385,base_itens,2,FALSE))","v":""}]
[null,{"$f":"IF(ISBLANK(A3386),\"\",VLOOKUP(A3386,base_itens,2,FALSE))","v":""}]
[null,{"$f":"IF(ISBLANK(A3387),\"\",VLOOKUP(A3387,base_itens,2,FALSE))","v":""}]
[null,{"$f":"IF(ISBLANK(A3388),\"\",VLOOKUP(A3388,base_itens,2,FALSE))","v":""}]
[null,{"$f":"IF(ISBLANK(A3389),\"\",VLOOKUP(A3389,base_itens,2,FALSE))","v":""}]
[null,{"$f":"IF(ISBLANK(A3390),\"\",VLOOKUP(A3390,base_itens,2,FALSE))","v":""}]
[null,{"$f":"IF(ISBLANK(A3391),\"\",VLOOKUP(A3391,base_itens,2,FALSE))","v":""}]
[null,{"$f":"IF(ISBLANK(A3392),\"\",VLOOKUP(A3392,base_itens,2,FALSE))","v":""}]
[null,{"$f":"IF(ISBLANK(A3393),\"\",VLOOKUP(A3393,base_itens,2,FALSE))","v":""}]
[null,{"$f":"IF(ISBLANK(A3394),\"\",VLOOKUP(A3394,base_itens,2,FALSE))","v":""}]
[null,{"$f":"IF(ISBLANK(A3395),\"\",VLOOKUP(A3395,base_itens,2,FALSE))","v":""}]
[null,{"$f":"IF(ISBLANK(A3396),\"\",VLOOKUP(A3396,base_itens,2,FALSE))","v":""}]
[null,{"$f":"IF(ISBLANK(A3397),\"\",VLOOKUP(A3397,base_itens,2,FALSE))","v":""}]
[null,{"$f":"IF(ISBLANK(A3398),\"\",VLOOKUP(A3398,base_itens,2,FALSE))","v":""}]
[null,{"$f":"IF(ISBLANK(A3399),\"\",VLOOKUP(A3399,base_itens,2,FALSE))","v":""}]
[null,{"$f":"IF(ISBLANK(A3400),\"\",VLOOKUP(A3400,base_itens,2,FALSE))","v":""}]
[null,{"$f":"IF(ISBLANK(A3401),\"\",VLOOKUP(A3401,base_itens,2,FALSE))","v":""}]
[null,{"$f":"IF(ISBLANK(A3402),\"\",VLOOKUP(A3402,base_itens,2,FALSE))","v":""}]
[null,{"$f":"IF(ISBLANK(A3403),\"\",VLOOKUP(A3403,base_itens,2,FALSE))","v":""}]
[null,{"$f":"IF(ISBLANK(A3404),\"\",VLOOKUP(A3404,base_itens,2,FALSE))","v":""}]
[null,{"$f":"IF(ISBLANK(A3405),\"\",VLOOKUP(A3405,base_itens,2,FALSE))","v":""}]
[null,{"$f":"IF(ISBLANK(A3406),\"\",VLOOKUP(A3406,base_itens,2,FALSE))","v":""}]
[null,{"$f":"IF(ISBLANK(A3407),\"\",VLOOKUP(A3407,base_itens,2,FALSE))","v":""}]
[null,{"$f":"IF(ISBLANK(A3408),\"\",VLOOKUP(A3408,base_itens,2,FALSE))","v":""}]
[null,{"$f":"IF(ISBLANK(A3409),\"\",VLOOKUP(A3409,base_itens,2,FALSE))","v":""}]
[null,{"$f":"IF(ISBLANK(A3410),\"\",VLOOKUP(A3410,base_itens,2,FALSE))","v":""}]
[null,{"$f":"IF(ISBLANK(A3411),\"\",VLOOKUP(A3411,base_itens,2,FALSE))","v":""}]
[null,{"$f":"IF(ISBLANK(A3412),\"\",VLOOKUP(A3412,base_itens,2,FALSE))","v":""}]
[null,{"$f":"IF(ISBLANK(A3413),\"\",VLOOKUP(A3413,base_itens,2,FALSE))","v":""}]
[null,{"$f":"IF(ISBLANK(A3414),\"\",VLOOKUP(A3414,base_itens,2,FALSE))","v":""}]
[null,{"$f":"IF(ISBLANK(A3415),\"\",VLOOKUP(A3415,base_itens,2,FALSE))","v":""}]
[null,{"$f":"IF(ISBLANK(A3416),\"\",VLOOKUP(A3416,base_itens,2,FALSE))","v":""}]
[null,{"$f":"IF(ISBLANK(A3417),\"\",VLOOKUP(A3417,base_itens,2,FALSE))","v":""}]
[null,{"$f":"IF(ISBLANK(A3418),\"\",VLOOKUP(A3418,base_itens,2,FALSE))","v":""}]
[null,{"$f":"IF(ISBLANK(A3419),\"\",VLOOKUP(A3419,base_itens,2,FALSE))","v":""}]
[null,{"$f":"IF(ISBLANK(A3420),\"\",VLOOKUP(A3420,base_itens,2,FALSE))","v":""}]
[null,{"$f":"IF(ISBLANK(A3421),\"\",VLOOKUP(A3421,base_itens,2,FALSE))","v":""}]
[null,{"$f":"IF(ISBLANK(A3422),\"\",VLOOKUP(A3422,base_itens,2,FALSE))","v":""}]
[null,{"$f":"IF(ISBLANK(A3423),\"\",VLOOKUP(A3423,base_itens,2,FALSE))","v":""}]
[null,{"$f":"IF(ISBLANK(A3424),\"\",VLOOKUP(A3424,base_itens,2,FALSE))","v":""}]
[null,{"$f":"IF(ISBLANK(A3425),\"\",VLOOKUP(A3425,base_itens,2,FALSE))","v":""}]
[null,{"$f":"IF(ISBLANK(A3426),\"\",VLOOKUP(A3426,base_itens,2,FALSE))","v":""}]
[null,{"$f":"IF(ISBLANK(A3427),\"\",VLOOKUP(A3427,base_itens,2,FALSE))","v":""}]
[null,{"$f":"IF(ISBLANK(A3428),\"\",VLOOKUP(A3428,base_itens,2,FALSE))","v":""}]
[null,{"$f":"IF(ISBLANK(A3429),\"\",VLOOKUP(A3429,base_itens,2,FALSE))","v":""}]
[null,{"$f":"IF(ISBLANK(A3430),\"\",VLOOKUP(A3430,base_itens,2,FALSE))","v":""}]
[null,{"$f":"IF(ISBLANK(A3431),\"\",VLOOKUP(A3431,base_itens,2,FALSE))","v":""}]
[null,{"$f":"IF(ISBLANK(A3432),\"\",VLOOKUP(A3432,base_itens,2,FALSE))","v":""}]
[null,{"$f":"IF(ISBLANK(A3433),\"\",VLOOKUP(A3433,base_itens,2,FALSE))","v":""}]
[null,{"$f":"IF(ISBLANK(A3434),\"\",VLOOKUP(A3434,base_itens,2,FALSE))","v":""}]
[null,{"$f":"IF(ISBLANK(A3435),\"\",VLOOKUP(A3435,base_itens,2,FALSE))","v":""}]
[null,{"$f":"IF(ISBLANK(A3436),\"\",VLOOKUP(A3436,base_itens,2,FALSE))","v":""}]
[null,{"$f":"IF(ISBLANK(A3437),\"\",VLOOKUP(A3437,base_itens,2,FALSE))","v":""}]
[null,{"$f":"IF(ISBLANK(A3438),\"\",VLOOKUP(A3438,base_itens,2,FALSE))","v":""}]
[null,{"$f":"IF(ISBLANK(A3439),\"\",VLOOKUP(A3439,base_itens,2,FALSE))","v":""}]
[null,{"$f":"IF(ISBLANK(A3440),\"\",VLOOKUP(A3440,base_itens,2,FALSE))","v":""}]
[null,{"$f":"IF(ISBLANK(A3441),\"\",VLOOKUP(A3441,base_itens,2,FALSE))","v":""}]
[null,{"$f":"IF(ISBLANK(A3442),\"\",VLOOKUP(A3442,base_itens,2,FALSE))","v":""}]
[null,{"$f":"IF(ISBLANK(A3443),\"\",VLOOKUP(A3443,base_itens,2,FALSE))","v":""}]
[null,{"$f":"IF(ISBLANK(A3444),\"\",VLOOKUP(A3444,base_itens,2,FALSE))","v":""}]
[null,{"$f":"IF(ISBLANK(A3445),\"\",VLOOKUP(A3445,base_itens,2,FALSE))","v":""}]
[null,{"$f":"IF(ISBLANK(A3446),\"\",VLOOKUP(A3446,base_itens,2,FALSE))","v":""}]
[null,{"$f":"IF(ISBLANK(A3447),\"\",VLOOKUP(A3447,base_itens,2,FALSE))","v":""}]
[null,{"$f":"IF(ISBLANK(A3448),\"\",VLOOKUP(A3448,base_itens,2,FALSE))","v":""}]
[null,{"$f":"IF(ISBLANK(A3449),\"\",VLOOKUP(A3449,base_itens,2,FALSE))","v":""}]
[null,{"$f":"IF(ISBLANK(A3450),\"\",VLOOKUP(A3450,base_itens,2,FALSE))","v":""}]
[null,{"$f":"IF(ISBLANK(A3451),\"\",VLOOKUP(A3451,base_itens,2,FALSE))","v":""}]
[null,{"$f":"IF(ISBLANK(A3452),\"\",VLOOKUP(A3452,base_itens,2,FALSE))","v":""}]
[null,{"$f":"IF(ISBLANK(A3453),\"\",VLOOKUP(A3453,base_itens,2,FALSE))","v":""}]
[null,{"$f":"IF(ISBLANK(A3454),\"\",VLOOKUP(A3454,base_itens,2,FALSE))","v":""}]
[null,{"$f":"IF(ISBLANK(A3455),\"\",VLOOKUP(A3455,base_itens,2,FALSE))","v":""}]
[null,{"$f":"IF(ISBLANK(A3456),\"\",VLOOKUP(A3456,base_itens,2,FALSE))","v":""}]
[null,{"$f":"IF(ISBLANK(A3457),\"\",VLOOKUP(A3457,base_itens,2,FALSE))","v":""}]
[null,{"$f":"IF(ISBLANK(A3458),\"\",VLOOKUP(A3458,base_itens,2,FALSE))","v":""}]
[null,{"$f":"IF(ISBLANK(A3459),\"\",VLOOKUP(A3459,base_itens,2,FALSE))","v":""}]
[null,{"$f":"IF(ISBLANK(A3460),\"\",VLOOKUP(A3460,base_itens,2,FALSE))","v":""}]
[null,{"$f":"IF(ISBLANK(A3461),\"\",VLOOKUP(A3461,base_itens,2,FALSE))","v":""}]
[null,{"$f":"IF(ISBLANK(A3462),\"\",VLOOKUP(A3462,base_itens,2,FALSE))","v":""}]
[null,{"$f":"IF(ISBLANK(A3463),\"\",VLOOKUP(A3463,base_itens,2,FALSE))","v":""}]
[null,{"$f":"IF(ISBLANK(A3464),\"\",VLOOKUP(A3464,base_itens,2,FALSE))","v":""}]
[null,{"$f":"IF(ISBLANK(A3465),\"\",VLOOKUP(A3465,base_itens,2,FALSE))","v":""}]
[null,{"$f":"IF(ISBLANK(A3466),\"\",VLOOKUP(A3466,base_itens,2,FALSE))","v":""}]
[null,{"$f":"IF(ISBLANK(A3467),\"\",VLOOKUP(A3467,base_itens,2,FALSE))","v":""}]
[null,{"$f":"IF(ISBLANK(A3468),\"\",VLOOKUP(A3468,base_itens,2,FALSE))","v":""}]
[null,{"$f":"IF(ISBLANK(A3469),\"\",VLOOKUP(A3469,base_itens,2,FALSE))","v":""}]
[null,{"$f":"IF(ISBLANK(A3470),\"\",VLOOKUP(A3470,base_itens,2,FALSE))","v":""}]
[null,{"$f":"IF(ISBLANK(A3471),\"\",VLOOKUP(A3471,base_itens,2,FALSE))","v":""}]
[null,{"$f":"IF(ISBLANK(A3472),\"\",VLOOKUP(A3472,base_itens,2,FALSE))","v":""}]
[null,{"$f":"IF(ISBLANK(A3473),\"\",VLOOKUP(A3473,base_itens,2,FALSE))","v":""}]
[null,{"$f":"IF(ISBLANK(A3474),\"\",VLOOKUP(A3474,base_itens,2,FALSE))","v":""}]
[null,{"$f":"IF(ISBLANK(A3475),\"\",VLOOKUP(A3475,base_itens,2,FALSE))","v":""}]
[null,{"$f":"IF(ISBLANK(A3476),\"\",VLOOKUP(A3476,base_itens,2,FALSE))","v":""}]
[null,{"$f":"IF(ISBLANK(A3477),\"\",VLOOKUP(A3477,base_itens,2,FALSE))","v":""}]
[null,{"$f":"IF(ISBLANK(A3478),\"\",VLOOKUP(A3478,base_itens,2,FALSE))","v":""}]
[null,{"$f":"IF(ISBLANK(A3479),\"\",VLOOKUP(A3479,base_itens,2,FALSE))","v":""}]
[null,{"$f":"IF(ISBLANK(A3480),\"\",VLOOKUP(A3480,base_itens,2,FALSE))","v":""}]
[null,{"$f":"IF(ISBLANK(A3481),\"\",VLOOKUP(A3481,base_itens,2,FALSE))","v":""}]
[null,{"$f":"IF(ISBLANK(A3482),\"\",VLOOKUP(A3482,base_itens,2,FALSE))","v":""}]
[null,{"$f":"IF(ISBLANK(A3483),\"\",VLOOKUP(A3483,base_itens,2,FALSE))","v":""}]
[null,{"$f":"IF(ISBLANK(A3484),\"\",VLOOKUP(A3484,base_itens,2,FALSE))","v":""}]
[null,{"$f":"IF(ISBLANK(A3485),\"\",VLOOKUP(A3485,base_itens,2,FALSE))","v":""}]
[null,{"$f":"IF(ISBLANK(A3486),\"\",VLOOKUP(A3486,base_itens,2,FALSE))","v":""}]
[null,{"$f":"IF(ISBLANK(A3487),\"\",VLOOKUP(A3487,base_itens,2,FALSE))","v":""}]
[null,{"$f":"IF(ISBLANK(A3488),\"\",VLOOKUP(A3488,base_itens,2,FALSE))","v":""}]
[null,{"$f":"IF(ISBLANK(A3489),\"\",VLOOKUP(A3489,base_itens,2,FALSE))","v":""}]
[null,{"$f":"IF(ISBLANK(A3490),\"\",VLOOKUP(A3490,base_itens,2,FALSE))","v":""}]
[null,{"$f":"IF(ISBLANK(A3491),\"\",VLOOKUP(A3491,base_itens,2,FALSE))","v":""}]
[null,{"$f":"IF(ISBLANK(A3492),\"\",VLOOKUP(A3492,base_itens,2,FALSE))","v":""}]
[null,{"$f":"IF(ISBLANK(A3493),\"\",VLOOKUP(A3493,base_itens,2,FALSE))","v":""}]
[null,{"$f":"IF(ISBLANK(A3494),\"\",VLOOKUP(A3494,base_itens,2,FALSE))","v":""}]
[null,{"$f":"IF(ISBLANK(A3495),\"\",VLOOKUP(A3495,base_itens,2,FALSE))","v":""}]
[null,{"$f":"IF(ISBLANK(A3496),\"\",VLOOKUP(A3496,base_itens,2,FALSE))","v":""}]
[null,{"$f":"IF(ISBLANK(A3497),\"\",VLOOKUP(A3497,base_itens,2,FALSE))","v":""}]
[null,{"$f":"IF(ISBLANK(A3498),\"\",VLOOKUP(A3498,base_itens,2,FALSE))","v":""}]
[null,{"$f":"IF(ISBLANK(A3499),\"\",VLOOKUP(A3499,base_itens,2,FALSE))","v":""}]
[null,{"$f":"IF(ISBLANK(A3500),\"\",VLOOKUP(A3500,base_itens,2,FALSE))","v":""}]
[null,{"$f":"IF(ISBLANK(A3501),\"\",VLOOKUP(A3501,base_itens,2,FALSE))","v":""}]
[null,{"$f":"IF(ISBLANK(A3502),\"\",VLOOKUP(A3502,base_itens,2,FALSE))","v":""}]
[null,{"$f":"IF(ISBLANK(A3503),\"\",VLOOKUP(A3503,base_itens,2,FALSE))","v":""}]
[null,{"$f":"IF(ISBLANK(A3504),\"\",VLOOKUP(A3504,base_itens,2,FALSE))","v":""}]
[null,{"$f":"IF(ISBLANK(A3505),\"\",VLOOKUP(A3505,base_itens,2,FALSE))","v":""}]
[null,{"$f":"IF(ISBLANK(A3506),\"\",VLOOKUP(A3506,base_itens,2,FALSE))","v":""}]
[null,{"$f":"IF(ISBLANK(A3507),\"\",VLOOKUP(A3507,base_itens,2,FALSE))","v":""}]
[null,{"$f":"IF(ISBLANK(A3508),\"\",VLOOKUP(A3508,base_itens,2,FALSE))","v":""}]
[null,{"$f":"IF(ISBLANK(A3509),\"\",VLOOKUP(A3509,base_itens,2,FALSE))","v":""}]
[null,{"$f":"IF(ISBLANK(A3510),\"\",VLOOKUP(A3510,base_itens,2,FALSE))","v":""}]
[null,{"$f":"IF(ISBLANK(A3511),\"\",VLOOKUP(A3511,base_itens,2,FALSE))","v":""}]
[null,{"$f":"IF(ISBLANK(A3512),\"\",VLOOKUP(A3512,base_itens,2,FALSE))","v":""}]
[null,{"$f":"IF(ISBLANK(A3513),\"\",VLOOKUP(A3513,base_itens,2,FALSE))","v":""}]
[null,{"$f":"IF(ISBLANK(A3514),\"\",VLOOKUP(A3514,base_itens,2,FALSE))","v":""}]
[null,{"$f":"IF(ISBLANK(A3515),\"\",VLOOKUP(A3515,base_itens,2,FALSE))","v":""}]
[null,{"$f":"IF(ISBLANK(A3516),\"\",VLOOKUP(A3516,base_itens,2,FALSE))","v":""}]
[null,{"$f":"IF(ISBLANK(A3517),\"\",VLOOKUP(A3517,base_itens,2,FALSE))","v":""}]
[null,{"$f":"IF(ISBLANK(A3518),\"\",VLOOKUP(A3518,base_itens,2,FALSE))","v":""}]
[null,{"$f":"IF(ISBLANK(A3519),\"\",VLOOKUP(A3519,base_itens,2,FALSE))","v":""}]
[null,{"$f":"IF(ISBLANK(A3520),\"\",VLOOKUP(A3520,base_itens,2,FALSE))","v":""}]
[null,{"$f":"IF(ISBLANK(A3521),\"\",VLOOKUP(A3521,base_itens,2,FALSE))","v":""}]
[null,{"$f":"IF(ISBLANK(A3522),\"\",VLOOKUP(A3522,base_itens,2,FALSE))","v":""}]
[null,{"$f":"IF(ISBLANK(A3523),\"\",VLOOKUP(A3523,base_itens,2,FALSE))","v":""}]
[null,{"$f":"IF(ISBLANK(A3524),\"\",VLOOKUP(A3524,base_itens,2,FALSE))","v":""}]
[null,{"$f":"IF(ISBLANK(A3525),\"\",VLOOKUP(A3525,base_itens,2,FALSE))","v":""}]
[null,{"$f":"IF(ISBLANK(A3526),\"\",VLOOKUP(A3526,base_itens,2,FALSE))","v":""}]
[null,{"$f":"IF(ISBLANK(A3527),\"\",VLOOKUP(A3527,base_itens,2,FALSE))","v":""}]
[null,{"$f":"IF(ISBLANK(A3528),\"\",VLOOKUP(A3528,base_itens,2,FALSE))","v":""}]
[null,{"$f":"IF(ISBLANK(A3529),\"\",VLOOKUP(A3529,base_itens,2,FALSE))","v":""}]
[null,{"$f":"IF(ISBLANK(A3530),\"\",VLOOKUP(A3530,base_itens,2,FALSE))","v":""}]
[null,{"$f":"IF(ISBLANK(A3531),\"\",VLOOKUP(A3531,base_itens,2,FALSE))","v":""}]
[null,{"$f":"IF(ISBLANK(A3532),\"\",VLOOKUP(A3532,base_itens,2,FALSE))","v":""}]
[null,{"$f":"IF(ISBLANK(A3533),\"\",VLOOKUP(A3533,base_itens,2,FALSE))","v":""}]
[null,{"$f":"IF(ISBLANK(A3534),\"\",VLOOKUP(A3534,base_itens,2,FALSE))","v":""}]
[null,{"$f":"IF(ISBLANK(A3535),\"\",VLOOKUP(A3535,base_itens,2,FALSE))","v":""}]
[null,{"$f":"IF(ISBLANK(A3536),\"\",VLOOKUP(A3536,base_itens,2,FALSE))","v":""}]
[null,{"$f":"IF(ISBLANK(A3537),\"\",VLOOKUP(A3537,base_itens,2,FALSE))","v":""}]
[null,{"$f":"IF(ISBLANK(A3538),\"\",VLOOKUP(A3538,base_itens,2,FALSE))","v":""}]
[null,{"$f":"IF(ISBLANK(A3539),\"\",VLOOKUP(A3539,base_itens,2,FALSE))","v":""}]
[null,{"$f":"IF(ISBLANK(A3540),\"\",VLOOKUP(A3540,base_itens,2,FALSE))","v":""}]
[null,{"$f":"IF(ISBLANK(A3541),\"\",VLOOKUP(A3541,base_itens,2,FALSE))","v":""}]
[null,{"$f":"IF(ISBLANK(A3542),\"\",VLOOKUP(A3542,base_itens,2,FALSE))","v":""}]
[null,{"$f":"IF(ISBLANK(A3543),\"\",VLOOKUP(A3543,base_itens,2,FALSE))","v":""}]
[null,{"$f":"IF(ISBLANK(A3544),\"\",VLOOKUP(A3544,base_itens,2,FALSE))","v":""}]
[null,{"$f":"IF(ISBLANK(A3545),\"\",VLOOKUP(A3545,base_itens,2,FALSE))","v":""}]
[null,{"$f":"IF(ISBLANK(A3546),\"\",VLOOKUP(A3546,base_itens,2,FALSE))","v":""}]
[null,{"$f":"IF(ISBLANK(A3547),\"\",VLOOKUP(A3547,base_itens,2,FALSE))","v":""}]
[null,{"$f":"IF(ISBLANK(A3548),\"\",VLOOKUP(A3548,base_itens,2,FALSE))","v":""}]
[null,{"$f":"IF(ISBLANK(A3549),\"\",VLOOKUP(A3549,base_itens,2,FALSE))","v":""}]
[null,{"$f":"IF(ISBLANK(A3550),\"\",VLOOKUP(A3550,base_itens,2,FALSE))","v":""}]
[null,{"$f":"IF(ISBLANK(A3551),\"\",VLOOKUP(A3551,base_itens,2,FALSE))","v":""}]
[null,{"$f":"IF(ISBLANK(A3552),\"\",VLOOKUP(A3552,base_itens,2,FALSE))","v":""}]
[null,{"$f":"IF(ISBLANK(A3553),\"\",VLOOKUP(A3553,base_itens,2,FALSE))","v":""}]
[null,{"$f":"IF(ISBLANK(A3554),\"\",VLOOKUP(A3554,base_itens,2,FALSE))","v":""}]
[null,{"$f":"IF(ISBLANK(A3555),\"\",VLOOKUP(A3555,base_itens,2,FALSE))","v":""}]
[null,{"$f":"IF(ISBLANK(A3556),\"\",VLOOKUP(A3556,base_itens,2,FALSE))","v":""}]
[null,{"$f":"IF(ISBLANK(A3557),\"\",VLOOKUP(A3557,base_itens,2,FALSE))","v":""}]
[null,{"$f":"IF(ISBLANK(A3558),\"\",VLOOKUP(A3558,base_itens,2,FALSE))","v":""}]
[null,{"$f":"IF(ISBLANK(A3559),\"\",VLOOKUP(A3559,base_itens,2,FALSE))","v":""}]
[null,{"$f":"IF(ISBLANK(A3560),\"\",VLOOKUP(A3560,base_itens,2,FALSE))","v":""}]
[null,{"$f":"IF(ISBLANK(A3561),\"\",VLOOKUP(A3561,base_itens,2,FALSE))","v":""}]
[null,{"$f":"IF(ISBLANK(A3562),\"\",VLOOKUP(A3562,base_itens,2,FALSE))","v":""}]
[null,{"$f":"IF(ISBLANK(A3563),\"\",VLOOKUP(A3563,base_itens,2,FALSE))","v":""}]
[null,{"$f":"IF(ISBLANK(A3564),\"\",VLOOKUP(A3564,base_itens,2,FALSE))","v":""}]
[null,{"$f":"IF(ISBLANK(A3565),\"\",VLOOKUP(A3565,base_itens,2,FALSE))","v":""}]
[null,{"$f":"IF(ISBLANK(A3566),\"\",VLOOKUP(A3566,base_itens,2,FALSE))","v":""}]
[null,{"$f":"IF(ISBLANK(A3567),\"\",VLOOKUP(A3567,base_itens,2,FALSE))","v":""}]
[null,{"$f":"IF(ISBLANK(A3568),\"\",VLOOKUP(A3568,base_itens,2,FALSE))","v":""}]
[null,{"$f":"IF(ISBLANK(A3569),\"\",VLOOKUP(A3569,base_itens,2,FALSE))","v":""}]
[null,{"$f":"IF(ISBLANK(A3570),\"\",VLOOKUP(A3570,base_itens,2,FALSE))","v":""}]
[null,{"$f":"IF(ISBLANK(A3571),\"\",VLOOKUP(A3571,base_itens,2,FALSE))","v":""}]
[null,{"$f":"IF(ISBLANK(A3572),\"\",VLOOKUP(A3572,base_itens,2,FALSE))","v":""}]
[null,{"$f":"IF(ISBLANK(A3573),\"\",VLOOKUP(A3573,base_itens,2,FALSE))","v":""}]
[null,{"$f":"IF(ISBLANK(A3574),\"\",VLOOKUP(A3574,base_itens,2,FALSE))","v":""}]
[null,{"$f":"IF(ISBLANK(A3575),\"\",VLOOKUP(A3575,base_itens,2,FALSE))","v":""}]
[null,{"$f":"IF(ISBLANK(A3576),\"\",VLOOKUP(A3576,base_itens,2,FALSE))","v":""}]
[null,{"$f":"IF(ISBLANK(A3577),\"\",VLOOKUP(A3577,base_itens,2,FALSE))","v":""}]
[null,{"$f":"IF(ISBLANK(A3578),\"\",VLOOKUP(A3578,base_itens,2,FALSE))","v":""}]
[null,{"$f":"IF(ISBLANK(A3579),\"\",VLOOKUP(A3579,base_itens,2,FALSE))","v":""}]
[null,{"$f":"IF(ISBLANK(A3580),\"\",VLOOKUP(A3580,base_itens,2,FALSE))","v":""}]
[null,{"$f":"IF(ISBLANK(A3581),\"\",VLOOKUP(A3581,base_itens,2,FALSE))","v":""}]
[null,{"$f":"IF(ISBLANK(A3582),\"\",VLOOKUP(A3582,base_itens,2,FALSE))","v":""}]
[null,{"$f":"IF(ISBLANK(A3583),\"\",VLOOKUP(A3583,base_itens,2,FALSE))","v":""}]
[null,{"$f":"IF(ISBLANK(A3584),\"\",VLOOKUP(A3584,base_itens,2,FALSE))","v":""}]
[null,{"$f":"IF(ISBLANK(A3585),\"\",VLOOKUP(A3585,base_itens,2,FALSE))","v":""}]
[null,{"$f":"IF(ISBLANK(A3586),\"\",VLOOKUP(A3586,base_itens,2,FALSE))","v":""}]
[null,{"$f":"IF(ISBLANK(A3587),\"\",VLOOKUP(A3587,base_itens,2,FALSE))","v":""}]
[null,{"$f":"IF(ISBLANK(A3588),\"\",VLOOKUP(A3588,base_itens,2,FALSE))","v":""}]
[null,{"$f":"IF(ISBLANK(A3589),\"\",VLOOKUP(A3589,base_itens,2,FALSE))","v":""}]
[null,{"$f":"IF(ISBLANK(A3590),\"\",VLOOKUP(A3590,base_itens,2,FALSE))","v":""}]
[null,{"$f":"IF(ISBLANK(A3591),\"\",VLOOKUP(A3591,base_itens,2,FALSE))","v":""}]
[null,{"$f":"IF(ISBLANK(A3592),\"\",VLOOKUP(A3592,base_itens,2,FALSE))","v":""}]
[null,{"$f":"IF(ISBLANK(A3593),\"\",VLOOKUP(A3593,base_itens,2,FALSE))","v":""}]
[null,{"$f":"IF(ISBLANK(A3594),\"\",VLOOKUP(A3594,base_itens,2,FALSE))","v":""}]
[null,{"$f":"IF(ISBLANK(A3595),\"\",VLOOKUP(A3595,base_itens,2,FALSE))","v":""}]
[null,{"$f":"IF(ISBLANK(A3596),\"\",VLOOKUP(A3596,base_itens,2,FALSE))","v":""}]
[null,{"$f":"IF(ISBLANK(A3597),\"\",VLOOKUP(A3597,base_itens,2,FALSE))","v":""}]
[null,{"$f":"IF(ISBLANK(A3598),\"\",VLOOKUP(A3598,base_itens,2,FALSE))","v":""}]
[null,{"$f":"IF(ISBLANK(A3599),\"\",VLOOKUP(A3599,base_itens,2,FALSE))","v":""}]
[null,{"$f":"IF(ISBLANK(A3600),\"\",VLOOKUP(A3600,base_itens,2,FALSE))","v":""}]
[null,{"$f":"IF(ISBLANK(A3601),\"\",VLOOKUP(A3601,base_itens,2,FALSE))","v":""}]
[null,{"$f":"IF(ISBLANK(A3602),\"\",VLOOKUP(A3602,base_itens,2,FALSE))","v":""}]
[null,{"$f":"IF(ISBLANK(A3603),\"\",VLOOKUP(A3603,base_itens,2,FALSE))","v":""}]
[null,{"$f":"IF(ISBLANK(A3604),\"\",VLOOKUP(A3604,base_itens,2,FALSE))","v":""}]
[null,{"$f":"IF(ISBLANK(A3605),\"\",VLOOKUP(A3605,base_itens,2,FALSE))","v":""}]
[null,{"$f":"IF(ISBLANK(A3606),\"\",VLOOKUP(A3606,base_itens,2,FALSE))","v":""}]
[null,{"$f":"IF(ISBLANK(A3607),\"\",VLOOKUP(A3607,base_itens,2,FALSE))","v":""}]
[null,{"$f":"IF(ISBLANK(A3608),\"\",VLOOKUP(A3608,base_itens,2,FALSE))","v":""}]
[null,{"$f":"IF(ISBLANK(A3609),\"\",VLOOKUP(A3609,base_itens,2,FALSE))","v":""}]
[null,{"$f":"IF(ISBLANK(A3610),\"\",VLOOKUP(A3610,base_itens,2,FALSE))","v":""}]
[null,{"$f":"IF(ISBLANK(A3611),\"\",VLOOKUP(A3611,base_itens,2,FALSE))","v":""}]
[null,{"$f":"IF(ISBLANK(A3612),\"\",VLOOKUP(A3612,base_itens,2,FALSE))","v":""}]
[null,{"$f":"IF(ISBLANK(A3613),\"\",VLOOKUP(A3613,base_itens,2,FALSE))","v":""}]
[null,{"$f":"IF(ISBLANK(A3614),\"\",VLOOKUP(A3614,base_itens,2,FALSE))","v":""}]
[null,{"$f":"IF(ISBLANK(A3615),\"\",VLOOKUP(A3615,base_itens,2,FALSE))","v":""}]
[null,{"$f":"IF(ISBLANK(A3616),\"\",VLOOKUP(A3616,base_itens,2,FALSE))","v":""}]
[null,{"$f":"IF(ISBLANK(A3617),\"\",VLOOKUP(A3617,base_itens,2,FALSE))","v":""}]
[null,{"$f":"IF(ISBLANK(A3618),\"\",VLOOKUP(A3618,base_itens,2,FALSE))","v":""}]
[null,{"$f":"IF(ISBLANK(A3619),\"\",VLOOKUP(A3619,base_itens,2,FALSE))","v":""}]
[null,{"$f":"IF(ISBLANK(A3620),\"\",VLOOKUP(A3620,base_itens,2,FALSE))","v":""}]
[null,{"$f":"IF(ISBLANK(A3621),\"\",VLOOKUP(A3621,base_itens,2,FALSE))","v":""}]
[null,{"$f":"IF(ISBLANK(A3622),\"\",VLOOKUP(A3622,base_itens,2,FALSE))","v":""}]
[null,{"$f":"IF(ISBLANK(A3623),\"\",VLOOKUP(A3623,base_itens,2,FALSE))","v":""}]
[null,{"$f":"IF(ISBLANK(A3624),\"\",VLOOKUP(A3624,base_itens,2,FALSE))","v":""}]
[null,{"$f":"IF(ISBLANK(A3625),\"\",VLOOKUP(A3625,base_itens,2,FALSE))","v":""}]
[null,{"$f":"IF(ISBLANK(A3626),\"\",VLOOKUP(A3626,base_itens,2,FALSE))","v":""}]
[null,{"$f":"IF(ISBLANK(A3627),\"\",VLOOKUP(A3627,base_itens,2,FALSE))","v":""}]
[null,{"$f":"IF(ISBLANK(A3628),\"\",VLOOKUP(A3628,base_itens,2,FALSE))","v":""}]
[null,{"$f":"IF(ISBLANK(A3629),\"\",VLOOKUP(A3629,base_itens,2,FALSE))","v":""}]
[null,{"$f":"IF(ISBLANK(A3630),\"\",VLOOKUP(A3630,base_itens,2,FALSE))","v":""}]
[null,{"$f":"IF(ISBLANK(A3631),\"\",VLOOKUP(A3631,base_itens,2,FALSE))","v":""}]
[null,{"$f":"IF(ISBLANK(A3632),\"\",VLOOKUP(A3632,base_itens,2,FALSE))","v":""}]
[null,{"$f":"IF(ISBLANK(A3633),\"\",VLOOKUP(A3633,base_itens,2,FALSE))","v":""}]
[null,{"$f":"IF(ISBLANK(A3634),\"\",VLOOKUP(A3634,base_itens,2,FALSE))","v":""}]
[null,{"$f":"IF(ISBLANK(A3635),\"\",VLOOKUP(A3635,base_itens,2,FALSE))","v":""}]
[null,{"$f":"IF(ISBLANK(A3636),\"\",VLOOKUP(A3636,base_itens,2,FALSE))","v":""}]
[null,{"$f":"IF(ISBLANK(A3637),\"\",VLOOKUP(A3637,base_itens,2,FALSE))","v":""}]
[null,{"$f":"IF(ISBLANK(A3638),\"\",VLOOKUP(A3638,base_itens,2,FALSE))","v":""}]
[null,{"$f":"IF(ISBLANK(A3639),\"\",VLOOKUP(A3639,base_itens,2,FALSE))","v":""}]
[null,{"$f":"IF(ISBLANK(A3640),\"\",VLOOKUP(A3640,base_itens,2,FALSE))","v":""}]
[null,{"$f":"IF(ISBLANK(A3641),\"\",VLOOKUP(A3641,base_itens,2,FALSE))","v":""}]
[null,{"$f":"IF(ISBLANK(A3642),\"\",VLOOKUP(A3642,base_itens,2,FALSE))","v":""}]
[null,{"$f":"IF(ISBLANK(A3643),\"\",VLOOKUP(A3643,base_itens,2,FALSE))","v":""}]
[null,{"$f":"IF(ISBLANK(A3644),\"\",VLOOKUP(A3644,base_itens,2,FALSE))","v":""}]
[null,{"$f":"IF(ISBLANK(A3645),\"\",VLOOKUP(A3645,base_itens,2,FALSE))","v":""}]
[null,{"$f":"IF(ISBLANK(A3646),\"\",VLOOKUP(A3646,base_itens,2,FALSE))","v":""}]
[null,{"$f":"IF(ISBLANK(A3647),\"\",VLOOKUP(A3647,base_itens,2,FALSE))","v":""}]
[null,{"$f":"IF(ISBLANK(A3648),\"\",VLOOKUP(A3648,base_itens,2,FALSE))","v":""}]
[null,{"$f":"IF(ISBLANK(A3649),\"\",VLOOKUP(A3649,base_itens,2,FALSE))","v":""}]
[null,{"$f":"IF(ISBLANK(A3650),\"\",VLOOKUP(A3650,base_itens,2,FALSE))","v":""}]
[null,{"$f":"IF(ISBLANK(A3651),\"\",VLOOKUP(A3651,base_itens,2,FALSE))","v":""}]
[null,{"$f":"IF(ISBLANK(A3652),\"\",VLOOKUP(A3652,base_itens,2,FALSE))","v":""}]
[null,{"$f":"IF(ISBLANK(A3653),\"\",VLOOKUP(A3653,base_itens,2,FALSE))","v":""}]
[null,{"$f":"IF(ISBLANK(A3654),\"\",VLOOKUP(A3654,base_itens,2,FALSE))","v":""}]
[null,{"$f":"IF(ISBLANK(A3655),\"\",VLOOKUP(A3655,base_itens,2,FALSE))","v":""}]
[null,{"$f":"IF(ISBLANK(A3656),\"\",VLOOKUP(A3656,base_itens,2,FALSE))","v":""}]
[null,{"$f":"IF(ISBLANK(A3657),\"\",VLOOKUP(A3657,base_itens,2,FALSE))","v":""}]
[null,{"$f":"IF(ISBLANK(A3658),\"\",VLOOKUP(A3658,base_itens,2,FALSE))","v":""}]
[null,{"$f":"IF(ISBLANK(A3659),\"\",VLOOKUP(A3659,base_itens,2,FALSE))","v":""}]
[null,{"$f":"IF(ISBLANK(A3660),\"\",VLOOKUP(A3660,base_itens,2,FALSE))","v":""}]
[null,{"$f":"IF(ISBLANK(A3661),\"\",VLOOKUP(A3661,base_itens,2,FALSE))","v":""}]
[null,{"$f":"IF(ISBLANK(A3662),\"\",VLOOKUP(A3662,base_itens,2,FALSE))","v":""}]
[null,{"$f":"IF(ISBLANK(A3663),\"\",VLOOKUP(A3663,base_itens,2,FALSE))","v":""}]
[null,{"$f":"IF(ISBLANK(A3664),\"\",VLOOKUP(A3664,base_itens,2,FALSE))","v":""}]
[null,{"$f":"IF(ISBLANK(A3665),\"\",VLOOKUP(A3665,base_itens,2,FALSE))","v":""}]
[null,{"$f":"IF(ISBLANK(A3666),\"\",VLOOKUP(A3666,base_itens,2,FALSE))","v":""}]
[null,{"$f":"IF(ISBLANK(A3667),\"\",VLOOKUP(A3667,base_itens,2,FALSE))","v":""}]
[null,{"$f":"IF(ISBLANK(A3668),\"\",VLOOKUP(A3668,base_itens,2,FALSE))","v":""}]
[null,{"$f":"IF(ISBLANK(A3669),\"\",VLOOKUP(A3669,base_itens,2,FALSE))","v":""}]
[null,{"$f":"IF(ISBLANK(A3670),\"\",VLOOKUP(A3670,base_itens,2,FALSE))","v":""}]
[null,{"$f":"IF(ISBLANK(A3671),\"\",VLOOKUP(A3671,base_itens,2,FALSE))","v":""}]
[null,{"$f":"IF(ISBLANK(A3672),\"\",VLOOKUP(A3672,base_itens,2,FALSE))","v":""}]
[null,{"$f":"IF(ISBLANK(A3673),\"\",VLOOKUP(A3673,base_itens,2,FALSE))","v":""}]
[null,{"$f":"IF(ISBLANK(A3674),\"\",VLOOKUP(A3674,base_itens,2,FALSE))","v":""}]
[null,{"$f":"IF(ISBLANK(A3675),\"\",VLOOKUP(A3675,base_itens,2,FALSE))","v":""}]
[null,{"$f":"IF(ISBLANK(A3676),\"\",VLOOKUP(A3676,base_itens,2,FALSE))","v":""}]
[null,{"$f":"IF(ISBLANK(A3677),\"\",VLOOKUP(A3677,base_itens,2,FALSE))","v":""}]
[null,{"$f":"IF(ISBLANK(A3678),\"\",VLOOKUP(A3678,base_itens,2,FALSE))","v":""}]
[null,{"$f":"IF(ISBLANK(A3679),\"\",VLOOKUP(A3679,base_itens,2,FALSE))","v":""}]
[null,{"$f":"IF(ISBLANK(A3680),\"\",VLOOKUP(A3680,base_itens,2,FALSE))","v":""}]
[null,{"$f":"IF(ISBLANK(A3681),\"\",VLOOKUP(A3681,base_itens,2,FALSE))","v":""}]
[null,{"$f":"IF(ISBLANK(A3682),\"\",VLOOKUP(A3682,base_itens,2,FALSE))","v":""}]
[null,{"$f":"IF(ISBLANK(A3683),\"\",VLOOKUP(A3683,base_itens,2,FALSE))","v":""}]
[null,{"$f":"IF(ISBLANK(A3684),\"\",VLOOKUP(A3684,base_itens,2,FALSE))","v":""}]
[null,{"$f":"IF(ISBLANK(A3685),\"\",VLOOKUP(A3685,base_itens,2,FALSE))","v":""}]
[null,{"$f":"IF(ISBLANK(A3686),\"\",VLOOKUP(A3686,base_itens,2,FALSE))","v":""}]
[null,{"$f":"IF(ISBLANK(A3687),\"\",VLOOKUP(A3687,base_itens,2,FALSE))","v":""}]
[null,{"$f":"IF(ISBLANK(A3688),\"\",VLOOKUP(A3688,base_itens,2,FALSE))","v":""}]
[null,{"$f":"IF(ISBLANK(A3689),\"\",VLOOKUP(A3689,base_itens,2,FALSE))","v":""}]
[null,{"$f":"IF(ISBLANK(A3690),\"\",VLOOKUP(A3690,base_itens,2,FALSE))","v":""}]
[null,{"$f":"IF(ISBLANK(A3691),\"\",VLOOKUP(A3691,base_itens,2,FALSE))","v":""}]
[null,{"$f":"IF(ISBLANK(A3692),\"\",VLOOKUP(A3692,base_itens,2,FALSE))","v":""}]
[null,{"$f":"IF(ISBLANK(A3693),\"\",VLOOKUP(A3693,base_itens,2,FALSE))","v":""}]
[null,{"$f":"IF(ISBLANK(A3694),\"\",VLOOKUP(A3694,base_itens,2,FALSE))","v":""}]
[null,{"$f":"IF(ISBLANK(A3695),\"\",VLOOKUP(A3695,base_itens,2,FALSE))","v":""}]
[null,{"$f":"IF(ISBLANK(A3696),\"\",VLOOKUP(A3696,base_itens,2,FALSE))","v":""}]
[null,{"$f":"IF(ISBLANK(A3697),\"\",VLOOKUP(A3697,base_itens,2,FALSE))","v":""}]
[null,{"$f":"IF(ISBLANK(A3698),\"\",VLOOKUP(A3698,base_itens,2,FALSE))","v":""}]
[null,{"$f":"IF(ISBLANK(A3699),\"\",VLOOKUP(A3699,base_itens,2,FALSE))","v":""}]
[null,{"$f":"IF(ISBLANK(A3700),\"\",VLOOKUP(A3700,base_itens,2,FALSE))","v":""}]
[null,{"$f":"IF(ISBLANK(A3701),\"\",VLOOKUP(A3701,base_itens,2,FALSE))","v":""}]
[null,{"$f":"IF(ISBLANK(A3702),\"\",VLOOKUP(A3702,base_itens,2,FALSE))","v":""}]
[null,{"$f":"IF(ISBLANK(A3703),\"\",VLOOKUP(A3703,base_itens,2,FALSE))","v":""}]
[null,{"$f":"IF(ISBLANK(A3704),\"\",VLOOKUP(A3704,base_itens,2,FALSE))","v":""}]
[null,{"$f":"IF(ISBLANK(A3705),\"\",VLOOKUP(A3705,base_itens,2,FALSE))","v":""}]
[null,{"$f":"IF(ISBLANK(A3706),\"\",VLOOKUP(A3706,base_itens,2,FALSE))","v":""}]
[null,{"$f":"IF(ISBLANK(A3707),\"\",VLOOKUP(A3707,base_itens,2,FALSE))","v":""}]
[null,{"$f":"IF(ISBLANK(A3708),\"\",VLOOKUP(A3708,base_itens,2,FALSE))","v":""}]
[null,{"$f":"IF(ISBLANK(A3709),\"\",VLOOKUP(A3709,base_itens,2,FALSE))","v":""}]
[null,{"$f":"IF(ISBLANK(A3710),\"\",VLOOKUP(A3710,base_itens,2,FALSE))","v":""}]
[null,{"$f":"IF(ISBLANK(A3711),\"\",VLOOKUP(A3711,base_itens,2,FALSE))","v":""}]
[null,{"$f":"IF(ISBLANK(A3712),\"\",VLOOKUP(A3712,base_itens,2,FALSE))","v":""}]
[null,{"$f":"IF(ISBLANK(A3713),\"\",VLOOKUP(A3713,base_itens,2,FALSE))","v":""}]
[null,{"$f":"IF(ISBLANK(A3714),\"\",VLOOKUP(A3714,base_itens,2,FALSE))","v":""}]
[null,{"$f":"IF(ISBLANK(A3715),\"\",VLOOKUP(A3715,base_itens,2,FALSE))","v":""}]
[null,{"$f":"IF(ISBLANK(A3716),\"\",VLOOKUP(A3716,base_itens,2,FALSE))","v":""}]
[null,{"$f":"IF(ISBLANK(A3717),\"\",VLOOKUP(A3717,base_itens,2,FALSE))","v":""}]
[null,{"$f":"IF(ISBLANK(A3718),\"\",VLOOKUP(A3718,base_itens,2,FALSE))","v":""}]
[null,{"$f":"IF(ISBLANK(A3719),\"\",VLOOKUP(A3719,base_itens,2,FALSE))","v":""}]
[null,{"$f":"IF(ISBLANK(A3720),\"\",VLOOKUP(A3720,base_itens,2,FALSE))","v":""}]
[null,{"$f":"IF(ISBLANK(A3721),\"\",VLOOKUP(A3721,base_itens,2,FALSE))","v":""}]
[null,{"$f":"IF(ISBLANK(A3722),\"\",VLOOKUP(A3722,base_itens,2,FALSE))","v":""}]
[null,{"$f":"IF(ISBLANK(A3723),\"\",VLOOKUP(A3723,base_itens,2,FALSE))","v":""}]
[null,{"$f":"IF(ISBLANK(A3724),\"\",VLOOKUP(A3724,base_itens,2,FALSE))","v":""}]
[null,{"$f":"IF(ISBLANK(A3725),\"\",VLOOKUP(A3725,base_itens,2,FALSE))","v":""}]
[null,{"$f":"IF(ISBLANK(A3726),\"\",VLOOKUP(A3726,base_itens,2,FALSE))","v":""}]
[null,{"$f":"IF(ISBLANK(A3727),\"\",VLOOKUP(A3727,base_itens,2,FALSE))","v":""}]
[null,{"$f":"IF(ISBLANK(A3728),\"\",VLOOKUP(A3728,base_itens,2,FALSE))","v":""}]
[null,{"$f":"IF(ISBLANK(A3729),\"\",VLOOKUP(A3729,base_itens,2,FALSE))","v":""}]
[null,{"$f":"IF(ISBLANK(A3730),\"\",VLOOKUP(A3730,base_itens,2,FALSE))","v":""}]
[null,{"$f":"IF(ISBLANK(A3731),\"\",VLOOKUP(A3731,base_itens,2,FALSE))","v":""}]
[null,{"$f":"IF(ISBLANK(A3732),\"\",VLOOKUP(A3732,base_itens,2,FALSE))","v":""}]
[null,{"$f":"IF(ISBLANK(A3733),\"\",VLOOKUP(A3733,base_itens,2,FALSE))","v":""}]
[null,{"$f":"IF(ISBLANK(A3734),\"\",VLOOKUP(A3734,base_itens,2,FALSE))","v":""}]
[null,{"$f":"IF(ISBLANK(A3735),\"\",VLOOKUP(A3735,base_itens,2,FALSE))","v":""}]
[null,{"$f":"IF(ISBLANK(A3736),\"\",VLOOKUP(A3736,base_itens,2,FALSE))","v":""}]
[null,{"$f":"IF(ISBLANK(A3737),\"\",VLOOKUP(A3737,base_itens,2,FALSE))","v":""}]
[null,{"$f":"IF(ISBLANK(A3738),\"\",VLOOKUP(A3738,base_itens,2,FALSE))","v":""}]
[null,{"$f":"IF(ISBLANK(A3739),\"\",VLOOKUP(A3739,base_itens,2,FALSE))","v":""}]
[null,{"$f":"IF(ISBLANK(A3740),\"\",VLOOKUP(A3740,base_itens,2,FALSE))","v":""}]
[null,{"$f":"IF(ISBLANK(A3741),\"\",VLOOKUP(A3741,base_itens,2,FALSE))","v":""}]
[null,{"$f":"IF(ISBLANK(A3742),\"\",VLOOKUP(A3742,base_itens,2,FALSE))","v":""}]
[null,{"$f":"IF(ISBLANK(A3743),\"\",VLOOKUP(A3743,base_itens,2,FALSE))","v":""}]
[null,{"$f":"IF(ISBLANK(A3744),\"\",VLOOKUP(A3744,base_itens,2,FALSE))","v":""}]
[null,{"$f":"IF(ISBLANK(A3745),\"\",VLOOKUP(A3745,base_itens,2,FALSE))","v":""}]
[null,{"$f":"IF(ISBLANK(A3746),\"\",VLOOKUP(A3746,base_itens,2,FALSE))","v":""}]
[null,{"$f":"IF(ISBLANK(A3747),\"\",VLOOKUP(A3747,base_itens,2,FALSE))","v":""}]
[null,{"$f":"IF(ISBLANK(A3748),\"\",VLOOKUP(A3748,base_itens,2,FALSE))","v":""}]
[null,{"$f":"IF(ISBLANK(A3749),\"\",VLOOKUP(A3749,base_itens,2,FALSE))","v":""}]
[null,{"$f":"IF(ISBLANK(A3750),\"\",VLOOKUP(A3750,base_itens,2,FALSE))","v":""}]
[null,{"$f":"IF(ISBLANK(A3751),\"\",VLOOKUP(A3751,base_itens,2,FALSE))","v":""}]
[null,{"$f":"IF(ISBLANK(A3752),\"\",VLOOKUP(A3752,base_itens,2,FALSE))","v":""}]
[null,{"$f":"IF(ISBLANK(A3753),\"\",VLOOKUP(A3753,base_itens,2,FALSE))","v":""}]
[null,{"$f":"IF(ISBLANK(A3754),\"\",VLOOKUP(A3754,base_itens,2,FALSE))","v":""}]
[null,{"$f":"IF(ISBLANK(A3755),\"\",VLOOKUP(A3755,base_itens,2,FALSE))","v":""}]
[null,{"$f":"IF(ISBLANK(A3756),\"\",VLOOKUP(A3756,base_itens,2,FALSE))","v":""}]
[null,{"$f":"IF(ISBLANK(A3757),\"\",VLOOKUP(A3757,base_itens,2,FALSE))","v":""}]
[null,{"$f":"IF(ISBLANK(A3758),\"\",VLOOKUP(A3758,base_itens,2,FALSE))","v":""}]
[null,{"$f":"IF(ISBLANK(A3759),\"\",VLOOKUP(A3759,base_itens,2,FALSE))","v":""}]
[null,{"$f":"IF(ISBLANK(A3760),\"\",VLOOKUP(A3760,base_itens,2,FALSE))","v":""}]
[null,{"$f":"IF(ISBLANK(A3761),\"\",VLOOKUP(A3761,base_itens,2,FALSE))","v":""}]
[null,{"$f":"IF(ISBLANK(A3762),\"\",VLOOKUP(A3762,base_itens,2,FALSE))","v":""}]
[null,{"$f":"IF(ISBLANK(A3763),\"\",VLOOKUP(A3763,base_itens,2,FALSE))","v":""}]
[null,{"$f":"IF(ISBLANK(A3764),\"\",VLOOKUP(A3764,base_itens,2,FALSE))","v":""}]
[null,{"$f":"IF(ISBLANK(A3765),\"\",VLOOKUP(A3765,base_itens,2,FALSE))","v":""}]
[null,{"$f":"IF(ISBLANK(A3766),\"\",VLOOKUP(A3766,base_itens,2,FALSE))","v":""}]
[null,{"$f":"IF(ISBLANK(A3767),\"\",VLOOKUP(A3767,base_itens,2,FALSE))","v":""}]
[null,{"$f":"IF(ISBLANK(A3768),\"\",VLOOKUP(A3768,base_itens,2,FALSE))","v":""}]
[null,{"$f":"IF(ISBLANK(A3769),\"\",VLOOKUP(A3769,base_itens,2,FALSE))","v":""}]
[null,{"$f":"IF(ISBLANK(A3770),\"\",VLOOKUP(A3770,base_itens,2,FALSE))","v":""}]
[null,{"$f":"IF(ISBLANK(A3771),\"\",VLOOKUP(A3771,base_itens,2,FALSE))","v":""}]
[null,{"$f":"IF(ISBLANK(A3772),\"\",VLOOKUP(A3772,base_itens,2,FALSE))","v":""}]
[null,{"$f":"IF(ISBLANK(A3773),\"\",VLOOKUP(A3773,base_itens,2,FALSE))","v":""}]
[null,{"$f":"IF(ISBLANK(A3774),\"\",VLOOKUP(A3774,base_itens,2,FALSE))","v":""}]
[null,{"$f":"IF(ISBLANK(A3775),\"\",VLOOKUP(A3775,base_itens,2,FALSE))","v":""}]
[null,{"$f":"IF(ISBLANK(A3776),\"\",VLOOKUP(A3776,base_itens,2,FALSE))","v":""}]
[null,{"$f":"IF(ISBLANK(A3777),\"\",VLOOKUP(A3777,base_itens,2,FALSE))","v":""}]
[null,{"$f":"IF(ISBLANK(A3778),\"\",VLOOKUP(A3778,base_itens,2,FALSE))","v":""}]
[null,{"$f":"IF(ISBLANK(A3779),\"\",VLOOKUP(A3779,base_itens,2,FALSE))","v":""}]
[null,{"$f":"IF(ISBLANK(A3780),\"\",VLOOKUP(A3780,base_itens,2,FALSE))","v":""}]
[null,{"$f":"IF(ISBLANK(A3781),\"\",VLOOKUP(A3781,base_itens,2,FALSE))","v":""}]
[null,{"$f":"IF(ISBLANK(A3782),\"\",VLOOKUP(A3782,base_itens,2,FALSE))","v":""}]
[null,{"$f":"IF(ISBLANK(A3783),\"\",VLOOKUP(A3783,base_itens,2,FALSE))","v":""}]
[null,{"$f":"IF(ISBLANK(A3784),\"\",VLOOKUP(A3784,base_itens,2,FALSE))","v":""}]
[null,{"$f":"IF(ISBLANK(A3785),\"\",VLOOKUP(A3785,base_itens,2,FALSE))","v":""}]
[null,{"$f":"IF(ISBLANK(A3786),\"\",VLOOKUP(A3786,base_itens,2,FALSE))","v":""}]
[null,{"$f":"IF(ISBLANK(A3787),\"\",VLOOKUP(A3787,base_itens,2,FALSE))","v":""}]
[null,{"$f":"IF(ISBLANK(A3788),\"\",VLOOKUP(A3788,base_itens,2,FALSE))","v":""}]
[null,{"$f":"IF(ISBLANK(A3789),\"\",VLOOKUP(A3789,base_itens,2,FALSE))","v":""}]
[null,{"$f":"IF(ISBLANK(A3790),\"\",VLOOKUP(A3790,base_itens,2,FALSE))","v":""}]
[null,{"$f":"IF(ISBLANK(A3791),\"\",VLOOKUP(A3791,base_itens,2,FALSE))","v":""}]
[null,{"$f":"IF(ISBLANK(A3792),\"\",VLOOKUP(A3792,base_itens,2,FALSE))","v":""}]
[null,{"$f":"IF(ISBLANK(A3793),\"\",VLOOKUP(A3793,base_itens,2,FALSE))","v":""}]
[null,{"$f":"IF(ISBLANK(A3794),\"\",VLOOKUP(A3794,base_itens,2,FALSE))","v":""}]
[null,{"$f":"IF(ISBLANK(A3795),\"\",VLOOKUP(A3795,base_itens,2,FALSE))","v":""}]
[null,{"$f":"IF(ISBLANK(A3796),\"\",VLOOKUP(A3796,base_itens,2,FALSE))","v":""}]
[null,{"$f":"IF(ISBLANK(A3797),\"\",VLOOKUP(A3797,base_itens,2,FALSE))","v":""}]
[null,{"$f":"IF(ISBLANK(A3798),\"\",VLOOKUP(A3798,base_itens,2,FALSE))","v":""}]
[null,{"$f":"IF(ISBLANK(A3799),\"\",VLOOKUP(A3799,base_itens,2,FALSE))","v":""}]
[null,{"$f":"IF(ISBLANK(A3800),\"\",VLOOKUP(A3800,base_itens,2,FALSE))","v":""}]
[null,{"$f":"IF(ISBLANK(A3801),\"\",VLOOKUP(A3801,base_itens,2,FALSE))","v":""}]
[null,{"$f":"IF(ISBLANK(A3802),\"\",VLOOKUP(A3802,base_itens,2,FALSE))","v":""}]
[null,{"$f":"IF(ISBLANK(A3803),\"\",VLOOKUP(A3803,base_itens,2,FALSE))","v":""}]
[null,{"$f":"IF(ISBLANK(A3804),\"\",VLOOKUP(A3804,base_itens,2,FALSE))","v":""}]
[null,{"$f":"IF(ISBLANK(A3805),\"\",VLOOKUP(A3805,base_itens,2,FALSE))","v":""}]
[null,{"$f":"IF(ISBLANK(A3806),\"\",VLOOKUP(A3806,base_itens,2,FALSE))","v":""}]
[null,{"$f":"IF(ISBLANK(A3807),\"\",VLOOKUP(A3807,base_itens,2,FALSE))","v":""}]
[null,{"$f":"IF(ISBLANK(A3808),\"\",VLOOKUP(A3808,base_itens,2,FALSE))","v":""}]
[null,{"$f":"IF(ISBLANK(A3809),\"\",VLOOKUP(A3809,base_itens,2,FALSE))","v":""}]
[null,{"$f":"IF(ISBLANK(A3810),\"\",VLOOKUP(A3810,base_itens,2,FALSE))","v":""}]
[null,{"$f":"IF(ISBLANK(A3811),\"\",VLOOKUP(A3811,base_itens,2,FALSE))","v":""}]
[null,{"$f":"IF(ISBLANK(A3812),\"\",VLOOKUP(A3812,base_itens,2,FALSE))","v":""}]
[null,{"$f":"IF(ISBLANK(A3813),\"\",VLOOKUP(A3813,base_itens,2,FALSE))","v":""}]
[null,{"$f":"IF(ISBLANK(A3814),\"\",VLOOKUP(A3814,base_itens,2,FALSE))","v":""}]
[null,{"$f":"IF(ISBLANK(A3815),\"\",VLOOKUP(A3815,base_itens,2,FALSE))","v":""}]
[null,{"$f":"IF(ISBLANK(A3816),\"\",VLOOKUP(A3816,base_itens,2,FALSE))","v":""}]
[null,{"$f":"IF(ISBLANK(A3817),\"\",VLOOKUP(A3817,base_itens,2,FALSE))","v":""}]
[null,{"$f":"IF(ISBLANK(A3818),\"\",VLOOKUP(A3818,base_itens,2,FALSE))","v":""}]
[null,{"$f":"IF(ISBLANK(A3819),\"\",VLOOKUP(A3819,base_itens,2,FALSE))","v":""}]
[null,{"$f":"IF(ISBLANK(A3820),\"\",VLOOKUP(A3820,base_itens,2,FALSE))","v":""}]
[null,{"$f":"IF(ISBLANK(A3821),\"\",VLOOKUP(A3821,base_itens,2,FALSE))","v":""}]
[null,{"$f":"IF(ISBLANK(A3822),\"\",VLOOKUP(A3822,base_itens,2,FALSE))","v":""}]
[null,{"$f":"IF(ISBLANK(A3823),\"\",VLOOKUP(A3823,base_itens,2,FALSE))","v":""}]
[null,{"$f":"IF(ISBLANK(A3824),\"\",VLOOKUP(A3824,base_itens,2,FALSE))","v":""}]
[null,{"$f":"IF(ISBLANK(A3825),\"\",VLOOKUP(A3825,base_itens,2,FALSE))","v":""}]
[null,{"$f":"IF(ISBLANK(A3826),\"\",VLOOKUP(A3826,base_itens,2,FALSE))","v":""}]
[null,{"$f":"IF(ISBLANK(A3827),\"\",VLOOKUP(A3827,base_itens,2,FALSE))","v":""}]
[null,{"$f":"IF(ISBLANK(A3828),\"\",VLOOKUP(A3828,base_itens,2,FALSE))","v":""}]
[null,{"$f":"IF(ISBLANK(A3829),\"\",VLOOKUP(A3829,base_itens,2,FALSE))","v":""}]
[null,{"$f":"IF(ISBLANK(A3830),\"\",VLOOKUP(A3830,base_itens,2,FALSE))","v":""}]
[null,{"$f":"IF(ISBLANK(A3831),\"\",VLOOKUP(A3831,base_itens,2,FALSE))","v":""}]
[null,{"$f":"IF(ISBLANK(A3832),\"\",VLOOKUP(A3832,base_itens,2,FALSE))","v":""}]
[null,{"$f":"IF(ISBLANK(A3833),\"\",VLOOKUP(A3833,base_itens,2,FALSE))","v":""}]
[null,{"$f":"IF(ISBLANK(A3834),\"\",VLOOKUP(A3834,base_itens,2,FALSE))","v":""}]
[null,{"$f":"IF(ISBLANK(A3835),\"\",VLOOKUP(A3835,base_itens,2,FALSE))","v":""}]
[null,{"$f":"IF(ISBLANK(A3836),\"\",VLOOKUP(A3836,base_itens,2,FALSE))","v":""}]
[null,{"$f":"IF(ISBLANK(A3837),\"\",VLOOKUP(A3837,base_itens,2,FALSE))","v":""}]
[null,{"$f":"IF(ISBLANK(A3838),\"\",VLOOKUP(A3838,base_itens,2,FALSE))","v":""}]
[null,{"$f":"IF(ISBLANK(A3839),\"\",VLOOKUP(A3839,base_itens,2,FALSE))","v":""}]
[null,{"$f":"IF(ISBLANK(A3840),\"\",VLOOKUP(A3840,base_itens,2,FALSE))","v":""}]
[null,{"$f":"IF(ISBLANK(A3841),\"\",VLOOKUP(A3841,base_itens,2,FALSE))","v":""}]
[null,{"$f":"IF(ISBLANK(A3842),\"\",VLOOKUP(A3842,base_itens,2,FALSE))","v":""}]
[null,{"$f":"IF(ISBLANK(A3843),\"\",VLOOKUP(A3843,base_itens,2,FALSE))","v":""}]
[null,{"$f":"IF(ISBLANK(A3844),\"\",VLOOKUP(A3844,base_itens,2,FALSE))","v":""}]
[null,{"$f":"IF(ISBLANK(A3845),\"\",VLOOKUP(A3845,base_itens,2,FALSE))","v":""}]
[null,{"$f":"IF(ISBLANK(A3846),\"\",VLOOKUP(A3846,base_itens,2,FALSE))","v":""}]
[null,{"$f":"IF(ISBLANK(A3847),\"\",VLOOKUP(A3847,base_itens,2,FALSE))","v":""}]
[null,{"$f":"IF(ISBLANK(A3848),\"\",VLOOKUP(A3848,base_itens,2,FALSE))","v":""}]
[null,{"$f":"IF(ISBLANK(A3849),\"\",VLOOKUP(A3849,base_itens,2,FALSE))","v":""}]
[null,{"$f":"IF(ISBLANK(A3850),\"\",VLOOKUP(A3850,base_itens,2,FALSE))","v":""}]
[null,{"$f":"IF(ISBLANK(A3851),\"\",VLOOKUP(A3851,base_itens,2,FALSE))","v":""}]
[null,{"$f":"IF(ISBLANK(A3852),\"\",VLOOKUP(A3852,base_itens,2,FALSE))","v":""}]
[null,{"$f":"IF(ISBLANK(A3853),\"\",VLOOKUP(A3853,base_itens,2,FALSE))","v":""}]
[null,{"$f":"IF(ISBLANK(A3854),\"\",VLOOKUP(A3854,base_itens,2,FALSE))","v":""}]
[null,{"$f":"IF(ISBLANK(A3855),\"\",VLOOKUP(A3855,base_itens,2,FALSE))","v":""}]
[null,{"$f":"IF(ISBLANK(A3856),\"\",VLOOKUP(A3856,base_itens,2,FALSE))","v":""}]
[null,{"$f":"IF(ISBLANK(A3857),\"\",VLOOKUP(A3857,base_itens,2,FALSE))","v":""}]
[null,{"$f":"IF(ISBLANK(A3858),\"\",VLOOKUP(A3858,base_itens,2,FALSE))","v":""}]
[null,{"$f":"IF(ISBLANK(A3859),\"\",VLOOKUP(A3859,base_itens,2,FALSE))","v":""}]
[null,{"$f":"IF(ISBLANK(A3860),\"\",VLOOKUP(A3860,base_itens,2,FALSE))","v":""}]
[null,{"$f":"IF(ISBLANK(A3861),\"\",VLOOKUP(A3861,base_itens,2,FALSE))","v":""}]
[null,{"$f":"IF(ISBLANK(A3862),\"\",VLOOKUP(A3862,base_itens,2,FALSE))","v":""}]
[null,{"$f":"IF(ISBLANK(A3863),\"\",VLOOKUP(A3863,base_itens,2,FALSE))","v":""}]
[null,{"$f":"IF(ISBLANK(A3864),\"\",VLOOKUP(A3864,base_itens,2,FALSE))","v":""}]
[null,{"$f":"IF(ISBLANK(A3865),\"\",VLOOKUP(A3865,base_itens,2,FALSE))","v":""}]
[null,{"$f":"IF(ISBLANK(A3866),\"\",VLOOKUP(A3866,base_itens,2,FALSE))","v":""}]
[null,{"$f":"IF(ISBLANK(A3867),\"\",VLOOKUP(A3867,base_itens,2,FALSE))","v":""}]
[null,{"$f":"IF(ISBLANK(A3868),\"\",VLOOKUP(A3868,base_itens,2,FALSE))","v":""}]
[null,{"$f":"IF(ISBLANK(A3869),\"\",VLOOKUP(A3869,base_itens,2,FALSE))","v":""}]
[null,{"$f":"IF(ISBLANK(A3870),\"\",VLOOKUP(A3870,base_itens,2,FALSE))","v":""}]
[null,{"$f":"IF(ISBLANK(A3871),\"\",VLOOKUP(A3871,base_itens,2,FALSE))","v":""}]
[null,{"$f":"IF(ISBLANK(A3872),\"\",VLOOKUP(A3872,base_itens,2,FALSE))","v":""}]
[null,{"$f":"IF(ISBLANK(A3873),\"\",VLOOKUP(A3873,base_itens,2,FALSE))","v":""}]
[null,{"$f":"IF(ISBLANK(A3874),\"\",VLOOKUP(A3874,base_itens,2,FALSE))","v":""}]
[null,{"$f":"IF(ISBLANK(A3875),\"\",VLOOKUP(A3875,base_itens,2,FALSE))","v":""}]
[null,{"$f":"IF(ISBLANK(A3876),\"\",VLOOKUP(A3876,base_itens,2,FALSE))","v":""}]
[null,{"$f":"IF(ISBLANK(A3877),\"\",VLOOKUP(A3877,base_itens,2,FALSE))","v":""}]
[null,{"$f":"IF(ISBLANK(A3878),\"\",VLOOKUP(A3878,base_itens,2,FALSE))","v":""}]
[null,{"$f":"IF(ISBLANK(A3879),\"\",VLOOKUP(A3879,base_itens,2,FALSE))","v":""}]
[null,{"$f":"IF(ISBLANK(A3880),\"\",VLOOKUP(A3880,base_itens,2,FALSE))","v":""}]
[null,{"$f":"IF(ISBLANK(A3881),\"\",VLOOKUP(A3881,base_itens,2,FALSE))","v":""}]
[null,{"$f":"IF(ISBLANK(A3882),\"\",VLOOKUP(A3882,base_itens,2,FALSE))","v":""}]
[null,{"$f":"IF(ISBLANK(A3883),\"\",VLOOKUP(A3883,base_itens,2,FALSE))","v":""}]
[null,{"$f":"IF(ISBLANK(A3884),\"\",VLOOKUP(A3884,base_itens,2,FALSE))","v":""}]
[null,{"$f":"IF(ISBLANK(A3885),\"\",VLOOKUP(A3885,base_itens,2,FALSE))","v":""}]
[null,{"$f":"IF(ISBLANK(A3886),\"\",VLOOKUP(A3886,base_itens,2,FALSE))","v":""}]
[null,{"$f":"IF(ISBLANK(A3887),\"\",VLOOKUP(A3887,base_itens,2,FALSE))","v":""}]
[null,{"$f":"IF(ISBLANK(A3888),\"\",VLOOKUP(A3888,base_itens,2,FALSE))","v":""}]
[null,{"$f":"IF(ISBLANK(A3889),\"\",VLOOKUP(A3889,base_itens,2,FALSE))","v":""}]
[null,{"$f":"IF(ISBLANK(A3890),\"\",VLOOKUP(A3890,base_itens,2,FALSE))","v":""}]
[null,{"$f":"IF(ISBLANK(A3891),\"\",VLOOKUP(A3891,base_itens,2,FALSE))","v":""}]
[null,{"$f":"IF(ISBLANK(A3892),\"\",VLOOKUP(A3892,base_itens,2,FALSE))","v":""}]
[null,{"$f":"IF(ISBLANK(A3893),\"\",VLOOKUP(A3893,base_itens,2,FALSE))","v":""}]
[null,{"$f":"IF(ISBLANK(A3894),\"\",VLOOKUP(A3894,base_itens,2,FALSE))","v":""}]
[null,{"$f":"IF(ISBLANK(A3895),\"\",VLOOKUP(A3895,base_itens,2,FALSE))","v":""}]
[null,{"$f":"IF(ISBLANK(A3896),\"\",VLOOKUP(A3896,base_itens,2,FALSE))","v":""}]
[null,{"$f":"IF(ISBLANK(A3897),\"\",VLOOKUP(A3897,base_itens,2,FALSE))","v":""}]
[null,{"$f":"IF(ISBLANK(A3898),\"\",VLOOKUP(A3898,base_itens,2,FALSE))","v":""}]
[null,{"$f":"IF(ISBLANK(A3899),\"\",VLOOKUP(A3899,base_itens,2,FALSE))","v":""}]
[null,{"$f":"IF(ISBLANK(A3900),\"\",VLOOKUP(A3900,base_itens,2,FALSE))","v":""}]
[null,{"$f":"IF(ISBLANK(A3901),\"\",VLOOKUP(A3901,base_itens,2,FALSE))","v":""}]
[null,{"$f":"IF(ISBLANK(A3902),\"\",VLOOKUP(A3902,base_itens,2,FALSE))","v":""}]
[null,{"$f":"IF(ISBLANK(A3903),\"\",VLOOKUP(A3903,base_itens,2,FALSE))","v":""}]
[null,{"$f":"IF(ISBLANK(A3904),\"\",VLOOKUP(A3904,base_itens,2,FALSE))","v":""}]
[null,{"$f":"IF(ISBLANK(A3905),\"\",VLOOKUP(A3905,base_itens,2,FALSE))","v":""}]
[null,{"$f":"IF(ISBLANK(A3906),\"\",VLOOKUP(A3906,base_itens,2,FALSE))","v":""}]
[null,{"$f":"IF(ISBLANK(A3907),\"\",VLOOKUP(A3907,base_itens,2,FALSE))","v":""}]
[null,{"$f":"IF(ISBLANK(A3908),\"\",VLOOKUP(A3908,base_itens,2,FALSE))","v":""}]
[null,{"$f":"IF(ISBLANK(A3909),\"\",VLOOKUP(A3909,base_itens,2,FALSE))","v":""}]
[null,{"$f":"IF(ISBLANK(A3910),\"\",VLOOKUP(A3910,base_itens,2,FALSE))","v":""}]
[null,{"$f":"IF(ISBLANK(A3911),\"\",VLOOKUP(A3911,base_itens,2,FALSE))","v":""}]
[null,{"$f":"IF(ISBLANK(A3912),\"\",VLOOKUP(A3912,base_itens,2,FALSE))","v":""}]
[null,{"$f":"IF(ISBLANK(A3913),\"\",VLOOKUP(A3913,base_itens,2,FALSE))","v":""}]
[null,{"$f":"IF(ISBLANK(A3914),\"\",VLOOKUP(A3914,base_itens,2,FALSE))","v":""}]
[null,{"$f":"IF(ISBLANK(A3915),\"\",VLOOKUP(A3915,base_itens,2,FALSE))","v":""}]
[null,{"$f":"IF(ISBLANK(A3916),\"\",VLOOKUP(A3916,base_itens,2,FALSE))","v":""}]
[null,{"$f":"IF(ISBLANK(A3917),\"\",VLOOKUP(A3917,base_itens,2,FALSE))","v":""}]
[null,{"$f":"IF(ISBLANK(A3918),\"\",VLOOKUP(A3918,base_itens,2,FALSE))","v":""}]
[null,{"$f":"IF(ISBLANK(A3919),\"\",VLOOKUP(A3919,base_itens,2,FALSE))","v":""}]
[null,{"$f":"IF(ISBLANK(A3920),\"\",VLOOKUP(A3920,base_itens,2,FALSE))","v":""}]
[null,{"$f":"IF(ISBLANK(A3921),\"\",VLOOKUP(A3921,base_itens,2,FALSE))","v":""}]
[null,{"$f":"IF(ISBLANK(A3922),\"\",VLOOKUP(A3922,base_itens,2,FALSE))","v":""}]
[null,{"$f":"IF(ISBLANK(A3923),\"\",VLOOKUP(A3923,base_itens,2,FALSE))","v":""}]
[null,{"$f":"IF(ISBLANK(A3924),\"\",VLOOKUP(A3924,base_itens,2,FALSE))","v":""}]
[null,{"$f":"IF(ISBLANK(A3925),\"\",VLOOKUP(A3925,base_itens,2,FALSE))","v":""}]
[null,{"$f":"IF(ISBLANK(A3926),\"\",VLOOKUP(A3926,base_itens,2,FALSE))","v":""}]
[null,{"$f":"IF(ISBLANK(A3927),\"\",VLOOKUP(A3927,base_itens,2,FALSE))","v":""}]
[null,{"$f":"IF(ISBLANK(A3928),\"\",VLOOKUP(A3928,base_itens,2,FALSE))","v":""}]
[null,{"$f":"IF(ISBLANK(A3929),\"\",VLOOKUP(A3929,base_itens,2,FALSE))","v":""}]
[null,{"$f":"IF(ISBLANK(A3930),\"\",VLOOKUP(A3930,base_itens,2,FALSE))","v":""}]
[null,{"$f":"IF(ISBLANK(A3931),\"\",VLOOKUP(A3931,base_itens,2,FALSE))","v":""}]
[null,{"$f":"IF(ISBLANK(A3932),\"\",VLOOKUP(A3932,base_itens,2,FALSE))","v":""}]
[null,{"$f":"IF(ISBLANK(A3933),\"\",VLOOKUP(A3933,base_itens,2,FALSE))","v":""}]
[null,{"$f":"IF(ISBLANK(A3934),\"\",VLOOKUP(A3934,base_itens,2,FALSE))","v":""}]
[null,{"$f":"IF(ISBLANK(A3935),\"\",VLOOKUP(A3935,base_itens,2,FALSE))","v":""}]
[null,{"$f":"IF(ISBLANK(A3936),\"\",VLOOKUP(A3936,base_itens,2,FALSE))","v":""}]
[null,{"$f":"IF(ISBLANK(A3937),\"\",VLOOKUP(A3937,base_itens,2,FALSE))","v":""}]
[null,{"$f":"IF(ISBLANK(A3938),\"\",VLOOKUP(A3938,base_itens,2,FALSE))","v":""}]
[null,{"$f":"IF(ISBLANK(A3939),\"\",VLOOKUP(A3939,base_itens,2,FALSE))","v":""}]
[null,{"$f":"IF(ISBLANK(A3940),\"\",VLOOKUP(A3940,base_itens,2,FALSE))","v":""}]
[null,{"$f":"IF(ISBLANK(A3941),\"\",VLOOKUP(A3941,base_itens,2,FALSE))","v":""}]
[null,{"$f":"IF(ISBLANK(A3942),\"\",VLOOKUP(A3942,base_itens,2,FALSE))","v":""}]
[null,{"$f":"IF(ISBLANK(A3943),\"\",VLOOKUP(A3943,base_itens,2,FALSE))","v":""}]
[null,{"$f":"IF(ISBLANK(A3944),\"\",VLOOKUP(A3944,base_itens,2,FALSE))","v":""}]
[null,{"$f":"IF(ISBLANK(A3945),\"\",VLOOKUP(A3945,base_itens,2,FALSE))","v":""}]
[null,{"$f":"IF(ISBLANK(A3946),\"\",VLOOKUP(A3946,base_itens,2,FALSE))","v":""}]
[null,{"$f":"IF(ISBLANK(A3947),\"\",VLOOKUP(A3947,base_itens,2,FALSE))","v":""}]
[null,{"$f":"IF(ISBLANK(A3948),\"\",VLOOKUP(A3948,base_itens,2,FALSE))","v":""}]
[null,{"$f":"IF(ISBLANK(A3949),\"\",VLOOKUP(A3949,base_itens,2,FALSE))","v":""}]
[null,{"$f":"IF(ISBLANK(A3950),\"\",VLOOKUP(A3950,base_itens,2,FALSE))","v":""}]
[null,{"$f":"IF(ISBLANK(A3951),\"\",VLOOKUP(A3951,base_itens,2,FALSE))","v":""}]
[null,{"$f":"IF(ISBLANK(A3952),\"\",VLOOKUP(A3952,base_itens,2,FALSE))","v":""}]
[null,{"$f":"IF(ISBLANK(A3953),\"\",VLOOKUP(A3953,base_itens,2,FALSE))","v":""}]
[null,{"$f":"IF(ISBLANK(A3954),\"\",VLOOKUP(A3954,base_itens,2,FALSE))","v":""}]
[null,{"$f":"IF(ISBLANK(A3955),\"\",VLOOKUP(A3955,base_itens,2,FALSE))","v":""}]
[null,{"$f":"IF(ISBLANK(A3956),\"\",VLOOKUP(A3956,base_itens,2,FALSE))","v":""}]
[null,{"$f":"IF(ISBLANK(A3957),\"\",VLOOKUP(A3957,base_itens,2,FALSE))","v":""}]
[null,{"$f":"IF(ISBLANK(A3958),\"\",VLOOKUP(A3958,base_itens,2,FALSE))","v":""}]
[null,{"$f":"IF(ISBLANK(A3959),\"\",VLOOKUP(A3959,base_itens,2,FALSE))","v":""}]
[null,{"$f":"IF(ISBLANK(A3960),\"\",VLOOKUP(A3960,base_itens,2,FALSE))","v":""}]
[null,{"$f":"IF(ISBLANK(A3961),\"\",VLOOKUP(A3961,base_itens,2,FALSE))","v":""}]
[null,{"$f":"IF(ISBLANK(A3962),\"\",VLOOKUP(A3962,base_itens,2,FALSE))","v":""}]
[null,{"$f":"IF(ISBLANK(A3963),\"\",VLOOKUP(A3963,base_itens,2,FALSE))","v":""}]
[null,{"$f":"IF(ISBLANK(A3964),\"\",VLOOKUP(A3964,base_itens,2,FALSE))","v":""}]
[null,{"$f":"IF(ISBLANK(A3965),\"\",VLOOKUP(A3965,base_itens,2,FALSE))","v":""}]
[null,{"$f":"IF(ISBLANK(A3966),\"\",VLOOKUP(A3966,base_itens,2,FALSE))","v":""}]
[null,{"$f":"IF(ISBLANK(A3967),\"\",VLOOKUP(A3967,base_itens,2,FALSE))","v":""}]
[null,{"$f":"IF(ISBLANK(A3968),\"\",VLOOKUP(A3968,base_itens,2,FALSE))","v":""}]
[null,{"$f":"IF(ISBLANK(A3969),\"\",VLOOKUP(A3969,base_itens,2,FALSE))","v":""}]
[null,{"$f":"IF(ISBLANK(A3970),\"\",VLOOKUP(A3970,base_itens,2,FALSE))","v":""}]
[null,{"$f":"IF(ISBLANK(A3971),\"\",VLOOKUP(A3971,base_itens,2,FALSE))","v":""}]
[null,{"$f":"IF(ISBLANK(A3972),\"\",VLOOKUP(A3972,base_itens,2,FALSE))","v":""}]
[null,{"$f":"IF(ISBLANK(A3973),\"\",VLOOKUP(A3973,base_itens,2,FALSE))","v":""}]
[null,{"$f":"IF(ISBLANK(A3974),\"\",VLOOKUP(A3974,base_itens,2,FALSE))","v":""}]
[null,{"$f":"IF(ISBLANK(A3975),\"\",VLOOKUP(A3975,base_itens,2,FALSE))","v":""}]
[null,{"$f":"IF(ISBLANK(A3976),\"\",VLOOKUP(A3976,base_itens,2,FALSE))","v":""}]
[null,{"$f":"IF(ISBLANK(A3977),\"\",VLOOKUP(A3977,base_itens,2,FALSE))","v":""}]
[null,{"$f":"IF(ISBLANK(A3978),\"\",VLOOKUP(A3978,base_itens,2,FALSE))","v":""}]
[null,{"$f":"IF(ISBLANK(A3979),\"\",VLOOKUP(A3979,base_itens,2,FALSE))","v":""}]
[null,{"$f":"IF(ISBLANK(A3980),\"\",VLOOKUP(A3980,base_itens,2,FALSE))","v":""}]
[null,{"$f":"IF(ISBLANK(A3981),\"\",VLOOKUP(A3981,base_itens,2,FALSE))","v":""}]
[null,{"$f":"IF(ISBLANK(A3982),\"\",VLOOKUP(A3982,base_itens,2,FALSE))","v":""}]
[null,{"$f":"IF(ISBLANK(A3983),\"\",VLOOKUP(A3983,base_itens,2,FALSE))","v":""}]
[null,{"$f":"IF(ISBLANK(A3984),\"\",VLOOKUP(A3984,base_itens,2,FALSE))","v":""}]
[null,{"$f":"IF(ISBLANK(A3985),\"\",VLOOKUP(A3985,base_itens,2,FALSE))","v":""}]
[null,{"$f":"IF(ISBLANK(A3986),\"\",VLOOKUP(A3986,base_itens,2,FALSE))","v":""}]
[null,{"$f":"IF(ISBLANK(A3987),\"\",VLOOKUP(A3987,base_itens,2,FALSE))","v":""}]
[null,{"$f":"IF(ISBLANK(A3988),\"\",VLOOKUP(A3988,base_itens,2,FALSE))","v":""}]
[null,{"$f":"IF(ISBLANK(A3989),\"\",VLOOKUP(A3989,base_itens,2,FALSE))","v":""}]
[null,{"$f":"IF(ISBLANK(A3990),\"\",VLOOKUP(A3990,base_itens,2,FALSE))","v":""}]
[null,{"$f":"IF(ISBLANK(A3991),\"\",VLOOKUP(A3991,base_itens,2,FALSE))","v":""}]
[null,{"$f":"IF(ISBLANK(A3992),\"\",VLOOKUP(A3992,base_itens,2,FALSE))","v":""}]
[null,{"$f":"IF(ISBLANK(A3993),\"\",VLOOKUP(A3993,base_itens,2,FALSE))","v":""}]
[null,{"$f":"IF(ISBLANK(A3994),\"\",VLOOKUP(A3994,base_itens,2,FALSE))","v":""}]
[null,{"$f":"IF(ISBLANK(A3995),\"\",VLOOKUP(A3995,base_itens,2,FALSE))","v":""}]
[null,{"$f":"IF(ISBLANK(A3996),\"\",VLOOKUP(A3996,base_itens,2,FALSE))","v":""}]
[null,{"$f":"IF(ISBLANK(A3997),\"\",VLOOKUP(A3997,base_itens,2,FALSE))","v":""}]
[null,{"$f":"IF(ISBLANK(A3998),\"\",VLOOKUP(A3998,base_itens,2,FALSE))","v":""}]
[null,{"$f":"IF(ISBLANK(A3999),\"\",VLOOKUP(A3999,base_itens,2,FALSE))","v":""}]
[null,{"$f":"IF(ISBLANK(A4000),\"\",VLOOKUP(A4000,base_itens,2,FALSE))","v":""}]
[null,{"$f":"IF(ISBLANK(A4001),\"\",VLOOKUP(A4001,base_itens,2,FALSE))","v":""}]
[null,{"$f":"IF(ISBLANK(A4002),\"\",VLOOKUP(A4002,base_itens,2,FALSE))","v":""}]
[null,{"$f":"IF(ISBLANK(A4003),\"\",VLOOKUP(A4003,base_itens,2,FALSE))","v":""}]
[null,{"$f":"IF(ISBLANK(A4004),\"\",VLOOKUP(A4004,base_itens,2,FALSE))","v":""}]
[null,{"$f":"IF(ISBLANK(A4005),\"\",VLOOKUP(A4005,base_itens,2,FALSE))","v":""}]
[null,{"$f":"IF(ISBLANK(A4006),\"\",VLOOKUP(A4006,base_itens,2,FALSE))","v":""}]
[null,{"$f":"IF(ISBLANK(A4007),\"\",VLOOKUP(A4007,base_itens,2,FALSE))","v":""}]
[null,{"$f":"IF(ISBLANK(A4008),\"\",VLOOKUP(A4008,base_itens,2,FALSE))","v":""}]
[null,{"$f":"IF(ISBLANK(A4009),\"\",VLOOKUP(A4009,base_itens,2,FALSE))","v":""}]
[null,{"$f":"IF(ISBLANK(A4010),\"\",VLOOKUP(A4010,base_itens,2,FALSE))","v":""}]
[null,{"$f":"IF(ISBLANK(A4011),\"\",VLOOKUP(A4011,base_itens,2,FALSE))","v":""}]
[null,{"$f":"IF(ISBLANK(A4012),\"\",VLOOKUP(A4012,base_itens,2,FALSE))","v":""}]
[null,{"$f":"IF(ISBLANK(A4013),\"\",VLOOKUP(A4013,base_itens,2,FALSE))","v":""}]
[null,{"$f":"IF(ISBLANK(A4014),\"\",VLOOKUP(A4014,base_itens,2,FALSE))","v":""}]
[null,{"$f":"IF(ISBLANK(A4015),\"\",VLOOKUP(A4015,base_itens,2,FALSE))","v":""}]
[null,{"$f":"IF(ISBLANK(A4016),\"\",VLOOKUP(A4016,base_itens,2,FALSE))","v":""}]
[null,{"$f":"IF(ISBLANK(A4017),\"\",VLOOKUP(A4017,base_itens,2,FALSE))","v":""}]
[null,{"$f":"IF(ISBLANK(A4018),\"\",VLOOKUP(A4018,base_itens,2,FALSE))","v":""}]
[null,{"$f":"IF(ISBLANK(A4019),\"\",VLOOKUP(A4019,base_itens,2,FALSE))","v":""}]
[null,{"$f":"IF(ISBLANK(A4020),\"\",VLOOKUP(A4020,base_itens,2,FALSE))","v":""}]
[null,{"$f":"IF(ISBLANK(A4021),\"\",VLOOKUP(A4021,base_itens,2,FALSE))","v":""}]
[null,{"$f":"IF(ISBLANK(A4022),\"\",VLOOKUP(A4022,base_itens,2,FALSE))","v":""}]
[null,{"$f":"IF(ISBLANK(A4023),\"\",VLOOKUP(A4023,base_itens,2,FALSE))","v":""}]
[null,{"$f":"IF(ISBLANK(A4024),\"\",VLOOKUP(A4024,base_itens,2,FALSE))","v":""}]
[null,{"$f":"IF(ISBLANK(A4025),\"\",VLOOKUP(A4025,base_itens,2,FALSE))","v":""}]
[null,{"$f":"IF(ISBLANK(A4026),\"\",VLOOKUP(A4026,base_itens,2,FALSE))","v":""}]
[null,{"$f":"IF(ISBLANK(A4027),\"\",VLOOKUP(A4027,base_itens,2,FALSE))","v":""}]
[null,{"$f":"IF(ISBLANK(A4028),\"\",VLOOKUP(A4028,base_itens,2,FALSE))","v":""}]
[null,{"$f":"IF(ISBLANK(A4029),\"\",VLOOKUP(A4029,base_itens,2,FALSE))","v":""}]
[null,{"$f":"IF(ISBLANK(A4030),\"\",VLOOKUP(A4030,base_itens,2,FALSE))","v":""}]
[null,{"$f":"IF(ISBLANK(A4031),\"\",VLOOKUP(A4031,base_itens,2,FALSE))","v":""}]
[null,{"$f":"IF(ISBLANK(A4032),\"\",VLOOKUP(A4032,base_itens,2,FALSE))","v":""}]
[null,{"$f":"IF(ISBLANK(A4033),\"\",VLOOKUP(A4033,base_itens,2,FALSE))","v":""}]
[null,{"$f":"IF(ISBLANK(A4034),\"\",VLOOKUP(A4034,base_itens,2,FALSE))","v":""}]
[null,{"$f":"IF(ISBLANK(A4035),\"\",VLOOKUP(A4035,base_itens,2,FALSE))","v":""}]
[null,{"$f":"IF(ISBLANK(A4036),\"\",VLOOKUP(A4036,base_itens,2,FALSE))","v":""}]
[null,{"$f":"IF(ISBLANK(A4037),\"\",VLOOKUP(A4037,base_itens,2,FALSE))","v":""}]
[null,{"$f":"IF(ISBLANK(A4038),\"\",VLOOKUP(A4038,base_itens,2,FALSE))","v":""}]
[null,{"$f":"IF(ISBLANK(A4039),\"\",VLOOKUP(A4039,base_itens,2,FALSE))","v":""}]
[null,{"$f":"IF(ISBLANK(A4040),\"\",VLOOKUP(A4040,base_itens,2,FALSE))","v":""}]
[null,{"$f":"IF(ISBLANK(A4041),\"\",VLOOKUP(A4041,base_itens,2,FALSE))","v":""}]
[null,{"$f":"IF(ISBLANK(A4042),\"\",VLOOKUP(A4042,base_itens,2,FALSE))","v":""}]
[null,{"$f":"IF(ISBLANK(A4043),\"\",VLOOKUP(A4043,base_itens,2,FALSE))","v":""}]
[null,{"$f":"IF(ISBLANK(A4044),\"\",VLOOKUP(A4044,base_itens,2,FALSE))","v":""}]
[null,{"$f":"IF(ISBLANK(A4045),\"\",VLOOKUP(A4045,base_itens,2,FALSE))","v":""}]
[null,{"$f":"IF(ISBLANK(A4046),\"\",VLOOKUP(A4046,base_itens,2,FALSE))","v":""}]
[null,{"$f":"IF(ISBLANK(A4047),\"\",VLOOKUP(A4047,base_itens,2,FALSE))","v":""}]
[null,{"$f":"IF(ISBLANK(A4048),\"\",VLOOKUP(A4048,base_itens,2,FALSE))","v":""}]
[null,{"$f":"IF(ISBLANK(A4049),\"\",VLOOKUP(A4049,base_itens,2,FALSE))","v":""}]
[null,{"$f":"IF(ISBLANK(A4050),\"\",VLOOKUP(A4050,base_itens,2,FALSE))","v":""}]
[null,{"$f":"IF(ISBLANK(A4051),\"\",VLOOKUP(A4051,base_itens,2,FALSE))","v":""}]
[null,{"$f":"IF(ISBLANK(A4052),\"\",VLOOKUP(A4052,base_itens,2,FALSE))","v":""}]
[null,{"$f":"IF(ISBLANK(A4053),\"\",VLOOKUP(A4053,base_itens,2,FALSE))","v":""}]
[null,{"$f":"IF(ISBLANK(A4054),\"\",VLOOKUP(A4054,base_itens,2,FALSE))","v":""}]
[null,{"$f":"IF(ISBLANK(A4055),\"\",VLOOKUP(A4055,base_itens,2,FALSE))","v":""}]
[null,{"$f":"IF(ISBLANK(A4056),\"\",VLOOKUP(A4056,base_itens,2,FALSE))","v":""}]
[null,{"$f":"IF(ISBLANK(A4057),\"\",VLOOKUP(A4057,base_itens,2,FALSE))","v":""}]
[null,{"$f":"IF(ISBLANK(A4058),\"\",VLOOKUP(A4058,base_itens,2,FALSE))","v":""}]
[null,{"$f":"IF(ISBLANK(A4059),\"\",VLOOKUP(A4059,base_itens,2,FALSE))","v":""}]
[null,{"$f":"IF(ISBLANK(A4060),\"\",VLOOKUP(A4060,base_itens,2,FALSE))","v":""}]
[null,{"$f":"IF(ISBLANK(A4061),\"\",VLOOKUP(A4061,base_itens,2,FALSE))","v":""}]
[null,{"$f":"IF(ISBLANK(A4062),\"\",VLOOKUP(A4062,base_itens,2,FALSE))","v":""}]
[null,{"$f":"IF(ISBLANK(A4063),\"\",VLOOKUP(A4063,base_itens,2,FALSE))","v":""}]
[null,{"$f":"IF(ISBLANK(A4064),\"\",VLOOKUP(A4064,base_itens,2,FALSE))","v":""}]
[null,{"$f":"IF(ISBLANK(A4065),\"\",VLOOKUP(A4065,base_itens,2,FALSE))","v":""}]
[null,{"$f":"IF(ISBLANK(A4066),\"\",VLOOKUP(A4066,base_itens,2,FALSE))","v":""}]
[null,{"$f":"IF(ISBLANK(A4067),\"\",VLOOKUP(A4067,base_itens,2,FALSE))","v":""}]
[null,{"$f":"IF(ISBLANK(A4068),\"\",VLOOKUP(A4068,base_itens,2,FALSE))","v":""}]
[null,{"$f":"IF(ISBLANK(A4069),\"\",VLOOKUP(A4069,base_itens,2,FALSE))","v":""}]
[null,{"$f":"IF(ISBLANK(A4070),\"\",VLOOKUP(A4070,base_itens,2,FALSE))","v":""}]
[null,{"$f":"IF(ISBLANK(A4071),\"\",VLOOKUP(A4071,base_itens,2,FALSE))","v":""}]
[null,{"$f":"IF(ISBLANK(A4072),\"\",VLOOKUP(A4072,base_itens,2,FALSE))","v":""}]
[null,{"$f":"IF(ISBLANK(A4073),\"\",VLOOKUP(A4073,base_itens,2,FALSE))","v":""}]
[null,{"$f":"IF(ISBLANK(A4074),\"\",VLOOKUP(A4074,base_itens,2,FALSE))","v":""}]
[null,{"$f":"IF(ISBLANK(A4075),\"\",VLOOKUP(A4075,base_itens,2,FALSE))","v":""}]
[null,{"$f":"IF(ISBLANK(A4076),\"\",VLOOKUP(A4076,base_itens,2,FALSE))","v":""}]
[null,{"$f":"IF(ISBLANK(A4077),\"\",VLOOKUP(A4077,base_itens,2,FALSE))","v":""}]
[null,{"$f":"IF(ISBLANK(A4078),\"\",VLOOKUP(A4078,base_itens,2,FALSE))","v":""}]
[null,{"$f":"IF(ISBLANK(A4079),\"\",VLOOKUP(A4079,base_itens,2,FALSE))","v":""}]
[null,{"$f":"IF(ISBLANK(A4080),\"\",VLOOKUP(A4080,base_itens,2,FALSE))","v":""}]
[null,{"$f":"IF(ISBLANK(A4081),\"\",VLOOKUP(A4081,base_itens,2,FALSE))","v":""}]
[null,{"$f":"IF(ISBLANK(A4082),\"\",VLOOKUP(A4082,base_itens,2,FALSE))","v":""}]
[null,{"$f":"IF(ISBLANK(A4083),\"\",VLOOKUP(A4083,base_itens,2,FALSE))","v":""}]
[null,{"$f":"IF(ISBLANK(A4084),\"\",VLOOKUP(A4084,base_itens,2,FALSE))","v":""}]
[null,{"$f":"IF(ISBLANK(A4085),\"\",VLOOKUP(A4085,base_itens,2,FALSE))","v":""}]
[null,{"$f":"IF(ISBLANK(A4086),\"\",VLOOKUP(A4086,base_itens,2,FALSE))","v":""}]
[null,{"$f":"IF(ISBLANK(A4087),\"\",VLOOKUP(A4087,base_itens,2,FALSE))","v":""}]
[null,{"$f":"IF(ISBLANK(A4088),\"\",VLOOKUP(A4088,base_itens,2,FALSE))","v":""}]
[null,{"$f":"IF(ISBLANK(A4089),\"\",VLOOKUP(A4089,base_itens,2,FALSE))","v":""}]
[null,{"$f":"IF(ISBLANK(A4090),\"\",VLOOKUP(A4090,base_itens,2,FALSE))","v":""}]
[null,{"$f":"IF(ISBLANK(A4091),\"\",VLOOKUP(A4091,base_itens,2,FALSE))","v":""}]
[null,{"$f":"IF(ISBLANK(A4092),\"\",VLOOKUP(A4092,base_itens,2,FALSE))","v":""}]
[null,{"$f":"IF(ISBLANK(A4093),\"\",VLOOKUP(A4093,base_itens,2,FALSE))","v":""}]
[null,{"$f":"IF(ISBLANK(A4094),\"\",VLOOKUP(A4094,base_itens,2,FALSE))","v":""}]
[null,{"$f":"IF(ISBLANK(A4095),\"\",VLOOKUP(A4095,base_itens,2,FALSE))","v":""}]
[null,{"$f":"IF(ISBLANK(A4096),\"\",VLOOKUP(A4096,base_itens,2,FALSE))","v":""}]
[null,{"$f":"IF(ISBLANK(A4097),\"\",VLOOKUP(A4097,base_itens,2,FALSE))","v":""}]
[null,{"$f":"IF(ISBLANK(A4098),\"\",VLOOKUP(A4098,base_itens,2,FALSE))","v":""}]
[null,{"$f":"IF(ISBLANK(A4099),\"\",VLOOKUP(A4099,base_itens,2,FALSE))","v":""}]
[null,{"$f":"IF(ISBLANK(A4100),\"\",VLOOKUP(A4100,base_itens,2,FALSE))","v":""}]
[null,{"$f":"IF(ISBLANK(A4101),\"\",VLOOKUP(A4101,base_itens,2,FALSE))","v":""}]
[null,{"$f":"IF(ISBLANK(A4102),\"\",VLOOKUP(A4102,base_itens,2,FALSE))","v":""}]
[null,{"$f":"IF(ISBLANK(A4103),\"\",VLOOKUP(A4103,base_itens,2,FALSE))","v":""}]
[null,{"$f":"IF(ISBLANK(A4104),\"\",VLOOKUP(A4104,base_itens,2,FALSE))","v":""}]
[null,{"$f":"IF(ISBLANK(A4105),\"\",VLOOKUP(A4105,base_itens,2,FALSE))","v":""}]
[null,{"$f":"IF(ISBLANK(A4106),\"\",VLOOKUP(A4106,base_itens,2,FALSE))","v":""}]
[null,{"$f":"IF(ISBLANK(A4107),\"\",VLOOKUP(A4107,base_itens,2,FALSE))","v":""}]
[null,{"$f":"IF(ISBLANK(A4108),\"\",VLOOKUP(A4108,base_itens,2,FALSE))","v":""}]
[null,{"$f":"IF(ISBLANK(A4109),\"\",VLOOKUP(A4109,base_itens,2,FALSE))","v":""}]
[null,{"$f":"IF(ISBLANK(A4110),\"\",VLOOKUP(A4110,base_itens,2,FALSE))","v":""}]
[null,{"$f":"IF(ISBLANK(A4111),\"\",VLOOKUP(A4111,base_itens,2,FALSE))","v":""}]
[null,{"$f":"IF(ISBLANK(A4112),\"\",VLOOKUP(A4112,base_itens,2,FALSE))","v":""}]
[null,{"$f":"IF(ISBLANK(A4113),\"\",VLOOKUP(A4113,base_itens,2,FALSE))","v":""}]
[null,{"$f":"IF(ISBLANK(A4114),\"\",VLOOKUP(A4114,base_itens,2,FALSE))","v":""}]
[null,{"$f":"IF(ISBLANK(A4115),\"\",VLOOKUP(A4115,base_itens,2,FALSE))","v":""}]
[null,{"$f":"IF(ISBLANK(A4116),\"\",VLOOKUP(A4116,base_itens,2,FALSE))","v":""}]
[null,{"$f":"IF(ISBLANK(A4117),\"\",VLOOKUP(A4117,base_itens,2,FALSE))","v":""}]
[null,{"$f":"IF(ISBLANK(A4118),\"\",VLOOKUP(A4118,base_itens,2,FALSE))","v":""}]
[null,{"$f":"IF(ISBLANK(A4119),\"\",VLOOKUP(A4119,base_itens,2,FALSE))","v":""}]
[null,{"$f":"IF(ISBLANK(A4120),\"\",VLOOKUP(A4120,base_itens,2,FALSE))","v":""}]
[null,{"$f":"IF(ISBLANK(A4121),\"\",VLOOKUP(A4121,base_itens,2,FALSE))","v":""}]
[null,{"$f":"IF(ISBLANK(A4122),\"\",VLOOKUP(A4122,base_itens,2,FALSE))","v":""}]
[null,{"$f":"IF(ISBLANK(A4123),\"\",VLOOKUP(A4123,base_itens,2,FALSE))","v":""}]
[null,{"$f":"IF(ISBLANK(A4124),\"\",VLOOKUP(A4124,base_itens,2,FALSE))","v":""}]
[null,{"$f":"IF(ISBLANK(A4125),\"\",VLOOKUP(A4125,base_itens,2,FALSE))","v":""}]
[null,{"$f":"IF(ISBLANK(A4126),\"\",VLOOKUP(A4126,base_itens,2,FALSE))","v":""}]
[null,{"$f":"IF(ISBLANK(A4127),\"\",VLOOKUP(A4127,base_itens,2,FALSE))","v":""}]
[null,{"$f":"IF(ISBLANK(A4128),\"\",VLOOKUP(A4128,base_itens,2,FALSE))","v":""}]
[null,{"$f":"IF(ISBLANK(A4129),\"\",VLOOKUP(A4129,base_itens,2,FALSE))","v":""}]
[null,{"$f":"IF(ISBLANK(A4130),\"\",VLOOKUP(A4130,base_itens,2,FALSE))","v":""}]
[null,{"$f":"IF(ISBLANK(A4131),\"\",VLOOKUP(A4131,base_itens,2,FALSE))","v":""}]
[null,{"$f":"IF(ISBLANK(A4132),\"\",VLOOKUP(A4132,base_itens,2,FALSE))","v":""}]
[null,{"$f":"IF(ISBLANK(A4133),\"\",VLOOKUP(A4133,base_itens,2,FALSE))","v":""}]
[null,{"$f":"IF(ISBLANK(A4134),\"\",VLOOKUP(A4134,base_itens,2,FALSE))","v":""}]
[null,{"$f":"IF(ISBLANK(A4135),\"\",VLOOKUP(A4135,base_itens,2,FALSE))","v":""}]
[null,{"$f":"IF(ISBLANK(A4136),\"\",VLOOKUP(A4136,base_itens,2,FALSE))","v":""}]
[null,{"$f":"IF(ISBLANK(A4137),\"\",VLOOKUP(A4137,base_itens,2,FALSE))","v":""}]

{"sheet":"r51","index":5,"n_rows":999,"n_cols":8,"rows_kept":999,"cut":false,"hidden":false,"merged":[]}
[]
[]
["Datasentralnummer (3 siffer)",43]
["Organisasjonsnr. (9 siffer)",{"$f":"Startside!G8","v":0}]
["Rapport nr. (51, 2 siffer)",51]
["Periode (år og måned; ååååmm, 6 siffer)  ",202112]
[]
[]
[]
[]
["TILLEGGSSPESIFIKASJONER TIL ÅRSRAPPORTERINGEN","KODE","PORTEFØLJE","VERDSETTING","SEKTOR","LAND","VALUTA","BELØP"]
["",null,"","","","",""]
[null,{"$f":"IF(ISBLANK(A13),\"\",VLOOKUP(A13,base_itens_51,2,FALSE))","v":""}]
[null,""]
[null,""]
[null,""]
[null,""]
[null,""]
[null,""]
[null,""]
[null,""]
[null,""]
[null,""]
[null,""]
[null,""]
[null,""]
[null,""]
[null,""]
[null,""]
[null,""]
[null,""]
[null,""]
[null,""]
[null,""]
[null,""]
[null,""]
[null,""]
[null,""]
[null,""]
[null,""]
[null,""]
[null,""]
[null,""]
[null,""]
[null,""]
[null,""]
[null,""]
[null,""]
[null,""]
[null,""]
[null,""]
[null,""]
[null,""]
[null,""]
[null,""]
[null,""]
[null,""]
[null,""]
[null,""]
[null,""]
[null,""]
[null,""]
[null,""]
[null,""]
[null,""]
[null,""]
[null,""]
[null,""]
[null,""]
[null,""]
[null,""]
[null,""]
[null,""]
[null,""]
[null,""]
[null,""]
[null,{"$f":"IF(ISBLANK(A77),\"\",VLOOKUP(A77,base_itens_51,2,FALSE))","v":""}]
[null,""]
[null,""]
[null,""]
[null,""]
[null,""]
[null,""]
[null,""]
[null,""]
[null,""]
[null,""]
[null,""]
[null,""]
[null,""]
[null,""]
[null,""]
[null,""]
[null,""]
[null,""]
[null,""]
[null,""]
[null,""]
[null,""]
[null,""]
[null,""]
[null,""]
[null,""]
[null,""]
[null,""]
[null,""]
[null,""]
[null,""]
[null,""]
[null,""]
[null,""]
[null,""]
[null,""]
[null,""]
[null,""]
[null,""]
[null,""]
[null,""]
[null,""]
[null,""]
[null,""]
[null,""]
[null,""]
[null,""]
[null,""]
[null,""]
[null,""]
[null,""]
[null,""]
[null,""]
[null,""]
[null,""]
[null,""]
[null,""]
[null,""]
[null,""]
[null,""]
[null,""]
[null,""]
[null,""]
[null,{"$f":"IF(ISBLANK(A141),\"\",VLOOKUP(A141,base_itens_51,2,FALSE))","v":""}]
[null,""]
[null,""]
[null,""]
[null,""]
[null,""]
[null,""]
[null,""]
[null,""]
[null,""]
[null,""]
[null,""]
[null,""]
[null,""]
[null,""]
[null,""]
[null,""]
[null,""]
[null,""]
[null,""]
[null,""]
[null,""]
[null,""]
[null,""]
[null,""]
[null,""]
[null,""]
[null,""]
[null,""]
[null,""]
[null,""]
[null,""]
[null,""]
[null,""]
[null,""]
[null,""]
[null,""]
[null,""]
[null,""]
[null,""]
[null,""]
[null,""]
[null,""]
[null,""]
[null,""]
[null,""]
[null,""]
[null,""]
[null,""]
[null,""]
[null,""]
[null,""]
[null,""]
[null,""]
[null,""]
[null,""]
[null,""]
[null,""]
[null,""]
[null,""]
[null,""]
[null,""]
[null,""]
[null,""]
[null,{"$f":"IF(ISBLANK(A205),\"\",VLOOKUP(A205,base_itens_51,2,FALSE))","v":""}]
[null,""]
[null,""]
[null,""]
[null,""]
[null,""]
[null,""]
[null,""]
[null,""]
[null,""]
[null,""]
[null,""]
[null,""]
[null,""]
[null,""]
[null,""]
[null,""]
[null,""]
[null,""]
[null,""]
[null,""]
[null,""]
[null,""]
[null,""]
[null,""]
[null,""]
[null,""]
[null,""]
[null,""]
[null,""]
[null,""]
[null,""]
[null,""]
[null,""]
[null,""]
[null,""]
[null,""]
[null,""]
[null,""]
[null,""]
[null,""]
[null,""]
[null,""]
[null,""]
[null,""]
[null,""]
[null,""]
[null,""]
[null,""]
[null,""]
[null,""]
[null,""]
[null,""]
[null,""]
[null,""]
[null,""]
[null,""]
[null,""]
[null,""]
[null,""]
[null,""]
[null,""]
[null,""]
[null,""]
[null,{"$f":"IF(ISBLANK(A269),\"\",VLOOKUP(A269,base_itens_51,2,FALSE))","v":""}]
[null,""]
[null,""]
[null,""]
[null,""]
[null,""]
[null,""]
[null,""]
[null,""]
[null,""]
[null,""]
[null,""]
[null,""]
[null,""]
[null,""]
[null,""]
[null,""]
[null,""]
[null,""]
[null,""]
[null,""]
[null,""]
[null,""]
[null,""]
[null,""]
[null,""]
[null,""]
[null,""]
[null,""]
[null,""]
[null,""]
[null,""]
[null,""]
[null,""]
[null,""]
[null,""]
[null,""]
[null,""]
[null,""]
[null,""]
[null,""]
[null,""]
[null,""]
[null,""]
[null,""]
[null,""]
[null,""]
[null,""]
[null,""]
[null,""]
[null,""]
[null,""]
[null,""]
[null,""]
[null,""]
[null,""]
[null,""]
[null,""]
[null,""]
[null,""]
[null,""]
[null,""]
[null,""]
[null,""]
[null,{"$f":"IF(ISBLANK(A333),\"\",VLOOKUP(A333,base_itens_51,2,FALSE))","v":""}]
[null,""]
[null,""]
[null,""]
[null,""]
[null,""]
[null,""]
[null,""]
[null,""]
[null,""]
[null,""]
[null,""]
[null,""]
[null,""]
[null,""]
[null,""]
[null,""]
[null,""]
[null,""]
[null,""]
[null,""]
[null,""]
[null,""]
[null,""]
[null,""]
[null,""]
[null,""]
[null,""]
[null,""]
[null,""]
[null,""]
[null,""]
[null,""]
[null,""]
[null,""]
[null,""]
[null,""]
[null,""]
[null,""]
[null,""]
[null,""]
[null,""]
[null,""]
[null,""]
[null,""]
[null,""]
[null,""]
[null,""]
[null,""]
[null,""]
[null,""]
[null,""]
[null,""]
[null,""]
[null,""]
[null,""]
[null,""]
[null,""]
[null,""]
[null,""]
[null,""]
[null,""]
[null,""]
[null,""]
[null,{"$f":"IF(ISBLANK(A397),\"\",VLOOKUP(A397,base_itens_51,2,FALSE))","v":""}]
[null,""]
[null,""]
[null,""]
[null,""]
[null,""]
[null,""]
[null,""]
[null,""]
[null,""]
[null,""]
[null,""]
[null,""]
[null,""]
[null,""]
[null,""]
[null,""]
[null,""]
[null,""]
[null,""]
[null,""]
[null,""]
[null,""]
[null,""]
[null,""]
[null,""]
[null,""]
[null,""]
[null,""]
[null,""]
[null,""]
[null,""]
[null,""]
[null,""]
[null,""]
[null,""]
[null,""]
[null,""]
[null,""]
[null,""]
[null,""]
[null,""]
[null,""]
[null,""]
[null,""]
[null,""]
[null,""]
[null,""]
[null,""]
[null,""]
[null,""]
[null,""]
[null,""]
[null,""]
[null,""]
[null,""]
[null,""]
[null,""]
[null,""]
[null,""]
[null,""]
[null,""]
[null,""]
[null,""]
[null,{"$f":"IF(ISBLANK(A461),\"\",VLOOKUP(A461,base_itens_51,2,FALSE))","v":""}]
[null,""]
[null,""]
[null,""]
[null,""]
[null,""]
[null,""]
[null,""]
[null,""]
[null,""]
[null,""]
[null,""]
[null,""]
[null,""]
[null,""]
[null,""]
[null,""]
[null,""]
[null,""]
[null,""]
[null,""]
[null,""]
[null,""]
[null,""]
[null,""]
[null,""]
[null,""]
[null,""]
[null,""]
[null,""]
[null,""]
[null,""]
[null,""]
[null,""]
[null,""]
[null,""]
[null,""]
[null,""]
[null,""]
[null,""]
[null,""]
[null,""]
[null,""]
[null,""]
[null,""]
[null,""]
[null,""]
[null,""]
[null,""]
[null,""]
[null,""]
[null,""]
[null,""]
[null,""]
[null,""]
[null,""]
[null,""]
[null,""]
[null,""]
[null,""]
[null,""]
[null,""]
[null,""]
[null,""]
[null,{"$f":"IF(ISBLANK(A525),\"\",VLOOKUP(A525,base_itens_51,2,FALSE))","v":""}]
[null,""]
[null,""]
[null,""]
[null,""]
[null,""]
[null,""]
[null,""]
[null,""]
[null,""]
[null,""]
[null,""]
[null,""]
[null,""]
[null,""]
[null,""]
[null,""]
[null,""]
[null,""]
[null,""]
[null,""]
[null,""]
[null,""]
[null,""]
[null,""]
[null,""]
[null,""]
[null,""]
[null,""]
[null,""]
[null,""]
[null,""]
[null,""]
[null,""]
[null,""]
[null,""]
[null,""]
[null,""]
[null,""]
[null,""]
[null,""]
[null,""]
[null,""]
[null,""]
[null,""]
[null,""]
[null,""]
[null,""]
[null,""]
[null,""]
[null,""]
[null,""]
[null,""]
[null,""]
[null,""]
[null,""]
[null,""]
[null,""]
[null,""]
[null,""]
[null,""]
[null,""]
[null,""]
[null,""]
[null,{"$f":"IF(ISBLANK(A589),\"\",VLOOKUP(A589,base_itens_51,2,FALSE))","v":""}]
[null,""]
[null,""]
[null,""]
[null,""]
[null,""]
[null,""]
[null,""]
[null,""]
[null,""]
[null,""]
[null,""]
[null,""]
[null,""]
[null,""]
[null,""]
[null,""]
[null,""]
[null,""]
[null,""]
[null,""]
[null,""]
[null,""]
[null,""]
[null,""]
[null,""]
[null,""]
[null,""]
[null,""]
[null,""]
[null,""]
[null,""]
[null,""]
[null,""]
[null,""]
[null,""]
[null,""]
[null,""]
[null,""]
[null,""]
[null,""]
[null,""]
[null,""]
[null,""]
[null,""]
[null,""]
[null,""]
[null,""]
[null,""]
[null,""]
[null,""]
[null,""]
[null,""]
[null,""]
[null,""]
[null,""]
[null,""]
[null,""]
[null,""]
[null,""]
[null,""]
[null,""]
[null,""]
[null,""]
[null,{"$f":"IF(ISBLANK(A653),\"\",VLOOKUP(A653,base_itens_51,2,FALSE))","v":""}]
[null,""]
[null,""]
[null,""]
[null,""]
[null,""]
[null,""]
[null,""]
[null,""]
[null,""]
[null,""]
[null,""]
[null,""]
[null,""]
[null,""]
[null,""]
[null,""]
[null,""]
[null,""]
[null,""]
[null,""]
[null,""]
[null,""]
[null,""]
[null,""]
[null,""]
[null,""]
[null,""]
[null,""]
[null,""]
[null,""]
[null,""]
[null,""]
[null,""]
[null,""]
[null,""]
[null,""]
[null,""]
[null,""]
[null,""]
[null,""]
[null,""]
[null,""]
[null,""]
[null,""]
[null,""]
[null,""]
[null,""]
[null,""]
[null,""]
[null,""]
[null,""]
[null,""]
[null,""]
[null,""]
[null,""]
[null,""]
[null,""]
[null,""]
[null,""]
[null,""]
[null,""]
[null,""]
[null,""]
[null,{"$f":"IF(ISBLANK(A717),\"\",VLOOKUP(A717,base_itens_51,2,FALSE))","v":""}]
[null,""]
[null,""]
[null,""]
[null,""]
[null,""]
[null,""]
[null,""]
[null,""]
[null,""]
[null,""]
[null,""]
[null,""]
[null,""]
[null,""]
[null,""]
[null,""]
[null,""]
[null,""]
[null,""]
[null,""]
[null,""]
[null,""]
[null,""]
[null,""]
[null,""]
[null,""]
[null,""]
[null,""]
[null,""]
[null,""]
[null,""]
[null,""]
[null,""]
[null,""]
[null,""]
[null,""]
[null,""]
[null,""]
[null,""]
[null,""]
[null,""]
[null,""]
[null,""]
[null,""]
[null,""]
[null,""]
[null,""]
[null,""]
[null,""]
[null,""]
[null,""]
[null,""]
[null,""]
[null,""]
[null,""]
[null,""]
[null,""]
[null,""]
[null,""]
[null,""]
[null,""]
[null,""]
[null,""]
[null,{"$f":"IF(ISBLANK(A781),\"\",VLOOKUP(A781,base_itens_51,2,FALSE))","v":""}]
[null,""]
[null,""]
[null,""]
[null,""]
[null,""]
[null,""]
[null,""]
[null,""]
[null,""]
[null,""]
[null,""]
[null,""]
[null,""]
[null,""]
[null,""]
[null,""]
[null,""]
[null,""]
[null,""]
[null,""]
[null,""]
[null,""]
[null,""]
[null,""]
[null,""]
[null,""]
[null,""]
[null,""]
[null,""]
[null,""]
[null,""]
[null,""]
[null,""]
[null,""]
[null,""]
[null,""]
[null,""]
[null,""]
[null,""]
[null,""]
[null,""]
[null,""]
[null,""]
[null,""]
[null,""]
[null,""]
[null,""]
[null,""]
[null,""]
[null,""]
[null,""]
[null,""]
[null,""]
[null,""]
[null,""]
[null,""]
[null,""]
[null,""]
[null,""]
[null,""]
[null,""]
[null,""]
[null,""]
[null,{"$f":"IF(ISBLANK(A845),\"\",VLOOKUP(A845,base_itens_51,2,FALSE))","v":""}]
[null,""]
[null,""]
[null,""]
[null,""]
[null,""]
[null,""]
[null,""]
[null,""]
[null,""]
[null,""]
[null,""]
[null,""]
[null,""]
[null,""]
[null,""]
[null,""]
[null,""]
[null,""]
[null,""]
[null,""]
[null,""]
[null,""]
[null,""]
[null,""]
[null,""]
[null,""]
[null,""]
[null,""]
[null,""]
[null,""]
[null,""]
[null,""]
[null,""]
[null,""]
[null,""]
[null,""]
[null,""]
[null,""]
[null,""]
[null,""]
[null,""]
[null,""]
[null,""]
[null,""]
[null,""]
[null,""]
[null,""]
[null,""]
[null,""]
[null,""]
[null,""]
[null,""]
[null,""]
[null,""]
[null,""]
[null,""]
[null,""]
[null,""]
[null,""]
[null,""]
[null,""]
[null,""]
[null,""]
[null,{"$f":"IF(ISBLANK(A909),\"\",VLOOKUP(A909,base_itens_51,2,FALSE))","v":""}]
[null,""]
[null,""]
[null,""]
[null,""]
[null,""]
[null,""]
[null,""]
[null,""]
[null,""]
[null,""]
[null,""]
[null,""]
[null,""]
[null,""]
[null,""]
[null,""]
[null,""]
[null,""]
[null,""]
[null,""]
[null,""]
[null,""]
[null,""]
[null,""]
[null,""]
[null,""]
[null,""]
[null,""]
[null,""]
[null,""]
[null,""]
[null,""]
[null,""]
[null,""]
[null,""]
[null,""]
[null,""]
[null,""]
[null,""]
[null,""]
[null,""]
[null,""]
[null,""]
[null,""]
[null,""]
[null,""]
[null,""]
[null,""]
[null,""]
[null,""]
[null,""]
[null,""]
[null,""]
[null,""]
[null,""]
[null,""]
[null,""]
[null,""]
[null,""]
[null,""]
[null,""]
[null,""]
[null,""]
[null,{"$f":"IF(ISBLANK(A973),\"\",VLOOKUP(A973,base_itens_51,2,FALSE))","v":""}]
[null,""]
[null,""]
[null,""]
[null,""]
[null,""]
[null,""]
[null,""]
[null,""]
[null,""]
[null,""]
[null,""]
[null,""]
[null,""]
[null,""]
[null,""]
[null,""]
[null,""]
[null,""]
[null,""]
[null,""]
[null,""]
[null,""]
[null,""]
[null,""]
[null,""]
[null,""]

{"sheet":"BASE50","index":6,"n_rows":634,"n_cols":8,"rows_kept":634,"cut":false,"hidden":true,"merged":[]}
[]
[]
["Post","base-itens","PORTEFØLJE","VERDSETTING","SEKTOR","VALUTA","Kan være negativ\nsinal 2","Skal være negativ\nsinal 1"]
["1150000 Sedler og skillemynt",1150000,"300 Selskapsportefølje","00 Ingen fordeling","00000 Ingen fordeling","10 NOK",7901100,9923200]
["1210010 Bankinnskudd, Driftskonti",1210010,"100 Kollektivportefølje","10 Virkelig verdi med resultatføring","01000 Norske sektorer i alt","30 VAL",9989000]
["1210013 Bankinnskudd, Plasseringskto.",1210013,"200 Investeringsvalgportefølje","10 Virkelig verdi med resultatføring","90000 Utenlandske sektorer i alt","10 NOK"]
[null,null,"300 Selskapsportefølje","52 Amortisert kost, øvrige","01000 Norske sektorer i alt","30 VAL"]
["1362100 Aksjer, ekskl. aksjer i eiendomsselskaper",1362100,"100 Kollektivportefølje","10 Virkelig verdi med resultatføring","90000 Utenlandske sektorer i alt","10 NOK"]
["1362200 Aksjer i eiendomsselskaper",1362200,"200 Investeringsvalgportefølje","20 Tilgjengelig for salg","11100 Statens forretningsdrift ","30 VAL"]
["1363100 Andeler i KS og ansvarlige selskaper, ekskl. andeler i eiendomsselskaper",1363100,"300 Selskapsportefølje","30 Egenkapitalmetoden","11200 Statlig eide aksjeselskaper mv. ","10 NOK"]
["1363200 Andeler i eiendomsselskaper",1363200,"100 Kollektivportefølje","60 Anskaffelseskost","11208 Statlig eide aksjeselskaper mv., tilknyttede selskaper ","30 VAL"]
["1363300 Andeler i indre eiendomsselskaper (IS)",1363300,"200 Investeringsvalgportefølje","10 Virkelig verdi med resultatføring","15100 Kommunale foretak med ubegrenset ansvar ","10 NOK"]
["1363400 Andeler i andre indre selskaper (IS)",1363400,"300 Selskapsportefølje","20 Tilgjengelig for salg","15200 Kommunale aksjeselskaper mv. ","30 VAL"]
["1368200 Andeler i aksjefond",1368200,"100 Kollektivportefølje","30 Egenkapitalmetoden","15208 Kommunale aksjeselskaper mv., tilknyttede selskaper ","10 NOK"]
["1368400 Andeler i obligasjonsfond",1368400,"200 Investeringsvalgportefølje","60 Anskaffelseskost","21000 Private aksjeselskaper mv. ","30 VAL"]
["1368600 Andeler i pengemarkedsfond",1368600,"300 Selskapsportefølje","10 Virkelig verdi med resultatføring","21008 Private aksjeselskaper mv., tilknyttede selskaper ","10 NOK"]
["1368800 Andeler i kombinasjonsfond",1368800,"100 Kollektivportefølje","20 Tilgjengelig for salg","21009 Private aksjeselskaper mv., konsernselskaper ","30 VAL"]
["1368900 Andeler i andre fond",1368900,"200 Investeringsvalgportefølje","30 Egenkapitalmetoden","23000 Personlige foretak ","10 NOK"]
["1369000 Egenkapitalbevis",1369000,"300 Selskapsportefølje","60 Anskaffelseskost","23008 Personlige foretak, tilknyttede selskaper ","30 VAL"]
["1400000 Rentebærende verdipapirer",1400000,"100 Kollektivportefølje","10 Virkelig verdi med resultatføring","23009 Personlige foretak, konsernselskaper ","10 NOK"]
["1880000 Finansielle derivater",1880000,"200 Investeringsvalgportefølje","20 Tilgjengelig for salg","25000 Private produsentorienterte organisasjoner uten profittformål ","30 VAL"]
["1899000 Andre verdipapirer/finansielle eiendeler ekskl. utlån",1899000,"300 Selskapsportefølje","30 Egenkapitalmetoden","31000 Norges Bank ","10 NOK"]
[null,null,"100 Kollektivportefølje","60 Anskaffelseskost","32000 Banker ","30 VAL"]
["2554600 Utlån til eget foretak med pant eller kommunal / statlig garanti",2554600,"200 Investeringsvalgportefølje","10 Virkelig verdi med resultatføring","35000 Kredittforetak ","10 NOK"]
["2554700 Andre utlån med pant eller kommunal / statlig garanti",2554700,"300 Selskapsportefølje","20 Tilgjengelig for salg","36000 Finansieringsforetak ","30 VAL"]
["2559600 Utlån til eget foretak uten pant eller kommunal / statlig garanti",2559600,"100 Kollektivportefølje","30 Egenkapitalmetoden","39000 Statlige låneinstitutter mv. ","10 NOK"]
["2559700 Andre utlån uten pant eller kommunal / statlig garanti",2559700,"200 Investeringsvalgportefølje","60 Anskaffelseskost","41000 Holdingforetak i finanskonsern ","30 VAL"]
[null,null,"300 Selskapsportefølje","10 Virkelig verdi med resultatføring","45000 Investeringsselskaper og aktive eierfond/PE-fond ","10 NOK"]
["3080000 Gjenforsikringsandel av forsikringsforpliktelser",3080000,"100 Kollektivportefølje","20 Tilgjengelig for salg","49000 Øvrige finansielle foretak unntatt forsikring ","30 VAL"]
[null,null,"200 Investeringsvalgportefølje","30 Egenkapitalmetoden","49008 Øvrige finansielle foretak unntatt forsikring, tilknyttede selskaper ","10 NOK"]
["3627000 Opptjent, ikke forfalte inntekter, Leieinntekter",3627000,"300 Selskapsportefølje","60 Anskaffelseskost","49009 Øvrige finansielle foretak unntatt forsikring, konsernselskaper ","30 VAL"]
["3629000 Opptjent, ikke forfalte inntekter, Andre inntekter",3629000,"100 Kollektivportefølje","10 Virkelig verdi med resultatføring","55000 Livsforsikringsselskaper og pensjonskasser ","10 NOK"]
["3639000 Forskuddsbetalte kostnader",3639000,"200 Investeringsvalgportefølje","10 Virkelig verdi med resultatføring","57000 Skadeforsikringsselskaper ","10 NOK"]
["3753000 Andre fordringer, Forfalte premier og andre fordringer knyttet til premieinntekter ",3753000,"300 Selskapsportefølje","10 Virkelig verdi med resultatføring","61000 Stats- og trygdeforvaltningen ","30 VAL"]
["3759000 Andre fordringer, Andre fordringer ellers",3759000,"100 Kollektivportefølje","10 Virkelig verdi med resultatføring","65000 Kommuneforvaltningen ","10 NOK"]
["3840000 Eiendeler ved skatt (utsatt skattefordel)",3840000,"200 Investeringsvalgportefølje","10 Virkelig verdi med resultatføring","70000 Ideelle organisasjoner ","30 VAL"]
["3899000 Andre finansielle eiendeler ",3899000,"300 Selskapsportefølje","10 Virkelig verdi med resultatføring","82000 Personlig næringsdrivende ","10 NOK"]
[null,null,"100 Kollektivportefølje","20 Tilgjengelig for salg","83000 Borettslag o.l. ","30 VAL"]
["4859000 Immatrielle eiendeler",4859000,"200 Investeringsvalgportefølje","60 Anskaffelseskost","85000 Lønnstakere, pensjonister, trygdede, studenter o.a. ","10 NOK"]
[null,null,"300 Selskapsportefølje","10 Virkelig verdi med resultatføring","08000 Ufordelt sektor ","30 VAL"]
["5860000 Bygninger og annen fast eiendom eksl. aksjer i eiendomsselskaper",5860000,"100 Kollektivportefølje","51 Amortisert kost, holdt til forfall","90008 Utenlandske sektorer i alt, tilknyttede selskaper ","10 NOK"]
["5870000 Maskiner, inventar og transportmidler",5870000,"200 Investeringsvalgportefølje","52 Amortisert kost, øvrige","90009 Utenlandske sektorer i alt, konsernselskaper ","30 VAL"]
[null,null,"300 Selskapsportefølje","10 Virkelig verdi med resultatføring","90010 Utenlandske sektorer i alt, ekskl. tilknyttede - og konsernselskaper ","10 NOK"]
["7559000 Likviditetslån",7559000,"100 Kollektivportefølje","10 Virkelig verdi med resultatføring","11100 Statens forretningsdrift ","30 VAL"]
["7629000 Påløpte, ikke forfalte kostnader",7629000,"200 Investeringsvalgportefølje","20 Tilgjengelig for salg","11200 Statlig eide aksjeselskaper mv. ","10 NOK"]
["7637000 Mottatte, ikke opptjente inntekter, Leieinntekter",7637000,"300 Selskapsportefølje","60 Anskaffelseskost","11208 Statlig eide aksjeselskaper mv., tilknyttede selskaper ","30 VAL"]
["7639000 Mottatte, ikke opptjente inntekter",7639000,"100 Kollektivportefølje","10 Virkelig verdi med resultatføring","15100 Kommunale foretak med ubegrenset ansvar ","10 NOK"]
["7711000 Avsatt til renter på innskutt kapital",7711000,"200 Investeringsvalgportefølje","52 Amortisert kost, øvrige","15200 Kommunale aksjeselskaper mv. ","30 VAL"]
["7753000 Annen gjeld, Forfalte pensjoner og utløsningsbel.",7753000,"300 Selskapsportefølje","10 Virkelig verdi med resultatføring","15208 Kommunale aksjeselskaper mv., tilknyttede selskaper ","10 NOK"]
["7759000 Annen gjeld, ellers",7759000,"100 Kollektivportefølje","52 Amortisert kost, øvrige","21000 Private aksjeselskaper mv. ","30 VAL"]
["7880000 Finansielle derivater",7880000,"200 Investeringsvalgportefølje","10 Virkelig verdi med resultatføring","21008 Private aksjeselskaper mv., tilknyttede selskaper ","10 NOK"]
["7901100 Avsetninger o.l., Periodeskatt (kan være negativ)",7901100,"300 Selskapsportefølje","52 Amortisert kost, øvrige","21009 Private aksjeselskaper mv., konsernselskaper ","30 VAL"]
["7901300 Avsetninger o.l., Forpliktelser ved utsatt skatt knyttet til forsikringsforpliktelser under egenkapital",7901300,"100 Kollektivportefølje","10 Virkelig verdi med resultatføring","23000 Personlige foretak ","10 NOK"]
["7901500 Avsetninger o.l., Andre forpliktelser ved utsatt skatt",7901500,"200 Investeringsvalgportefølje","52 Amortisert kost, øvrige","23008 Personlige foretak, tilknyttede selskaper ","30 VAL"]
["7907000 Avsetninger o.l., Pensjonsforpliktelser",7907000,"300 Selskapsportefølje","00 Ingen fordeling","23009 Personlige foretak, konsernselskaper ","10 NOK"]
["7909000 Avsetninger o.l., Andre avsetninger",7909000,"100 Kollektivportefølje","00 Ingen fordeling","25000 Private produsentorienterte organisasjoner uten profittformål ","10 NOK"]
[null,null,"200 Investeringsvalgportefølje","00 Ingen fordeling","31000 Norges Bank ","30 VAL"]
["8010000 Premiereserve og pensjonskapital mv.",8010000,"300 Selskapsportefølje","00 Ingen fordeling","32000 Banker ","90 Ingen fordeling"]
["8020000 Tilleggsavsetninger",8020000,"100 Kollektivportefølje","00 Ingen fordeling","35000 Kredittforetak ","10 NOK"]
["8030000 Kursreguleringsfond",8030000,"200 Investeringsvalgportefølje","00 Ingen fordeling","36000 Finansieringsforetak ","30 VAL"]
["8060000 Premiefond og innskuddsfond",8060000,"300 Selskapsportefølje","00 Ingen fordeling","39000 Statlige låneinstitutter mv. ","10 NOK"]
["8070000 Fond for regulering av pensjoner mv.",8070000,"100 Kollektivportefølje","00 Ingen fordeling","41000 Holdingforetak i finanskonsern ","30 VAL"]
[null,null,"200 Investeringsvalgportefølje","00 Ingen fordeling","45000 Investeringsselskaper og aktive eierfond/PE-fond ","90 Ingen fordeling"]
["8551200 Ansvarlig lånekapital, Evigvarende lån",8551200,"300 Selskapsportefølje","10 Virkelig verdi med resultatføring","49000 Øvrige finansielle foretak unntatt forsikring ","90 Ingen fordeling"]
["8552200 Ansvarlig lånekapital, Ordinære lån",8552200,"100 Kollektivportefølje","40 Verdireguleringsmodellen","49008 Øvrige finansielle foretak unntatt forsikring, tilknyttede selskaper ","10 NOK"]
[null,null,"200 Investeringsvalgportefølje","60 Anskaffelseskost","49009 Øvrige finansielle foretak unntatt forsikring, konsernselskaper ","30 VAL"]
["9921000 Aksjekapital",9921000,"300 Selskapsportefølje","00 Ingen fordeling","55000 Livsforsikringsselskaper og pensjonskasser ","10 NOK"]
["9921200 Eierandelskapital",9921200,"100 Kollektivportefølje","00 Ingen fordeling","57000 Skadeforsikringsselskaper ","30 VAL"]
["9923000 Egne aksjer (negativ)",9923000,"200 Investeringsvalgportefølje","00 Ingen fordeling","61000 Stats- og trygdeforvaltningen ","10 NOK"]
["9923200 Egen eierandelskapital (negativ)",9923200,"300 Selskapsportefølje","00 Ingen fordeling","65000 Kommuneforvaltningen ","30 VAL"]
["9931000 Annen innskutt egenkapital (kjernekapital), Overkurs",9931000,"300 Selskapsportefølje","00 Ingen fordeling","70000 Ideelle organisasjoner ","10 NOK"]
["9933000 Annen innskutt egenkapital (kjernekapital), Innskutt kjernekapital",9933000,"300 Selskapsportefølje","00 Ingen fordeling","82000 Personlig næringsdrivende ","30 VAL"]
["9963000 Fond (bundne), Risikoutjevningsfond",9963000,"100 Kollektivportefølje","00 Ingen fordeling","83000 Borettslag o.l. ","10 NOK"]
["9989000 Annen opptjent egenkapital, Opptjent egenkapital (kan være negativ)",9989000,"200 Investeringsvalgportefølje","10 Virkelig verdi med resultatføring","85000 Lønnstakere, pensjonister, trygdede, studenter o.a. ","90 Ingen fordeling"]
[null,null,"300 Selskapsportefølje","00 Ingen fordeling","08000 Ufordelt sektor ","10 NOK"]
[null,null,"100 Kollektivportefølje","00 Ingen fordeling","90008 Utenlandske sektorer i alt, tilknyttede selskaper ","30 VAL"]
[null,null,"200 Investeringsvalgportefølje","00 Ingen fordeling","90009 Utenlandske sektorer i alt, konsernselskaper ","10 NOK"]
[null,null,"300 Selskapsportefølje","00 Ingen fordeling","90010 Utenlandske sektorer i alt, ekskl. tilknyttede - og konsernselskaper ","30 VAL"]
[null,null,"300 Selskapsportefølje","00 Ingen fordeling","11100 Statens forretningsdrift ","10 NOK"]
[null,null,"300 Selskapsportefølje","00 Ingen fordeling","11200 Statlig eide aksjeselskaper mv. ","30 VAL"]
[null,null,"300 Selskapsportefølje","00 Ingen fordeling","11208 Statlig eide aksjeselskaper mv., tilknyttede selskaper ","10 NOK"]
[null,null,"100 Kollektivportefølje","00 Ingen fordeling","15100 Kommunale foretak med ubegrenset ansvar ","30 VAL"]
[null,null,"200 Investeringsvalgportefølje","00 Ingen fordeling","15200 Kommunale aksjeselskaper mv. ","10 NOK"]
[null,null,"300 Selskapsportefølje","00 Ingen fordeling","15208 Kommunale aksjeselskaper mv., tilknyttede selskaper ","30 VAL"]
[null,null,"300 Selskapsportefølje","52 Amortisert kost, Øvrige","21000 Private aksjeselskaper mv. ","10 NOK"]
[null,null,"000 Ingen fordeling","52 Amortisert kost, Øvrige","21008 Private aksjeselskaper mv., tilknyttede selskaper ","10 NOK"]
[null,null,"000 Ingen fordeling","00 Ingen fordeling","21009 Private aksjeselskaper mv., konsernselskaper ","10 NOK"]
[null,null,"000 Ingen fordeling","00 Ingen fordeling","23000 Personlige foretak ","10 NOK"]
[null,null,"000 Ingen fordeling","00 Ingen fordeling","23008 Personlige foretak, tilknyttede selskaper ","10 NOK"]
[null,null,"000 Ingen fordeling","00 Ingen fordeling","23009 Personlige foretak, konsernselskaper ","10 NOK"]
[null,null,"000 Ingen fordeling","00 Ingen fordeling","25000 Private produsentorienterte organisasjoner uten profittformål ","10 NOK"]
[null,null,"000 Ingen fordeling","00 Ingen fordeling","31000 Norges Bank ","10 NOK"]
[null,null,"100 Kollektivportefølje","00 Ingen fordeling","32000 Banker ","30 VAL"]
[null,null,"200 Investeringsvalgportefølje","00 Ingen fordeling","35000 Kredittforetak ","10 NOK"]
[null,null,"300 Selskapsportefølje",null,"36000 Finansieringsforetak ","30 VAL"]
[null,null,"000 Ingen fordeling",null,"39000 Statlige låneinstitutter mv. ","10 NOK"]
[null,null,"000 Ingen fordeling",null,"41000 Holdingforetak i finanskonsern ","10 NOK"]
[null,null,"000 Ingen fordeling",null,"45000 Investeringsselskaper og aktive eierfond/PE-fond ","10 NOK"]
[null,null,"000 Ingen fordeling",null,"49000 Øvrige finansielle foretak unntatt forsikring ","10 NOK"]
[null,null,"000 Ingen fordeling",null,"49008 Øvrige finansielle foretak unntatt forsikring, tilknyttede selskaper ","10 NOK"]
[null,null,"600 Kontrakter uten investeringsvalg",null,"49009 Øvrige finansielle foretak unntatt forsikring, konsernselskaper ","10 NOK"]
[null,null,"700 Kontrakter med investeringsvalg",null,"55000 Livsforsikringsselskaper og pensjonskasser ","10 NOK"]
[null,null,"600 Kontrakter uten investeringsvalg",null,"57000 Skadeforsikringsselskaper ","10 NOK"]
[null,null,"700 Kontrakter med investeringsvalg",null,"61000 Stats- og trygdeforvaltningen "]
[null,null,"600 Kontrakter uten investeringsvalg",null,"65000 Kommuneforvaltningen "]
[null,null,"600 Kontrakter uten investeringsvalg",null,"70000 Ideelle organisasjoner "]
[null,null,"700 Kontrakter med investeringsvalg",null,"82000 Personlig næringsdrivende "]
[null,null,"600 Kontrakter uten investeringsvalg",null,"83000 Borettslag o.l. "]
[null,null,"700 Kontrakter med investeringsvalg",null,"85000 Lønnstakere, pensjonister, trygdede, studenter o.a. "]
[null,null,"000 Ingen fordeling",null,"08000 Ufordelt sektor "]
[null,null,"000 Ingen fordeling",null,"90008 Utenlandske sektorer i alt, tilknyttede selskaper "]
[null,null,"000 Ingen fordeling",null,"90009 Utenlandske sektorer i alt, konsernselskaper "]
[null,null,"000 Ingen fordeling",null,"90010 Utenlandske sektorer i alt, ekskl. tilknyttede - og konsernselskaper "]
[null,null,"000 Ingen fordeling",null,"11100 Statens forretningsdrift "]
[null,null,"000 Ingen fordeling",null,"11200 Statlig eide aksjeselskaper mv. "]
[null,null,"000 Ingen fordeling",null,"11208 Statlig eide aksjeselskaper mv., tilknyttede selskaper "]
[null,null,"000 Ingen fordeling",null,"15100 Kommunale foretak med ubegrenset ansvar "]
[null,null,"000 Ingen fordeling",null,"15200 Kommunale aksjeselskaper mv. "]
[null,null,"000 Ingen fordeling",null,"15208 Kommunale aksjeselskaper mv., tilknyttede selskaper "]
[null,null,null,null,"21000 Private aksjeselskaper mv. "]
[null,null,null,null,"21008 Private aksjeselskaper mv., tilknyttede selskaper "]
[null,null,null,null,"21009 Private aksjeselskaper mv., konsernselskaper "]
[null,null,null,null,"23000 Personlige foretak "]
[null,null,null,null,"23008 Personlige foretak, tilknyttede selskaper "]
[null,null,null,null,"23009 Personlige foretak, konsernselskaper "]
[null,null,null,null,"25000 Private produsentorienterte organisasjoner uten profittformål "]
[null,null,null,null,"31000 Norges Bank "]
[null,null,null,null,"32000 Banker "]
[null,null,null,null,"35000 Kredittforetak "]
[null,null,null,null,"36000 Finansieringsforetak "]
[null,null,null,null,"39000 Statlige låneinstitutter mv. "]
[null,null,null,null,"41000 Holdingforetak i finanskonsern "]
[null,null,null,null,"45000 Investeringsselskaper og aktive eierfond/PE-fond "]
[null,null,null,null,"49000 Øvrige finansielle foretak unntatt forsikring "]
[null,null,null,null,"49008 Øvrige finansielle foretak unntatt forsikring, tilknyttede selskaper "]
[null,null,null,null,"49009 Øvrige finansielle foretak unntatt forsikring, konsernselskaper "]
[null,null,null,null,"55000 Livsforsikringsselskaper og pensjonskasser "]
[null,null,null,null,"57000 Skadeforsikringsselskaper "]
[null,null,null,null,"61000 Stats- og trygdeforvaltningen "]
[null,null,null,null,"65000 Kommuneforvaltningen "]
[null,null,null,null,"70000 Ideelle organisasjoner "]
[null,null,null,null,"82000 Personlig næringsdrivende "]
[null,null,null,null,"83000 Borettslag o.l. "]
[null,null,null,null,"85000 Lønnstakere, pensjonister, trygdede, studenter o.a. "]
[null,null,null,null,"08000 Ufordelt sektor "]
[null,null,null,null,"90008 Utenlandske sektorer i alt, tilknyttede selskaper "]
[null,null,null,null,"90009 Utenlandske sektorer i alt, konsernselskaper "]
[null,null,null,null,"90010 Utenlandske sektorer i alt, ekskl. tilknyttede - og konsernselskaper "]
[null,null,null,null,"21000 Private aksjeselskaper mv. "]
[null,null,null,null,"21008 Private aksjeselskaper mv., tilknyttede selskaper "]
[null,null,null,null,"21009 Private aksjeselskaper mv., konsernselskaper "]
[null,null,null,null,"39000 Statlige låneinstitutter mv. "]
[null,null,null,null,"45000 Investeringsselskaper og aktive eierfond/PE-fond "]
[null,null,null,null,"49000 Øvrige finansielle foretak unntatt forsikring "]
[null,null,null,null,"49008 Øvrige finansielle foretak unntatt forsikring, tilknyttede selskaper "]
[null,null,null,null,"49009 Øvrige finansielle foretak unntatt forsikring, konsernselskaper "]
[null,null,null,null,"21000 Private aksjeselskaper mv. "]
[null,null,null,null,"21008 Private aksjeselskaper mv., tilknyttede selskaper "]
[null,null,null,null,"21009 Private aksjeselskaper mv., konsernselskaper "]
[null,null,null,null,"39000 Statlige låneinstitutter mv. "]
[null,null,null,null,"45000 Investeringsselskaper og aktive eierfond/PE-fond "]
[null,null,null,null,"49000 Øvrige finansielle foretak unntatt forsikring "]
[null,null,null,null,"49008 Øvrige finansielle foretak unntatt forsikring, tilknyttede selskaper "]
[null,null,null,null,"49009 Øvrige finansielle foretak unntatt forsikring, konsernselskaper "]
[null,null,null,null,"43000 Verdipapirfond"]
[null,null,null,null,"90000 Utenlandske sektorer i alt"]
[null,null,null,null,"43000 Verdipapirfond"]
[null,null,null,null,"90000 Utenlandske sektorer i alt"]
[null,null,null,null,"43000 Verdipapirfond"]
[null,null,null,null,"90000 Utenlandske sektorer i alt"]
[null,null,null,null,"43000 Verdipapirfond"]
[null,null,null,null,"90000 Utenlandske sektorer i alt"]
[null,null,null,null,"43000 Verdipapirfond"]
[null,null,null,null,"90000 Utenlandske sektorer i alt"]
[null,null,null,null,"32000 Banker"]
[null,null,null,null,"35000 Kredittforetak"]
[null,null,null,null,"55000 Livsforsikringsselskaper og pensjonskasser"]
[null,null,null,null,"57000 Skadeforsikringsselskaper"]
[null,null,null,null,"11100 Statens forretningsdrift "]
[null,null,null,null,"11200 Statlig eide aksjeselskaper mv. "]
[null,null,null,null,"11208 Statlig eide aksjeselskaper mv., tilknyttede selskaper "]
[null,null,null,null,"15100 Kommunale foretak med ubegrenset ansvar "]
[null,null,null,null,"15200 Kommunale aksjeselskaper mv. "]
[null,null,null,null,"15208 Kommunale aksjeselskaper mv., tilknyttede selskaper "]
[null,null,null,null,"21000 Private aksjeselskaper mv. "]
[null,null,null,null,"21008 Private aksjeselskaper mv., tilknyttede selskaper "]
[null,null,null,null,"21009 Private aksjeselskaper mv., konsernselskaper "]
[null,null,null,null,"23000 Personlige foretak "]
[null,null,null,null,"23008 Personlige foretak, tilknyttede selskaper "]
[null,null,null,null,"23009 Personlige foretak, konsernselskaper "]
[null,null,null,null,"25000 Private produsentorienterte organisasjoner uten profittformål "]
[null,null,null,null,"31000 Norges Bank "]
[null,null,null,null,"32000 Banker "]
[null,null,null,null,"35000 Kredittforetak "]
[null,null,null,null,"36000 Finansieringsforetak "]
[null,null,null,null,"39000 Statlige låneinstitutter mv. "]
[null,null,null,null,"41000 Holdingforetak i finanskonsern "]
[null,null,null,null,"45000 Investeringsselskaper og aktive eierfond/PE-fond "]
[null,null,null,null,"49000 Øvrige finansielle foretak unntatt forsikring "]
[null,null,null,null,"49008 Øvrige finansielle foretak unntatt forsikring, tilknyttede selskaper "]
[null,null,null,null,"49009 Øvrige finansielle foretak unntatt forsikring, konsernselskaper "]
[null,null,null,null,"55000 Livsforsikringsselskaper og pensjonskasser "]
[null,null,null,null,"57000 Skadeforsikringsselskaper "]
[null,null,null,null,"61000 Stats- og trygdeforvaltningen "]
[null,null,null,null,"65000 Kommuneforvaltningen "]
[null,null,null,null,"70000 Ideelle organisasjoner "]
[null,null,null,null,"82000 Personlig næringsdrivende "]
[null,null,null,null,"83000 Borettslag o.l. "]
[null,null,null,null,"85000 Lønnstakere, pensjonister, trygdede, studenter o.a. "]
[null,null,null,null,"08000 Ufordelt sektor "]
[null,null,null,null,"90008 Utenlandske sektorer i alt, tilknyttede selskaper "]
[null,null,null,null,"90009 Utenlandske sektorer i alt, konsernselskaper "]
[null,null,null,null,"90010 Utenlandske sektorer i alt, ekskl. tilknyttede - og konsernselskaper "]
[null,null,null,null,"11100 Statens forretningsdrift "]
[null,null,null,null,"11200 Statlig eide aksjeselskaper mv. "]
[null,null,null,null,"11208 Statlig eide aksjeselskaper mv., tilknyttede selskaper "]
[null,null,null,null,"15100 Kommunale foretak med ubegrenset ansvar "]
[null,null,null,null,"15200 Kommunale aksjeselskaper mv. "]
[null,null,null,null,"15208 Kommunale aksjeselskaper mv., tilknyttede selskaper "]
[null,null,null,null,"21000 Private aksjeselskaper mv. "]
[null,null,null,null,"21008 Private aksjeselskaper mv., tilknyttede selskaper "]
[null,null,null,null,"21009 Private aksjeselskaper mv., konsernselskaper "]
[null,null,null,null,"23000 Personlige foretak "]
[null,null,null,null,"23008 Personlige foretak, tilknyttede selskaper "]
[null,null,null,null,"23009 Personlige foretak, konsernselskaper "]
[null,null,null,null,"25000 Private produsentorienterte organisasjoner uten profittformål "]
[null,null,null,null,"31000 Norges Bank "]
[null,null,null,null,"32000 Banker "]
[null,null,null,null,"35000 Kredittforetak "]
[null,null,null,null,"36000 Finansieringsforetak "]
[null,null,null,null,"39000 Statlige låneinstitutter mv. "]
[null,null,null,null,"41000 Holdingforetak i finanskonsern "]
[null,null,null,null,"45000 Investeringsselskaper og aktive eierfond/PE-fond "]
[null,null,null,null,"49000 Øvrige finansielle foretak unntatt forsikring "]
[null,null,null,null,"49008 Øvrige finansielle foretak unntatt forsikring, tilknyttede selskaper "]
[null,null,null,null,"49009 Øvrige finansielle foretak unntatt forsikring, konsernselskaper "]
[null,null,null,null,"55000 Livsforsikringsselskaper og pensjonskasser "]
[null,null,null,null,"57000 Skadeforsikringsselskaper "]
[null,null,null,null,"61000 Stats- og trygdeforvaltningen "]
[null,null,null,null,"65000 Kommuneforvaltningen "]
[null,null,null,null,"70000 Ideelle organisasjoner "]
[null,null,null,null,"82000 Personlig næringsdrivende "]
[null,null,null,null,"83000 Borettslag o.l. "]
[null,null,null,null,"85000 Lønnstakere, pensjonister, trygdede, studenter o.a. "]
[null,null,null,null,"08000 Ufordelt sektor "]
[null,null,null,null,"90008 Utenlandske sektorer i alt, tilknyttede selskaper "]
[null,null,null,null,"90009 Utenlandske sektorer i alt, konsernselskaper "]
[null,null,null,null,"90010 Utenlandske sektorer i alt, ekskl. tilknyttede - og konsernselskaper "]
[null,null,null,null,"11100 Statens forretningsdrift "]
[null,null,null,null,"11200 Statlig eide aksjeselskaper mv. "]
[null,null,null,null,"11208 Statlig eide aksjeselskaper mv., tilknyttede selskaper "]
[null,null,null,null,"15100 Kommunale foretak med ubegrenset ansvar "]
[null,null,null,null,"15200 Kommunale aksjeselskaper mv. "]
[null,null,null,null,"15208 Kommunale aksjeselskaper mv., tilknyttede selskaper "]
[null,null,null,null,"21000 Private aksjeselskaper mv. "]
[null,null,null,null,"21008 Private aksjeselskaper mv., tilknyttede selskaper "]
[null,null,null,null,"21009 Private aksjeselskaper mv., konsernselskaper "]
[null,null,null,null,"23000 Personlige foretak "]
[null,null,null,null,"23008 Personlige foretak, tilknyttede selskaper "]
[null,null,null,null,"23009 Personlige foretak, konsernselskaper "]
[null,null,null,null,"25000 Private produsentorienterte organisasjoner uten profittformål "]
[null,null,null,null,"31000 Norges Bank "]
[null,null,null,null,"32000 Banker "]
[null,null,null,null,"35000 Kredittforetak "]
[null,null,null,null,"36000 Finansieringsforetak "]
[null,null,null,null,"39000 Statlige låneinstitutter mv. "]
[null,null,null,null,"41000 Holdingforetak i finanskonsern "]
[null,null,null,null,"45000 Investeringsselskaper og aktive eierfond/PE-fond "]
[null,null,null,null,"49000 Øvrige finansielle foretak unntatt forsikring "]
[null,null,null,null,"49008 Øvrige finansielle foretak unntatt forsikring, tilknyttede selskaper "]
[null,null,null,null,"49009 Øvrige finansielle foretak unntatt forsikring, konsernselskaper "]
[null,null,null,null,"55000 Livsforsikringsselskaper og pensjonskasser "]
[null,null,null,null,"57000 Skadeforsikringsselskaper "]
[null,null,null,null,"61000 Stats- og trygdeforvaltningen "]
[null,null,null,null,"65000 Kommuneforvaltningen "]
[null,null,null,null,"70000 Ideelle organisasjoner "]
[null,null,null,null,"82000 Personlig næringsdrivende "]
[null,null,null,null,"83000 Borettslag o.l. "]
[null,null,null,null,"85000 Lønnstakere, pensjonister, trygdede, studenter o.a. "]
[null,null,null,null,"08000 Ufordelt sektor "]
[null,null,null,null,"90008 Utenlandske sektorer i alt, tilknyttede selskaper "]
[null,null,null,null,"90009 Utenlandske sektorer i alt, konsernselskaper "]
[null,null,null,null,"90010 Utenlandske sektorer i alt, ekskl. tilknyttede - og konsernselskaper "]
[null,null,null,null,"11100 Statens forretningsdrift "]
[null,null,null,null,"11200 Statlig eide aksjeselskaper mv. "]
[null,null,null,null,"11208 Statlig eide aksjeselskaper mv., tilknyttede selskaper "]
[null,null,null,null,"15100 Kommunale foretak med ubegrenset ansvar "]
[null,null,null,null,"15200 Kommunale aksjeselskaper mv. "]
[null,null,null,null,"15208 Kommunale aksjeselskaper mv., tilknyttede selskaper "]
[null,null,null,null,"21000 Private aksjeselskaper mv. "]
[null,null,null,null,"21008 Private aksjeselskaper mv., tilknyttede selskaper "]
[null,null,null,null,"21009 Private aksjeselskaper mv., konsernselskaper "]
[null,null,null,null,"23000 Personlige foretak "]
[null,null,null,null,"23008 Personlige foretak, tilknyttede selskaper "]
[null,null,null,null,"23009 Personlige foretak, konsernselskaper "]
[null,null,null,null,"25000 Private produsentorienterte organisasjoner uten profittformål "]
[null,null,null,null,"31000 Norges Bank "]
[null,null,null,null,"32000 Banker "]
[null,null,null,null,"35000 Kredittforetak "]
[null,null,null,null,"36000 Finansieringsforetak "]
[null,null,null,null,"39000 Statlige låneinstitutter mv. "]
[null,null,null,null,"41000 Holdingforetak i finanskonsern "]
[null,null,null,null,"45000 Investeringsselskaper og aktive eierfond/PE-fond "]
[null,null,null,null,"49000 Øvrige finansielle foretak unntatt forsikring "]
[null,null,null,null,"49008 Øvrige finansielle foretak unntatt forsikring, tilknyttede selskaper "]
[null,null,null,null,"49009 Øvrige finansielle foretak unntatt forsikring, konsernselskaper "]
[null,null,null,null,"55000 Livsforsikringsselskaper og pensjonskasser "]
[null,null,null,null,"57000 Skadeforsikringsselskaper "]
[null,null,null,null,"61000 Stats- og trygdeforvaltningen "]
[null,null,null,null,"65000 Kommuneforvaltningen "]
[null,null,null,null,"70000 Ideelle organisasjoner "]
[null,null,null,null,"82000 Personlig næringsdrivende "]
[null,null,null,null,"83000 Borettslag o.l. "]
[null,null,null,null,"85000 Lønnstakere, pensjonister, trygdede, studenter o.a. "]
[null,null,null,null,"08000 Ufordelt sektor "]
[null,null,null,null,"90008 Utenlandske sektorer i alt, tilknyttede selskaper "]
[null,null,null,null,"90009 Utenlandske sektorer i alt, konsernselskaper "]
[null,null,null,null,"90010 Utenlandske sektorer i alt, ekskl. tilknyttede - og konsernselskaper "]
[null,null,null,null,"11100 Statens forretningsdrift "]
[null,null,null,null,"11200 Statlig eide aksjeselskaper mv. "]
[null,null,null,null,"11208 Statlig eide aksjeselskaper mv., tilknyttede selskaper "]
[null,null,null,null,"15100 Kommunale foretak med ubegrenset ansvar "]
[null,null,null,null,"15200 Kommunale aksjeselskaper mv. "]
[null,null,null,null,"15208 Kommunale aksjeselskaper mv., tilknyttede selskaper "]
[null,null,null,null,"21000 Private aksjeselskaper mv. "]
[null,null,null,null,"21008 Private aksjeselskaper mv., tilknyttede selskaper "]
[null,null,null,null,"21009 Private aksjeselskaper mv., konsernselskaper "]
[null,null,null,null,"23000 Personlige foretak "]
[null,null,null,null,"23008 Personlige foretak, tilknyttede selskaper "]
[null,null,null,null,"23009 Personlige foretak, konsernselskaper "]
[null,null,null,null,"25000 Private produsentorienterte organisasjoner uten profittformål "]
[null,null,null,null,"31000 Norges Bank "]
[null,null,null,null,"32000 Banker "]
[null,null,null,null,"35000 Kredittforetak "]
[null,null,null,null,"36000 Finansieringsforetak "]
[null,null,null,null,"39000 Statlige låneinstitutter mv. "]
[null,null,null,null,"41000 Holdingforetak i finanskonsern "]
[null,null,null,null,"45000 Investeringsselskaper og aktive eierfond/PE-fond "]
[null,null,null,null,"49000 Øvrige finansielle foretak unntatt forsikring "]
[null,null,null,null,"49008 Øvrige finansielle foretak unntatt forsikring, tilknyttede selskaper "]
[null,null,null,null,"49009 Øvrige finansielle foretak unntatt forsikring, konsernselskaper "]
[null,null,null,null,"55000 Livsforsikringsselskaper og pensjonskasser "]
[null,null,null,null,"57000 Skadeforsikringsselskaper "]
[null,null,null,null,"61000 Stats- og trygdeforvaltningen "]
[null,null,null,null,"65000 Kommuneforvaltningen "]
[null,null,null,null,"70000 Ideelle organisasjoner "]
[null,null,null,null,"82000 Personlig næringsdrivende "]
[null,null,null,null,"83000 Borettslag o.l. "]
[null,null,null,null,"85000 Lønnstakere, pensjonister, trygdede, studenter o.a. "]
[null,null,null,null,"08000 Ufordelt sektor "]
[null,null,null,null,"90008 Utenlandske sektorer i alt, tilknyttede selskaper "]
[null,null,null,null,"90009 Utenlandske sektorer i alt, konsernselskaper "]
[null,null,null,null,"90010 Utenlandske sektorer i alt, ekskl. tilknyttede - og konsernselskaper "]
[null,null,null,null,"11100 Statens forretningsdrift "]
[null,null,null,null,"11200 Statlig eide aksjeselskaper mv. "]
[null,null,null,null,"11208 Statlig eide aksjeselskaper mv., tilknyttede selskaper "]
[null,null,null,null,"15100 Kommunale foretak med ubegrenset ansvar "]
[null,null,null,null,"15200 Kommunale aksjeselskaper mv. "]
[null,null,null,null,"15208 Kommunale aksjeselskaper mv., tilknyttede selskaper "]
[null,null,null,null,"21000 Private aksjeselskaper mv. "]
[null,null,null,null,"21008 Private aksjeselskaper mv., tilknyttede selskaper "]
[null,null,null,null,"21009 Private aksjeselskaper mv., konsernselskaper "]
[null,null,null,null,"23000 Personlige foretak "]
[null,null,null,null,"23008 Personlige foretak, tilknyttede selskaper "]
[null,null,null,null,"23009 Personlige foretak, konsernselskaper "]
[null,null,null,null,"25000 Private produsentorienterte organisasjoner uten profittformål "]
[null,null,null,null,"31000 Norges Bank "]
[null,null,null,null,"32000 Banker "]
[null,null,null,null,"35000 Kredittforetak "]
[null,null,null,null,"36000 Finansieringsforetak "]
[null,null,null,null,"39000 Statlige låneinstitutter mv. "]
[null,null,null,null,"41000 Holdingforetak i finanskonsern "]
[null,null,null,null,"45000 Investeringsselskaper og aktive eierfond/PE-fond "]
[null,null,null,null,"49000 Øvrige finansielle foretak unntatt forsikring "]
[null,null,null,null,"49008 Øvrige finansielle foretak unntatt forsikring, tilknyttede selskaper "]
[null,null,null,null,"49009 Øvrige finansielle foretak unntatt forsikring, konsernselskaper "]
[null,null,null,null,"55000 Livsforsikringsselskaper og pensjonskasser "]
[null,null,null,null,"57000 Skadeforsikringsselskaper "]
[null,null,null,null,"61000 Stats- og trygdeforvaltningen "]
[null,null,null,null,"65000 Kommuneforvaltningen "]
[null,null,null,null,"70000 Ideelle organisasjoner "]
[null,null,null,null,"82000 Personlig næringsdrivende "]
[null,null,null,null,"83000 Borettslag o.l. "]
[null,null,null,null,"85000 Lønnstakere, pensjonister, trygdede, studenter o.a. "]
[null,null,null,null,"08000 Ufordelt sektor "]
[null,null,null,null,"90008 Utenlandske sektorer i alt, tilknyttede selskaper "]
[null,null,null,null,"90009 Utenlandske sektorer i alt, konsernselskaper "]
[null,null,null,null,"90010 Utenlandske sektorer i alt, ekskl. tilknyttede - og konsernselskaper "]
[null,null,null,null,"11100 Statens forretningsdrift "]
[null,null,null,null,"11200 Statlig eide aksjeselskaper mv. "]
[null,null,null,null,"11208 Statlig eide aksjeselskaper mv., tilknyttede selskaper "]
[null,null,null,null,"15100 Kommunale foretak med ubegrenset ansvar "]
[null,null,null,null,"15200 Kommunale aksjeselskaper mv. "]
[null,null,null,null,"15208 Kommunale aksjeselskaper mv., tilknyttede selskaper "]
[null,null,null,null,"21000 Private aksjeselskaper mv. "]
[null,null,null,null,"21008 Private aksjeselskaper mv., tilknyttede selskaper "]
[null,null,null,null,"21009 Private aksjeselskaper mv., konsernselskaper "]
[null,null,null,null,"23000 Personlige foretak "]
[null,null,null,null,"23008 Personlige foretak, tilknyttede selskaper "]
[null,null,null,null,"23009 Personlige foretak, konsernselskaper "]
[null,null,null,null,"25000 Private produsentorienterte organisasjoner uten profittformål "]
[null,null,null,null,"31000 Norges Bank "]
[null,null,null,null,"32000 Banker "]
[null,null,null,null,"35000 Kredittforetak "]
[null,null,null,null,"36000 Finansieringsforetak "]
[null,null,null,null,"39000 Statlige låneinstitutter mv. "]
[null,null,null,null,"41000 Holdingforetak i finanskonsern "]
[null,null,null,null,"45000 Investeringsselskaper og aktive eierfond/PE-fond "]
[null,null,null,null,"49000 Øvrige finansielle foretak unntatt forsikring "]
[null,null,null,null,"49008 Øvrige finansielle foretak unntatt forsikring, tilknyttede selskaper "]
[null,null,null,null,"49009 Øvrige finansielle foretak unntatt forsikring, konsernselskaper "]
[null,null,null,null,"55000 Livsforsikringsselskaper og pensjonskasser "]
[null,null,null,null,"57000 Skadeforsikringsselskaper "]
[null,null,null,null,"61000 Stats- og trygdeforvaltningen "]
[null,null,null,null,"65000 Kommuneforvaltningen "]
[null,null,null,null,"70000 Ideelle organisasjoner "]
[null,null,null,null,"82000 Personlig næringsdrivende "]
[null,null,null,null,"83000 Borettslag o.l. "]
[null,null,null,null,"85000 Lønnstakere, pensjonister, trygdede, studenter o.a. "]
[null,null,null,null,"08000 Ufordelt sektor "]
[null,null,null,null,"90008 Utenlandske sektorer i alt, tilknyttede selskaper "]
[null,null,null,null,"90009 Utenlandske sektorer i alt, konsernselskaper "]
[null,null,null,null,"90010 Utenlandske sektorer i alt, ekskl. tilknyttede - og konsernselskaper "]
[null,null,null,null,"01000 Norske sektorer i alt"]
[null,null,null,null,"90000 Utenlandske sektorer i alt"]
[null,null,null,null,"01000 Norske sektorer i alt"]
[null,null,null,null,"90000 Utenlandske sektorer i alt"]
[null,null,null,null,"01000 Norske sektorer i alt"]
[null,null,null,null,"90000 Utenlandske sektorer i alt"]
[null,null,null,null,"01000 Norske sektorer i alt"]
[null,null,null,null,"90000 Utenlandske sektorer i alt"]
[null,null,null,null,"01000 Norske sektorer i alt"]
[null,null,null,null,"90000 Utenlandske sektorer i alt"]
[null,null,null,null,"01000 Norske sektorer i alt"]
[null,null,null,null,"90000 Utenlandske sektorer i alt"]
[null,null,null,null,"01000 Norske sektorer i alt"]
[null,null,null,null,"90000 Utenlandske sektorer i alt"]
[null,null,null,null,"01000 Norske sektorer i alt"]
[null,null,null,null,"90000 Utenlandske sektorer i alt"]
[null,null,null,null,"01000 Norske sektorer i alt"]
[null,null,null,null,"90000 Utenlandske sektorer i alt"]
[null,null,null,null,"01000 Norske sektorer i alt"]
[null,null,null,null,"90000 Utenlandske sektorer i alt"]
[null,null,null,null,"01000 Norske sektorer i alt"]
[null,null,null,null,"90000 Utenlandske sektorer i alt"]
[null,null,null,null,"11100 Statens forretningsdrift "]
[null,null,null,null,"11200 Statlig eide aksjeselskaper mv. "]
[null,null,null,null,"11208 Statlig eide aksjeselskaper mv., tilknyttede selskaper "]
[null,null,null,null,"15100 Kommunale foretak med ubegrenset ansvar "]
[null,null,null,null,"15200 Kommunale aksjeselskaper mv. "]
[null,null,null,null,"15208 Kommunale aksjeselskaper mv., tilknyttede selskaper "]
[null,null,null,null,"21000 Private aksjeselskaper mv. "]
[null,null,null,null,"21008 Private aksjeselskaper mv., tilknyttede selskaper "]
[null,null,null,null,"21009 Private aksjeselskaper mv., konsernselskaper "]
[null,null,null,null,"23000 Personlige foretak "]
[null,null,null,null,"23008 Personlige foretak, tilknyttede selskaper "]
[null,null,null,null,"23009 Personlige foretak, konsernselskaper "]
[null,null,null,null,"25000 Private produsentorienterte organisasjoner uten profittformål "]
[null,null,null,null,"31000 Norges Bank "]
[null,null,null,null,"32000 Banker "]
[null,null,null,null,"35000 Kredittforetak "]
[null,null,null,null,"36000 Finansieringsforetak "]
[null,null,null,null,"39000 Statlige låneinstitutter mv. "]
[null,null,null,null,"41000 Holdingforetak i finanskonsern "]
[null,null,null,null,"45000 Investeringsselskaper og aktive eierfond/PE-fond "]
[null,null,null,null,"49000 Øvrige finansielle foretak unntatt forsikring "]
[null,null,null,null,"49008 Øvrige finansielle foretak unntatt forsikring, tilknyttede selskaper "]
[null,null,null,null,"49009 Øvrige finansielle foretak unntatt forsikring, konsernselskaper "]
[null,null,null,null,"55000 Livsforsikringsselskaper og pensjonskasser "]
[null,null,null,null,"57000 Skadeforsikringsselskaper "]
[null,null,null,null,"61000 Stats- og trygdeforvaltningen "]
[null,null,null,null,"65000 Kommuneforvaltningen "]
[null,null,null,null,"70000 Ideelle organisasjoner "]
[null,null,null,null,"82000 Personlig næringsdrivende "]
[null,null,null,null,"83000 Borettslag o.l. "]
[null,null,null,null,"85000 Lønnstakere, pensjonister, trygdede, studenter o.a. "]
[null,null,null,null,"08000 Ufordelt sektor "]
[null,null,null,null,"90008 Utenlandske sektorer i alt, tilknyttede selskaper "]
[null,null,null,null,"90009 Utenlandske sektorer i alt, konsernselskaper "]
[null,null,null,null,"90010 Utenlandske sektorer i alt, ekskl. tilknyttede - og konsernselskaper "]
[null,null,null,null,"01000 Norske sektorer i alt"]
[null,null,null,null,"90000 Utenlandske sektorer i alt"]
[null,null,null,null,"01000 Norske sektorer i alt"]
[null,null,null,null,"90000 Utenlandske sektorer i alt"]
[null,null,null,null,"01000 Norske sektorer i alt"]
[null,null,null,null,"90000 Utenlandske sektorer i alt"]
[null,null,null,null,"01000 Norske sektorer i alt"]
[null,null,null,null,"90000 Utenlandske sektorer i alt"]
[null,null,null,null,"01000 Norske sektorer i alt"]
[null,null,null,null,"90000 Utenlandske sektorer i alt"]
[null,null,null,null,"01000 Norske sektorer i alt"]
[null,null,null,null,"90000 Utenlandske sektorer i alt"]
[null,null,null,null,"11100 Statens forretningsdrift "]
[null,null,null,null,"11200 Statlig eide aksjeselskaper mv. "]
[null,null,null,null,"11208 Statlig eide aksjeselskaper mv., tilknyttede selskaper "]
[null,null,null,null,"15100 Kommunale foretak med ubegrenset ansvar "]
[null,null,null,null,"15200 Kommunale aksjeselskaper mv. "]
[null,null,null,null,"15208 Kommunale aksjeselskaper mv., tilknyttede selskaper "]
[null,null,null,null,"21000 Private aksjeselskaper mv. "]
[null,null,null,null,"21008 Private aksjeselskaper mv., tilknyttede selskaper "]
[null,null,null,null,"21009 Private aksjeselskaper mv., konsernselskaper "]
[null,null,null,null,"23000 Personlige foretak "]
[null,null,null,null,"23008 Personlige foretak, tilknyttede selskaper "]
[null,null,null,null,"23009 Personlige foretak, konsernselskaper "]
[null,null,null,null,"25000 Private produsentorienterte organisasjoner uten profittformål "]
[null,null,null,null,"31000 Norges Bank "]
[null,null,null,null,"32000 Banker "]
[null,null,null,null,"35000 Kredittforetak "]
[null,null,null,null,"36000 Finansieringsforetak "]
[null,null,null,null,"39000 Statlige låneinstitutter mv. "]
[null,null,null,null,"41000 Holdingforetak i finanskonsern "]
[null,null,null,null,"45000 Investeringsselskaper og aktive eierfond/PE-fond "]
[null,null,null,null,"49000 Øvrige finansielle foretak unntatt forsikring "]
[null,null,null,null,"49008 Øvrige finansielle foretak unntatt forsikring, tilknyttede selskaper "]
[null,null,null,null,"49009 Øvrige finansielle foretak unntatt forsikring, konsernselskaper "]
[null,null,null,null,"55000 Livsforsikringsselskaper og pensjonskasser "]
[null,null,null,null,"57000 Skadeforsikringsselskaper "]
[null,null,null,null,"61000 Stats- og trygdeforvaltningen "]
[null,null,null,null,"65000 Kommuneforvaltningen "]
[null,null,null,null,"70000 Ideelle organisasjoner "]
[null,null,null,null,"82000 Personlig næringsdrivende "]
[null,null,null,null,"83000 Borettslag o.l. "]
[null,null,null,null,"85000 Lønnstakere, pensjonister, trygdede, studenter o.a. "]
[null,null,null,null,"08000 Ufordelt sektor "]
[null,null,null,null,"90008 Utenlandske sektorer i alt, tilknyttede selskaper "]
[null,null,null,null,"90009 Utenlandske sektorer i alt, konsernselskaper "]
[null,null,null,null,"90010 Utenlandske sektorer i alt, ekskl. tilknyttede - og konsernselskaper "]
[null,null,null,null,"01000 Norske sektorer i alt"]
[null,null,null,null,"90000 Utenlandske sektorer i alt"]
[null,null,null,null,"01000 Norske sektorer i alt"]
[null,null,null,null,"90000 Utenlandske sektorer i alt"]
[null,null,null,null,"01000 Norske sektorer i alt"]
[null,null,null,null,"90000 Utenlandske sektorer i alt"]
[null,null,null,null,"00000 Ingen fordeling"]
[null,null,null,null,"00000 Ingen fordeling"]
[null,null,null,null,"01000 Norske sektorer i alt"]
[null,null,null,null,"90000 Utenlandske sektorer i alt"]
[null,null,null,null,"01000 Norske sektorer i alt"]
[null,null,null,null,"90000 Utenlandske sektorer i alt"]
[null,null,null,null,"01000 Norske sektorer i alt"]
[null,null,null,null,"90000 Utenlandske sektorer i alt"]
[null,null,null,null,"01000 Norske sektorer i alt"]
[null,null,null,null,"90000 Utenlandske sektorer i alt"]
[null,null,null,null,"01000 Norske sektorer i alt"]
[null,null,null,null,"90000 Utenlandske sektorer i alt"]
[null,null,null,null,"11100 Statens forretningsdrift "]
[null,null,null,null,"11200 Statlig eide aksjeselskaper mv. "]
[null,null,null,null,"11208 Statlig eide aksjeselskaper mv., tilknyttede selskaper "]
[null,null,null,null,"15100 Kommunale foretak med ubegrenset ansvar "]
[null,null,null,null,"15200 Kommunale aksjeselskaper mv. "]
[null,null,null,null,"15208 Kommunale aksjeselskaper mv., tilknyttede selskaper "]
[null,null,null,null,"21000 Private aksjeselskaper mv. "]
[null,null,null,null,"21008 Private aksjeselskaper mv., tilknyttede selskaper "]
[null,null,null,null,"21009 Private aksjeselskaper mv., konsernselskaper "]
[null,null,null,null,"23000 Personlige foretak "]
[null,null,null,null,"23008 Personlige foretak, tilknyttede selskaper "]
[null,null,null,null,"23009 Personlige foretak, konsernselskaper "]
[null,null,null,null,"25000 Private produsentorienterte organisasjoner uten profittformål "]
[null,null,null,null,"31000 Norges Bank "]
[null,null,null,null,"32000 Banker "]
[null,null,null,null,"35000 Kredittforetak "]
[null,null,null,null,"36000 Finansieringsforetak "]
[null,null,null,null,"39000 Statlige låneinstitutter mv. "]
[null,null,null,null,"41000 Holdingforetak i finanskonsern "]
[null,null,null,null,"45000 Investeringsselskaper og aktive eierfond/PE-fond "]
[null,null,null,null,"49000 Øvrige finansielle foretak unntatt forsikring "]
[null,null,null,null,"49008 Øvrige finansielle foretak unntatt forsikring, tilknyttede selskaper "]
[null,null,null,null,"49009 Øvrige finansielle foretak unntatt forsikring, konsernselskaper "]
[null,null,null,null,"55000 Livsforsikringsselskaper og pensjonskasser "]
[null,null,null,null,"57000 Skadeforsikringsselskaper "]
[null,null,null,null,"61000 Stats- og trygdeforvaltningen "]
[null,null,null,null,"65000 Kommuneforvaltningen "]
[null,null,null,null,"70000 Ideelle organisasjoner "]
[null,null,null,null,"82000 Personlig næringsdrivende "]
[null,null,null,null,"83000 Borettslag o.l. "]
[null,null,null,null,"85000 Lønnstakere, pensjonister, trygdede, studenter o.a. "]
[null,null,null,null,"08000 Ufordelt sektor "]
[null,null,null,null,"90008 Utenlandske sektorer i alt, tilknyttede selskaper "]
[null,null,null,null,"90009 Utenlandske sektorer i alt, konsernselskaper "]
[null,null,null,null,"90010 Utenlandske sektorer i alt, ekskl. tilknyttede - og konsernselskaper "]
[null,null,null,null,"11100 Statens forretningsdrift "]
[null,null,null,null,"11200 Statlig eide aksjeselskaper mv. "]
[null,null,null,null,"11208 Statlig eide aksjeselskaper mv., tilknyttede selskaper "]
[null,null,null,null,"15100 Kommunale foretak med ubegrenset ansvar "]
[null,null,null,null,"15200 Kommunale aksjeselskaper mv. "]
[null,null,null,null,"15208 Kommunale aksjeselskaper mv., tilknyttede selskaper "]
[null,null,null,null,"21000 Private aksjeselskaper mv. "]
[null,null,null,null,"21008 Private aksjeselskaper mv., tilknyttede selskaper "]
[null,null,null,null,"21009 Private aksjeselskaper mv., konsernselskaper "]
[null,null,null,null,"23000 Personlige foretak "]
[null,null,null,null,"23008 Personlige foretak, tilknyttede selskaper "]
[null,null,null,null,"23009 Personlige foretak, konsernselskaper "]
[null,null,null,null,"25000 Private produsentorienterte organisasjoner uten profittformål "]
[null,null,null,null,"31000 Norges Bank "]
[null,null,null,null,"32000 Banker "]
[null,null,null,null,"35000 Kredittforetak "]
[null,null,null,null,"36000 Finansieringsforetak "]
[null,null,null,null,"39000 Statlige låneinstitutter mv. "]
[null,null,null,null,"41000 Holdingforetak i finanskonsern "]
[null,null,null,null,"45000 Investeringsselskaper og aktive eierfond/PE-fond "]
[null,null,null,null,"49000 Øvrige finansielle foretak unntatt forsikring "]
[null,null,null,null,"49008 Øvrige finansielle foretak unntatt forsikring, tilknyttede selskaper "]
[null,null,null,null,"49009 Øvrige finansielle foretak unntatt forsikring, konsernselskaper "]
[null,null,null,null,"55000 Livsforsikringsselskaper og pensjonskasser "]
[null,null,null,null,"57000 Skadeforsikringsselskaper "]
[null,null,null,null,"61000 Stats- og trygdeforvaltningen "]
[null,null,null,null,"65000 Kommuneforvaltningen "]
[null,null,null,null,"70000 Ideelle organisasjoner "]
[null,null,null,null,"82000 Personlig næringsdrivende "]
[null,null,null,null,"83000 Borettslag o.l. "]
[null,null,null,null,"85000 Lønnstakere, pensjonister, trygdede, studenter o.a. "]
[null,null,null,null,"08000 Ufordelt sektor "]
[null,null,null,null,"90008 Utenlandske sektorer i alt, tilknyttede selskaper "]
[null,null,null,null,"90009 Utenlandske sektorer i alt, konsernselskaper "]
[null,null,null,null,"90010 Utenlandske sektorer i alt, ekskl. tilknyttede - og konsernselskaper "]
[null,null,null,null,"01008 Norske sektorer i alt, tilknyttede selskaper "]
[null,null,null,null,"01009 Norske sektorer i alt, konsernselskaper "]
[null,null,null,null,"01010 Norske sektorer i alt, ekskl. tilknyttede- og konsernselskaper "]
[null,null,null,null,"90008 Utenlandske sektorer i alt, tilknyttede selskaper "]
[null,null,null,null,"90009 Utenlandske sektorer i alt, konsernselskaper "]
[null,null,null,null,"90010 Utenlandske sektorer i alt, ekskl. tilknyttede - og konsernselskaper "]
[null,null,null,null,"01008 Norske sektorer i alt, tilknyttede selskaper "]
[null,null,null,null,"01009 Norske sektorer i alt, konsernselskaper "]
[null,null,null,null,"01010 Norske sektorer i alt, ekskl. tilknyttede- og konsernselskaper "]
[null,null,null,null,"90008 Utenlandske sektorer i alt, tilknyttede selskaper "]
[null,null,null,null,"90009 Utenlandske sektorer i alt, konsernselskaper "]
[null,null,null,null,"90010 Utenlandske sektorer i alt, ekskl. tilknyttede - og konsernselskaper "]
[null,null,null,null,"00000 Ingen fordeling"]
[null,null,null,null,"00000 Ingen fordeling"]
[null,null,null,null,"00000 Ingen fordeling"]
[null,null,null,null,"01000 Norske sektorer i alt"]
[null,null,null,null,"90000 Utenlandske sektorer i alt"]
[null,null,null,null,"00000 Ingen fordeling"]
[null,null,null,null,"00000 Ingen fordeling"]

{"sheet":"BASE20","index":7,"n_rows":199,"n_cols":6,"rows_kept":199,"cut":false,"hidden":true,"merged":[]}
[]
[]
["Post","base-itens","PORTEFØLJE","SEKTOR","Kan være negativ\nsinal 2","Skal være negativ\nsinal 1"]
["10501010 Forf. premier, Brutto, Fortjenesteelement og betalt vederlag for administrasjon, forvaltning og rentegaranti",10501010,"600 Kontrakter uten investeringsvalg","00000 Ingen fordeling",10502000,40601000]
["10501030 Forf. premier, Brutto, Øvrig premie",10501030,"700 Kontrakter med investeringsvalg","00000 Ingen fordeling",13513670,90899800]
["10502000 Avgitte gjenforsikringspremier (negativ fortegn hvis kostnad)",10502000,"600 Kontrakter uten investeringsvalg","01000 Norske sektorer i alt",16013600,90999800]
["10700000 Overføring av premiereserve og pensjonskapital mv. fra andre ",10700000,"700 Kontrakter med investeringsvalg","90000 Utenlandske sektorer i alt",16014000]
[null,null,"000 Ingen fordeling","01000 Norske sektorer i alt",16025500]
["11012110 Renteinntekter mv., Bankinnskudd, Driftskonti",11012110,"600 Kontrakter uten investeringsvalg","90000 Utenlandske sektorer i alt",16058600]
["11012113 Renteinntekter mv., Bankinnskudd, Plasseringskonti",11012113,"700 Kontrakter med investeringsvalg","01000 Norske sektorer i alt",16009100]
["11014000 Renteinntekter mv., Rentebærende verdipapirer",11014000,"100 Kollektivportefølje","90000 Utenlandske sektorer i alt",17013600]
["11008800 Renteinntekter mv., Finansielle derivater",11008800,"200 Investeringsvalgportefølje","01000 Norske sektorer i alt",17014000]
["11009100 Renteinntekter mv., Andre finansielle eiendeler",11009100,"300 Selskapsportefølje","90000 Utenlandske sektorer i alt",17058600]
["11009400 Renteinntekter mv. Forsikringsrelaterte renteinntekter",11009400,"100 Kollektivportefølje","01008 Norske sektorer i alt, tilknyttede selskaper ",17009100]
["13513610 Utbytte og andel av over-/underskudd, samt renter på obligasjons- og pengemarkedsfond. Obligasjons- og pengemarkedsfond; renter av andeler",13513610,"200 Investeringsvalgportefølje","01009 Norske sektorer i alt, konsernselskaper ",40502000]
["13513620 Utbytte og andel av over-/underskudd, samt renter på obligasjons- og pengemarkedsfond. Eiendomsselskaper;Utbytte og konsernbidrag",13513620,"300 Selskapsportefølje","01010 Norske sektorer i alt, ekskl. tilknyttede- og konsernselskaper ",40800111]
["13513670 Utbytte og andel av over-/underskudd, samt renter på obligasjons- og pengemarkedsfond. Resultatandel, EK-metoden (kan være negativ)",13513670,"100 Kollektivportefølje","90008 Utenlandske sektorer i alt, tilknyttede selskaper ",40800112]
["13513690 Utbytte og andel av over-/underskudd, samt renter på obligasjons- og pengemarkedsfond. Andre aksjer, utbytte og konsernbidrag",13513690,"200 Investeringsvalgportefølje","90009 Utenlandske sektorer i alt, konsernselskaper ",40800511]
["13518900 Utbytte og andel av over-/underskudd, samt renter på obligasjons- og pengemarkedsfond. Andre verdipapirer",13518900,"300 Selskapsportefølje","90010 Utenlandske sektorer i alt, ekskl. tilknyttede - og konsernselskaper ",40800512]
["16013610 Netto verdiendr. (urealisert), Aksjer, andeler mv., Obligasjons- og pengemarkedsfond; verdiendringer",16013610,"100 Kollektivportefølje","01000 Norske sektorer i alt",40880221]
["16013620 Netto verdiendr. (urealisert), Aksjer, andeler mv., Aksjer og andeler i eiendomsselskaper/-fond; verdiendringer",16013620,"200 Investeringsvalgportefølje","90000 Utenlandske sektorer i alt",40880222]
["16013690 Netto verdiendr. (urealisert), Aksjer, andeler mv., Andre aksjer og fond, verdiendringer",16013690,"300 Selskapsportefølje","01008 Norske sektorer i alt, tilknyttede selskaper ",40880223]
["16014000 Netto verdiendr. (urealisert), Rentebærende verdipapirer, (neg. hvis netto neg. verdiendr.)",16014000,"100 Kollektivportefølje","01009 Norske sektorer i alt, konsernselskaper ",40880227]
["16025500 Netto verdiendr. (urealisert), Utlån., (neg. hvis netto neg. verdiendr.)",16025500,"200 Investeringsvalgportefølje","01010 Norske sektorer i alt, ekskl. tilknyttede- og konsernselskaper ",40880300]
["16058600 Netto verdiendr. (urealisert), Bygninger og annen fast eiendom., (neg. hvis netto neg. verdiendr.)",16058600,"300 Selskapsportefølje","90008 Utenlandske sektorer i alt, tilknyttede selskaper ",40880400]
["16008800 Netto verdiendr. (urealisert), Finansielle derivater., (neg. hvis netto neg. verdiendr.)",16008800,"000 Ingen fordeling","90009 Utenlandske sektorer i alt, konsernselskaper ",40880641]
["16009100 Netto verdiendr. (urealisert), Andre finansielle eiendeler/gjeld ., (neg. hvis netto neg. verdiendr.)",16009100,"100 Kollektivportefølje","90010 Utenlandske sektorer i alt, ekskl. tilknyttede - og konsernselskaper ",40880642]
["16009410 Forsikringsrelaterte verdiendr., Positive verdiendringer",16009410,"200 Investeringsvalgportefølje","01000 Norske sektorer i alt",40880700]
["16009420 Forsikringsrelaterte verdiendr., Neg. verdiendringer",16009420,"300 Selskapsportefølje","90000 Utenlandske sektorer i alt",56508800]
["17013610 Netto realiserte gevinst/tap, Aksjer, andeler mv., Obligasjons-/pengemarkedsfond; realisert gevinst/tap",17013610,"100 Kollektivportefølje","01008 Norske sektorer i alt, tilknyttede selskaper ",90199620]
["17013620 Netto realiserte gevinst/tap, Aksjer, andeler mv., Aksjer og andeler i eiendomsselskaper/-fond; realisert gevinst/tap ",17013620,"200 Investeringsvalgportefølje","01009 Norske sektorer i alt, konsernselskaper ",90199630]
["17013690 Netto realiserte gevinst/tap, Aksjer, andeler mv., Andre aksjer og fond, realisert gevinst/tap",17013690,"300 Selskapsportefølje","01010 Norske sektorer i alt, ekskl. tilknyttede- og konsernselskaper ",90199800]
["17014000 Netto realiserte gevinst/tap, Rentebærende verdipapirer, (neg. hvis netto tap)",17014000,"100 Kollektivportefølje","90008 Utenlandske sektorer i alt, tilknyttede selskaper ",90200000]
["17058600 Netto realiserte gevinst/tap, Bygninger og annen fast eiendom, (neg. hvis netto tap)",17058600,"200 Investeringsvalgportefølje","90009 Utenlandske sektorer i alt, konsernselskaper ",90599620]
["17008800 Netto realiserte gevinst/tap, Finansielle derivater (neg. hvis netto tap)",17008800,"300 Selskapsportefølje","90010 Utenlandske sektorer i alt, ekskl. tilknyttede - og konsernselskaper ",90599800]
["17009100 Netto realiserte gevinst/tap, Andre eiendeler/gjeld. (neg. hvis netto tap)",17009100,"100 Kollektivportefølje","01008 Norske sektorer i alt, tilknyttede selskaper ",90699800]
[null,null,"200 Investeringsvalgportefølje","01009 Norske sektorer i alt, konsernselskaper ",90899200]
["25500000 Driftsinntekter faste eiendommer",25500000,"300 Selskapsportefølje","01010 Norske sektorer i alt, ekskl. tilknyttede- og konsernselskaper ",90899300]
["26500000 Øvrige forsikringsrelaterte inntekter",26500000,"100 Kollektivportefølje","90008 Utenlandske sektorer i alt, tilknyttede selskaper "]
[null,null,"200 Investeringsvalgportefølje","90009 Utenlandske sektorer i alt, konsernselskaper "]
["36500000 Andre inntekter i ikke teknisk regnskap",36500000,"300 Selskapsportefølje","90010 Utenlandske sektorer i alt, ekskl. tilknyttede - og konsernselskaper "]
[null,null,"100 Kollektivportefølje","01008 Norske sektorer i alt, tilknyttede selskaper "]
["40501010 Utbetalte pensjoner og erstatninger, brutto, Alderspensjoner (negativ fortegn hvis inntekt)",40501010,"200 Investeringsvalgportefølje","01009 Norske sektorer i alt, konsernselskaper "]
["40501020 Utbetalte pensjoner og erstatninger, brutto, Uførepensjoner (negativ fortegn hvis inntekt)",40501020,"300 Selskapsportefølje","01010 Norske sektorer i alt, ekskl. tilknyttede- og konsernselskaper "]
["40501030 Utbetalte pensjoner og erstatninger, brutto, Ektefellepensjoner (negativ fortegn hvis inntekt)",40501030,"100 Kollektivportefølje","90008 Utenlandske sektorer i alt, tilknyttede selskaper "]
["40501040 Utbetalte pensjoner og erstatninger, brutto, Barnepensjoner (negativ fortegn hvis inntekt)",40501040,"200 Investeringsvalgportefølje","90009 Utenlandske sektorer i alt, konsernselskaper "]
["40501060 Utbetalte pensjoner og erstatninger, brutto, Premiefritak ved uførhet (negativ fortegn hvis inntekt)",40501060,"300 Selskapsportefølje","90010 Utenlandske sektorer i alt, ekskl. tilknyttede - og konsernselskaper "]
["40501070 Utbetalte pensjoner og erstatninger, brutto, Gruppeliv (negativ fortegn hvis inntekt)",40501070,"100 Kollektivportefølje","01008 Norske sektorer i alt, tilknyttede selskaper "]
["40502000 Gjenforsikringsandel, (negativ fortegn hvis inntekt)",40502000,"200 Investeringsvalgportefølje","01009 Norske sektorer i alt, konsernselskaper "]
["40601000 Refusjoner, Mottatte (negativ)",40601000,"300 Selskapsportefølje","01010 Norske sektorer i alt, ekskl. tilknyttede- og konsernselskaper "]
["40602000 Refusjoner, Avgitte",40602000,"100 Kollektivportefølje","90008 Utenlandske sektorer i alt, tilknyttede selskaper "]
["40700000 Overføring av premiereserve og pensjonskapital mv. til andre",40700000,"200 Investeringsvalgportefølje","90009 Utenlandske sektorer i alt, konsernselskaper "]
["40800101 Res. førte endr. i forsikringsforpliktelser, Premiereserve og pensjonskapital mv., Garanterte renter (negativt fortegn hvis inntekt)",40800101,"300 Selskapsportefølje","90010 Utenlandske sektorer i alt, ekskl. tilknyttede - og konsernselskaper "]
["40800103 Res. førte endr. i forsikringsforpliktelser, Premiereserve og pensjonskapital mv., Øvrig brutto premiereserve og pensjonskapital mv. (negativt fortegn hvis inntekt)",40800103,"100 Kollektivportefølje","01008 Norske sektorer i alt, tilknyttede selskaper "]
["40800112 Res. førte endr. i forsikringsforpliktelser, Premiereserve og pensjonskapital mv., Gjenforsikringsandel (negativt fortegn hvis inntekt)",40800112,"200 Investeringsvalgportefølje","01009 Norske sektorer i alt, konsernselskaper "]
["40880221 Res. førte endr. i forsikringsforpliktelser, Tilleggsavsetninger, Årets tilleggsavsetninger (negativt fortegn hvis inntekt)",40880221,"300 Selskapsportefølje","01010 Norske sektorer i alt, ekskl. tilknyttede- og konsernselskaper "]
["40880222 Res. førte endr. i forsikringsforpliktelser, Tilleggsavsetninger, Overføring av tilleggsavsetn.fra andre forsikringsforetak/ pensjonsforetak (negativt fortegn hvis inntekt)",40880222,"100 Kollektivportefølje","90008 Utenlandske sektorer i alt, tilknyttede selskaper "]
["40880223 Res. førte endr. i forsikringsforpliktelser, Tilleggsavsetninger, Til(fra) tilleggsavsetninger (negativt fortegn hvis inntekt)",40880223,"200 Investeringsvalgportefølje","90009 Utenlandske sektorer i alt, konsernselskaper "]
["40880227 Res. førte endr. i forsikringsforpliktelser, Tilleggsavsetninger, Overføring fra tilleggsavsetn.. til dekn. av renteunderskudd (negativt fortegn hvis inntekt)",40880227,"300 Selskapsportefølje","90010 Utenlandske sektorer i alt, ekskl. tilknyttede - og konsernselskaper "]
["40880300 Res. førte endr. i forsikringsforpliktelser, Kursreguleringsfond (negativt fortegn hvis inntekt)",40880300,"100 Kollektivportefølje","01000 Norske sektorer i alt"]
["40880641 Res. førte endr. i forsikringsforpliktelser, Premiefond/innskuddsfond, Garanterte renter (negativt fortegn hvis inntekt)",40880641,"200 Investeringsvalgportefølje","90000 Utenlandske sektorer i alt"]
["40880642 Res. førte endr. i forsikringsforpliktelser, Premiefond/innskuddsfond, Overføring til premiefond og innskuddsfond av frigjort premieres. v/fratreden og inntrådt forsikringstilfelle (negativt fortegn hvis inntekt)",40880642,"300 Selskapsportefølje","01008 Norske sektorer i alt, tilknyttede selskaper "]
["40880700 Res. førte endr. i forsikringsforpliktelser, Fond for regulering av pensjoner mv., Garanterte renter (negativt fortegn hvis inntekt)",40880700,"100 Kollektivportefølje","01009 Norske sektorer i alt, konsernselskaper "]
["40980110 Midler tilordnet forsikringskontraktene, Premiereserve og pensjonskapital mv., Overskudd på avkastningsresultat",40980110,"200 Investeringsvalgportefølje","01010 Norske sektorer i alt, ekskl. tilknyttede- og konsernselskaper "]
["40980120 Midler tilordnet forsikringskontraktene, Premiereserve og pensjonskapital mv., Fra risikoresultat",40980120,"300 Selskapsportefølje","90008 Utenlandske sektorer i alt, tilknyttede selskaper "]
["40980610 Midler tilordnet forsikringskontraktene, Premiefond/innskuddsfond, Overskudd på avkastningsresultat",40980610,"000 Ingen fordeling","90009 Utenlandske sektorer i alt, konsernselskaper "]
["40980620 Midler tilordnet forsikringskontraktene, Premiefond/innskuddsfond, Fra risikoresultat",40980620,"000 Ingen fordeling","90010 Utenlandske sektorer i alt, ekskl. tilknyttede - og konsernselskaper "]
["40980710 Midler tilordnet forsikringskontraktene, Fond for regulering av pensjoner mv., Overskudd på avkastningsresultat",40980710,"100 Kollektivportefølje","01008 Norske sektorer i alt, tilknyttede selskaper "]
["40980720 Midler tilordnet forsikringskontraktene, Fond for regulering av pensjoner mv., Fra risikoresultat",40980720,"200 Investeringsvalgportefølje","01009 Norske sektorer i alt, konsernselskaper "]
[null,null,"300 Selskapsportefølje","01010 Norske sektorer i alt, ekskl. tilknyttede- og konsernselskaper "]
["41080000 Rentekostnader, Ansvarlig lånekapital",41080000,"100 Kollektivportefølje","90008 Utenlandske sektorer i alt, tilknyttede selskaper "]
["41008800 Rentekostnader, Finansielle derivater",41008800,"200 Investeringsvalgportefølje","90009 Utenlandske sektorer i alt, konsernselskaper "]
["41009100 Rentekostnader, Andre finansielle eiendeler/gjeld",41009100,"300 Selskapsportefølje","90010 Utenlandske sektorer i alt, ekskl. tilknyttede - og konsernselskaper "]
["41009400 Rentekostnader, Forsikringsrelaterte rentekostnader",41009400,"100 Kollektivportefølje","01000 Norske sektorer i alt"]
[null,null,"200 Investeringsvalgportefølje","90000 Utenlandske sektorer i alt"]
["54508801 Provisjoner mv., Forvaltningskostnader",54508801,"300 Selskapsportefølje","01000 Norske sektorer i alt"]
["54508802 Provisjoner mv., Forsikringsrelaterte administrasjonskostnader",54508802,"100 Kollektivportefølje","90000 Utenlandske sektorer i alt"]
["55000501 Lønnskostnader, Lønn og feriepenger til ansatte, Forvaltningskostnader",55000501,"200 Investeringsvalgportefølje","01000 Norske sektorer i alt"]
["55000502 Lønnskostnader, Lønn og feriepenger til ansatte, Forsikringsrelaterte administrasjonskostnader",55000502,"300 Selskapsportefølje","90000 Utenlandske sektorer i alt"]
["55008901 Lønnskostnader, Øvrige lønnskostnader, Forvaltningskostnader",55008901,"100 Kollektivportefølje","01000 Norske sektorer i alt"]
["55008902 Lønnskostnader, Øvrige lønnskostnader, Forsikringsrelaterte administrasjonskostnader",55008902,"200 Investeringsvalgportefølje","90000 Utenlandske sektorer i alt"]
["55201000 Honorarer, Honorar til aktuar",55201000,"300 Selskapsportefølje","01000 Norske sektorer i alt"]
["55202001 Honorarer, Honorar til revisor, Forvaltningskostnader ",55202001,"100 Kollektivportefølje","90000 Utenlandske sektorer i alt"]
["55202002 Honorarer, Honorar til revisor, Forsikringsrelaterte administrasjonskostnader ",55202002,"200 Investeringsvalgportefølje","01000 Norske sektorer i alt"]
["55209001 Honorarer, Andre honorarer til ordinær drift, Forvaltningskostnader",55209001,"300 Selskapsportefølje","90000 Utenlandske sektorer i alt"]
["55209002 Honorarer, Andre honorarer til ordinær drift, Forsikringsrelaterte administrasjonskostnader",55209002,"100 Kollektivportefølje","01000 Norske sektorer i alt"]
["55500000 Driftkostnader faste eiendommer, inkl. avskrivninger",55500000,"200 Investeringsvalgportefølje","90000 Utenlandske sektorer i alt"]
["56508801 Andre ordinære driftskostnader, Andre forsikringsrelaterte driftkostn. og forvaltningskostnader  (kan være neg.), Forvaltningskostnader  ",56508801,"300 Selskapsportefølje","01000 Norske sektorer i alt"]
["56508802 Andre ordinære driftskostnader, Andre forsikringsrelaterte driftkostn. og forvaltningskostnader  (kan være neg.), Forsikringsrelaterte administrasjonskostnader  ",56508802,"100 Kollektivportefølje","90000 Utenlandske sektorer i alt"]
["56508900 Andre ordinære driftskostnader, Andre forsikringsrelaterte kostnader",56508900,"200 Investeringsvalgportefølje","01008 Norske sektorer i alt, tilknyttede selskaper "]
[null,null,"300 Selskapsportefølje","01009 Norske sektorer i alt, konsernselskaper "]
["66500000 Andre kostnader i ikke teknisk regnskap",66500000,"000 Ingen fordeling","01010 Norske sektorer i alt, ekskl. tilknyttede- og konsernselskaper "]
[null,null,"000 Ingen fordeling","90008 Utenlandske sektorer i alt, tilknyttede selskaper "]
["80500500 Skattekostnad, Periodeskatt",80500500,"600 Kontrakter uten investeringsvalg","90009 Utenlandske sektorer i alt, konsernselskaper "]
["80501100 For lite/mye(-) avsatt skatt tidligere år (kan være negativ)",80501100,"700 Kontrakter med investeringsvalg","90010 Utenlandske sektorer i alt, ekskl. tilknyttede - og konsernselskaper "]
["80509260 Skattekostnad, Øvrig endring i forpliktelse ved utsatt skatt",80509260,"600 Kontrakter uten investeringsvalg","01008 Norske sektorer i alt, tilknyttede selskaper "]
[null,null,"700 Kontrakter med investeringsvalg","01009 Norske sektorer i alt, konsernselskaper "]
["89103000 Andre inntekter og kostnader som ikke blir omklassifisert til resultat(kan være negativ), Estimatendringer knyttet til ytelsesbaserte pensjonsordninger",89103000,"600 Kontrakter uten investeringsvalg","01010 Norske sektorer i alt, ekskl. tilknyttede- og konsernselskaper "]
["89106000 Andre inntekter og kostnader som ikke blir omklassifisert til resultat(kan være negativ), Fra finansielle eiendeler og forpliktelser",89106000,"700 Kontrakter med investeringsvalg","90008 Utenlandske sektorer i alt, tilknyttede selskaper "]
["89107100 Andre inntekter og kostnader som ikke blir omklassifisert til resultat(kan være negativ), Verdireguleringer- eiendom, anlegg og utstyr",89107100,"600 Kontrakter uten investeringsvalg","90009 Utenlandske sektorer i alt, konsernselskaper "]
["89107200 Andre inntekter og kostnader som ikke blir omklassifisert til resultat(kan være negativ), Fra andre ikke-finansielle eiendeler",89107200,"700 Kontrakter med investeringsvalg","90010 Utenlandske sektorer i alt, ekskl. tilknyttede - og konsernselskaper "]
["89108000 Andre inntekter og kostnader som ikke blir omklassifisert til resultat(kan være negativ), Justering av forsikringsforpliktelsene",89108000,"600 Kontrakter uten investeringsvalg","01000 Norske sektorer i alt"]
["89178900 Andre inntekter og kostnader som ikke blir omklassifisert til resultat(kan være negativ), Skatt på andre inntekter og kostnader som ikke blir omklassifisert til resultat",89178900,"700 Kontrakter med investeringsvalg","90000 Utenlandske sektorer i alt"]
["89202100 Andre inntekter og kostnader som kan bli omklassifisert til resultat(kan være negativ), Gevinster og tap på finansielle eiendeler tilgjengelig for salg",89202100,"600 Kontrakter uten investeringsvalg","01000 Norske sektorer i alt"]
["89204000 Andre inntekter og kostnader som kan bli omklassifisert til resultat(kan være negativ), Effektiv andel av gevinster og tap på sikringsinstrumentene i kontanstrømsikring",89204000,"000 Ingen fordeling","90000 Utenlandske sektorer i alt"]
["89206000 Andre inntekter og kostnader som kan bli omklassifisert til resultat(kan være negativ), Fra andre finansielle eiendeler og forpliktelser ",89206000,"000 Ingen fordeling","01000 Norske sektorer i alt"]
["89207000 Andre inntekter og kostnader som kan bli omklassifisert til resultat(kan være negativ), Fra ikke-finansielle eiendeler",89207000,"000 Ingen fordeling","90000 Utenlandske sektorer i alt"]
["89208000 Andre inntekter og kostnader som kan bli omklassifisert til resultat(kan være negativ), Justering av forsikringsforpliktelsene",89208000,"600 Kontrakter uten investeringsvalg","01000 Norske sektorer i alt"]
["89278900 Andre inntekter og kostnader som kan bli omklassifisert til resultat(kan være negativ), Skatt på andre inntekter og kostnader som kan bli omklassifisert",89278900,"700 Kontrakter med investeringsvalg","90000 Utenlandske sektorer i alt"]
[null,null,"600 Kontrakter uten investeringsvalg","01000 Norske sektorer i alt"]
["99900000 Totalresultat for året",99900000,"700 Kontrakter med investeringsvalg","90000 Utenlandske sektorer i alt"]
[null,null,"600 Kontrakter uten investeringsvalg","00000 Ingen fordeling"]
[null,null,"700 Kontrakter med investeringsvalg","00000 Ingen fordeling"]
[null,null,"600 Kontrakter uten investeringsvalg","01000 Norske sektorer i alt"]
[null,null,"700 Kontrakter med investeringsvalg","90000 Utenlandske sektorer i alt"]
[null,null,"600 Kontrakter uten investeringsvalg","01000 Norske sektorer i alt"]
[null,null,"700 Kontrakter med investeringsvalg","90000 Utenlandske sektorer i alt"]
[null,null,"600 Kontrakter uten investeringsvalg","01000 Norske sektorer i alt"]
[null,null,"700 Kontrakter med investeringsvalg","90000 Utenlandske sektorer i alt"]
[null,null,"600 Kontrakter uten investeringsvalg","01000 Norske sektorer i alt"]
[null,null,"700 Kontrakter med investeringsvalg","90000 Utenlandske sektorer i alt"]
[null,null,"600 Kontrakter uten investeringsvalg","01000 Norske sektorer i alt"]
[null,null,"700 Kontrakter med investeringsvalg","90000 Utenlandske sektorer i alt"]
[null,null,"600 Kontrakter uten investeringsvalg","01000 Norske sektorer i alt"]
[null,null,"600 Kontrakter uten investeringsvalg","90000 Utenlandske sektorer i alt"]
[null,null,"700 Kontrakter med investeringsvalg","01000 Norske sektorer i alt"]
[null,null,"600 Kontrakter uten investeringsvalg","90000 Utenlandske sektorer i alt"]
[null,null,"700 Kontrakter med investeringsvalg","00000 Ingen fordeling"]
[null,null,"600 Kontrakter uten investeringsvalg","00000 Ingen fordeling"]
[null,null,"700 Kontrakter med investeringsvalg","01000 Norske sektorer i alt"]
[null,null,"600 Kontrakter uten investeringsvalg","90000 Utenlandske sektorer i alt"]
[null,null,"600 Kontrakter uten investeringsvalg","00000 Ingen fordeling"]
[null,null,"600 Kontrakter uten investeringsvalg","00000 Ingen fordeling"]
[null,null,"600 Kontrakter uten investeringsvalg","00000 Ingen fordeling"]
[null,null,"600 Kontrakter uten investeringsvalg","00000 Ingen fordeling"]
[null,null,"600 Kontrakter uten investeringsvalg","00000 Ingen fordeling"]
[null,null,"000 Ingen fordeling","00000 Ingen fordeling"]
[null,null,"100 Kollektivportefølje","00000 Ingen fordeling"]
[null,null,"200 Investeringsvalgportefølje","00000 Ingen fordeling"]
[null,null,"300 Selskapsportefølje","00000 Ingen fordeling"]
[null,null,"100 Kollektivportefølje","00000 Ingen fordeling"]
[null,null,"200 Investeringsvalgportefølje","00000 Ingen fordeling"]
[null,null,"300 Selskapsportefølje","00000 Ingen fordeling"]
[null,null,"000 Ingen fordeling","00000 Ingen fordeling"]
[null,null,"100 Kollektivportefølje","00000 Ingen fordeling"]
[null,null,"200 Investeringsvalgportefølje","00000 Ingen fordeling"]
[null,null,"300 Selskapsportefølje","00000 Ingen fordeling"]
[null,null,"000 Ingen fordeling","00000 Ingen fordeling"]
[null,null,"100 Kollektivportefølje","01000 Norske sektorer i alt"]
[null,null,"200 Investeringsvalgportefølje","90000 Utenlandske sektorer i alt"]
[null,null,"300 Selskapsportefølje","01000 Norske sektorer i alt"]
[null,null,"000 Ingen fordeling","90000 Utenlandske sektorer i alt"]
[null,null,"100 Kollektivportefølje","01000 Norske sektorer i alt"]
[null,null,"200 Investeringsvalgportefølje","90000 Utenlandske sektorer i alt"]
[null,null,"300 Selskapsportefølje","01000 Norske sektorer i alt"]
[null,null,"000 Ingen fordeling","90000 Utenlandske sektorer i alt"]
[null,null,"000 Ingen fordeling","00000 Ingen fordeling"]
[null,null,"100 Kollektivportefølje","00000 Ingen fordeling"]
[null,null,"200 Investeringsvalgportefølje","00000 Ingen fordeling"]
[null,null,"300 Selskapsportefølje","00000 Ingen fordeling"]
[null,null,"000 Ingen fordeling","00000 Ingen fordeling"]
[null,null,"100 Kollektivportefølje","00000 Ingen fordeling"]
[null,null,"200 Investeringsvalgportefølje","00000 Ingen fordeling"]
[null,null,"300 Selskapsportefølje","00000 Ingen fordeling"]
[null,null,"000 Ingen fordeling","00000 Ingen fordeling"]
[null,null,"100 Kollektivportefølje","00000 Ingen fordeling"]
[null,null,"200 Investeringsvalgportefølje","00000 Ingen fordeling"]
[null,null,"300 Selskapsportefølje","01000 Norske sektorer i alt"]
[null,null,"100 Kollektivportefølje","90000 Utenlandske sektorer i alt"]
[null,null,"200 Investeringsvalgportefølje","00000 Ingen fordeling"]
[null,null,"300 Selskapsportefølje","00000 Ingen fordeling"]
[null,null,"000 Ingen fordeling","00000 Ingen fordeling"]
[null,null,"000 Ingen fordeling","00000 Ingen fordeling"]
[null,null,"000 Ingen fordeling","00000 Ingen fordeling"]
[null,null,"000 Ingen fordeling","00000 Ingen fordeling"]
[null,null,"000 Ingen fordeling","00000 Ingen fordeling"]
[null,null,"000 Ingen fordeling","00000 Ingen fordeling"]
[null,null,"000 Ingen fordeling","00000 Ingen fordeling"]
[null,null,"000 Ingen fordeling","00000 Ingen fordeling"]
[null,null,"000 Ingen fordeling","00000 Ingen fordeling"]
[null,null,"000 Ingen fordeling","00000 Ingen fordeling"]
[null,null,"000 Ingen fordeling","00000 Ingen fordeling"]
[null,null,"000 Ingen fordeling","00000 Ingen fordeling"]
[null,null,"000 Ingen fordeling","00000 Ingen fordeling"]
[null,null,"000 Ingen fordeling","00000 Ingen fordeling"]
[null,null,"000 Ingen fordeling","00000 Ingen fordeling"]
[null,null,"000 Ingen fordeling","00000 Ingen fordeling"]
[null,null,"000 Ingen fordeling","00000 Ingen fordeling"]
[null,null,"000 Ingen fordeling","00000 Ingen fordeling"]
[null,null,"000 Ingen fordeling","00000 Ingen fordeling"]
[null,null,"000 Ingen fordeling","00000 Ingen fordeling"]
[null,null,"000 Ingen fordeling","00000 Ingen fordeling"]
[null,null,"000 Ingen fordeling","00000 Ingen fordeling"]
[null,null,"000 Ingen fordeling","00000 Ingen fordeling"]
[null,null,"000 Ingen fordeling","00000 Ingen fordeling"]
[null,null,"000 Ingen fordeling","00000 Ingen fordeling"]
[null,null,"000 Ingen fordeling","00000 Ingen fordeling"]
[null,null,"000 Ingen fordeling","00000 Ingen fordeling"]
[null,null,"000 Ingen fordeling"]

{"sheet":"BASE51","index":8,"n_rows":5768,"n_cols":9,"rows_kept":5768,"cut":false,"hidden":true,"merged":[]}
[]
[]
["Post","base-itens","PORTEFØLJE","VERDSETTING","SEKTOR","LAND","VALUTA","Kan være negativ\nsinal 2","Skal være negativ\nsinal 1"]
["401362700 Aksjer, andeler og egenkapitalbevis, Børsnoterte aksjer, ekskl. aksjer i eiendomsselskaper",401362700,"000 Ingen fordeling","00 Ingen fordeling","01000 Norske sektorer i alt","0000 Ingen fordeling","10 NOK",null,402556000]
["401362800 Aksjer, andeler og egenkapitalbevis, Børsnoterte aksjer i eiendomsselskaper",401362800,"000 Ingen fordeling","00 Ingen fordeling","90000 Utenlandske sektorer i alt","0000 Ingen fordeling","30 VAL"]
["401400130 Rentebærende verdipapirer, Løpetid under ett år",401400130,"000 Ingen fordeling","00 Ingen fordeling","01008 Norske sektorer i alt, tilknyttede selskaper ","0000 Ingen fordeling","10 NOK"]
["401881000 Finansielle derivater, Valutarelaterte kontrakter ",401881000,"000 Ingen fordeling","00 Ingen fordeling","01009 Norske sektorer i alt, konsernselskaper ","0000 Ingen fordeling","30 VAL"]
["401883000 Finansielle derivater, Renterelaterte kontrakter ",401883000,"000 Ingen fordeling","00 Ingen fordeling","01010 Norske sektorer i alt, ekskl. tilknyttede- og konsernselskaper ","0000 Ingen fordeling","10 NOK"]
["401885000 Finansielle derivater, Egenkapitalrelaterte kontrakter ",401885000,"000 Ingen fordeling","00 Ingen fordeling","90008 Utenlandske sektorer i alt, tilknyttede selskaper ","0000 Ingen fordeling","30 VAL"]
["401887000 Finansielle derivater, Varerelaterte kontrakter ",401887000,"000 Ingen fordeling","00 Ingen fordeling","90009 Utenlandske sektorer i alt, konsernselskaper ","0000 Ingen fordeling","90 Ingen fordeling"]
["401889000 Finansielle derivater, Andre kontrakter ",401889000,"000 Ingen fordeling","00 Ingen fordeling","90010 Utenlandske sektorer i alt, ekskl. tilknyttede - og konsernselskaper ","0000 Ingen fordeling","90 Ingen fordeling"]
["402556000 Utlån, Tapsnedskrivinger (negativ)",402556000,"000 Ingen fordeling","00 Ingen fordeling","11100 Statens forretningsdrift ","0000 Ingen fordeling","90 Ingen fordeling"]
["407881000 Finansielle derivater, Valutarelaterte kontrakter (Gjeldspost)",407881000,"000 Ingen fordeling","00 Ingen fordeling","11200 Statlig eide aksjeselskaper mv. ","0000 Ingen fordeling","90 Ingen fordeling"]
["407883000 Finansielle derivater, Renterelaterte kontrakter (Gjeldspost)",407883000,"000 Ingen fordeling","00 Ingen fordeling","11208 Statlig eide aksjeselskaper mv., tilknyttede selskaper ","0000 Ingen fordeling","90 Ingen fordeling"]
["407885000 Finansielle derivater, Egenkapitalrelaterte kontrakter (Gjeldspost)",407885000,"000 Ingen fordeling","00 Ingen fordeling","15100 Kommunale foretak med ubegrenset ansvar ","0000 Ingen fordeling","10 NOK"]
["407887000 Finansielle derivater, Varerelaterte kontrakter (Gjeldspost)",407887000,"000 Ingen fordeling","00 Ingen fordeling","15200 Kommunale aksjeselskaper mv. ","0000 Ingen fordeling","30 VAL"]
["407889000 Finansielle derivater, Andre kontrakter (Gjeldspost)",407889000,"000 Ingen fordeling","00 Ingen fordeling","15208 Kommunale aksjeselskaper mv., tilknyttede selskaper ","0000 Ingen fordeling","90 Ingen fordeling"]
["408015100 Premiereserve og pensjonskapital mv., Fripoliser",408015100,"000 Ingen fordeling","00 Ingen fordeling","21000 Private aksjeselskaper mv. ","0000 Ingen fordeling","90 Ingen fordeling"]
["408015300 Premiereserve og pensjonskapital mv., Fortsettelsesforsikring",408015300,"000 Ingen fordeling","00 Ingen fordeling","21008 Private aksjeselskaper mv., tilknyttede selskaper ","0000 Ingen fordeling","90 Ingen fordeling"]
["408017000 Premiereserve og pensjonskapital mv., Gruppeliv",408017000,"000 Ingen fordeling","00 Ingen fordeling","21009 Private aksjeselskaper mv., konsernselskaper ","0000 Ingen fordeling","90 Ingen fordeling"]
["408018100 Premiereserve og pensjonskapital mv., Tjenestepensjonsordningen - Aktive",408018100,"000 Ingen fordeling","00 Ingen fordeling","23000 Personlige foretak ","0000 Ingen fordeling","90 Ingen fordeling"]
["408018200 Premiereserve og pensjonskapital mv., Tjenestepensjonsordningen - Pensjonister",408018200,"000 Ingen fordeling","00 Ingen fordeling","23008 Personlige foretak, tilknyttede selskaper ","0000 Ingen fordeling","10 NOK"]
[null,null,"000 Ingen fordeling","00 Ingen fordeling","23009 Personlige foretak, konsernselskaper ","AF00 Afghanistan","10 NOK"]
["601210010 Bankinnskudd, Driftskonti",601210010,"000 Ingen fordeling","00 Ingen fordeling","25000 Private produsentorienterte organisasjoner uten profittformål ","AL00 Albania","10 NOK"]
["601210013 Bankinnskudd, Plasseringskonti",601210013,"000 Ingen fordeling","10 Virkelig verdi med resultatføring","31000 Norges Bank ","DZ00 Algerie","10 NOK"]
["601362000 Aksjer, andeler og egenkapitalbevis, Aksjer inkl.aksjer i eiendomsselskaper",601362000,"000 Ingen fordeling","20 Tilgjengelig for salg","32000 Banker ","AS00 Amerikansk Samoa","10 NOK"]
["601363000 Aksjer, andeler og egenkapitalbevis, Andeler i KS og ansvarlige selskaper inkl. andeler i eiendomsselskaper",601363000,"000 Ingen fordeling","30 Egenkapitalmetoden","35000 Kredittforetak ","AD00 Andorra","90 Ingen fordeling"]
["601368000 Aksjer, andeler og egenkapitalbevis, Andeler i fond",601368000,"000 Ingen fordeling","60 Anskaffelseskost","36000 Finansieringsforetak ","AO00 Angola","90 Ingen fordeling"]
["601401100 Rentebærende verdipapirer, Stats- og statsgaranterte rentebærende verdipapirer med løpetid under et år",601401100,"000 Ingen fordeling","00 Ingen fordeling","39000 Statlige låneinstitutter mv. ","AI00 Anguilla","90 Ingen fordeling"]
["601401200 Rentebærende verdipapirer, Andre rentebærende verdipapirer med løpetid under et år",601401200,"000 Ingen fordeling","00 Ingen fordeling","41000 Holdingforetak i finanskonsern ","AG00 Antigua og Barbuda","90 Ingen fordeling"]
["601402100 Rentebærende verdipapirer, Stats- og statsgaranterte rentebærende verdipapirer med løpetid over et år",601402100,"000 Ingen fordeling","00 Ingen fordeling","45000 Investeringsselskaper og aktive eierfond/PE-fond ","AR00 Argentina","90 Ingen fordeling"]
["601402200 Rentebærende verdipapirer, Andre rentebærende verdipapirer med løpetid over et år",601402200,"000 Ingen fordeling","00 Ingen fordeling","49000 Øvrige finansielle foretak unntatt forsikring ","AM00 Armenia","90 Ingen fordeling"]
["601880000 Finansielle derivater ",601880000,"000 Ingen fordeling","00 Ingen fordeling","49008 Øvrige finansielle foretak unntatt forsikring, tilknyttede selskaper ","AW00 Aruba","90 Ingen fordeling"]
["601890000 Andre verdipapirer/finansielle eiendeler ekskl. utlån",601890000,"000 Ingen fordeling","00 Ingen fordeling","49009 Øvrige finansielle foretak unntatt forsikring, konsernselskaper ","AZ00 Aserbajdsjan","90 Ingen fordeling"]
["602550000 Utlån",602550000,"000 Ingen fordeling","00 Ingen fordeling","55000 Livsforsikringsselskaper og pensjonskasser ","AU00 Australia","90 Ingen fordeling"]
["603990000 Øvrige fordringer og finansielle eiendeler",603990000,"000 Ingen fordeling","00 Ingen fordeling","57000 Skadeforsikringsselskaper ","BS00 Bahamas","90 Ingen fordeling"]
["605860000 Bygninger og annen fast eiendom ",605860000,"000 Ingen fordeling","00 Ingen fordeling","61000 Stats- og trygdeforvaltningen ","BH00 Bahrain","90 Ingen fordeling"]
["607550000 Likviditetslån",607550000,"000 Ingen fordeling","00 Ingen fordeling","65000 Kommuneforvaltningen ","BD00 Bangladesh","90 Ingen fordeling"]
["607790000 Øvrig gjeld, ekskl. finansielle derivater og ansvarlig lånekapital",607790000,"000 Ingen fordeling","00 Ingen fordeling","70000 Ideelle organisasjoner ","BB00 Barbados","90 Ingen fordeling"]
["607880000 Finansielle derivater (Gjeldspost)",607880000,"000 Ingen fordeling","00 Ingen fordeling","82000 Personlig næringsdrivende ","BE00 Belgia","90 Ingen fordeling"]
["608550000 Ansvarlig lånekapital",608550000,"000 Ingen fordeling","00 Ingen fordeling","83000 Borettslag o.l. ","BZ00 Belize","90 Ingen fordeling"]
["609921000 Aksjekapital",609921000,"000 Ingen fordeling","00 Ingen fordeling","85000 Lønnstakere, pensjonister, trygdede, studenter o.a. ","BJ00 Benin","90 Ingen fordeling"]
["609921200 Eierandelskapital",609921200,"000 Ingen fordeling","00 Ingen fordeling","08000 Ufordelt sektor ","BM00 Bermuda","90 Ingen fordeling"]
["609933000 Annen innskutt egenkapital (Kjernekapital), Innskutt kjernekapital",609933000,"000 Ingen fordeling","00 Ingen fordeling","90008 Utenlandske sektorer i alt, tilknyttede selskaper ","BT00 Bhutan","90 Ingen fordeling"]
[null,null,"000 Ingen fordeling","00 Ingen fordeling","90009 Utenlandske sektorer i alt, konsernselskaper ","BO00 Bolivia","90 Ingen fordeling"]
["640890000 Forpliktelser utenom balansen",640890000,"000 Ingen fordeling","00 Ingen fordeling","90010 Utenlandske sektorer i alt, ekskl. tilknyttede - og konsernselskaper ","BQ00 Bonaire, Saba, St.Eustatius","90 Ingen fordeling"]
[null,null,"100 Kollektivportefølje","00 Ingen fordeling","00000 Ingen fordeling","BA00 Bosnia Hercegovina","90 Ingen fordeling"]
["810100000 Ansatte (årsverk), Antall",810100000,"100 Kollektivportefølje","00 Ingen fordeling","00000 Ingen fordeling","BW00 Botswana","90 Ingen fordeling"]
["810300000 Antall enheter/foretak i pensjonskassen",810300000,"200 Investeringsvalgportefølje","00 Ingen fordeling","00000 Ingen fordeling","BR00 Brasil","90 Ingen fordeling"]
["820600000 Kapitalavkastningsrente",820600000,"300 Selskapsportefølje","00 Ingen fordeling","00000 Ingen fordeling","IO00 Britisk territorium i Det Indiske Hav","90 Ingen fordeling"]
["820800000 Verdijustert kapitalavkastningsrente",820800000,"000 Ingen fordeling","00 Ingen fordeling","00000 Ingen fordeling","BN00 Brunei","90 Ingen fordeling"]
["820900000 Gjennomsnittlig beregningsrente for premiereserven",820900000,"000 Ingen fordeling","00 Ingen fordeling","11100 Statens forretningsdrift ","BG00 Bulgaria","90 Ingen fordeling"]
[null,null,"000 Ingen fordeling","00 Ingen fordeling","11200 Statlig eide aksjeselskaper mv. ","BF00 Burkina Faso","90 Ingen fordeling"]
["860109010 Premiebet. medl. og uførepensjonister, Bestand ved årets slutt, Menn",860109010,"000 Ingen fordeling","00 Ingen fordeling","11208 Statlig eide aksjeselskaper mv., tilknyttede selskaper ","BI00 Burundi","90 Ingen fordeling"]
["860109020 Premiebet. medl. og uførepensjonister, Bestand ved årets slutt, Kvinner",860109020,"000 Ingen fordeling","00 Ingen fordeling","15100 Kommunale foretak med ubegrenset ansvar ","CA00 Canada","90 Ingen fordeling"]
["860309010 Pensjonsmottakere ekskl. uførepensjonister, Bestand ved årets slutt, Menn ",860309010,"000 Ingen fordeling","00 Ingen fordeling","15200 Kommunale aksjeselskaper mv. ","KY00 Caymanøyene","90 Ingen fordeling"]
["860309020 Pensjonsmottakere, ekskl. uførepensjonister, Bestand ved årets slutt, Kvinner",860309020,"000 Ingen fordeling","00 Ingen fordeling","15208 Kommunale aksjeselskaper mv., tilknyttede selskaper ","CL00 Chile","90 Ingen fordeling"]
["860509010 Fripolisekontr. og oppsatte rettigheter, Bestand ved årets slutt, Menn",860509010,"000 Ingen fordeling","00 Ingen fordeling","21000 Private aksjeselskaper mv. ","CX00 Christmasøya","90 Ingen fordeling"]
["860509020 Fripolisekontr. og oppsatte rettigheter, Bestand ved årets slutt, Kvinner",860509020,"000 Ingen fordeling","00 Ingen fordeling","21008 Private aksjeselskaper mv., tilknyttede selskaper ","CO00 Colombia","90 Ingen fordeling"]
[null,null,"000 Ingen fordeling","00 Ingen fordeling","21009 Private aksjeselskaper mv., konsernselskaper ","CK00 Cookøyene","90 Ingen fordeling"]
["870100000 Alderspensjonister, Bestand ved årets slutt",870100000,"000 Ingen fordeling","00 Ingen fordeling","23000 Personlige foretak ","CR00 Costa Rica","90 Ingen fordeling"]
["870200000 Uførepensjonister, Bestand ved årets slutt",870200000,"000 Ingen fordeling","00 Ingen fordeling","23008 Personlige foretak, tilknyttede selskaper ","CU00 Cuba","90 Ingen fordeling"]
["870300000 Etterlattepensjon, ektefelle, Bestand ved årets slutt",870300000,"000 Ingen fordeling","00 Ingen fordeling","23009 Personlige foretak, konsernselskaper ","CW00 Curacao","90 Ingen fordeling"]
["870400000 Etterlattepensjon, barn, Bestand ved årets slutt",870400000,"000 Ingen fordeling","00 Ingen fordeling","25000 Private produsentorienterte organisasjoner uten profittformål ","DK00 Danmark","90 Ingen fordeling"]
["870500000 AFP-pensjonister, Bestand ved årets slutt",870500000,"000 Ingen fordeling","00 Ingen fordeling","31000 Norges Bank ","AE00 De forente Arabiske Emirater","90 Ingen fordeling"]
[null,null,"000 Ingen fordeling","00 Ingen fordeling","32000 Banker ","DO00 Den Dominikanske Republikk","90 Ingen fordeling"]
["889963000 Fond mv. (neg. hvis overf. fra fondet), Endring i risikoutjevningsfond",889963000,"000 Ingen fordeling","00 Ingen fordeling","35000 Kredittforetak ","DJ00 Djibouti","90 Ingen fordeling"]
["889980000 Annen opptjent egenkapital (kan være negativ)",889980000,"000 Ingen fordeling","00 Ingen fordeling","36000 Finansieringsforetak ","DM00 Dominicia","90 Ingen fordeling"]
["890919600 Effekten av endringer i regnskapsprinsipper og korrigeringer av feil i inngående balanse, Fond mv.",890919600,"000 Ingen fordeling","00 Ingen fordeling","39000 Statlige låneinstitutter mv. ","EC00 Ecuador","90 Ingen fordeling"]
["890919800 Effekten av endringer i regnskapsprinsipper og korrigeringer av feil i inngående balanse, Annen opptjent egenkapital",890919800,"000 Ingen fordeling","00 Ingen fordeling","41000 Holdingforetak i finanskonsern ","EG00 Egypt","90 Ingen fordeling"]
["890929200 Innskudd/uttak av innskutt kapital, herunder fondsemisjon, Eierandelskapital(negativ hvis uttak)",890929200,"000 Ingen fordeling","00 Ingen fordeling","45000 Investeringsselskaper og aktive eierfond/PE-fond ","GQ00 Ekvatorial-Guinea","90 Ingen fordeling"]
["890929300 Innskudd/uttak av innskutt kapital, herunder fondsemisjon, Annen innskutt egenkapital (negativ hvis uttak)",890929300,"000 Ingen fordeling","00 Ingen fordeling","49000 Øvrige finansielle foretak unntatt forsikring ","SV00 El Salvador","90 Ingen fordeling"]
["890929800 Innskudd/uttak av innskutt kapital, herunder fondsemisjon, Annen opptjent egenkapital (negativ hvis uttak)",890929800,"000 Ingen fordeling","00 Ingen fordeling","49008 Øvrige finansielle foretak unntatt forsikring, tilknyttede selskaper ","CI00 Elfenbenskysten","90 Ingen fordeling"]
["890979800 Mottatt (pos.)/avgitt (neg.) konsernbidrag, ekskl. fordeling til eiere, Annen opptjent egenkapital",890979800,"000 Ingen fordeling","00 Ingen fordeling","49009 Øvrige finansielle foretak unntatt forsikring, konsernselskaper ","ER00 Eritrea","10 NOK"]
["890989800 Utbetalte renter på innskutt kapital (negativ), Annen opptjent egenkapital",890989800,"000 Ingen fordeling","00 Ingen fordeling","55000 Livsforsikringsselskaper og pensjonskasser ","EE00 Estland","10 NOK"]
[null,null,"000 Ingen fordeling","00 Ingen fordeling","57000 Skadeforsikringsselskaper ","ET00 Etiopia","10 NOK"]
["931051010 Forfalte premier brutto, Fra medlemer",931051010,"000 Ingen fordeling","00 Ingen fordeling","61000 Stats- og trygdeforvaltningen ","FK00 Falklandsøyene","10 NOK"]
["931051020 Forfalte premier brutto, Fra foretak/arbeidsgiver",931051020,"000 Ingen fordeling","00 Ingen fordeling","65000 Kommuneforvaltningen ","FJ00 Fiji","10 NOK"]
["931051030 Forfalte premier brutto, Fra premiefond",931051030,"000 Ingen fordeling","00 Ingen fordeling","70000 Ideelle organisasjoner ","PH00 Filippinene","10 NOK"]
[null,null,"000 Ingen fordeling","00 Ingen fordeling","82000 Personlig næringsdrivende ","FI00 Finland","10 NOK"]
["960611000 Renteresultat, Finansinntekter (netto) (kan være negativ)",960611000,"000 Ingen fordeling","00 Ingen fordeling","83000 Borettslag o.l. ","FR00 Frankrike","10 NOK"]
["960611510 Renteresultat, Pliktige renter (negativ), Tilført premiereserve",960611510,"000 Ingen fordeling","00 Ingen fordeling","85000 Lønnstakere, pensjonister, trygdede, studenter o.a. ","GF00 Fransk Guyana","10 NOK"]
["960611560 Renteresultat, Pliktige renter (negativ), Tilført fond for regulering av pensjoner mv.",960611560,"000 Ingen fordeling","00 Ingen fordeling","08000 Ufordelt sektor ","PF00 Fransk Polynesia","10 NOK"]
["960611590 Renteresultat, Pliktige renter (negativ), Tilført øvrige fond",960611590,"000 Ingen fordeling","00 Ingen fordeling","90008 Utenlandske sektorer i alt, tilknyttede selskaper ","TF00 Franske Antiller","10 NOK"]
["960621010 Risikoresultat, død (brutto), Beregnet dødsrisikopremie",960621010,"000 Ingen fordeling","00 Ingen fordeling","90009 Utenlandske sektorer i alt, konsernselskaper ","FO00 Færøyene","10 NOK"]
["960621020 Risikoresultat, død (brutto), Faktisk dødsrisikoerstatning",960621020,"000 Ingen fordeling","00 Ingen fordeling","90010 Utenlandske sektorer i alt, ekskl. tilknyttede - og konsernselskaper ","GA00 Gabon","10 NOK"]
["960622010 Risikoresultat, opplevelse (brutto), Faktisk frigjort premiereserve",960622010,"000 Ingen fordeling","00 Ingen fordeling","00000 Ingen fordeling","GM00 Gambia","10 NOK"]
["960622020 Risikoresultat, opplevelse (brutto), Beregnet dødlighetsarv (negativ)",960622020,null,"00 Ingen fordeling","00000 Ingen fordeling","GE00 Georgia","10 NOK"]
["960623010 Risikoresultat, uførhet (brutto), Beregnet uførerisikopremie",960623010,null,"00 Ingen fordeling","00000 Ingen fordeling","GH00 Ghana","10 NOK"]
["960623020 Risikoresultat, uførhet (brutto), Faktisk uførerisikoerstatning (negativ)",960623020,null,null,"00000 Ingen fordeling","GI00 Gibraltar"]
["960624000 Risikoresultat, Reassuranseresultat (kan være negativ)",960624000,null,null,"00000 Ingen fordeling","GD00 Grenada"]
["960631000 Administrasjonsresultat, Vederlag for forvaltning og administrasjon",960631000,null,null,"00000 Ingen fordeling","GL00 Grønland"]
["960632000 Administrasjonsresultat, Faktiske kostnader (negativ)",960632000,null,null,"00000 Ingen fordeling","GP00 Guadeloupe"]
[null,null,null,null,"00000 Ingen fordeling","GU00 Guam"]
[null,null,null,null,"00000 Ingen fordeling","GT00 Guatemala"]
[null,null,null,null,"00000 Ingen fordeling","GG00 Guernsey"]
[null,null,null,null,"90008 Utenlandske sektorer i alt, tilknyttede selskaper ","GN00 Guinea"]
[null,null,null,null,"90009 Utenlandske sektorer i alt, konsernselskaper ","GW00 Guinea-Bissau"]
[null,null,null,null,"90010 Utenlandske sektorer i alt, ekskl. tilknyttede - og konsernselskaper ","GY00 Guyana"]
[null,null,null,null,"90008 Utenlandske sektorer i alt, tilknyttede selskaper ","HT00 Haiti"]
[null,null,null,null,"90009 Utenlandske sektorer i alt, konsernselskaper ","HM00 Heard- og McDonaldøyene"]
[null,null,null,null,"90010 Utenlandske sektorer i alt, ekskl. tilknyttede - og konsernselskaper ","GR00 Hellas"]
[null,null,null,null,"90008 Utenlandske sektorer i alt, tilknyttede selskaper ","HN00 Honduras"]
[null,null,null,null,"90009 Utenlandske sektorer i alt, konsernselskaper ","HK00 Hong Kong"]
[null,null,null,null,"90010 Utenlandske sektorer i alt, ekskl. tilknyttede - og konsernselskaper ","BY00 Hviterussland"]
[null,null,null,null,"90008 Utenlandske sektorer i alt, tilknyttede selskaper ","IN00 India"]
[null,null,null,null,"90009 Utenlandske sektorer i alt, konsernselskaper ","ID00 Indonesia"]
[null,null,null,null,"90010 Utenlandske sektorer i alt, ekskl. tilknyttede - og konsernselskaper ","ZZ00 Internasjonale organisasjoner"]
[null,null,null,null,"90008 Utenlandske sektorer i alt, tilknyttede selskaper ","IQ00 Irak"]
[null,null,null,null,"90009 Utenlandske sektorer i alt, konsernselskaper ","IR00 Iran"]
[null,null,null,null,"90010 Utenlandske sektorer i alt, ekskl. tilknyttede - og konsernselskaper ","IE00 Irland"]
[null,null,null,null,"90000 Utenlandske sektorer i alt","IS00 Island"]
[null,null,null,null,"90000 Utenlandske sektorer i alt","IM00 Isle of Man"]
[null,null,null,null,"90000 Utenlandske sektorer i alt","IL00 Israel"]
[null,null,null,null,"90000 Utenlandske sektorer i alt","IT00 Italia"]
[null,null,null,null,"90000 Utenlandske sektorer i alt","JM00 Jamaica"]
[null,null,null,null,"90000 Utenlandske sektorer i alt","JP00 Japan"]
[null,null,null,null,"90008 Utenlandske sektorer i alt, tilknyttede selskaper ","JE00 Jersey"]
[null,null,null,null,"90009 Utenlandske sektorer i alt, konsernselskaper ","VI00 Jomfruøyene, Amerikanske"]
[null,null,null,null,"90010 Utenlandske sektorer i alt, ekskl. tilknyttede - og konsernselskaper ","VG00 Jomfruøyene, Britiske"]
[null,null,null,null,"90000 Utenlandske sektorer i alt","JO00 Jordan"]
[null,null,null,null,"90000 Utenlandske sektorer i alt","KH00 Kambodsja"]
[null,null,null,null,"90008 Utenlandske sektorer i alt, tilknyttede selskaper ","CM00 Kamerun"]
[null,null,null,null,"90009 Utenlandske sektorer i alt, konsernselskaper ","CV00 Kapp Verde"]
[null,null,null,null,"90010 Utenlandske sektorer i alt, ekskl. tilknyttede - og konsernselskaper ","KZ00 Kasakhstan"]
[null,null,null,null,"90000 Utenlandske sektorer i alt","KE00 Kenya"]
[null,null,null,null,"90000 Utenlandske sektorer i alt","CN00 Kina"]
[null,null,null,null,"90008 Utenlandske sektorer i alt, tilknyttede selskaper ","KG00 Kirgistan"]
[null,null,null,null,"90009 Utenlandske sektorer i alt, konsernselskaper ","KI00 Kiribati"]
[null,null,null,null,"90010 Utenlandske sektorer i alt, ekskl. tilknyttede - og konsernselskaper ","CC00 Kokosøyene"]
[null,null,null,null,"90008 Utenlandske sektorer i alt, tilknyttede selskaper ","KM00 Komorene"]
[null,null,null,null,"90009 Utenlandske sektorer i alt, konsernselskaper ","CD00 Kongo, Den demokratiske republ"]
[null,null,null,null,"90010 Utenlandske sektorer i alt, ekskl. tilknyttede - og konsernselskaper ","CG00 Kongo, Republikken"]
[null,null,null,null,"90008 Utenlandske sektorer i alt, tilknyttede selskaper ","KP00 Korea, Nord-"]
[null,null,null,null,"90009 Utenlandske sektorer i alt, konsernselskaper ","KR00 Korea, Sør-"]
[null,null,null,null,"90010 Utenlandske sektorer i alt, ekskl. tilknyttede - og konsernselskaper ","HR00 Kroatia"]
[null,null,null,null,"90008 Utenlandske sektorer i alt, tilknyttede selskaper ","KW00 Kuwait"]
[null,null,null,null,"90009 Utenlandske sektorer i alt, konsernselskaper ","CY00 Kypros"]
[null,null,null,null,"90010 Utenlandske sektorer i alt, ekskl. tilknyttede - og konsernselskaper ","LA00 Laos"]
[null,null,null,null,"01000 Norske sektorer i alt","LV00 Latvia"]
[null,null,null,null,"90000 Utenlandske sektorer i alt","LS00 Lesotho"]
[null,null,null,null,"00000 Ingen fordeling","LB00 Libanon"]
[null,null,null,null,"01000 Norske sektorer i alt","LR00 Liberia"]
[null,null,null,null,"90000 Utenlandske sektorer i alt","LY00 Libya"]
[null,null,null,null,"00000 Ingen fordeling","LI00 Liechtenstein"]
[null,null,null,null,"00000 Ingen fordeling","LT00 Litauen"]
[null,null,null,null,"00000 Ingen fordeling","LU00 Luxembourg"]
[null,null,null,null,"00000 Ingen fordeling","MO00 Macao"]
[null,null,null,null,"00000 Ingen fordeling","MG00 Madagaskar"]
[null,null,null,null,"00000 Ingen fordeling","MK00 Makedonia"]
[null,null,null,null,"00000 Ingen fordeling","MW00 Malawi"]
[null,null,null,null,"00000 Ingen fordeling","MY00 Malaysia"]
[null,null,null,null,"00000 Ingen fordeling","MV00 Maldivene"]
[null,null,null,null,"00000 Ingen fordeling","ML00 Mali"]
[null,null,null,null,"00000 Ingen fordeling","MT00 Malta"]
[null,null,null,null,"00000 Ingen fordeling","MA00 Marokko"]
[null,null,null,null,"00000 Ingen fordeling","MH00 Marshalløyene"]
[null,null,null,null,"00000 Ingen fordeling","MQ00 Martinique"]
[null,null,null,null,"00000 Ingen fordeling","MR00 Mauritania"]
[null,null,null,null,"00000 Ingen fordeling","MU00 Mauritius"]
[null,null,null,null,"00000 Ingen fordeling","YT00 Mayotte"]
[null,null,null,null,"00000 Ingen fordeling","MX00 Mexico"]
[null,null,null,null,"00000 Ingen fordeling","FM00 Mikronesia føderasjonen"]
[null,null,null,null,"00000 Ingen fordeling","MD00 Moldova"]
[null,null,null,null,"00000 Ingen fordeling","MC00 Monaco"]
[null,null,null,null,"00000 Ingen fordeling","MN00 Mongolia"]
[null,null,null,null,"00000 Ingen fordeling","ME00 Montenegro"]
[null,null,null,null,"01000 Norske sektorer i alt","MS00 Montserrat"]
[null,null,null,null,"90000 Utenlandske sektorer i alt","MZ00 Mozambique"]
[null,null,null,null,"01000 Norske sektorer i alt","MM00 Myanmar"]
[null,null,null,null,"90000 Utenlandske sektorer i alt","NA00 Namibia"]
[null,null,null,null,"00000 Ingen fordeling","NR00 Nauru"]
[null,null,null,null,"00000 Ingen fordeling","NL00 Nederland"]
[null,null,null,null,"00000 Ingen fordeling","AN00 Nederlandske Antiller"]
[null,null,null,null,"00000 Ingen fordeling","NP00 Nepal"]
[null,null,null,null,"00000 Ingen fordeling","NZ00 New Zealand"]
[null,null,null,null,"00000 Ingen fordeling","NI00 Nicaragua"]
[null,null,null,null,"00000 Ingen fordeling","NE00 Niger"]
[null,null,null,null,"00000 Ingen fordeling","NG00 Nigeria"]
[null,null,null,null,"00000 Ingen fordeling","NU00 Niue"]
[null,null,null,null,"00000 Ingen fordeling","MP00 Nord-Marianene"]
[null,null,null,null,"00000 Ingen fordeling","NF00 Norfolkøya"]
[null,null,null,null,"00000 Ingen fordeling","NC00 Ny-Kaledonia"]
[null,null,null,null,"00000 Ingen fordeling","OM00 Oman"]
[null,null,null,null,"00000 Ingen fordeling","PK00 Pakistan"]
[null,null,null,null,null,"PW00 Palau"]
[null,null,null,null,null,"PA00 Panama"]
[null,null,null,null,null,"PG00 Papua Ny-Guinea"]
[null,null,null,null,null,"PY00 Paraguay"]
[null,null,null,null,null,"PE00 Peru"]
[null,null,null,null,null,"PN00 Pitcairn"]
[null,null,null,null,null,"PL00 Polen"]
[null,null,null,null,null,"PT00 Portugal"]
[null,null,null,null,null,"PR00 Puerto Rico"]
[null,null,null,null,null,"QA00 Qatar"]
[null,null,null,null,null,"RE00 Reunion"]
[null,null,null,null,null,"RO00 Romania"]
[null,null,null,null,null,"RU00 Russland"]
[null,null,null,null,null,"RW00 Rwanda"]
[null,null,null,null,null,"BL00 Saint Barthelemy"]
[null,null,null,null,null,"MF00 Saint Martin (fransk del)"]
[null,null,null,null,null,"PM00 Saint-Pierre og Miquelon"]
[null,null,null,null,null,"SB00 Salomonøyene"]
[null,null,null,null,null,"WS00 Samoa"]
[null,null,null,null,null,"SM00 San Marino"]
[null,null,null,null,null,"ST00 Sao Tome og Principe"]
[null,null,null,null,null,"SA00 Saudi-Arabia"]
[null,null,null,null,null,"SN00 Senegal"]
[null,null,null,null,null,"CF00 Sentralafrikanske republikk"]
[null,null,null,null,null,"RS00 Serbia"]
[null,null,null,null,null,"SC00 Seychellene"]
[null,null,null,null,null,"SL00 Sierra Leone"]
[null,null,null,null,null,"SG00 Singapore"]
[null,null,null,null,null,"SX00 Sint Maarten"]
[null,null,null,null,null,"SK00 Slovakia"]
[null,null,null,null,null,"SI00 Slovenia"]
[null,null,null,null,null,"SO00 Somalia"]
[null,null,null,null,null,"ES00 Spania"]
[null,null,null,null,null,"LK00 Sri Lanka"]
[null,null,null,null,null,"SH00 St. Helena"]
[null,null,null,null,null,"KN00 St. Kitts og Nevis"]
[null,null,null,null,null,"LC00 St. Lucia"]
[null,null,null,null,null,"VC00 St. Vincent"]
[null,null,null,null,null,"GB00 Storbritannia"]
[null,null,null,null,null,"SD00 Sudan"]
[null,null,null,null,null,"SR00 Surinam"]
[null,null,null,null,null,"CH00 Sveits"]
[null,null,null,null,null,"SE00 Sverige"]
[null,null,null,null,null,"SZ00 Swaziland"]
[null,null,null,null,null,"SY00 Syria"]
[null,null,null,null,null,"ZA00 Sør-Afrika"]
[null,null,null,null,null,"GS00 Sør-Georgia"]
[null,null,null,null,null,"SS00 Sør-Sudan"]
[null,null,null,null,null,"TJ00 Tadzjikistan"]
[null,null,null,null,null,"TW00 Taiwan"]
[null,null,null,null,null,"TZ00 Tanzania"]
[null,null,null,null,null,"TH00 Thailand"]
[null,null,null,null,null,"TG00 Togo"]
[null,null,null,null,null,"TK00 Tokelau"]
[null,null,null,null,null,"TO00 Tonga"]
[null,null,null,null,null,"TT00 Trinidad og Tobago"]
[null,null,null,null,null,"TD00 Tsjad"]
[null,null,null,null,null,"CZ00 Tsjekkia"]
[null,null,null,null,null,"TN00 Tunisia"]
[null,null,null,null,null,"TM00 Turkmenistan"]
[null,null,null,null,null,"TC00 Turks- og Caicosøyene"]
[null,null,null,null,null,"TV00 Tuvalu"]
[null,null,null,null,null,"TR00 Tyrkia"]
[null,null,null,null,null,"DE00 Tyskland"]
[null,null,null,null,null,"XX00 Ufordelt land"]
[null,null,null,null,null,"UG00 Uganda"]
[null,null,null,null,null,"UA00 Ukrania"]
[null,null,null,null,null,"HU00 Ungarn"]
[null,null,null,null,null,"UY00 Uruguay"]
[null,null,null,null,null,"US00 USA"]
[null,null,null,null,null,"UM00 USA mindre utenforliggende øyer"]
[null,null,null,null,null,"PU00 USA Pacific Islands"]
[null,null,null,null,null,"UZ00 Uzbekistan"]
[null,null,null,null,null,"VU00 Vanuatu"]
[null,null,null,null,null,"VA00 Vatikanstaten"]
[null,null,null,null,null,"VE00 Venezuela"]
[null,null,null,null,null,"PS00 Vestbredden/Gazastripen"]
[null,null,null,null,null,"EH00 Vest-Sahara"]
[null,null,null,null,null,"VN00 Vietnam"]
[null,null,null,null,null,"WF00 Wallis og Futunaøyene"]
[null,null,null,null,null,"YE00 Yemen"]
[null,null,null,null,null,"ZM00 Zambia"]
[null,null,null,null,null,"ZW00 Zimbabwe"]
[null,null,null,null,null,"AT00 Østerrike"]
[null,null,null,null,null,"TL00 Øst-Timor"]
[null,null,null,null,null,"AF00 Afghanistan"]
[null,null,null,null,null,"AL00 Albania"]
[null,null,null,null,null,"DZ00 Algerie"]
[null,null,null,null,null,"AS00 Amerikansk Samoa"]
[null,null,null,null,null,"AD00 Andorra"]
[null,null,null,null,null,"AO00 Angola"]
[null,null,null,null,null,"AI00 Anguilla"]
[null,null,null,null,null,"AG00 Antigua og Barbuda"]
[null,null,null,null,null,"AR00 Argentina"]
[null,null,null,null,null,"AM00 Armenia"]
[null,null,null,null,null,"AW00 Aruba"]
[null,null,null,null,null,"AZ00 Aserbajdsjan"]
[null,null,null,null,null,"AU00 Australia"]
[null,null,null,null,null,"BS00 Bahamas"]
[null,null,null,null,null,"BH00 Bahrain"]
[null,null,null,null,null,"BD00 Bangladesh"]
[null,null,null,null,null,"BB00 Barbados"]
[null,null,null,null,null,"BE00 Belgia"]
[null,null,null,null,null,"BZ00 Belize"]
[null,null,null,null,null,"BJ00 Benin"]
[null,null,null,null,null,"BM00 Bermuda"]
[null,null,null,null,null,"BT00 Bhutan"]
[null,null,null,null,null,"BO00 Bolivia"]
[null,null,null,null,null,"BQ00 Bonaire, Saba, St.Eustatius"]
[null,null,null,null,null,"BA00 Bosnia Hercegovina"]
[null,null,null,null,null,"BW00 Botswana"]
[null,null,null,null,null,"BR00 Brasil"]
[null,null,null,null,null,"IO00 Britisk territorium i Det Indiske Hav"]
[null,null,null,null,null,"BN00 Brunei"]
[null,null,null,null,null,"BG00 Bulgaria"]
[null,null,null,null,null,"BF00 Burkina Faso"]
[null,null,null,null,null,"BI00 Burundi"]
[null,null,null,null,null,"CA00 Canada"]
[null,null,null,null,null,"KY00 Caymanøyene"]
[null,null,null,null,null,"CL00 Chile"]
[null,null,null,null,null,"CX00 Christmasøya"]
[null,null,null,null,null,"CO00 Colombia"]
[null,null,null,null,null,"CK00 Cookøyene"]
[null,null,null,null,null,"CR00 Costa Rica"]
[null,null,null,null,null,"CU00 Cuba"]
[null,null,null,null,null,"CW00 Curacao"]
[null,null,null,null,null,"DK00 Danmark"]
[null,null,null,null,null,"AE00 De forente Arabiske Emirater"]
[null,null,null,null,null,"DO00 Den Dominikanske Republikk"]
[null,null,null,null,null,"DJ00 Djibouti"]
[null,null,null,null,null,"DM00 Dominicia"]
[null,null,null,null,null,"EC00 Ecuador"]
[null,null,null,null,null,"EG00 Egypt"]
[null,null,null,null,null,"GQ00 Ekvatorial-Guinea"]
[null,null,null,null,null,"SV00 El Salvador"]
[null,null,null,null,null,"CI00 Elfenbenskysten"]
[null,null,null,null,null,"ER00 Eritrea"]
[null,null,null,null,null,"EE00 Estland"]
[null,null,null,null,null,"ET00 Etiopia"]
[null,null,null,null,null,"FK00 Falklandsøyene"]
[null,null,null,null,null,"FJ00 Fiji"]
[null,null,null,null,null,"PH00 Filippinene"]
[null,null,null,null,null,"FI00 Finland"]
[null,null,null,null,null,"FR00 Frankrike"]
[null,null,null,null,null,"GF00 Fransk Guyana"]
[null,null,null,null,null,"PF00 Fransk Polynesia"]
[null,null,null,null,null,"TF00 Franske Antiller"]
[null,null,null,null,null,"FO00 Færøyene"]
[null,null,null,null,null,"GA00 Gabon"]
[null,null,null,null,null,"GM00 Gambia"]
[null,null,null,null,null,"GE00 Georgia"]
[null,null,null,null,null,"GH00 Ghana"]
[null,null,null,null,null,"GI00 Gibraltar"]
[null,null,null,null,null,"GD00 Grenada"]
[null,null,null,null,null,"GL00 Grønland"]
[null,null,null,null,null,"GP00 Guadeloupe"]
[null,null,null,null,null,"GU00 Guam"]
[null,null,null,null,null,"GT00 Guatemala"]
[null,null,null,null,null,"GG00 Guernsey"]
[null,null,null,null,null,"GN00 Guinea"]
[null,null,null,null,null,"GW00 Guinea-Bissau"]
[null,null,null,null,null,"GY00 Guyana"]
[null,null,null,null,null,"HT00 Haiti"]
[null,null,null,null,null,"HM00 Heard- og McDonaldøyene"]
[null,null,null,null,null,"GR00 Hellas"]
[null,null,null,null,null,"HN00 Honduras"]
[null,null,null,null,null,"HK00 Hong Kong"]
[null,null,null,null,null,"BY00 Hviterussland"]
[null,null,null,null,null,"IN00 India"]
[null,null,null,null,null,"ID00 Indonesia"]
[null,null,null,null,null,"ZZ00 Internasjonale organisasjoner"]
[null,null,null,null,null,"IQ00 Irak"]
[null,null,null,null,null,"IR00 Iran"]
[null,null,null,null,null,"IE00 Irland"]
[null,null,null,null,null,"IS00 Island"]
[null,null,null,null,null,"IM00 Isle of Man"]
[null,null,null,null,null,"IL00 Israel"]
[null,null,null,null,null,"IT00 Italia"]
[null,null,null,null,null,"JM00 Jamaica"]
[null,null,null,null,null,"JP00 Japan"]
[null,null,null,null,null,"JE00 Jersey"]
[null,null,null,null,null,"VI00 Jomfruøyene, Amerikanske"]
[null,null,null,null,null,"VG00 Jomfruøyene, Britiske"]
[null,null,null,null,null,"JO00 Jordan"]
[null,null,null,null,null,"KH00 Kambodsja"]
[null,null,null,null,null,"CM00 Kamerun"]
[null,null,null,null,null,"CV00 Kapp Verde"]
[null,null,null,null,null,"KZ00 Kasakhstan"]
[null,null,null,null,null,"KE00 Kenya"]
[null,null,null,null,null,"CN00 Kina"]
[null,null,null,null,null,"KG00 Kirgistan"]
[null,null,null,null,null,"KI00 Kiribati"]
[null,null,null,null,null,"CC00 Kokosøyene"]
[null,null,null,null,null,"KM00 Komorene"]
[null,null,null,null,null,"CD00 Kongo, Den demokratiske republ"]
[null,null,null,null,null,"CG00 Kongo, Republikken"]
[null,null,null,null,null,"KP00 Korea, Nord-"]
[null,null,null,null,null,"KR00 Korea, Sør-"]
[null,null,null,null,null,"HR00 Kroatia"]
[null,null,null,null,null,"KW00 Kuwait"]
[null,null,null,null,null,"CY00 Kypros"]
[null,null,null,null,null,"LA00 Laos"]
[null,null,null,null,null,"LV00 Latvia"]
[null,null,null,null,null,"LS00 Lesotho"]
[null,null,null,null,null,"LB00 Libanon"]
[null,null,null,null,null,"LR00 Liberia"]
[null,null,null,null,null,"LY00 Libya"]
[null,null,null,null,null,"LI00 Liechtenstein"]
[null,null,null,null,null,"LT00 Litauen"]
[null,null,null,null,null,"LU00 Luxembourg"]
[null,null,null,null,null,"MO00 Macao"]
[null,null,null,null,null,"MG00 Madagaskar"]
[null,null,null,null,null,"MK00 Makedonia"]
[null,null,null,null,null,"MW00 Malawi"]
[null,null,null,null,null,"MY00 Malaysia"]
[null,null,null,null,null,"MV00 Maldivene"]
[null,null,null,null,null,"ML00 Mali"]
[null,null,null,null,null,"MT00 Malta"]
[null,null,null,null,null,"MA00 Marokko"]
[null,null,null,null,null,"MH00 Marshalløyene"]
[null,null,null,null,null,"MQ00 Martinique"]
[null,null,null,null,null,"MR00 Mauritania"]
[null,null,null,null,null,"MU00 Mauritius"]
[null,null,null,null,null,"YT00 Mayotte"]
[null,null,null,null,null,"MX00 Mexico"]
[null,null,null,null,null,"FM00 Mikronesia føderasjonen"]
[null,null,null,null,null,"MD00 Moldova"]
[null,null,null,null,null,"MC00 Monaco"]
[null,null,null,null,null,"MN00 Mongolia"]
[null,null,null,null,null,"ME00 Montenegro"]
[null,null,null,null,null,"MS00 Montserrat"]
[null,null,null,null,null,"MZ00 Mozambique"]
[null,null,null,null,null,"MM00 Myanmar"]
[null,null,null,null,null,"NA00 Namibia"]
[null,null,null,null,null,"NR00 Nauru"]
[null,null,null,null,null,"NL00 Nederland"]
[null,null,null,null,null,"AN00 Nederlandske Antiller"]
[null,null,null,null,null,"NP00 Nepal"]
[null,null,null,null,null,"NZ00 New Zealand"]
[null,null,null,null,null,"NI00 Nicaragua"]
[null,null,null,null,null,"NE00 Niger"]
[null,null,null,null,null,"NG00 Nigeria"]
[null,null,null,null,null,"NU00 Niue"]
[null,null,null,null,null,"MP00 Nord-Marianene"]
[null,null,null,null,null,"NF00 Norfolkøya"]
[null,null,null,null,null,"NC00 Ny-Kaledonia"]
[null,null,null,null,null,"OM00 Oman"]
[null,null,null,null,null,"PK00 Pakistan"]
[null,null,null,null,null,"PW00 Palau"]
[null,null,null,null,null,"PA00 Panama"]
[null,null,null,null,null,"PG00 Papua Ny-Guinea"]
[null,null,null,null,null,"PY00 Paraguay"]
[null,null,null,null,null,"PE00 Peru"]
[null,null,null,null,null,"PN00 Pitcairn"]
[null,null,null,null,null,"PL00 Polen"]
[null,null,null,null,null,"PT00 Portugal"]
[null,null,null,null,null,"PR00 Puerto Rico"]
[null,null,null,null,null,"QA00 Qatar"]
[null,null,null,null,null,"RE00 Reunion"]
[null,null,null,null,null,"RO00 Romania"]
[null,null,null,null,null,"RU00 Russland"]
[null,null,null,null,null,"RW00 Rwanda"]
[null,null,null,null,null,"BL00 Saint Barthelemy"]
[null,null,null,null,null,"MF00 Saint Martin (fransk del)"]
[null,null,null,null,null,"PM00 Saint-Pierre og Miquelon"]
[null,null,null,null,null,"SB00 Salomonøyene"]
[null,null,null,null,null,"WS00 Samoa"]
[null,null,null,null,null,"SM00 San Marino"]
[null,null,null,null,null,"ST00 Sao Tome og Principe"]
[null,null,null,null,null,"SA00 Saudi-Arabia"]
[null,null,null,null,null,"SN00 Senegal"]
[null,null,null,null,null,"CF00 Sentralafrikanske republikk"]
[null,null,null,null,null,"RS00 Serbia"]
[null,null,null,null,null,"SC00 Seychellene"]
[null,null,null,null,null,"SL00 Sierra Leone"]
[null,null,null,null,null,"SG00 Singapore"]
[null,null,null,null,null,"SX00 Sint Maarten"]
[null,null,null,null,null,"SK00 Slovakia"]
[null,null,null,null,null,"SI00 Slovenia"]
[null,null,null,null,null,"SO00 Somalia"]
[null,null,null,null,null,"ES00 Spania"]
[null,null,null,null,null,"LK00 Sri Lanka"]
[null,null,null,null,null,"SH00 St. Helena"]
[null,null,null,null,null,"KN00 St. Kitts og Nevis"]
[null,null,null,null,null,"LC00 St. Lucia"]
[null,null,null,null,null,"VC00 St. Vincent"]
[null,null,null,null,null,"GB00 Storbritannia"]
[null,null,null,null,null,"SD00 Sudan"]
[null,null,null,null,null,"SR00 Surinam"]
[null,null,null,null,null,"CH00 Sveits"]
[null,null,null,null,null,"SE00 Sverige"]
[null,null,null,null,null,"SZ00 Swaziland"]
[null,null,null,null,null,"SY00 Syria"]
[null,null,null,null,null,"ZA00 Sør-Afrika"]
[null,null,null,null,null,"GS00 Sør-Georgia"]
[null,null,null,null,null,"SS00 Sør-Sudan"]
[null,null,null,null,null,"TJ00 Tadzjikistan"]
[null,null,null,null,null,"TW00 Taiwan"]
[null,null,null,null,null,"TZ00 Tanzania"]
[null,null,null,null,null,"TH00 Thailand"]
[null,null,null,null,null,"TG00 Togo"]
[null,null,null,null,null,"TK00 Tokelau"]
[null,null,null,null,null,"TO00 Tonga"]
[null,null,null,null,null,"TT00 Trinidad og Tobago"]
[null,null,null,null,null,"TD00 Tsjad"]
[null,null,null,null,null,"CZ00 Tsjekkia"]
[null,null,null,null,null,"TN00 Tunisia"]
[null,null,null,null,null,"TM00 Turkmenistan"]
[null,null,null,null,null,"TC00 Turks- og Caicosøyene"]
[null,null,null,null,null,"TV00 Tuvalu"]
[null,null,null,null,null,"TR00 Tyrkia"]
[null,null,null,null,null,"DE00 Tyskland"]
[null,null,null,null,null,"XX00 Ufordelt land"]
[null,null,null,null,null,"UG00 Uganda"]
[null,null,null,null,null,"UA00 Ukrania"]
[null,null,null,null,null,"HU00 Ungarn"]
[null,null,null,null,null,"UY00 Uruguay"]
[null,null,null,null,null,"US00 USA"]
[null,null,null,null,null,"UM00 USA mindre utenforliggende øyer"]
[null,null,null,null,null,"PU00 USA Pacific Islands"]
[null,null,null,null,null,"UZ00 Uzbekistan"]
[null,null,null,null,null,"VU00 Vanuatu"]
[null,null,null,null,null,"VA00 Vatikanstaten"]
[null,null,null,null,null,"VE00 Venezuela"]
[null,null,null,null,null,"PS00 Vestbredden/Gazastripen"]
[null,null,null,null,null,"EH00 Vest-Sahara"]
[null,null,null,null,null,"VN00 Vietnam"]
[null,null,null,null,null,"WF00 Wallis og Futunaøyene"]
[null,null,null,null,null,"YE00 Yemen"]
[null,null,null,null,null,"ZM00 Zambia"]
[null,null,null,null,null,"ZW00 Zimbabwe"]
[null,null,null,null,null,"AT00 Østerrike"]
[null,null,null,null,null,"TL00 Øst-Timor"]
[null,null,null,null,null,"AF00 Afghanistan"]
[null,null,null,null,null,"AL00 Albania"]
[null,null,null,null,null,"DZ00 Algerie"]
[null,null,null,null,null,"AS00 Amerikansk Samoa"]
[null,null,null,null,null,"AD00 Andorra"]
[null,null,null,null,null,"AO00 Angola"]
[null,null,null,null,null,"AI00 Anguilla"]
[null,null,null,null,null,"AG00 Antigua og Barbuda"]
[null,null,null,null,null,"AR00 Argentina"]
[null,null,null,null,null,"AM00 Armenia"]
[null,null,null,null,null,"AW00 Aruba"]
[null,null,null,null,null,"AZ00 Aserbajdsjan"]
[null,null,null,null,null,"AU00 Australia"]
[null,null,null,null,null,"BS00 Bahamas"]
[null,null,null,null,null,"BH00 Bahrain"]
[null,null,null,null,null,"BD00 Bangladesh"]
[null,null,null,null,null,"BB00 Barbados"]
[null,null,null,null,null,"BE00 Belgia"]
[null,null,null,null,null,"BZ00 Belize"]
[null,null,null,null,null,"BJ00 Benin"]
[null,null,null,null,null,"BM00 Bermuda"]
[null,null,null,null,null,"BT00 Bhutan"]
[null,null,null,null,null,"BO00 Bolivia"]
[null,null,null,null,null,"BQ00 Bonaire, Saba, St.Eustatius"]
[null,null,null,null,null,"BA00 Bosnia Hercegovina"]
[null,null,null,null,null,"BW00 Botswana"]
[null,null,null,null,null,"BR00 Brasil"]
[null,null,null,null,null,"IO00 Britisk territorium i Det Indiske Hav"]
[null,null,null,null,null,"BN00 Brunei"]
[null,null,null,null,null,"BG00 Bulgaria"]
[null,null,null,null,null,"BF00 Burkina Faso"]
[null,null,null,null,null,"BI00 Burundi"]
[null,null,null,null,null,"CA00 Canada"]
[null,null,null,null,null,"KY00 Caymanøyene"]
[null,null,null,null,null,"CL00 Chile"]
[null,null,null,null,null,"CX00 Christmasøya"]
[null,null,null,null,null,"CO00 Colombia"]
[null,null,null,null,null,"CK00 Cookøyene"]
[null,null,null,null,null,"CR00 Costa Rica"]
[null,null,null,null,null,"CU00 Cuba"]
[null,null,null,null,null,"CW00 Curacao"]
[null,null,null,null,null,"DK00 Danmark"]
[null,null,null,null,null,"AE00 De forente Arabiske Emirater"]
[null,null,null,null,null,"DO00 Den Dominikanske Republikk"]
[null,null,null,null,null,"DJ00 Djibouti"]
[null,null,null,null,null,"DM00 Dominicia"]
[null,null,null,null,null,"EC00 Ecuador"]
[null,null,null,null,null,"EG00 Egypt"]
[null,null,null,null,null,"GQ00 Ekvatorial-Guinea"]
[null,null,null,null,null,"SV00 El Salvador"]
[null,null,null,null,null,"CI00 Elfenbenskysten"]
[null,null,null,null,null,"ER00 Eritrea"]
[null,null,null,null,null,"EE00 Estland"]
[null,null,null,null,null,"ET00 Etiopia"]
[null,null,null,null,null,"FK00 Falklandsøyene"]
[null,null,null,null,null,"FJ00 Fiji"]
[null,null,null,null,null,"PH00 Filippinene"]
[null,null,null,null,null,"FI00 Finland"]
[null,null,null,null,null,"FR00 Frankrike"]
[null,null,null,null,null,"GF00 Fransk Guyana"]
[null,null,null,null,null,"PF00 Fransk Polynesia"]
[null,null,null,null,null,"TF00 Franske Antiller"]
[null,null,null,null,null,"FO00 Færøyene"]
[null,null,null,null,null,"GA00 Gabon"]
[null,null,null,null,null,"GM00 Gambia"]
[null,null,null,null,null,"GE00 Georgia"]
[null,null,null,null,null,"GH00 Ghana"]
[null,null,null,null,null,"GI00 Gibraltar"]
[null,null,null,null,null,"GD00 Grenada"]
[null,null,null,null,null,"GL00 Grønland"]
[null,null,null,null,null,"GP00 Guadeloupe"]
[null,null,null,null,null,"GU00 Guam"]
[null,null,null,null,null,"GT00 Guatemala"]
[null,null,null,null,null,"GG00 Guernsey"]
[null,null,null,null,null,"GN00 Guinea"]
[null,null,null,null,null,"GW00 Guinea-Bissau"]
[null,null,null,null,null,"GY00 Guyana"]
[null,null,null,null,null,"HT00 Haiti"]
[null,null,null,null,null,"HM00 Heard- og McDonaldøyene"]
[null,null,null,null,null,"GR00 Hellas"]
[null,null,null,null,null,"HN00 Honduras"]
[null,null,null,null,null,"HK00 Hong Kong"]
[null,null,null,null,null,"BY00 Hviterussland"]
[null,null,null,null,null,"IN00 India"]
[null,null,null,null,null,"ID00 Indonesia"]
[null,null,null,null,null,"ZZ00 Internasjonale organisasjoner"]
[null,null,null,null,null,"IQ00 Irak"]
[null,null,null,null,null,"IR00 Iran"]
[null,null,null,null,null,"IE00 Irland"]
[null,null,null,null,null,"IS00 Island"]
[null,null,null,null,null,"IM00 Isle of Man"]
[null,null,null,null,null,"IL00 Israel"]
[null,null,null,null,null,"IT00 Italia"]
[null,null,null,null,null,"JM00 Jamaica"]
[null,null,null,null,null,"JP00 Japan"]
[null,null,null,null,null,"JE00 Jersey"]
[null,null,null,null,null,"VI00 Jomfruøyene, Amerikanske"]
[null,null,null,null,null,"VG00 Jomfruøyene, Britiske"]
[null,null,null,null,null,"JO00 Jordan"]
[null,null,null,null,null,"KH00 Kambodsja"]
[null,null,null,null,null,"CM00 Kamerun"]
[null,null,null,null,null,"CV00 Kapp Verde"]
[null,null,null,null,null,"KZ00 Kasakhstan"]
[null,null,null,null,null,"KE00 Kenya"]
[null,null,null,null,null,"CN00 Kina"]
[null,null,null,null,null,"KG00 Kirgistan"]
[null,null,null,null,null,"KI00 Kiribati"]
[null,null,null,null,null,"CC00 Kokosøyene"]
[null,null,null,null,null,"KM00 Komorene"]
[null,null,null,null,null,"CD00 Kongo, Den demokratiske republ"]
[null,null,null,null,null,"CG00 Kongo, Republikken"]
[null,null,null,null,null,"KP00 Korea, Nord-"]
[null,null,null,null,null,"KR00 Korea, Sør-"]
[null,null,null,null,null,"HR00 Kroatia"]
[null,null,null,null,null,"KW00 Kuwait"]
[null,null,null,null,null,"CY00 Kypros"]
[null,null,null,null,null,"LA00 Laos"]
[null,null,null,null,null,"LV00 Latvia"]
[null,null,null,null,null,"LS00 Lesotho"]
[null,null,null,null,null,"LB00 Libanon"]
[null,null,null,null,null,"LR00 Liberia"]
[null,null,null,null,null,"LY00 Libya"]
[null,null,null,null,null,"LI00 Liechtenstein"]
[null,null,null,null,null,"LT00 Litauen"]
[null,null,null,null,null,"LU00 Luxembourg"]
[null,null,null,null,null,"MO00 Macao"]
[null,null,null,null,null,"MG00 Madagaskar"]
[null,null,null,null,null,"MK00 Makedonia"]
[null,null,null,null,null,"MW00 Malawi"]
[null,null,null,null,null,"MY00 Malaysia"]
[null,null,null,null,null,"MV00 Maldivene"]
[null,null,null,null,null,"ML00 Mali"]
[null,null,null,null,null,"MT00 Malta"]
[null,null,null,null,null,"MA00 Marokko"]
[null,null,null,null,null,"MH00 Marshalløyene"]
[null,null,null,null,null,"MQ00 Martinique"]
[null,null,null,null,null,"MR00 Mauritania"]
[null,null,null,null,null,"MU00 Mauritius"]
[null,null,null,null,null,"YT00 Mayotte"]
[null,null,null,null,null,"MX00 Mexico"]
[null,null,null,null,null,"FM00 Mikronesia føderasjonen"]
[null,null,null,null,null,"MD00 Moldova"]
[null,null,null,null,null,"MC00 Monaco"]
[null,null,null,null,null,"MN00 Mongolia"]
[null,null,null,null,null,"ME00 Montenegro"]
[null,null,null,null,null,"MS00 Montserrat"]
[null,null,null,null,null,"MZ00 Mozambique"]
[null,null,null,null,null,"MM00 Myanmar"]
[null,null,null,null,null,"NA00 Namibia"]
[null,null,null,null,null,"NR00 Nauru"]
[null,null,null,null,null,"NL00 Nederland"]
[null,null,null,null,null,"AN00 Nederlandske Antiller"]
[null,null,null,null,null,"NP00 Nepal"]
[null,null,null,null,null,"NZ00 New Zealand"]
[null,null,null,null,null,"NI00 Nicaragua"]
[null,null,null,null,null,"NE00 Niger"]
[null,null,null,null,null,"NG00 Nigeria"]
[null,null,null,null,null,"NU00 Niue"]
[null,null,null,null,null,"MP00 Nord-Marianene"]
[null,null,null,null,null,"NF00 Norfolkøya"]
[null,null,null,null,null,"NC00 Ny-Kaledonia"]
[null,null,null,null,null,"OM00 Oman"]
[null,null,null,null,null,"PK00 Pakistan"]
[null,null,null,null,null,"PW00 Palau"]
[null,null,null,null,null,"PA00 Panama"]
[null,null,null,null,null,"PG00 Papua Ny-Guinea"]
[null,null,null,null,null,"PY00 Paraguay"]
[null,null,null,null,null,"PE00 Peru"]
[null,null,null,null,null,"PN00 Pitcairn"]
[null,null,null,null,null,"PL00 Polen"]
[null,null,null,null,null,"PT00 Portugal"]
[null,null,null,null,null,"PR00 Puerto Rico"]
[null,null,null,null,null,"QA00 Qatar"]
[null,null,null,null,null,"RE00 Reunion"]
[null,null,null,null,null,"RO00 Romania"]
[null,null,null,null,null,"RU00 Russland"]
[null,null,null,null,null,"RW00 Rwanda"]
[null,null,null,null,null,"BL00 Saint Barthelemy"]
[null,null,null,null,null,"MF00 Saint Martin (fransk del)"]
[null,null,null,null,null,"PM00 Saint-Pierre og Miquelon"]
[null,null,null,null,null,"SB00 Salomonøyene"]
[null,null,null,null,null,"WS00 Samoa"]
[null,null,null,null,null,"SM00 San Marino"]
[null,null,null,null,null,"ST00 Sao Tome og Principe"]
[null,null,null,null,null,"SA00 Saudi-Arabia"]
[null,null,null,null,null,"SN00 Senegal"]
[null,null,null,null,null,"CF00 Sentralafrikanske republikk"]
[null,null,null,null,null,"RS00 Serbia"]
[null,null,null,null,null,"SC00 Seychellene"]
[null,null,null,null,null,"SL00 Sierra Leone"]
[null,null,null,null,null,"SG00 Singapore"]
[null,null,null,null,null,"SX00 Sint Maarten"]
[null,null,null,null,null,"SK00 Slovakia"]
[null,null,null,null,null,"SI00 Slovenia"]
[null,null,null,null,null,"SO00 Somalia"]
[null,null,null,null,null,"ES00 Spania"]
[null,null,null,null,null,"LK00 Sri Lanka"]
[null,null,null,null,null,"SH00 St. Helena"]
[null,null,null,null,null,"KN00 St. Kitts og Nevis"]
[null,null,null,null,null,"LC00 St. Lucia"]
[null,null,null,null,null,"VC00 St. Vincent"]
[null,null,null,null,null,"GB00 Storbritannia"]
[null,null,null,null,null,"SD00 Sudan"]
[null,null,null,null,null,"SR00 Surinam"]
[null,null,null,null,null,"CH00 Sveits"]
[null,null,null,null,null,"SE00 Sverige"]
[null,null,null,null,null,"SZ00 Swaziland"]
[null,null,null,null,null,"SY00 Syria"]
[null,null,null,null,null,"ZA00 Sør-Afrika"]
[null,null,null,null,null,"GS00 Sør-Georgia"]
[null,null,null,null,null,"SS00 Sør-Sudan"]
[null,null,null,null,null,"TJ00 Tadzjikistan"]
[null,null,null,null,null,"TW00 Taiwan"]
[null,null,null,null,null,"TZ00 Tanzania"]
[null,null,null,null,null,"TH00 Thailand"]
[null,null,null,null,null,"TG00 Togo"]
[null,null,null,null,null,"TK00 Tokelau"]
[null,null,null,null,null,"TO00 Tonga"]
[null,null,null,null,null,"TT00 Trinidad og Tobago"]
[null,null,null,null,null,"TD00 Tsjad"]
[null,null,null,null,null,"CZ00 Tsjekkia"]
[null,null,null,null,null,"TN00 Tunisia"]
[null,null,null,null,null,"TM00 Turkmenistan"]
[null,null,null,null,null,"TC00 Turks- og Caicosøyene"]
[null,null,null,null,null,"TV00 Tuvalu"]
[null,null,null,null,null,"TR00 Tyrkia"]
[null,null,null,null,null,"DE00 Tyskland"]
[null,null,null,null,null,"XX00 Ufordelt land"]
[null,null,null,null,null,"UG00 Uganda"]
[null,null,null,null,null,"UA00 Ukrania"]
[null,null,null,null,null,"HU00 Ungarn"]
[null,null,null,null,null,"UY00 Uruguay"]
[null,null,null,null,null,"US00 USA"]
[null,null,null,null,null,"UM00 USA mindre utenforliggende øyer"]
[null,null,null,null,null,"PU00 USA Pacific Islands"]
[null,null,null,null,null,"UZ00 Uzbekistan"]
[null,null,null,null,null,"VU00 Vanuatu"]
[null,null,null,null,null,"VA00 Vatikanstaten"]
[null,null,null,null,null,"VE00 Venezuela"]
[null,null,null,null,null,"PS00 Vestbredden/Gazastripen"]
[null,null,null,null,null,"EH00 Vest-Sahara"]
[null,null,null,null,null,"VN00 Vietnam"]
[null,null,null,null,null,"WF00 Wallis og Futunaøyene"]
[null,null,null,null,null,"YE00 Yemen"]
[null,null,null,null,null,"ZM00 Zambia"]
[null,null,null,null,null,"ZW00 Zimbabwe"]
[null,null,null,null,null,"AT00 Østerrike"]
[null,null,null,null,null,"TL00 Øst-Timor"]
[null,null,null,null,null,"AF00 Afghanistan"]
[null,null,null,null,null,"AL00 Albania"]
[null,null,null,null,null,"DZ00 Algerie"]
[null,null,null,null,null,"AS00 Amerikansk Samoa"]
[null,null,null,null,null,"AD00 Andorra"]
[null,null,null,null,null,"AO00 Angola"]
[null,null,null,null,null,"AI00 Anguilla"]
[null,null,null,null,null,"AG00 Antigua og Barbuda"]
[null,null,null,null,null,"AR00 Argentina"]
[null,null,null,null,null,"AM00 Armenia"]
[null,null,null,null,null,"AW00 Aruba"]
[null,null,null,null,null,"AZ00 Aserbajdsjan"]
[null,null,null,null,null,"AU00 Australia"]
[null,null,null,null,null,"BS00 Bahamas"]
[null,null,null,null,null,"BH00 Bahrain"]
[null,null,null,null,null,"BD00 Bangladesh"]
[null,null,null,null,null,"BB00 Barbados"]
[null,null,null,null,null,"BE00 Belgia"]
[null,null,null,null,null,"BZ00 Belize"]
[null,null,null,null,null,"BJ00 Benin"]
[null,null,null,null,null,"BM00 Bermuda"]
[null,null,null,null,null,"BT00 Bhutan"]
[null,null,null,null,null,"BO00 Bolivia"]
[null,null,null,null,null,"BQ00 Bonaire, Saba, St.Eustatius"]
[null,null,null,null,null,"BA00 Bosnia Hercegovina"]
[null,null,null,null,null,"BW00 Botswana"]
[null,null,null,null,null,"BR00 Brasil"]
[null,null,null,null,null,"IO00 Britisk territorium i Det Indiske Hav"]
[null,null,null,null,null,"BN00 Brunei"]
[null,null,null,null,null,"BG00 Bulgaria"]
[null,null,null,null,null,"BF00 Burkina Faso"]
[null,null,null,null,null,"BI00 Burundi"]
[null,null,null,null,null,"CA00 Canada"]
[null,null,null,null,null,"KY00 Caymanøyene"]
[null,null,null,null,null,"CL00 Chile"]
[null,null,null,null,null,"CX00 Christmasøya"]
[null,null,null,null,null,"CO00 Colombia"]
[null,null,null,null,null,"CK00 Cookøyene"]
[null,null,null,null,null,"CR00 Costa Rica"]
[null,null,null,null,null,"CU00 Cuba"]
[null,null,null,null,null,"CW00 Curacao"]
[null,null,null,null,null,"DK00 Danmark"]
[null,null,null,null,null,"AE00 De forente Arabiske Emirater"]
[null,null,null,null,null,"DO00 Den Dominikanske Republikk"]
[null,null,null,null,null,"DJ00 Djibouti"]
[null,null,null,null,null,"DM00 Dominicia"]
[null,null,null,null,null,"EC00 Ecuador"]
[null,null,null,null,null,"EG00 Egypt"]
[null,null,null,null,null,"GQ00 Ekvatorial-Guinea"]
[null,null,null,null,null,"SV00 El Salvador"]
[null,null,null,null,null,"CI00 Elfenbenskysten"]
[null,null,null,null,null,"ER00 Eritrea"]
[null,null,null,null,null,"EE00 Estland"]
[null,null,null,null,null,"ET00 Etiopia"]
[null,null,null,null,null,"FK00 Falklandsøyene"]
[null,null,null,null,null,"FJ00 Fiji"]
[null,null,null,null,null,"PH00 Filippinene"]
[null,null,null,null,null,"FI00 Finland"]
[null,null,null,null,null,"FR00 Frankrike"]
[null,null,null,null,null,"GF00 Fransk Guyana"]
[null,null,null,null,null,"PF00 Fransk Polynesia"]
[null,null,null,null,null,"TF00 Franske Antiller"]
[null,null,null,null,null,"FO00 Færøyene"]
[null,null,null,null,null,"GA00 Gabon"]
[null,null,null,null,null,"GM00 Gambia"]
[null,null,null,null,null,"GE00 Georgia"]
[null,null,null,null,null,"GH00 Ghana"]
[null,null,null,null,null,"GI00 Gibraltar"]
[null,null,null,null,null,"GD00 Grenada"]
[null,null,null,null,null,"GL00 Grønland"]
[null,null,null,null,null,"GP00 Guadeloupe"]
[null,null,null,null,null,"GU00 Guam"]
[null,null,null,null,null,"GT00 Guatemala"]
[null,null,null,null,null,"GG00 Guernsey"]
[null,null,null,null,null,"GN00 Guinea"]
[null,null,null,null,null,"GW00 Guinea-Bissau"]
[null,null,null,null,null,"GY00 Guyana"]
[null,null,null,null,null,"HT00 Haiti"]
[null,null,null,null,null,"HM00 Heard- og McDonaldøyene"]
[null,null,null,null,null,"GR00 Hellas"]
[null,null,null,null,null,"HN00 Honduras"]
[null,null,null,null,null,"HK00 Hong Kong"]
[null,null,null,null,null,"BY00 Hviterussland"]
[null,null,null,null,null,"IN00 India"]
[null,null,null,null,null,"ID00 Indonesia"]
[null,null,null,null,null,"ZZ00 Internasjonale organisasjoner"]
[null,null,null,null,null,"IQ00 Irak"]
[null,null,null,null,null,"IR00 Iran"]
[null,null,null,null,null,"IE00 Irland"]
[null,null,null,null,null,"IS00 Island"]
[null,null,null,null,null,"IM00 Isle of Man"]
[null,null,null,null,null,"IL00 Israel"]
[null,null,null,null,null,"IT00 Italia"]
[null,null,null,null,null,"JM00 Jamaica"]
[null,null,null,null,null,"JP00 Japan"]
[null,null,null,null,null,"JE00 Jersey"]
[null,null,null,null,null,"VI00 Jomfruøyene, Amerikanske"]
[null,null,null,null,null,"VG00 Jomfruøyene, Britiske"]
[null,null,null,null,null,"JO00 Jordan"]
[null,null,null,null,null,"KH00 Kambodsja"]
[null,null,null,null,null,"CM00 Kamerun"]
[null,null,null,null,null,"CV00 Kapp Verde"]
[null,null,null,null,null,"KZ00 Kasakhstan"]
[null,null,null,null,null,"KE00 Kenya"]
[null,null,null,null,null,"CN00 Kina"]
[null,null,null,null,null,"KG00 Kirgistan"]
[null,null,null,null,null,"KI00 Kiribati"]
[null,null,null,null,null,"CC00 Kokosøyene"]
[null,null,null,null,null,"KM00 Komorene"]
[null,null,null,null,null,"CD00 Kongo, Den demokratiske republ"]
[null,null,null,null,null,"CG00 Kongo, Republikken"]
[null,null,null,null,null,"KP00 Korea, Nord-"]
[null,null,null,null,null,"KR00 Korea, Sør-"]
[null,null,null,null,null,"HR00 Kroatia"]
[null,null,null,null,null,"KW00 Kuwait"]
[null,null,null,null,null,"CY00 Kypros"]
[null,null,null,null,null,"LA00 Laos"]
[null,null,null,null,null,"LV00 Latvia"]
[null,null,null,null,null,"LS00 Lesotho"]
[null,null,null,null,null,"LB00 Libanon"]
[null,null,null,null,null,"LR00 Liberia"]
[null,null,null,null,null,"LY00 Libya"]
[null,null,null,null,null,"LI00 Liechtenstein"]
[null,null,null,null,null,"LT00 Litauen"]
[null,null,null,null,null,"LU00 Luxembourg"]
[null,null,null,null,null,"MO00 Macao"]
[null,null,null,null,null,"MG00 Madagaskar"]
[null,null,null,null,null,"MK00 Makedonia"]
[null,null,null,null,null,"MW00 Malawi"]
[null,null,null,null,null,"MY00 Malaysia"]
[null,null,null,null,null,"MV00 Maldivene"]
[null,null,null,null,null,"ML00 Mali"]
[null,null,null,null,null,"MT00 Malta"]
[null,null,null,null,null,"MA00 Marokko"]
[null,null,null,null,null,"MH00 Marshalløyene"]
[null,null,null,null,null,"MQ00 Martinique"]
[null,null,null,null,null,"MR00 Mauritania"]
[null,null,null,null,null,"MU00 Mauritius"]
[null,null,null,null,null,"YT00 Mayotte"]
[null,null,null,null,null,"MX00 Mexico"]
[null,null,null,null,null,"FM00 Mikronesia føderasjonen"]
[null,null,null,null,null,"MD00 Moldova"]
[null,null,null,null,null,"MC00 Monaco"]
[null,null,null,null,null,"MN00 Mongolia"]
[null,null,null,null,null,"ME00 Montenegro"]
[null,null,null,null,null,"MS00 Montserrat"]
[null,null,null,null,null,"MZ00 Mozambique"]
[null,null,null,null,null,"MM00 Myanmar"]
[null,null,null,null,null,"NA00 Namibia"]
[null,null,null,null,null,"NR00 Nauru"]
[null,null,null,null,null,"NL00 Nederland"]
[null,null,null,null,null,"AN00 Nederlandske Antiller"]
[null,null,null,null,null,"NP00 Nepal"]
[null,null,null,null,null,"NZ00 New Zealand"]
[null,null,null,null,null,"NI00 Nicaragua"]
[null,null,null,null,null,"NE00 Niger"]
[null,null,null,null,null,"NG00 Nigeria"]
[null,null,null,null,null,"NU00 Niue"]
[null,null,null,null,null,"MP00 Nord-Marianene"]
[null,null,null,null,null,"NF00 Norfolkøya"]
[null,null,null,null,null,"NC00 Ny-Kaledonia"]
[null,null,null,null,null,"OM00 Oman"]
[null,null,null,null,null,"PK00 Pakistan"]
[null,null,null,null,null,"PW00 Palau"]
[null,null,null,null,null,"PA00 Panama"]
[null,null,null,null,null,"PG00 Papua Ny-Guinea"]
[null,null,null,null,null,"PY00 Paraguay"]
[null,null,null,null,null,"PE00 Peru"]
[null,null,null,null,null,"PN00 Pitcairn"]
[null,null,null,null,null,"PL00 Polen"]
[null,null,null,null,null,"PT00 Portugal"]
[null,null,null,null,null,"PR00 Puerto Rico"]
[null,null,null,null,null,"QA00 Qatar"]
[null,null,null,null,null,"RE00 Reunion"]
[null,null,null,null,null,"RO00 Romania"]
[null,null,null,null,null,"RU00 Russland"]
[null,null,null,null,null,"RW00 Rwanda"]
[null,null,null,null,null,"BL00 Saint Barthelemy"]
[null,null,null,null,null,"MF00 Saint Martin (fransk del)"]
[null,null,null,null,null,"PM00 Saint-Pierre og Miquelon"]
[null,null,null,null,null,"SB00 Salomonøyene"]
[null,null,null,null,null,"WS00 Samoa"]
[null,null,null,null,null,"SM00 San Marino"]
[null,null,null,null,null,"ST00 Sao Tome og Principe"]
[null,null,null,null,null,"SA00 Saudi-Arabia"]
[null,null,null,null,null,"SN00 Senegal"]
[null,null,null,null,null,"CF00 Sentralafrikanske republikk"]
[null,null,null,null,null,"RS00 Serbia"]
[null,null,null,null,null,"SC00 Seychellene"]
[null,null,null,null,null,"SL00 Sierra Leone"]
[null,null,null,null,null,"SG00 Singapore"]
[null,null,null,null,null,"SX00 Sint Maarten"]
[null,null,null,null,null,"SK00 Slovakia"]
[null,null,null,null,null,"SI00 Slovenia"]
[null,null,null,null,null,"SO00 Somalia"]
[null,null,null,null,null,"ES00 Spania"]
[null,null,null,null,null,"LK00 Sri Lanka"]
[null,null,null,null,null,"SH00 St. Helena"]
[null,null,null,null,null,"KN00 St. Kitts og Nevis"]
[null,null,null,null,null,"LC00 St. Lucia"]
[null,null,null,null,null,"VC00 St. Vincent"]
[null,null,null,null,null,"GB00 Storbritannia"]
[null,null,null,null,null,"SD00 Sudan"]
[null,null,null,null,null,"SR00 Surinam"]
[null,null,null,null,null,"CH00 Sveits"]
[null,null,null,null,null,"SE00 Sverige"]
[null,null,null,null,null,"SZ00 Swaziland"]
[null,null,null,null,null,"SY00 Syria"]
[null,null,null,null,null,"ZA00 Sør-Afrika"]
[null,null,null,null,null,"GS00 Sør-Georgia"]
[null,null,null,null,null,"SS00 Sør-Sudan"]
[null,null,null,null,null,"TJ00 Tadzjikistan"]
[null,null,null,null,null,"TW00 Taiwan"]
[null,null,null,null,null,"TZ00 Tanzania"]
[null,null,null,null,null,"TH00 Thailand"]
[null,null,null,null,null,"TG00 Togo"]
[null,null,null,null,null,"TK00 Tokelau"]
[null,null,null,null,null,"TO00 Tonga"]
[null,null,null,null,null,"TT00 Trinidad og Tobago"]
[null,null,null,null,null,"TD00 Tsjad"]
[null,null,null,null,null,"CZ00 Tsjekkia"]
[null,null,null,null,null,"TN00 Tunisia"]
[null,null,null,null,null,"TM00 Turkmenistan"]
[null,null,null,null,null,"TC00 Turks- og Caicosøyene"]
[null,null,null,null,null,"TV00 Tuvalu"]
[null,null,null,null,null,"TR00 Tyrkia"]
[null,null,null,null,null,"DE00 Tyskland"]
[null,null,null,null,null,"XX00 Ufordelt land"]
[null,null,null,null,null,"UG00 Uganda"]
[null,null,null,null,null,"UA00 Ukrania"]
[null,null,null,null,null,"HU00 Ungarn"]
[null,null,null,null,null,"UY00 Uruguay"]
[null,null,null,null,null,"US00 USA"]
[null,null,null,null,null,"UM00 USA mindre utenforliggende øyer"]
[null,null,null,null,null,"PU00 USA Pacific Islands"]
[null,null,null,null,null,"UZ00 Uzbekistan"]
[null,null,null,null,null,"VU00 Vanuatu"]
[null,null,null,null,null,"VA00 Vatikanstaten"]
[null,null,null,null,null,"VE00 Venezuela"]
[null,null,null,null,null,"PS00 Vestbredden/Gazastripen"]
[null,null,null,null,null,"EH00 Vest-Sahara"]
[null,null,null,null,null,"VN00 Vietnam"]
[null,null,null,null,null,"WF00 Wallis og Futunaøyene"]
[null,null,null,null,null,"YE00 Yemen"]
[null,null,null,null,null,"ZM00 Zambia"]
[null,null,null,null,null,"ZW00 Zimbabwe"]
[null,null,null,null,null,"AT00 Østerrike"]
[null,null,null,null,null,"TL00 Øst-Timor"]
[null,null,null,null,null,"AF00 Afghanistan"]
[null,null,null,null,null,"AL00 Albania"]
[null,null,null,null,null,"DZ00 Algerie"]
[null,null,null,null,null,"AS00 Amerikansk Samoa"]
[null,null,null,null,null,"AD00 Andorra"]
[null,null,null,null,null,"AO00 Angola"]
[null,null,null,null,null,"AI00 Anguilla"]
[null,null,null,null,null,"AG00 Antigua og Barbuda"]
[null,null,null,null,null,"AR00 Argentina"]
[null,null,null,null,null,"AM00 Armenia"]
[null,null,null,null,null,"AW00 Aruba"]
[null,null,null,null,null,"AZ00 Aserbajdsjan"]
[null,null,null,null,null,"AU00 Australia"]
[null,null,null,null,null,"BS00 Bahamas"]
[null,null,null,null,null,"BH00 Bahrain"]
[null,null,null,null,null,"BD00 Bangladesh"]
[null,null,null,null,null,"BB00 Barbados"]
[null,null,null,null,null,"BE00 Belgia"]
[null,null,null,null,null,"BZ00 Belize"]
[null,null,null,null,null,"BJ00 Benin"]
[null,null,null,null,null,"BM00 Bermuda"]
[null,null,null,null,null,"BT00 Bhutan"]
[null,null,null,null,null,"BO00 Bolivia"]
[null,null,null,null,null,"BQ00 Bonaire, Saba, St.Eustatius"]
[null,null,null,null,null,"BA00 Bosnia Hercegovina"]
[null,null,null,null,null,"BW00 Botswana"]
[null,null,null,null,null,"BR00 Brasil"]
[null,null,null,null,null,"IO00 Britisk territorium i Det Indiske Hav"]
[null,null,null,null,null,"BN00 Brunei"]
[null,null,null,null,null,"BG00 Bulgaria"]
[null,null,null,null,null,"BF00 Burkina Faso"]
[null,null,null,null,null,"BI00 Burundi"]
[null,null,null,null,null,"CA00 Canada"]
[null,null,null,null,null,"KY00 Caymanøyene"]
[null,null,null,null,null,"CL00 Chile"]
[null,null,null,null,null,"CX00 Christmasøya"]
[null,null,null,null,null,"CO00 Colombia"]
[null,null,null,null,null,"CK00 Cookøyene"]
[null,null,null,null,null,"CR00 Costa Rica"]
[null,null,null,null,null,"CU00 Cuba"]
[null,null,null,null,null,"CW00 Curacao"]
[null,null,null,null,null,"DK00 Danmark"]
[null,null,null,null,null,"AE00 De forente Arabiske Emirater"]
[null,null,null,null,null,"DO00 Den Dominikanske Republikk"]
[null,null,null,null,null,"DJ00 Djibouti"]
[null,null,null,null,null,"DM00 Dominicia"]
[null,null,null,null,null,"EC00 Ecuador"]
[null,null,null,null,null,"EG00 Egypt"]
[null,null,null,null,null,"GQ00 Ekvatorial-Guinea"]
[null,null,null,null,null,"SV00 El Salvador"]
[null,null,null,null,null,"CI00 Elfenbenskysten"]
[null,null,null,null,null,"ER00 Eritrea"]
[null,null,null,null,null,"EE00 Estland"]
[null,null,null,null,null,"ET00 Etiopia"]
[null,null,null,null,null,"FK00 Falklandsøyene"]
[null,null,null,null,null,"FJ00 Fiji"]
[null,null,null,null,null,"PH00 Filippinene"]
[null,null,null,null,null,"FI00 Finland"]
[null,null,null,null,null,"FR00 Frankrike"]
[null,null,null,null,null,"GF00 Fransk Guyana"]
[null,null,null,null,null,"PF00 Fransk Polynesia"]
[null,null,null,null,null,"TF00 Franske Antiller"]
[null,null,null,null,null,"FO00 Færøyene"]
[null,null,null,null,null,"GA00 Gabon"]
[null,null,null,null,null,"GM00 Gambia"]
[null,null,null,null,null,"GE00 Georgia"]
[null,null,null,null,null,"GH00 Ghana"]
[null,null,null,null,null,"GI00 Gibraltar"]
[null,null,null,null,null,"GD00 Grenada"]
[null,null,null,null,null,"GL00 Grønland"]
[null,null,null,null,null,"GP00 Guadeloupe"]
[null,null,null,null,null,"GU00 Guam"]
[null,null,null,null,null,"GT00 Guatemala"]
[null,null,null,null,null,"GG00 Guernsey"]
[null,null,null,null,null,"GN00 Guinea"]
[null,null,null,null,null,"GW00 Guinea-Bissau"]
[null,null,null,null,null,"GY00 Guyana"]
[null,null,null,null,null,"HT00 Haiti"]
[null,null,null,null,null,"HM00 Heard- og McDonaldøyene"]
[null,null,null,null,null,"GR00 Hellas"]
[null,null,null,null,null,"HN00 Honduras"]
[null,null,null,null,null,"HK00 Hong Kong"]
[null,null,null,null,null,"BY00 Hviterussland"]
[null,null,null,null,null,"IN00 India"]
[null,null,null,null,null,"ID00 Indonesia"]
[null,null,null,null,null,"ZZ00 Internasjonale organisasjoner"]
[null,null,null,null,null,"IQ00 Irak"]
[null,null,null,null,null,"IR00 Iran"]
[null,null,null,null,null,"IE00 Irland"]
[null,null,null,null,null,"IS00 Island"]
[null,null,null,null,null,"IM00 Isle of Man"]
[null,null,null,null,null,"IL00 Israel"]
[null,null,null,null,null,"IT00 Italia"]
[null,null,null,null,null,"JM00 Jamaica"]
[null,null,null,null,null,"JP00 Japan"]
[null,null,null,null,null,"JE00 Jersey"]
[null,null,null,null,null,"VI00 Jomfruøyene, Amerikanske"]
[null,null,null,null,null,"VG00 Jomfruøyene, Britiske"]
[null,null,null,null,null,"JO00 Jordan"]
[null,null,null,null,null,"KH00 Kambodsja"]
[null,null,null,null,null,"CM00 Kamerun"]
[null,null,null,null,null,"CV00 Kapp Verde"]
[null,null,null,null,null,"KZ00 Kasakhstan"]
[null,null,null,null,null,"KE00 Kenya"]
[null,null,null,null,null,"CN00 Kina"]
[null,null,null,null,null,"KG00 Kirgistan"]
[null,null,null,null,null,"KI00 Kiribati"]
[null,null,null,null,null,"CC00 Kokosøyene"]
[null,null,null,null,null,"KM00 Komorene"]
[null,null,null,null,null,"CD00 Kongo, Den demokratiske republ"]
[null,null,null,null,null,"CG00 Kongo, Republikken"]
[null,null,null,null,null,"KP00 Korea, Nord-"]
[null,null,null,null,null,"KR00 Korea, Sør-"]
[null,null,null,null,null,"HR00 Kroatia"]
[null,null,null,null,null,"KW00 Kuwait"]
[null,null,null,null,null,"CY00 Kypros"]
[null,null,null,null,null,"LA00 Laos"]
[null,null,null,null,null,"LV00 Latvia"]
[null,null,null,null,null,"LS00 Lesotho"]
[null,null,null,null,null,"LB00 Libanon"]
[null,null,null,null,null,"LR00 Liberia"]
[null,null,null,null,null,"LY00 Libya"]
[null,null,null,null,null,"LI00 Liechtenstein"]
[null,null,null,null,null,"LT00 Litauen"]
[null,null,null,null,null,"LU00 Luxembourg"]
[null,null,null,null,null,"MO00 Macao"]
[null,null,null,null,null,"MG00 Madagaskar"]
[null,null,null,null,null,"MK00 Makedonia"]
[null,null,null,null,null,"MW00 Malawi"]
[null,null,null,null,null,"MY00 Malaysia"]
[null,null,null,null,null,"MV00 Maldivene"]
[null,null,null,null,null,"ML00 Mali"]
[null,null,null,null,null,"MT00 Malta"]
[null,null,null,null,null,"MA00 Marokko"]
[null,null,null,null,null,"MH00 Marshalløyene"]
[null,null,null,null,null,"MQ00 Martinique"]
[null,null,null,null,null,"MR00 Mauritania"]
[null,null,null,null,null,"MU00 Mauritius"]
[null,null,null,null,null,"YT00 Mayotte"]
[null,null,null,null,null,"MX00 Mexico"]
[null,null,null,null,null,"FM00 Mikronesia føderasjonen"]
[null,null,null,null,null,"MD00 Moldova"]
[null,null,null,null,null,"MC00 Monaco"]
[null,null,null,null,null,"MN00 Mongolia"]
[null,null,null,null,null,"ME00 Montenegro"]
[null,null,null,null,null,"MS00 Montserrat"]
[null,null,null,null,null,"MZ00 Mozambique"]
[null,null,null,null,null,"MM00 Myanmar"]
[null,null,null,null,null,"NA00 Namibia"]
[null,null,null,null,null,"NR00 Nauru"]
[null,null,null,null,null,"NL00 Nederland"]
[null,null,null,null,null,"AN00 Nederlandske Antiller"]
[null,null,null,null,null,"NP00 Nepal"]
[null,null,null,null,null,"NZ00 New Zealand"]
[null,null,null,null,null,"NI00 Nicaragua"]
[null,null,null,null,null,"NE00 Niger"]
[null,null,null,null,null,"NG00 Nigeria"]
[null,null,null,null,null,"NU00 Niue"]
[null,null,null,null,null,"MP00 Nord-Marianene"]
[null,null,null,null,null,"NF00 Norfolkøya"]
[null,null,null,null,null,"NC00 Ny-Kaledonia"]
[null,null,null,null,null,"OM00 Oman"]
[null,null,null,null,null,"PK00 Pakistan"]
[null,null,null,null,null,"PW00 Palau"]
[null,null,null,null,null,"PA00 Panama"]
[null,null,null,null,null,"PG00 Papua Ny-Guinea"]
[null,null,null,null,null,"PY00 Paraguay"]
[null,null,null,null,null,"PE00 Peru"]
[null,null,null,null,null,"PN00 Pitcairn"]
[null,null,null,null,null,"PL00 Polen"]
[null,null,null,null,null,"PT00 Portugal"]
[null,null,null,null,null,"PR00 Puerto Rico"]
[null,null,null,null,null,"QA00 Qatar"]
[null,null,null,null,null,"RE00 Reunion"]
[null,null,null,null,null,"RO00 Romania"]
[null,null,null,null,null,"RU00 Russland"]
[null,null,null,null,null,"RW00 Rwanda"]
[null,null,null,null,null,"BL00 Saint Barthelemy"]
[null,null,null,null,null,"MF00 Saint Martin (fransk del)"]
[null,null,null,null,null,"PM00 Saint-Pierre og Miquelon"]
[null,null,null,null,null,"SB00 Salomonøyene"]
[null,null,null,null,null,"WS00 Samoa"]
[null,null,null,null,null,"SM00 San Marino"]
[null,null,null,null,null,"ST00 Sao Tome og Principe"]
[null,null,null,null,null,"SA00 Saudi-Arabia"]
[null,null,null,null,null,"SN00 Senegal"]
[null,null,null,null,null,"CF00 Sentralafrikanske republikk"]
[null,null,null,null,null,"RS00 Serbia"]
[null,null,null,null,null,"SC00 Seychellene"]
[null,null,null,null,null,"SL00 Sierra Leone"]
[null,null,null,null,null,"SG00 Singapore"]
[null,null,null,null,null,"SX00 Sint Maarten"]
[null,null,null,null,null,"SK00 Slovakia"]
[null,null,null,null,null,"SI00 Slovenia"]
[null,null,null,null,null,"SO00 Somalia"]
[null,null,null,null,null,"ES00 Spania"]
[null,null,null,null,null,"LK00 Sri Lanka"]
[null,null,null,null,null,"SH00 St. Helena"]
[null,null,null,null,null,"KN00 St. Kitts og Nevis"]
[null,null,null,null,null,"LC00 St. Lucia"]
[null,null,null,null,null,"VC00 St. Vincent"]
[null,null,null,null,null,"GB00 Storbritannia"]
[null,null,null,null,null,"SD00 Sudan"]
[null,null,null,null,null,"SR00 Surinam"]
[null,null,null,null,null,"CH00 Sveits"]
[null,null,null,null,null,"SE00 Sverige"]
[null,null,null,null,null,"SZ00 Swaziland"]
[null,null,null,null,null,"SY00 Syria"]
[null,null,null,null,null,"ZA00 Sør-Afrika"]
[null,null,null,null,null,"GS00 Sør-Georgia"]
[null,null,null,null,null,"SS00 Sør-Sudan"]
[null,null,null,null,null,"TJ00 Tadzjikistan"]
[null,null,null,null,null,"TW00 Taiwan"]
[null,null,null,null,null,"TZ00 Tanzania"]
[null,null,null,null,null,"TH00 Thailand"]
[null,null,null,null,null,"TG00 Togo"]
[null,null,null,null,null,"TK00 Tokelau"]
[null,null,null,null,null,"TO00 Tonga"]
[null,null,null,null,null,"TT00 Trinidad og Tobago"]
[null,null,null,null,null,"TD00 Tsjad"]
[null,null,null,null,null,"CZ00 Tsjekkia"]
[null,null,null,null,null,"TN00 Tunisia"]
[null,null,null,null,null,"TM00 Turkmenistan"]
[null,null,null,null,null,"TC00 Turks- og Caicosøyene"]
[null,null,null,null,null,"TV00 Tuvalu"]
[null,null,null,null,null,"TR00 Tyrkia"]
[null,null,null,null,null,"DE00 Tyskland"]
[null,null,null,null,null,"XX00 Ufordelt land"]
[null,null,null,null,null,"UG00 Uganda"]
[null,null,null,null,null,"UA00 Ukrania"]
[null,null,null,null,null,"HU00 Ungarn"]
[null,null,null,null,null,"UY00 Uruguay"]
[null,null,null,null,null,"US00 USA"]
[null,null,null,null,null,"UM00 USA mindre utenforliggende øyer"]
[null,null,null,null,null,"PU00 USA Pacific Islands"]
[null,null,null,null,null,"UZ00 Uzbekistan"]
[null,null,null,null,null,"VU00 Vanuatu"]
[null,null,null,null,null,"VA00 Vatikanstaten"]
[null,null,null,null,null,"VE00 Venezuela"]
[null,null,null,null,null,"PS00 Vestbredden/Gazastripen"]
[null,null,null,null,null,"EH00 Vest-Sahara"]
[null,null,null,null,null,"VN00 Vietnam"]
[null,null,null,null,null,"WF00 Wallis og Futunaøyene"]
[null,null,null,null,null,"YE00 Yemen"]
[null,null,null,null,null,"ZM00 Zambia"]
[null,null,null,null,null,"ZW00 Zimbabwe"]
[null,null,null,null,null,"AT00 Østerrike"]
[null,null,null,null,null,"TL00 Øst-Timor"]
[null,null,null,null,null,"AF00 Afghanistan"]
[null,null,null,null,null,"AL00 Albania"]
[null,null,null,null,null,"DZ00 Algerie"]
[null,null,null,null,null,"AS00 Amerikansk Samoa"]
[null,null,null,null,null,"AD00 Andorra"]
[null,null,null,null,null,"AO00 Angola"]
[null,null,null,null,null,"AI00 Anguilla"]
[null,null,null,null,null,"AG00 Antigua og Barbuda"]
[null,null,null,null,null,"AR00 Argentina"]
[null,null,null,null,null,"AM00 Armenia"]
[null,null,null,null,null,"AW00 Aruba"]
[null,null,null,null,null,"AZ00 Aserbajdsjan"]
[null,null,null,null,null,"AU00 Australia"]
[null,null,null,null,null,"BS00 Bahamas"]
[null,null,null,null,null,"BH00 Bahrain"]
[null,null,null,null,null,"BD00 Bangladesh"]
[null,null,null,null,null,"BB00 Barbados"]
[null,null,null,null,null,"BE00 Belgia"]
[null,null,null,null,null,"BZ00 Belize"]
[null,null,null,null,null,"BJ00 Benin"]
[null,null,null,null,null,"BM00 Bermuda"]
[null,null,null,null,null,"BT00 Bhutan"]
[null,null,null,null,null,"BO00 Bolivia"]
[null,null,null,null,null,"BQ00 Bonaire, Saba, St.Eustatius"]
[null,null,null,null,null,"BA00 Bosnia Hercegovina"]
[null,null,null,null,null,"BW00 Botswana"]
[null,null,null,null,null,"BR00 Brasil"]
[null,null,null,null,null,"IO00 Britisk territorium i Det Indiske Hav"]
[null,null,null,null,null,"BN00 Brunei"]
[null,null,null,null,null,"BG00 Bulgaria"]
[null,null,null,null,null,"BF00 Burkina Faso"]
[null,null,null,null,null,"BI00 Burundi"]
[null,null,null,null,null,"CA00 Canada"]
[null,null,null,null,null,"KY00 Caymanøyene"]
[null,null,null,null,null,"CL00 Chile"]
[null,null,null,null,null,"CX00 Christmasøya"]
[null,null,null,null,null,"CO00 Colombia"]
[null,null,null,null,null,"CK00 Cookøyene"]
[null,null,null,null,null,"CR00 Costa Rica"]
[null,null,null,null,null,"CU00 Cuba"]
[null,null,null,null,null,"CW00 Curacao"]
[null,null,null,null,null,"DK00 Danmark"]
[null,null,null,null,null,"AE00 De forente Arabiske Emirater"]
[null,null,null,null,null,"DO00 Den Dominikanske Republikk"]
[null,null,null,null,null,"DJ00 Djibouti"]
[null,null,null,null,null,"DM00 Dominicia"]
[null,null,null,null,null,"EC00 Ecuador"]
[null,null,null,null,null,"EG00 Egypt"]
[null,null,null,null,null,"GQ00 Ekvatorial-Guinea"]
[null,null,null,null,null,"SV00 El Salvador"]
[null,null,null,null,null,"CI00 Elfenbenskysten"]
[null,null,null,null,null,"ER00 Eritrea"]
[null,null,null,null,null,"EE00 Estland"]
[null,null,null,null,null,"ET00 Etiopia"]
[null,null,null,null,null,"FK00 Falklandsøyene"]
[null,null,null,null,null,"FJ00 Fiji"]
[null,null,null,null,null,"PH00 Filippinene"]
[null,null,null,null,null,"FI00 Finland"]
[null,null,null,null,null,"FR00 Frankrike"]
[null,null,null,null,null,"GF00 Fransk Guyana"]
[null,null,null,null,null,"PF00 Fransk Polynesia"]
[null,null,null,null,null,"TF00 Franske Antiller"]
[null,null,null,null,null,"FO00 Færøyene"]
[null,null,null,null,null,"GA00 Gabon"]
[null,null,null,null,null,"GM00 Gambia"]
[null,null,null,null,null,"GE00 Georgia"]
[null,null,null,null,null,"GH00 Ghana"]
[null,null,null,null,null,"GI00 Gibraltar"]
[null,null,null,null,null,"GD00 Grenada"]
[null,null,null,null,null,"GL00 Grønland"]
[null,null,null,null,null,"GP00 Guadeloupe"]
[null,null,null,null,null,"GU00 Guam"]
[null,null,null,null,null,"GT00 Guatemala"]
[null,null,null,null,null,"GG00 Guernsey"]
[null,null,null,null,null,"GN00 Guinea"]
[null,null,null,null,null,"GW00 Guinea-Bissau"]
[null,null,null,null,null,"GY00 Guyana"]
[null,null,null,null,null,"HT00 Haiti"]
[null,null,null,null,null,"HM00 Heard- og McDonaldøyene"]
[null,null,null,null,null,"GR00 Hellas"]
[null,null,null,null,null,"HN00 Honduras"]
[null,null,null,null,null,"HK00 Hong Kong"]
[null,null,null,null,null,"BY00 Hviterussland"]
[null,null,null,null,null,"IN00 India"]
[null,null,null,null,null,"ID00 Indonesia"]
[null,null,null,null,null,"ZZ00 Internasjonale organisasjoner"]
[null,null,null,null,null,"IQ00 Irak"]
[null,null,null,null,null,"IR00 Iran"]
[null,null,null,null,null,"IE00 Irland"]
[null,null,null,null,null,"IS00 Island"]
[null,null,null,null,null,"IM00 Isle of Man"]
[null,null,null,null,null,"IL00 Israel"]
[null,null,null,null,null,"IT00 Italia"]
[null,null,null,null,null,"JM00 Jamaica"]
[null,null,null,null,null,"JP00 Japan"]
[null,null,null,null,null,"JE00 Jersey"]
[null,null,null,null,null,"VI00 Jomfruøyene, Amerikanske"]
[null,null,null,null,null,"VG00 Jomfruøyene, Britiske"]
[null,null,null,null,null,"JO00 Jordan"]
[null,null,null,null,null,"KH00 Kambodsja"]
[null,null,null,null,null,"CM00 Kamerun"]
[null,null,null,null,null,"CV00 Kapp Verde"]
[null,null,null,null,null,"KZ00 Kasakhstan"]
[null,null,null,null,null,"KE00 Kenya"]
[null,null,null,null,null,"CN00 Kina"]
[null,null,null,null,null,"KG00 Kirgistan"]
[null,null,null,null,null,"KI00 Kiribati"]
[null,null,null,null,null,"CC00 Kokosøyene"]
[null,null,null,null,null,"KM00 Komorene"]
[null,null,null,null,null,"CD00 Kongo, Den demokratiske republ"]
[null,null,null,null,null,"CG00 Kongo, Republikken"]
[null,null,null,null,null,"KP00 Korea, Nord-"]
[null,null,null,null,null,"KR00 Korea, Sør-"]
[null,null,null,null,null,"HR00 Kroatia"]
[null,null,null,null,null,"KW00 Kuwait"]
[null,null,null,null,null,"CY00 Kypros"]
[null,null,null,null,null,"LA00 Laos"]
[null,null,null,null,null,"LV00 Latvia"]
[null,null,null,null,null,"LS00 Lesotho"]
[null,null,null,null,null,"LB00 Libanon"]
[null,null,null,null,null,"LR00 Liberia"]
[null,null,null,null,null,"LY00 Libya"]
[null,null,null,null,null,"LI00 Liechtenstein"]
[null,null,null,null,null,"LT00 Litauen"]
[null,null,null,null,null,"LU00 Luxembourg"]
[null,null,null,null,null,"MO00 Macao"]
[null,null,null,null,null,"MG00 Madagaskar"]
[null,null,null,null,null,"MK00 Makedonia"]
[null,null,null,null,null,"MW00 Malawi"]
[null,null,null,null,null,"MY00 Malaysia"]
[null,null,null,null,null,"MV00 Maldivene"]
[null,null,null,null,null,"ML00 Mali"]
[null,null,null,null,null,"MT00 Malta"]
[null,null,null,null,null,"MA00 Marokko"]
[null,null,null,null,null,"MH00 Marshalløyene"]
[null,null,null,null,null,"MQ00 Martinique"]
[null,null,null,null,null,"MR00 Mauritania"]
[null,null,null,null,null,"MU00 Mauritius"]
[null,null,null,null,null,"YT00 Mayotte"]
[null,null,null,null,null,"MX00 Mexico"]
[null,null,null,null,null,"FM00 Mikronesia føderasjonen"]
[null,null,null,null,null,"MD00 Moldova"]
[null,null,null,null,null,"MC00 Monaco"]
[null,null,null,null,null,"MN00 Mongolia"]
[null,null,null,null,null,"ME00 Montenegro"]
[null,null,null,null,null,"MS00 Montserrat"]
[null,null,null,null,null,"MZ00 Mozambique"]
[null,null,null,null,null,"MM00 Myanmar"]
[null,null,null,null,null,"NA00 Namibia"]
[null,null,null,null,null,"NR00 Nauru"]
[null,null,null,null,null,"NL00 Nederland"]
[null,null,null,null,null,"AN00 Nederlandske Antiller"]
[null,null,null,null,null,"NP00 Nepal"]
[null,null,null,null,null,"NZ00 New Zealand"]
[null,null,null,null,null,"NI00 Nicaragua"]
[null,null,null,null,null,"NE00 Niger"]
[null,null,null,null,null,"NG00 Nigeria"]
[null,null,null,null,null,"NU00 Niue"]
[null,null,null,null,null,"MP00 Nord-Marianene"]
[null,null,null,null,null,"NF00 Norfolkøya"]
[null,null,null,null,null,"NC00 Ny-Kaledonia"]
[null,null,null,null,null,"OM00 Oman"]
[null,null,null,null,null,"PK00 Pakistan"]
[null,null,null,null,null,"PW00 Palau"]
[null,null,null,null,null,"PA00 Panama"]
[null,null,null,null,null,"PG00 Papua Ny-Guinea"]
[null,null,null,null,null,"PY00 Paraguay"]
[null,null,null,null,null,"PE00 Peru"]
[null,null,null,null,null,"PN00 Pitcairn"]
[null,null,null,null,null,"PL00 Polen"]
[null,null,null,null,null,"PT00 Portugal"]
[null,null,null,null,null,"PR00 Puerto Rico"]
[null,null,null,null,null,"QA00 Qatar"]
[null,null,null,null,null,"RE00 Reunion"]
[null,null,null,null,null,"RO00 Romania"]
[null,null,null,null,null,"RU00 Russland"]
[null,null,null,null,null,"RW00 Rwanda"]
[null,null,null,null,null,"BL00 Saint Barthelemy"]
[null,null,null,null,null,"MF00 Saint Martin (fransk del)"]
[null,null,null,null,null,"PM00 Saint-Pierre og Miquelon"]
[null,null,null,null,null,"SB00 Salomonøyene"]
[null,null,null,null,null,"WS00 Samoa"]
[null,null,null,null,null,"SM00 San Marino"]
[null,null,null,null,null,"ST00 Sao Tome og Principe"]
[null,null,null,null,null,"SA00 Saudi-Arabia"]
[null,null,null,null,null,"SN00 Senegal"]
[null,null,null,null,null,"CF00 Sentralafrikanske republikk"]
[null,null,null,null,null,"RS00 Serbia"]
[null,null,null,null,null,"SC00 Seychellene"]
[null,null,null,null,null,"SL00 Sierra Leone"]
[null,null,null,null,null,"SG00 Singapore"]
[null,null,null,null,null,"SX00 Sint Maarten"]
[null,null,null,null,null,"SK00 Slovakia"]
[null,null,null,null,null,"SI00 Slovenia"]
[null,null,null,null,null,"SO00 Somalia"]
[null,null,null,null,null,"ES00 Spania"]
[null,null,null,null,null,"LK00 Sri Lanka"]
[null,null,null,null,null,"SH00 St. Helena"]
[null,null,null,null,null,"KN00 St. Kitts og Nevis"]
[null,null,null,null,null,"LC00 St. Lucia"]
[null,null,null,null,null,"VC00 St. Vincent"]
[null,null,null,null,null,"GB00 Storbritannia"]
[null,null,null,null,null,"SD00 Sudan"]
[null,null,null,null,null,"SR00 Surinam"]
[null,null,null,null,null,"CH00 Sveits"]
[null,null,null,null,null,"SE00 Sverige"]
[null,null,null,null,null,"SZ00 Swaziland"]
[null,null,null,null,null,"SY00 Syria"]
[null,null,null,null,null,"ZA00 Sør-Afrika"]
[null,null,null,null,null,"GS00 Sør-Georgia"]
[null,null,null,null,null,"SS00 Sør-Sudan"]
[null,null,null,null,null,"TJ00 Tadzjikistan"]
[null,null,null,null,null,"TW00 Taiwan"]
[null,null,null,null,null,"TZ00 Tanzania"]
[null,null,null,null,null,"TH00 Thailand"]
[null,null,null,null,null,"TG00 Togo"]
[null,null,null,null,null,"TK00 Tokelau"]
[null,null,null,null,null,"TO00 Tonga"]
[null,null,null,null,null,"TT00 Trinidad og Tobago"]
[null,null,null,null,null,"TD00 Tsjad"]
[null,null,null,null,null,"CZ00 Tsjekkia"]
[null,null,null,null,null,"TN00 Tunisia"]
[null,null,null,null,null,"TM00 Turkmenistan"]
[null,null,null,null,null,"TC00 Turks- og Caicosøyene"]
[null,null,null,null,null,"TV00 Tuvalu"]
[null,null,null,null,null,"TR00 Tyrkia"]
[null,null,null,null,null,"DE00 Tyskland"]
[null,null,null,null,null,"XX00 Ufordelt land"]
[null,null,null,null,null,"UG00 Uganda"]
[null,null,null,null,null,"UA00 Ukrania"]
[null,null,null,null,null,"HU00 Ungarn"]
[null,null,null,null,null,"UY00 Uruguay"]
[null,null,null,null,null,"US00 USA"]
[null,null,null,null,null,"UM00 USA mindre utenforliggende øyer"]
[null,null,null,null,null,"PU00 USA Pacific Islands"]
[null,null,null,null,null,"UZ00 Uzbekistan"]
[null,null,null,null,null,"VU00 Vanuatu"]
[null,null,null,null,null,"VA00 Vatikanstaten"]
[null,null,null,null,null,"VE00 Venezuela"]
[null,null,null,null,null,"PS00 Vestbredden/Gazastripen"]
[null,null,null,null,null,"EH00 Vest-Sahara"]
[null,null,null,null,null,"VN00 Vietnam"]
[null,null,null,null,null,"WF00 Wallis og Futunaøyene"]
[null,null,null,null,null,"YE00 Yemen"]
[null,null,null,null,null,"ZM00 Zambia"]
[null,null,null,null,null,"ZW00 Zimbabwe"]
[null,null,null,null,null,"AT00 Østerrike"]
[null,null,null,null,null,"TL00 Øst-Timor"]
[null,null,null,null,null,"AF00 Afghanistan"]
[null,null,null,null,null,"AL00 Albania"]
[null,null,null,null,null,"DZ00 Algerie"]
[null,null,null,null,null,"AS00 Amerikansk Samoa"]
[null,null,null,null,null,"AD00 Andorra"]
[null,null,null,null,null,"AO00 Angola"]
[null,null,null,null,null,"AI00 Anguilla"]
[null,null,null,null,null,"AG00 Antigua og Barbuda"]
[null,null,null,null,null,"AR00 Argentina"]
[null,null,null,null,null,"AM00 Armenia"]
[null,null,null,null,null,"AW00 Aruba"]
[null,null,null,null,null,"AZ00 Aserbajdsjan"]
[null,null,null,null,null,"AU00 Australia"]
[null,null,null,null,null,"BS00 Bahamas"]
[null,null,null,null,null,"BH00 Bahrain"]
[null,null,null,null,null,"BD00 Bangladesh"]
[null,null,null,null,null,"BB00 Barbados"]
[null,null,null,null,null,"BE00 Belgia"]
[null,null,null,null,null,"BZ00 Belize"]
[null,null,null,null,null,"BJ00 Benin"]
[null,null,null,null,null,"BM00 Bermuda"]
[null,null,null,null,null,"BT00 Bhutan"]
[null,null,null,null,null,"BO00 Bolivia"]
[null,null,null,null,null,"BQ00 Bonaire, Saba, St.Eustatius"]
[null,null,null,null,null,"BA00 Bosnia Hercegovina"]
[null,null,null,null,null,"BW00 Botswana"]
[null,null,null,null,null,"BR00 Brasil"]
[null,null,null,null,null,"IO00 Britisk territorium i Det Indiske Hav"]
[null,null,null,null,null,"BN00 Brunei"]
[null,null,null,null,null,"BG00 Bulgaria"]
[null,null,null,null,null,"BF00 Burkina Faso"]
[null,null,null,null,null,"BI00 Burundi"]
[null,null,null,null,null,"CA00 Canada"]
[null,null,null,null,null,"KY00 Caymanøyene"]
[null,null,null,null,null,"CL00 Chile"]
[null,null,null,null,null,"CX00 Christmasøya"]
[null,null,null,null,null,"CO00 Colombia"]
[null,null,null,null,null,"CK00 Cookøyene"]
[null,null,null,null,null,"CR00 Costa Rica"]
[null,null,null,null,null,"CU00 Cuba"]
[null,null,null,null,null,"CW00 Curacao"]
[null,null,null,null,null,"DK00 Danmark"]
[null,null,null,null,null,"AE00 De forente Arabiske Emirater"]
[null,null,null,null,null,"DO00 Den Dominikanske Republikk"]
[null,null,null,null,null,"DJ00 Djibouti"]
[null,null,null,null,null,"DM00 Dominicia"]
[null,null,null,null,null,"EC00 Ecuador"]
[null,null,null,null,null,"EG00 Egypt"]
[null,null,null,null,null,"GQ00 Ekvatorial-Guinea"]
[null,null,null,null,null,"SV00 El Salvador"]
[null,null,null,null,null,"CI00 Elfenbenskysten"]
[null,null,null,null,null,"ER00 Eritrea"]
[null,null,null,null,null,"EE00 Estland"]
[null,null,null,null,null,"ET00 Etiopia"]
[null,null,null,null,null,"FK00 Falklandsøyene"]
[null,null,null,null,null,"FJ00 Fiji"]
[null,null,null,null,null,"PH00 Filippinene"]
[null,null,null,null,null,"FI00 Finland"]
[null,null,null,null,null,"FR00 Frankrike"]
[null,null,null,null,null,"GF00 Fransk Guyana"]
[null,null,null,null,null,"PF00 Fransk Polynesia"]
[null,null,null,null,null,"TF00 Franske Antiller"]
[null,null,null,null,null,"FO00 Færøyene"]
[null,null,null,null,null,"GA00 Gabon"]
[null,null,null,null,null,"GM00 Gambia"]
[null,null,null,null,null,"GE00 Georgia"]
[null,null,null,null,null,"GH00 Ghana"]
[null,null,null,null,null,"GI00 Gibraltar"]
[null,null,null,null,null,"GD00 Grenada"]
[null,null,null,null,null,"GL00 Grønland"]
[null,null,null,null,null,"GP00 Guadeloupe"]
[null,null,null,null,null,"GU00 Guam"]
[null,null,null,null,null,"GT00 Guatemala"]
[null,null,null,null,null,"GG00 Guernsey"]
[null,null,null,null,null,"GN00 Guinea"]
[null,null,null,null,null,"GW00 Guinea-Bissau"]
[null,null,null,null,null,"GY00 Guyana"]
[null,null,null,null,null,"HT00 Haiti"]
[null,null,null,null,null,"HM00 Heard- og McDonaldøyene"]
[null,null,null,null,null,"GR00 Hellas"]
[null,null,null,null,null,"HN00 Honduras"]
[null,null,null,null,null,"HK00 Hong Kong"]
[null,null,null,null,null,"BY00 Hviterussland"]
[null,null,null,null,null,"IN00 India"]
[null,null,null,null,null,"ID00 Indonesia"]
[null,null,null,null,null,"ZZ00 Internasjonale organisasjoner"]
[null,null,null,null,null,"IQ00 Irak"]
[null,null,null,null,null,"IR00 Iran"]
[null,null,null,null,null,"IE00 Irland"]
[null,null,null,null,null,"IS00 Island"]
[null,null,null,null,null,"IM00 Isle of Man"]
[null,null,null,null,null,"IL00 Israel"]
[null,null,null,null,null,"IT00 Italia"]
[null,null,null,null,null,"JM00 Jamaica"]
[null,null,null,null,null,"JP00 Japan"]
[null,null,null,null,null,"JE00 Jersey"]
[null,null,null,null,null,"VI00 Jomfruøyene, Amerikanske"]
[null,null,null,null,null,"VG00 Jomfruøyene, Britiske"]
[null,null,null,null,null,"JO00 Jordan"]
[null,null,null,null,null,"KH00 Kambodsja"]
[null,null,null,null,null,"CM00 Kamerun"]
[null,null,null,null,null,"CV00 Kapp Verde"]
[null,null,null,null,null,"KZ00 Kasakhstan"]
[null,null,null,null,null,"KE00 Kenya"]
[null,null,null,null,null,"CN00 Kina"]
[null,null,null,null,null,"KG00 Kirgistan"]
[null,null,null,null,null,"KI00 Kiribati"]
[null,null,null,null,null,"CC00 Kokosøyene"]
[null,null,null,null,null,"KM00 Komorene"]
[null,null,null,null,null,"CD00 Kongo, Den demokratiske republ"]
[null,null,null,null,null,"CG00 Kongo, Republikken"]
[null,null,null,null,null,"KP00 Korea, Nord-"]
[null,null,null,null,null,"KR00 Korea, Sør-"]
[null,null,null,null,null,"HR00 Kroatia"]
[null,null,null,null,null,"KW00 Kuwait"]
[null,null,null,null,null,"CY00 Kypros"]
[null,null,null,null,null,"LA00 Laos"]
[null,null,null,null,null,"LV00 Latvia"]
[null,null,null,null,null,"LS00 Lesotho"]
[null,null,null,null,null,"LB00 Libanon"]
[null,null,null,null,null,"LR00 Liberia"]
[null,null,null,null,null,"LY00 Libya"]
[null,null,null,null,null,"LI00 Liechtenstein"]
[null,null,null,null,null,"LT00 Litauen"]
[null,null,null,null,null,"LU00 Luxembourg"]
[null,null,null,null,null,"MO00 Macao"]
[null,null,null,null,null,"MG00 Madagaskar"]
[null,null,null,null,null,"MK00 Makedonia"]
[null,null,null,null,null,"MW00 Malawi"]
[null,null,null,null,null,"MY00 Malaysia"]
[null,null,null,null,null,"MV00 Maldivene"]
[null,null,null,null,null,"ML00 Mali"]
[null,null,null,null,null,"MT00 Malta"]
[null,null,null,null,null,"MA00 Marokko"]
[null,null,null,null,null,"MH00 Marshalløyene"]
[null,null,null,null,null,"MQ00 Martinique"]
[null,null,null,null,null,"MR00 Mauritania"]
[null,null,null,null,null,"MU00 Mauritius"]
[null,null,null,null,null,"YT00 Mayotte"]
[null,null,null,null,null,"MX00 Mexico"]
[null,null,null,null,null,"FM00 Mikronesia føderasjonen"]
[null,null,null,null,null,"MD00 Moldova"]
[null,null,null,null,null,"MC00 Monaco"]
[null,null,null,null,null,"MN00 Mongolia"]
[null,null,null,null,null,"ME00 Montenegro"]
[null,null,null,null,null,"MS00 Montserrat"]
[null,null,null,null,null,"MZ00 Mozambique"]
[null,null,null,null,null,"MM00 Myanmar"]
[null,null,null,null,null,"NA00 Namibia"]
[null,null,null,null,null,"NR00 Nauru"]
[null,null,null,null,null,"NL00 Nederland"]
[null,null,null,null,null,"AN00 Nederlandske Antiller"]
[null,null,null,null,null,"NP00 Nepal"]
[null,null,null,null,null,"NZ00 New Zealand"]
[null,null,null,null,null,"NI00 Nicaragua"]
[null,null,null,null,null,"NE00 Niger"]
[null,null,null,null,null,"NG00 Nigeria"]
[null,null,null,null,null,"NU00 Niue"]
[null,null,null,null,null,"MP00 Nord-Marianene"]
[null,null,null,null,null,"NF00 Norfolkøya"]
[null,null,null,null,null,"NC00 Ny-Kaledonia"]
[null,null,null,null,null,"OM00 Oman"]
[null,null,null,null,null,"PK00 Pakistan"]
[null,null,null,null,null,"PW00 Palau"]
[null,null,null,null,null,"PA00 Panama"]
[null,null,null,null,null,"PG00 Papua Ny-Guinea"]
[null,null,null,null,null,"PY00 Paraguay"]
[null,null,null,null,null,"PE00 Peru"]
[null,null,null,null,null,"PN00 Pitcairn"]
[null,null,null,null,null,"PL00 Polen"]
[null,null,null,null,null,"PT00 Portugal"]
[null,null,null,null,null,"PR00 Puerto Rico"]
[null,null,null,null,null,"QA00 Qatar"]
[null,null,null,null,null,"RE00 Reunion"]
[null,null,null,null,null,"RO00 Romania"]
[null,null,null,null,null,"RU00 Russland"]
[null,null,null,null,null,"RW00 Rwanda"]
[null,null,null,null,null,"BL00 Saint Barthelemy"]
[null,null,null,null,null,"MF00 Saint Martin (fransk del)"]
[null,null,null,null,null,"PM00 Saint-Pierre og Miquelon"]
[null,null,null,null,null,"SB00 Salomonøyene"]
[null,null,null,null,null,"WS00 Samoa"]
[null,null,null,null,null,"SM00 San Marino"]
[null,null,null,null,null,"ST00 Sao Tome og Principe"]
[null,null,null,null,null,"SA00 Saudi-Arabia"]
[null,null,null,null,null,"SN00 Senegal"]
[null,null,null,null,null,"CF00 Sentralafrikanske republikk"]
[null,null,null,null,null,"RS00 Serbia"]
[null,null,null,null,null,"SC00 Seychellene"]
[null,null,null,null,null,"SL00 Sierra Leone"]
[null,null,null,null,null,"SG00 Singapore"]
[null,null,null,null,null,"SX00 Sint Maarten"]
[null,null,null,null,null,"SK00 Slovakia"]
[null,null,null,null,null,"SI00 Slovenia"]
[null,null,null,null,null,"SO00 Somalia"]
[null,null,null,null,null,"ES00 Spania"]
[null,null,null,null,null,"LK00 Sri Lanka"]
[null,null,null,null,null,"SH00 St. Helena"]
[null,null,null,null,null,"KN00 St. Kitts og Nevis"]
[null,null,null,null,null,"LC00 St. Lucia"]
[null,null,null,null,null,"VC00 St. Vincent"]
[null,null,null,null,null,"GB00 Storbritannia"]
[null,null,null,null,null,"SD00 Sudan"]
[null,null,null,null,null,"SR00 Surinam"]
[null,null,null,null,null,"CH00 Sveits"]
[null,null,null,null,null,"SE00 Sverige"]
[null,null,null,null,null,"SZ00 Swaziland"]
[null,null,null,null,null,"SY00 Syria"]
[null,null,null,null,null,"ZA00 Sør-Afrika"]
[null,null,null,null,null,"GS00 Sør-Georgia"]
[null,null,null,null,null,"SS00 Sør-Sudan"]
[null,null,null,null,null,"TJ00 Tadzjikistan"]
[null,null,null,null,null,"TW00 Taiwan"]
[null,null,null,null,null,"TZ00 Tanzania"]
[null,null,null,null,null,"TH00 Thailand"]
[null,null,null,null,null,"TG00 Togo"]
[null,null,null,null,null,"TK00 Tokelau"]
[null,null,null,null,null,"TO00 Tonga"]
[null,null,null,null,null,"TT00 Trinidad og Tobago"]
[null,null,null,null,null,"TD00 Tsjad"]
[null,null,null,null,null,"CZ00 Tsjekkia"]
[null,null,null,null,null,"TN00 Tunisia"]
[null,null,null,null,null,"TM00 Turkmenistan"]
[null,null,null,null,null,"TC00 Turks- og Caicosøyene"]
[null,null,null,null,null,"TV00 Tuvalu"]
[null,null,null,null,null,"TR00 Tyrkia"]
[null,null,null,null,null,"DE00 Tyskland"]
[null,null,null,null,null,"XX00 Ufordelt land"]
[null,null,null,null,null,"UG00 Uganda"]
[null,null,null,null,null,"UA00 Ukrania"]
[null,null,null,null,null,"HU00 Ungarn"]
[null,null,null,null,null,"UY00 Uruguay"]
[null,null,null,null,null,"US00 USA"]
[null,null,null,null,null,"UM00 USA mindre utenforliggende øyer"]
[null,null,null,null,null,"PU00 USA Pacific Islands"]
[null,null,null,null,null,"UZ00 Uzbekistan"]
[null,null,null,null,null,"VU00 Vanuatu"]
[null,null,null,null,null,"VA00 Vatikanstaten"]
[null,null,null,null,null,"VE00 Venezuela"]
[null,null,null,null,null,"PS00 Vestbredden/Gazastripen"]
[null,null,null,null,null,"EH00 Vest-Sahara"]
[null,null,null,null,null,"VN00 Vietnam"]
[null,null,null,null,null,"WF00 Wallis og Futunaøyene"]
[null,null,null,null,null,"YE00 Yemen"]
[null,null,null,null,null,"ZM00 Zambia"]
[null,null,null,null,null,"ZW00 Zimbabwe"]
[null,null,null,null,null,"AT00 Østerrike"]
[null,null,null,null,null,"TL00 Øst-Timor"]
[null,null,null,null,null,"AF00 Afghanistan"]
[null,null,null,null,null,"AL00 Albania"]
[null,null,null,null,null,"DZ00 Algerie"]
[null,null,null,null,null,"AS00 Amerikansk Samoa"]
[null,null,null,null,null,"AD00 Andorra"]
[null,null,null,null,null,"AO00 Angola"]
[null,null,null,null,null,"AI00 Anguilla"]
[null,null,null,null,null,"AG00 Antigua og Barbuda"]
[null,null,null,null,null,"AR00 Argentina"]
[null,null,null,null,null,"AM00 Armenia"]
[null,null,null,null,null,"AW00 Aruba"]
[null,null,null,null,null,"AZ00 Aserbajdsjan"]
[null,null,null,null,null,"AU00 Australia"]
[null,null,null,null,null,"BS00 Bahamas"]
[null,null,null,null,null,"BH00 Bahrain"]
[null,null,null,null,null,"BD00 Bangladesh"]
[null,null,null,null,null,"BB00 Barbados"]
[null,null,null,null,null,"BE00 Belgia"]
[null,null,null,null,null,"BZ00 Belize"]
[null,null,null,null,null,"BJ00 Benin"]
[null,null,null,null,null,"BM00 Bermuda"]
[null,null,null,null,null,"BT00 Bhutan"]
[null,null,null,null,null,"BO00 Bolivia"]
[null,null,null,null,null,"BQ00 Bonaire, Saba, St.Eustatius"]
[null,null,null,null,null,"BA00 Bosnia Hercegovina"]
[null,null,null,null,null,"BW00 Botswana"]
[null,null,null,null,null,"BR00 Brasil"]
[null,null,null,null,null,"IO00 Britisk territorium i Det Indiske Hav"]
[null,null,null,null,null,"BN00 Brunei"]
[null,null,null,null,null,"BG00 Bulgaria"]
[null,null,null,null,null,"BF00 Burkina Faso"]
[null,null,null,null,null,"BI00 Burundi"]
[null,null,null,null,null,"CA00 Canada"]
[null,null,null,null,null,"KY00 Caymanøyene"]
[null,null,null,null,null,"CL00 Chile"]
[null,null,null,null,null,"CX00 Christmasøya"]
[null,null,null,null,null,"CO00 Colombia"]
[null,null,null,null,null,"CK00 Cookøyene"]
[null,null,null,null,null,"CR00 Costa Rica"]
[null,null,null,null,null,"CU00 Cuba"]
[null,null,null,null,null,"CW00 Curacao"]
[null,null,null,null,null,"DK00 Danmark"]
[null,null,null,null,null,"AE00 De forente Arabiske Emirater"]
[null,null,null,null,null,"DO00 Den Dominikanske Republikk"]
[null,null,null,null,null,"DJ00 Djibouti"]
[null,null,null,null,null,"DM00 Dominicia"]
[null,null,null,null,null,"EC00 Ecuador"]
[null,null,null,null,null,"EG00 Egypt"]
[null,null,null,null,null,"GQ00 Ekvatorial-Guinea"]
[null,null,null,null,null,"SV00 El Salvador"]
[null,null,null,null,null,"CI00 Elfenbenskysten"]
[null,null,null,null,null,"ER00 Eritrea"]
[null,null,null,null,null,"EE00 Estland"]
[null,null,null,null,null,"ET00 Etiopia"]
[null,null,null,null,null,"FK00 Falklandsøyene"]
[null,null,null,null,null,"FJ00 Fiji"]
[null,null,null,null,null,"PH00 Filippinene"]
[null,null,null,null,null,"FI00 Finland"]
[null,null,null,null,null,"FR00 Frankrike"]
[null,null,null,null,null,"GF00 Fransk Guyana"]
[null,null,null,null,null,"PF00 Fransk Polynesia"]
[null,null,null,null,null,"TF00 Franske Antiller"]
[null,null,null,null,null,"FO00 Færøyene"]
[null,null,null,null,null,"GA00 Gabon"]
[null,null,null,null,null,"GM00 Gambia"]
[null,null,null,null,null,"GE00 Georgia"]
[null,null,null,null,null,"GH00 Ghana"]
[null,null,null,null,null,"GI00 Gibraltar"]
[null,null,null,null,null,"GD00 Grenada"]
[null,null,null,null,null,"GL00 Grønland"]
[null,null,null,null,null,"GP00 Guadeloupe"]
[null,null,null,null,null,"GU00 Guam"]
[null,null,null,null,null,"GT00 Guatemala"]
[null,null,null,null,null,"GG00 Guernsey"]
[null,null,null,null,null,"GN00 Guinea"]
[null,null,null,null,null,"GW00 Guinea-Bissau"]
[null,null,null,null,null,"GY00 Guyana"]
[null,null,null,null,null,"HT00 Haiti"]
[null,null,null,null,null,"HM00 Heard- og McDonaldøyene"]
[null,null,null,null,null,"GR00 Hellas"]
[null,null,null,null,null,"HN00 Honduras"]
[null,null,null,null,null,"HK00 Hong Kong"]
[null,null,null,null,null,"BY00 Hviterussland"]
[null,null,null,null,null,"IN00 India"]
[null,null,null,null,null,"ID00 Indonesia"]
[null,null,null,null,null,"ZZ00 Internasjonale organisasjoner"]
[null,null,null,null,null,"IQ00 Irak"]
[null,null,null,null,null,"IR00 Iran"]
[null,null,null,null,null,"IE00 Irland"]
[null,null,null,null,null,"IS00 Island"]
[null,null,null,null,null,"IM00 Isle of Man"]
[null,null,null,null,null,"IL00 Israel"]
[null,null,null,null,null,"IT00 Italia"]
[null,null,null,null,null,"JM00 Jamaica"]
[null,null,null,null,null,"JP00 Japan"]
[null,null,null,null,null,"JE00 Jersey"]
[null,null,null,null,null,"VI00 Jomfruøyene, Amerikanske"]
[null,null,null,null,null,"VG00 Jomfruøyene, Britiske"]
[null,null,null,null,null,"JO00 Jordan"]
[null,null,null,null,null,"KH00 Kambodsja"]
[null,null,null,null,null,"CM00 Kamerun"]
[null,null,null,null,null,"CV00 Kapp Verde"]
[null,null,null,null,null,"KZ00 Kasakhstan"]
[null,null,null,null,null,"KE00 Kenya"]
[null,null,null,null,null,"CN00 Kina"]
[null,null,null,null,null,"KG00 Kirgistan"]
[null,null,null,null,null,"KI00 Kiribati"]
[null,null,null,null,null,"CC00 Kokosøyene"]
[null,null,null,null,null,"KM00 Komorene"]
[null,null,null,null,null,"CD00 Kongo, Den demokratiske republ"]
[null,null,null,null,null,"CG00 Kongo, Republikken"]
[null,null,null,null,null,"KP00 Korea, Nord-"]
[null,null,null,null,null,"KR00 Korea, Sør-"]
[null,null,null,null,null,"HR00 Kroatia"]
[null,null,null,null,null,"KW00 Kuwait"]
[null,null,null,null,null,"CY00 Kypros"]
[null,null,null,null,null,"LA00 Laos"]
[null,null,null,null,null,"LV00 Latvia"]
[null,null,null,null,null,"LS00 Lesotho"]
[null,null,null,null,null,"LB00 Libanon"]
[null,null,null,null,null,"LR00 Liberia"]
[null,null,null,null,null,"LY00 Libya"]
[null,null,null,null,null,"LI00 Liechtenstein"]
[null,null,null,null,null,"LT00 Litauen"]
[null,null,null,null,null,"LU00 Luxembourg"]
[null,null,null,null,null,"MO00 Macao"]
[null,null,null,null,null,"MG00 Madagaskar"]
[null,null,null,null,null,"MK00 Makedonia"]
[null,null,null,null,null,"MW00 Malawi"]
[null,null,null,null,null,"MY00 Malaysia"]
[null,null,null,null,null,"MV00 Maldivene"]
[null,null,null,null,null,"ML00 Mali"]
[null,null,null,null,null,"MT00 Malta"]
[null,null,null,null,null,"MA00 Marokko"]
[null,null,null,null,null,"MH00 Marshalløyene"]
[null,null,null,null,null,"MQ00 Martinique"]
[null,null,null,null,null,"MR00 Mauritania"]
[null,null,null,null,null,"MU00 Mauritius"]
[null,null,null,null,null,"YT00 Mayotte"]
[null,null,null,null,null,"MX00 Mexico"]
[null,null,null,null,null,"FM00 Mikronesia føderasjonen"]
[null,null,null,null,null,"MD00 Moldova"]
[null,null,null,null,null,"MC00 Monaco"]
[null,null,null,null,null,"MN00 Mongolia"]
[null,null,null,null,null,"ME00 Montenegro"]
[null,null,null,null,null,"MS00 Montserrat"]
[null,null,null,null,null,"MZ00 Mozambique"]
[null,null,null,null,null,"MM00 Myanmar"]
[null,null,null,null,null,"NA00 Namibia"]
[null,null,null,null,null,"NR00 Nauru"]
[null,null,null,null,null,"NL00 Nederland"]
[null,null,null,null,null,"AN00 Nederlandske Antiller"]
[null,null,null,null,null,"NP00 Nepal"]
[null,null,null,null,null,"NZ00 New Zealand"]
[null,null,null,null,null,"NI00 Nicaragua"]
[null,null,null,null,null,"NE00 Niger"]
[null,null,null,null,null,"NG00 Nigeria"]
[null,null,null,null,null,"NU00 Niue"]
[null,null,null,null,null,"MP00 Nord-Marianene"]
[null,null,null,null,null,"NF00 Norfolkøya"]
[null,null,null,null,null,"NC00 Ny-Kaledonia"]
[null,null,null,null,null,"OM00 Oman"]
[null,null,null,null,null,"PK00 Pakistan"]
[null,null,null,null,null,"PW00 Palau"]
[null,null,null,null,null,"PA00 Panama"]
[null,null,null,null,null,"PG00 Papua Ny-Guinea"]
[null,null,null,null,null,"PY00 Paraguay"]
[null,null,null,null,null,"PE00 Peru"]
[null,null,null,null,null,"PN00 Pitcairn"]
[null,null,null,null,null,"PL00 Polen"]
[null,null,null,null,null,"PT00 Portugal"]
[null,null,null,null,null,"PR00 Puerto Rico"]
[null,null,null,null,null,"QA00 Qatar"]
[null,null,null,null,null,"RE00 Reunion"]
[null,null,null,null,null,"RO00 Romania"]
[null,null,null,null,null,"RU00 Russland"]
[null,null,null,null,null,"RW00 Rwanda"]
[null,null,null,null,null,"BL00 Saint Barthelemy"]
[null,null,null,null,null,"MF00 Saint Martin (fransk del)"]
[null,null,null,null,null,"PM00 Saint-Pierre og Miquelon"]
[null,null,null,null,null,"SB00 Salomonøyene"]
[null,null,null,null,null,"WS00 Samoa"]
[null,null,null,null,null,"SM00 San Marino"]
[null,null,null,null,null,"ST00 Sao Tome og Principe"]
[null,null,null,null,null,"SA00 Saudi-Arabia"]
[null,null,null,null,null,"SN00 Senegal"]
[null,null,null,null,null,"CF00 Sentralafrikanske republikk"]
[null,null,null,null,null,"RS00 Serbia"]
[null,null,null,null,null,"SC00 Seychellene"]
[null,null,null,null,null,"SL00 Sierra Leone"]
[null,null,null,null,null,"SG00 Singapore"]
[null,null,null,null,null,"SX00 Sint Maarten"]
[null,null,null,null,null,"SK00 Slovakia"]
[null,null,null,null,null,"SI00 Slovenia"]
[null,null,null,null,null,"SO00 Somalia"]
[null,null,null,null,null,"ES00 Spania"]
[null,null,null,null,null,"LK00 Sri Lanka"]
[null,null,null,null,null,"SH00 St. Helena"]
[null,null,null,null,null,"KN00 St. Kitts og Nevis"]
[null,null,null,null,null,"LC00 St. Lucia"]
[null,null,null,null,null,"VC00 St. Vincent"]
[null,null,null,null,null,"GB00 Storbritannia"]
[null,null,null,null,null,"SD00 Sudan"]
[null,null,null,null,null,"SR00 Surinam"]
[null,null,null,null,null,"CH00 Sveits"]
[null,null,null,null,null,"SE00 Sverige"]
[null,null,null,null,null,"SZ00 Swaziland"]
[null,null,null,null,null,"SY00 Syria"]
[null,null,null,null,null,"ZA00 Sør-Afrika"]
[null,null,null,null,null,"GS00 Sør-Georgia"]
[null,null,null,null,null,"SS00 Sør-Sudan"]
[null,null,null,null,null,"TJ00 Tadzjikistan"]
[null,null,null,null,null,"TW00 Taiwan"]
[null,null,null,null,null,"TZ00 Tanzania"]
[null,null,null,null,null,"TH00 Thailand"]
[null,null,null,null,null,"TG00 Togo"]
[null,null,null,null,null,"TK00 Tokelau"]
[null,null,null,null,null,"TO00 Tonga"]
[null,null,null,null,null,"TT00 Trinidad og Tobago"]
[null,null,null,null,null,"TD00 Tsjad"]
[null,null,null,null,null,"CZ00 Tsjekkia"]
[null,null,null,null,null,"TN00 Tunisia"]
[null,null,null,null,null,"TM00 Turkmenistan"]
[null,null,null,null,null,"TC00 Turks- og Caicosøyene"]
[null,null,null,null,null,"TV00 Tuvalu"]
[null,null,null,null,null,"TR00 Tyrkia"]
[null,null,null,null,null,"DE00 Tyskland"]
[null,null,null,null,null,"XX00 Ufordelt land"]
[null,null,null,null,null,"UG00 Uganda"]
[null,null,null,null,null,"UA00 Ukrania"]
[null,null,null,null,null,"HU00 Ungarn"]
[null,null,null,null,null,"UY00 Uruguay"]
[null,null,null,null,null,"US00 USA"]
[null,null,null,null,null,"UM00 USA mindre utenforliggende øyer"]
[null,null,null,null,null,"PU00 USA Pacific Islands"]
[null,null,null,null,null,"UZ00 Uzbekistan"]
[null,null,null,null,null,"VU00 Vanuatu"]
[null,null,null,null,null,"VA00 Vatikanstaten"]
[null,null,null,null,null,"VE00 Venezuela"]
[null,null,null,null,null,"PS00 Vestbredden/Gazastripen"]
[null,null,null,null,null,"EH00 Vest-Sahara"]
[null,null,null,null,null,"VN00 Vietnam"]
[null,null,null,null,null,"WF00 Wallis og Futunaøyene"]
[null,null,null,null,null,"YE00 Yemen"]
[null,null,null,null,null,"ZM00 Zambia"]
[null,null,null,null,null,"ZW00 Zimbabwe"]
[null,null,null,null,null,"AT00 Østerrike"]
[null,null,null,null,null,"TL00 Øst-Timor"]
[null,null,null,null,null,"AF00 Afghanistan"]
[null,null,null,null,null,"AL00 Albania"]
[null,null,null,null,null,"DZ00 Algerie"]
[null,null,null,null,null,"AS00 Amerikansk Samoa"]
[null,null,null,null,null,"AD00 Andorra"]
[null,null,null,null,null,"AO00 Angola"]
[null,null,null,null,null,"AI00 Anguilla"]
[null,null,null,null,null,"AG00 Antigua og Barbuda"]
[null,null,null,null,null,"AR00 Argentina"]
[null,null,null,null,null,"AM00 Armenia"]
[null,null,null,null,null,"AW00 Aruba"]
[null,null,null,null,null,"AZ00 Aserbajdsjan"]
[null,null,null,null,null,"AU00 Australia"]
[null,null,null,null,null,"BS00 Bahamas"]
[null,null,null,null,null,"BH00 Bahrain"]
[null,null,null,null,null,"BD00 Bangladesh"]
[null,null,null,null,null,"BB00 Barbados"]
[null,null,null,null,null,"BE00 Belgia"]
[null,null,null,null,null,"BZ00 Belize"]
[null,null,null,null,null,"BJ00 Benin"]
[null,null,null,null,null,"BM00 Bermuda"]
[null,null,null,null,null,"BT00 Bhutan"]
[null,null,null,null,null,"BO00 Bolivia"]
[null,null,null,null,null,"BQ00 Bonaire, Saba, St.Eustatius"]
[null,null,null,null,null,"BA00 Bosnia Hercegovina"]
[null,null,null,null,null,"BW00 Botswana"]
[null,null,null,null,null,"BR00 Brasil"]
[null,null,null,null,null,"IO00 Britisk territorium i Det Indiske Hav"]
[null,null,null,null,null,"BN00 Brunei"]
[null,null,null,null,null,"BG00 Bulgaria"]
[null,null,null,null,null,"BF00 Burkina Faso"]
[null,null,null,null,null,"BI00 Burundi"]
[null,null,null,null,null,"CA00 Canada"]
[null,null,null,null,null,"KY00 Caymanøyene"]
[null,null,null,null,null,"CL00 Chile"]
[null,null,null,null,null,"CX00 Christmasøya"]
[null,null,null,null,null,"CO00 Colombia"]
[null,null,null,null,null,"CK00 Cookøyene"]
[null,null,null,null,null,"CR00 Costa Rica"]
[null,null,null,null,null,"CU00 Cuba"]
[null,null,null,null,null,"CW00 Curacao"]
[null,null,null,null,null,"DK00 Danmark"]
[null,null,null,null,null,"AE00 De forente Arabiske Emirater"]
[null,null,null,null,null,"DO00 Den Dominikanske Republikk"]
[null,null,null,null,null,"DJ00 Djibouti"]
[null,null,null,null,null,"DM00 Dominicia"]
[null,null,null,null,null,"EC00 Ecuador"]
[null,null,null,null,null,"EG00 Egypt"]
[null,null,null,null,null,"GQ00 Ekvatorial-Guinea"]
[null,null,null,null,null,"SV00 El Salvador"]
[null,null,null,null,null,"CI00 Elfenbenskysten"]
[null,null,null,null,null,"ER00 Eritrea"]
[null,null,null,null,null,"EE00 Estland"]
[null,null,null,null,null,"ET00 Etiopia"]
[null,null,null,null,null,"FK00 Falklandsøyene"]
[null,null,null,null,null,"FJ00 Fiji"]
[null,null,null,null,null,"PH00 Filippinene"]
[null,null,null,null,null,"FI00 Finland"]
[null,null,null,null,null,"FR00 Frankrike"]
[null,null,null,null,null,"GF00 Fransk Guyana"]
[null,null,null,null,null,"PF00 Fransk Polynesia"]
[null,null,null,null,null,"TF00 Franske Antiller"]
[null,null,null,null,null,"FO00 Færøyene"]
[null,null,null,null,null,"GA00 Gabon"]
[null,null,null,null,null,"GM00 Gambia"]
[null,null,null,null,null,"GE00 Georgia"]
[null,null,null,null,null,"GH00 Ghana"]
[null,null,null,null,null,"GI00 Gibraltar"]
[null,null,null,null,null,"GD00 Grenada"]
[null,null,null,null,null,"GL00 Grønland"]
[null,null,null,null,null,"GP00 Guadeloupe"]
[null,null,null,null,null,"GU00 Guam"]
[null,null,null,null,null,"GT00 Guatemala"]
[null,null,null,null,null,"GG00 Guernsey"]
[null,null,null,null,null,"GN00 Guinea"]
[null,null,null,null,null,"GW00 Guinea-Bissau"]
[null,null,null,null,null,"GY00 Guyana"]
[null,null,null,null,null,"HT00 Haiti"]
[null,null,null,null,null,"HM00 Heard- og McDonaldøyene"]
[null,null,null,null,null,"GR00 Hellas"]
[null,null,null,null,null,"HN00 Honduras"]
[null,null,null,null,null,"HK00 Hong Kong"]
[null,null,null,null,null,"BY00 Hviterussland"]
[null,null,null,null,null,"IN00 India"]
[null,null,null,null,null,"ID00 Indonesia"]
[null,null,null,null,null,"ZZ00 Internasjonale organisasjoner"]
[null,null,null,null,null,"IQ00 Irak"]
[null,null,null,null,null,"IR00 Iran"]
[null,null,null,null,null,"IE00 Irland"]
[null,null,null,null,null,"IS00 Island"]
[null,null,null,null,null,"IM00 Isle of Man"]
[null,null,null,null,null,"IL00 Israel"]
[null,null,null,null,null,"IT00 Italia"]
[null,null,null,null,null,"JM00 Jamaica"]
[null,null,null,null,null,"JP00 Japan"]
[null,null,null,null,null,"JE00 Jersey"]
[null,null,null,null,null,"VI00 Jomfruøyene, Amerikanske"]
[null,null,null,null,null,"VG00 Jomfruøyene, Britiske"]
[null,null,null,null,null,"JO00 Jordan"]
[null,null,null,null,null,"KH00 Kambodsja"]
[null,null,null,null,null,"CM00 Kamerun"]
[null,null,null,null,null,"CV00 Kapp Verde"]
[null,null,null,null,null,"KZ00 Kasakhstan"]
[null,null,null,null,null,"KE00 Kenya"]
[null,null,null,null,null,"CN00 Kina"]
[null,null,null,null,null,"KG00 Kirgistan"]
[null,null,null,null,null,"KI00 Kiribati"]
[null,null,null,null,null,"CC00 Kokosøyene"]
[null,null,null,null,null,"KM00 Komorene"]
[null,null,null,null,null,"CD00 Kongo, Den demokratiske republ"]
[null,null,null,null,null,"CG00 Kongo, Republikken"]
[null,null,null,null,null,"KP00 Korea, Nord-"]
[null,null,null,null,null,"KR00 Korea, Sør-"]
[null,null,null,null,null,"HR00 Kroatia"]
[null,null,null,null,null,"KW00 Kuwait"]
[null,null,null,null,null,"CY00 Kypros"]
[null,null,null,null,null,"LA00 Laos"]
[null,null,null,null,null,"LV00 Latvia"]
[null,null,null,null,null,"LS00 Lesotho"]
[null,null,null,null,null,"LB00 Libanon"]
[null,null,null,null,null,"LR00 Liberia"]
[null,null,null,null,null,"LY00 Libya"]
[null,null,null,null,null,"LI00 Liechtenstein"]
[null,null,null,null,null,"LT00 Litauen"]
[null,null,null,null,null,"LU00 Luxembourg"]
[null,null,null,null,null,"MO00 Macao"]
[null,null,null,null,null,"MG00 Madagaskar"]
[null,null,null,null,null,"MK00 Makedonia"]
[null,null,null,null,null,"MW00 Malawi"]
[null,null,null,null,null,"MY00 Malaysia"]
[null,null,null,null,null,"MV00 Maldivene"]
[null,null,null,null,null,"ML00 Mali"]
[null,null,null,null,null,"MT00 Malta"]
[null,null,null,null,null,"MA00 Marokko"]
[null,null,null,null,null,"MH00 Marshalløyene"]
[null,null,null,null,null,"MQ00 Martinique"]
[null,null,null,null,null,"MR00 Mauritania"]
[null,null,null,null,null,"MU00 Mauritius"]
[null,null,null,null,null,"YT00 Mayotte"]
[null,null,null,null,null,"MX00 Mexico"]
[null,null,null,null,null,"FM00 Mikronesia føderasjonen"]
[null,null,null,null,null,"MD00 Moldova"]
[null,null,null,null,null,"MC00 Monaco"]
[null,null,null,null,null,"MN00 Mongolia"]
[null,null,null,null,null,"ME00 Montenegro"]
[null,null,null,null,null,"MS00 Montserrat"]
[null,null,null,null,null,"MZ00 Mozambique"]
[null,null,null,null,null,"MM00 Myanmar"]
[null,null,null,null,null,"NA00 Namibia"]
[null,null,null,null,null,"NR00 Nauru"]
[null,null,null,null,null,"NL00 Nederland"]
[null,null,null,null,null,"AN00 Nederlandske Antiller"]
[null,null,null,null,null,"NP00 Nepal"]
[null,null,null,null,null,"NZ00 New Zealand"]
[null,null,null,null,null,"NI00 Nicaragua"]
[null,null,null,null,null,"NE00 Niger"]
[null,null,null,null,null,"NG00 Nigeria"]
[null,null,null,null,null,"NU00 Niue"]
[null,null,null,null,null,"MP00 Nord-Marianene"]
[null,null,null,null,null,"NF00 Norfolkøya"]
[null,null,null,null,null,"NC00 Ny-Kaledonia"]
[null,null,null,null,null,"OM00 Oman"]
[null,null,null,null,null,"PK00 Pakistan"]
[null,null,null,null,null,"PW00 Palau"]
[null,null,null,null,null,"PA00 Panama"]
[null,null,null,null,null,"PG00 Papua Ny-Guinea"]
[null,null,null,null,null,"PY00 Paraguay"]
[null,null,null,null,null,"PE00 Peru"]
[null,null,null,null,null,"PN00 Pitcairn"]
[null,null,null,null,null,"PL00 Polen"]
[null,null,null,null,null,"PT00 Portugal"]
[null,null,null,null,null,"PR00 Puerto Rico"]
[null,null,null,null,null,"QA00 Qatar"]
[null,null,null,null,null,"RE00 Reunion"]
[null,null,null,null,null,"RO00 Romania"]
[null,null,null,null,null,"RU00 Russland"]
[null,null,null,null,null,"RW00 Rwanda"]
[null,null,null,null,null,"BL00 Saint Barthelemy"]
[null,null,null,null,null,"MF00 Saint Martin (fransk del)"]
[null,null,null,null,null,"PM00 Saint-Pierre og Miquelon"]
[null,null,null,null,null,"SB00 Salomonøyene"]
[null,null,null,null,null,"WS00 Samoa"]
[null,null,null,null,null,"SM00 San Marino"]
[null,null,null,null,null,"ST00 Sao Tome og Principe"]
[null,null,null,null,null,"SA00 Saudi-Arabia"]
[null,null,null,null,null,"SN00 Senegal"]
[null,null,null,null,null,"CF00 Sentralafrikanske republikk"]
[null,null,null,null,null,"RS00 Serbia"]
[null,null,null,null,null,"SC00 Seychellene"]
[null,null,null,null,null,"SL00 Sierra Leone"]
[null,null,null,null,null,"SG00 Singapore"]
[null,null,null,null,null,"SX00 Sint Maarten"]
[null,null,null,null,null,"SK00 Slovakia"]
[null,null,null,null,null,"SI00 Slovenia"]
[null,null,null,null,null,"SO00 Somalia"]
[null,null,null,null,null,"ES00 Spania"]
[null,null,null,null,null,"LK00 Sri Lanka"]
[null,null,null,null,null,"SH00 St. Helena"]
[null,null,null,null,null,"KN00 St. Kitts og Nevis"]
[null,null,null,null,null,"LC00 St. Lucia"]
[null,null,null,null,null,"VC00 St. Vincent"]
[null,null,null,null,null,"GB00 Storbritannia"]
[null,null,null,null,null,"SD00 Sudan"]
[null,null,null,null,null,"SR00 Surinam"]
[null,null,null,null,null,"CH00 Sveits"]
[null,null,null,null,null,"SE00 Sverige"]
[null,null,null,null,null,"SZ00 Swaziland"]
[null,null,null,null,null,"SY00 Syria"]
[null,null,null,null,null,"ZA00 Sør-Afrika"]
[null,null,null,null,null,"GS00 Sør-Georgia"]
[null,null,null,null,null,"SS00 Sør-Sudan"]
[null,null,null,null,null,"TJ00 Tadzjikistan"]
[null,null,null,null,null,"TW00 Taiwan"]
[null,null,null,null,null,"TZ00 Tanzania"]
[null,null,null,null,null,"TH00 Thailand"]
[null,null,null,null,null,"TG00 Togo"]
[null,null,null,null,null,"TK00 Tokelau"]
[null,null,null,null,null,"TO00 Tonga"]
[null,null,null,null,null,"TT00 Trinidad og Tobago"]
[null,null,null,null,null,"TD00 Tsjad"]
[null,null,null,null,null,"CZ00 Tsjekkia"]
[null,null,null,null,null,"TN00 Tunisia"]
[null,null,null,null,null,"TM00 Turkmenistan"]
[null,null,null,null,null,"TC00 Turks- og Caicosøyene"]
[null,null,null,null,null,"TV00 Tuvalu"]
[null,null,null,null,null,"TR00 Tyrkia"]
[null,null,null,null,null,"DE00 Tyskland"]
[null,null,null,null,null,"XX00 Ufordelt land"]
[null,null,null,null,null,"UG00 Uganda"]
[null,null,null,null,null,"UA00 Ukrania"]
[null,null,null,null,null,"HU00 Ungarn"]
[null,null,null,null,null,"UY00 Uruguay"]
[null,null,null,null,null,"US00 USA"]
[null,null,null,null,null,"UM00 USA mindre utenforliggende øyer"]
[null,null,null,null,null,"PU00 USA Pacific Islands"]
[null,null,null,null,null,"UZ00 Uzbekistan"]
[null,null,null,null,null,"VU00 Vanuatu"]
[null,null,null,null,null,"VA00 Vatikanstaten"]
[null,null,null,null,null,"VE00 Venezuela"]
[null,null,null,null,null,"PS00 Vestbredden/Gazastripen"]
[null,null,null,null,null,"EH00 Vest-Sahara"]
[null,null,null,null,null,"VN00 Vietnam"]
[null,null,null,null,null,"WF00 Wallis og Futunaøyene"]
[null,null,null,null,null,"YE00 Yemen"]
[null,null,null,null,null,"ZM00 Zambia"]
[null,null,null,null,null,"ZW00 Zimbabwe"]
[null,null,null,null,null,"AT00 Østerrike"]
[null,null,null,null,null,"TL00 Øst-Timor"]
[null,null,null,null,null,"AF00 Afghanistan"]
[null,null,null,null,null,"AL00 Albania"]
[null,null,null,null,null,"DZ00 Algerie"]
[null,null,null,null,null,"AS00 Amerikansk Samoa"]
[null,null,null,null,null,"AD00 Andorra"]
[null,null,null,null,null,"AO00 Angola"]
[null,null,null,null,null,"AI00 Anguilla"]
[null,null,null,null,null,"AG00 Antigua og Barbuda"]
[null,null,null,null,null,"AR00 Argentina"]
[null,null,null,null,null,"AM00 Armenia"]
[null,null,null,null,null,"AW00 Aruba"]
[null,null,null,null,null,"AZ00 Aserbajdsjan"]
[null,null,null,null,null,"AU00 Australia"]
[null,null,null,null,null,"BS00 Bahamas"]
[null,null,null,null,null,"BH00 Bahrain"]
[null,null,null,null,null,"BD00 Bangladesh"]
[null,null,null,null,null,"BB00 Barbados"]
[null,null,null,null,null,"BE00 Belgia"]
[null,null,null,null,null,"BZ00 Belize"]
[null,null,null,null,null,"BJ00 Benin"]
[null,null,null,null,null,"BM00 Bermuda"]
[null,null,null,null,null,"BT00 Bhutan"]
[null,null,null,null,null,"BO00 Bolivia"]
[null,null,null,null,null,"BQ00 Bonaire, Saba, St.Eustatius"]
[null,null,null,null,null,"BA00 Bosnia Hercegovina"]
[null,null,null,null,null,"BW00 Botswana"]
[null,null,null,null,null,"BR00 Brasil"]
[null,null,null,null,null,"IO00 Britisk territorium i Det Indiske Hav"]
[null,null,null,null,null,"BN00 Brunei"]
[null,null,null,null,null,"BG00 Bulgaria"]
[null,null,null,null,null,"BF00 Burkina Faso"]
[null,null,null,null,null,"BI00 Burundi"]
[null,null,null,null,null,"CA00 Canada"]
[null,null,null,null,null,"KY00 Caymanøyene"]
[null,null,null,null,null,"CL00 Chile"]
[null,null,null,null,null,"CX00 Christmasøya"]
[null,null,null,null,null,"CO00 Colombia"]
[null,null,null,null,null,"CK00 Cookøyene"]
[null,null,null,null,null,"CR00 Costa Rica"]
[null,null,null,null,null,"CU00 Cuba"]
[null,null,null,null,null,"CW00 Curacao"]
[null,null,null,null,null,"DK00 Danmark"]
[null,null,null,null,null,"AE00 De forente Arabiske Emirater"]
[null,null,null,null,null,"DO00 Den Dominikanske Republikk"]
[null,null,null,null,null,"DJ00 Djibouti"]
[null,null,null,null,null,"DM00 Dominicia"]
[null,null,null,null,null,"EC00 Ecuador"]
[null,null,null,null,null,"EG00 Egypt"]
[null,null,null,null,null,"GQ00 Ekvatorial-Guinea"]
[null,null,null,null,null,"SV00 El Salvador"]
[null,null,null,null,null,"CI00 Elfenbenskysten"]
[null,null,null,null,null,"ER00 Eritrea"]
[null,null,null,null,null,"EE00 Estland"]
[null,null,null,null,null,"ET00 Etiopia"]
[null,null,null,null,null,"FK00 Falklandsøyene"]
[null,null,null,null,null,"FJ00 Fiji"]
[null,null,null,null,null,"PH00 Filippinene"]
[null,null,null,null,null,"FI00 Finland"]
[null,null,null,null,null,"FR00 Frankrike"]
[null,null,null,null,null,"GF00 Fransk Guyana"]
[null,null,null,null,null,"PF00 Fransk Polynesia"]
[null,null,null,null,null,"TF00 Franske Antiller"]
[null,null,null,null,null,"FO00 Færøyene"]
[null,null,null,null,null,"GA00 Gabon"]
[null,null,null,null,null,"GM00 Gambia"]
[null,null,null,null,null,"GE00 Georgia"]
[null,null,null,null,null,"GH00 Ghana"]
[null,null,null,null,null,"GI00 Gibraltar"]
[null,null,null,null,null,"GD00 Grenada"]
[null,null,null,null,null,"GL00 Grønland"]
[null,null,null,null,null,"GP00 Guadeloupe"]
[null,null,null,null,null,"GU00 Guam"]
[null,null,null,null,null,"GT00 Guatemala"]
[null,null,null,null,null,"GG00 Guernsey"]
[null,null,null,null,null,"GN00 Guinea"]
[null,null,null,null,null,"GW00 Guinea-Bissau"]
[null,null,null,null,null,"GY00 Guyana"]
[null,null,null,null,null,"HT00 Haiti"]
[null,null,null,null,null,"HM00 Heard- og McDonaldøyene"]
[null,null,null,null,null,"GR00 Hellas"]
[null,null,null,null,null,"HN00 Honduras"]
[null,null,null,null,null,"HK00 Hong Kong"]
[null,null,null,null,null,"BY00 Hviterussland"]
[null,null,null,null,null,"IN00 India"]
[null,null,null,null,null,"ID00 Indonesia"]
[null,null,null,null,null,"ZZ00 Internasjonale organisasjoner"]
[null,null,null,null,null,"IQ00 Irak"]
[null,null,null,null,null,"IR00 Iran"]
[null,null,null,null,null,"IE00 Irland"]
[null,null,null,null,null,"IS00 Island"]
[null,null,null,null,null,"IM00 Isle of Man"]
[null,null,null,null,null,"IL00 Israel"]
[null,null,null,null,null,"IT00 Italia"]
[null,null,null,null,null,"JM00 Jamaica"]
[null,null,null,null,null,"JP00 Japan"]
[null,null,null,null,null,"JE00 Jersey"]
[null,null,null,null,null,"VI00 Jomfruøyene, Amerikanske"]
[null,null,null,null,null,"VG00 Jomfruøyene, Britiske"]
[null,null,null,null,null,"JO00 Jordan"]
[null,null,null,null,null,"KH00 Kambodsja"]
[null,null,null,null,null,"CM00 Kamerun"]
[null,null,null,null,null,"CV00 Kapp Verde"]
[null,null,null,null,null,"KZ00 Kasakhstan"]
[null,null,null,null,null,"KE00 Kenya"]
[null,null,null,null,null,"CN00 Kina"]
[null,null,null,null,null,"KG00 Kirgistan"]
[null,null,null,null,null,"KI00 Kiribati"]
[null,null,null,null,null,"CC00 Kokosøyene"]
[null,null,null,null,null,"KM00 Komorene"]
[null,null,null,null,null,"CD00 Kongo, Den demokratiske republ"]
[null,null,null,null,null,"CG00 Kongo, Republikken"]
[null,null,null,null,null,"KP00 Korea, Nord-"]
[null,null,null,null,null,"KR00 Korea, Sør-"]
[null,null,null,null,null,"HR00 Kroatia"]
[null,null,null,null,null,"KW00 Kuwait"]
[null,null,null,null,null,"CY00 Kypros"]
[null,null,null,null,null,"LA00 Laos"]
[null,null,null,null,null,"LV00 Latvia"]
[null,null,null,null,null,"LS00 Lesotho"]
[null,null,null,null,null,"LB00 Libanon"]
[null,null,null,null,null,"LR00 Liberia"]
[null,null,null,null,null,"LY00 Libya"]
[null,null,null,null,null,"LI00 Liechtenstein"]
[null,null,null,null,null,"LT00 Litauen"]
[null,null,null,null,null,"LU00 Luxembourg"]
[null,null,null,null,null,"MO00 Macao"]
[null,null,null,null,null,"MG00 Madagaskar"]
[null,null,null,null,null,"MK00 Makedonia"]
[null,null,null,null,null,"MW00 Malawi"]
[null,null,null,null,null,"MY00 Malaysia"]
[null,null,null,null,null,"MV00 Maldivene"]
[null,null,null,null,null,"ML00 Mali"]
[null,null,null,null,null,"MT00 Malta"]
[null,null,null,null,null,"MA00 Marokko"]
[null,null,null,null,null,"MH00 Marshalløyene"]
[null,null,null,null,null,"MQ00 Martinique"]
[null,null,null,null,null,"MR00 Mauritania"]
[null,null,null,null,null,"MU00 Mauritius"]
[null,null,null,null,null,"YT00 Mayotte"]
[null,null,null,null,null,"MX00 Mexico"]
[null,null,null,null,null,"FM00 Mikronesia føderasjonen"]
[null,null,null,null,null,"MD00 Moldova"]
[null,null,null,null,null,"MC00 Monaco"]
[null,null,null,null,null,"MN00 Mongolia"]
[null,null,null,null,null,"ME00 Montenegro"]
[null,null,null,null,null,"MS00 Montserrat"]
[null,null,null,null,null,"MZ00 Mozambique"]
[null,null,null,null,null,"MM00 Myanmar"]
[null,null,null,null,null,"NA00 Namibia"]
[null,null,null,null,null,"NR00 Nauru"]
[null,null,null,null,null,"NL00 Nederland"]
[null,null,null,null,null,"AN00 Nederlandske Antiller"]
[null,null,null,null,null,"NP00 Nepal"]
[null,null,null,null,null,"NZ00 New Zealand"]
[null,null,null,null,null,"NI00 Nicaragua"]
[null,null,null,null,null,"NE00 Niger"]
[null,null,null,null,null,"NG00 Nigeria"]
[null,null,null,null,null,"NU00 Niue"]
[null,null,null,null,null,"MP00 Nord-Marianene"]
[null,null,null,null,null,"NF00 Norfolkøya"]
[null,null,null,null,null,"NC00 Ny-Kaledonia"]
[null,null,null,null,null,"OM00 Oman"]
[null,null,null,null,null,"PK00 Pakistan"]
[null,null,null,null,null,"PW00 Palau"]
[null,null,null,null,null,"PA00 Panama"]
[null,null,null,null,null,"PG00 Papua Ny-Guinea"]
[null,null,null,null,null,"PY00 Paraguay"]
[null,null,null,null,null,"PE00 Peru"]
[null,null,null,null,null,"PN00 Pitcairn"]
[null,null,null,null,null,"PL00 Polen"]
[null,null,null,null,null,"PT00 Portugal"]
[null,null,null,null,null,"PR00 Puerto Rico"]
[null,null,null,null,null,"QA00 Qatar"]
[null,null,null,null,null,"RE00 Reunion"]
[null,null,null,null,null,"RO00 Romania"]
[null,null,null,null,null,"RU00 Russland"]
[null,null,null,null,null,"RW00 Rwanda"]
[null,null,null,null,null,"BL00 Saint Barthelemy"]
[null,null,null,null,null,"MF00 Saint Martin (fransk del)"]
[null,null,null,null,null,"PM00 Saint-Pierre og Miquelon"]
[null,null,null,null,null,"SB00 Salomonøyene"]
[null,null,null,null,null,"WS00 Samoa"]
[null,null,null,null,null,"SM00 San Marino"]
[null,null,null,null,null,"ST00 Sao Tome og Principe"]
[null,null,null,null,null,"SA00 Saudi-Arabia"]
[null,null,null,null,null,"SN00 Senegal"]
[null,null,null,null,null,"CF00 Sentralafrikanske republikk"]
[null,null,null,null,null,"RS00 Serbia"]
[null,null,null,null,null,"SC00 Seychellene"]
[null,null,null,null,null,"SL00 Sierra Leone"]
[null,null,null,null,null,"SG00 Singapore"]
[null,null,null,null,null,"SX00 Sint Maarten"]
[null,null,null,null,null,"SK00 Slovakia"]
[null,null,null,null,null,"SI00 Slovenia"]
[null,null,null,null,null,"SO00 Somalia"]
[null,null,null,null,null,"ES00 Spania"]
[null,null,null,null,null,"LK00 Sri Lanka"]
[null,null,null,null,null,"SH00 St. Helena"]
[null,null,null,null,null,"KN00 St. Kitts og Nevis"]
[null,null,null,null,null,"LC00 St. Lucia"]
[null,null,null,null,null,"VC00 St. Vincent"]
[null,null,null,null,null,"GB00 Storbritannia"]
[null,null,null,null,null,"SD00 Sudan"]
[null,null,null,null,null,"SR00 Surinam"]
[null,null,null,null,null,"CH00 Sveits"]
[null,null,null,null,null,"SE00 Sverige"]
[null,null,null,null,null,"SZ00 Swaziland"]
[null,null,null,null,null,"SY00 Syria"]
[null,null,null,null,null,"ZA00 Sør-Afrika"]
[null,null,null,null,null,"GS00 Sør-Georgia"]
[null,null,null,null,null,"SS00 Sør-Sudan"]
[null,null,null,null,null,"TJ00 Tadzjikistan"]
[null,null,null,null,null,"TW00 Taiwan"]
[null,null,null,null,null,"TZ00 Tanzania"]
[null,null,null,null,null,"TH00 Thailand"]
[null,null,null,null,null,"TG00 Togo"]
[null,null,null,null,null,"TK00 Tokelau"]
[null,null,null,null,null,"TO00 Tonga"]
[null,null,null,null,null,"TT00 Trinidad og Tobago"]
[null,null,null,null,null,"TD00 Tsjad"]
[null,null,null,null,null,"CZ00 Tsjekkia"]
[null,null,null,null,null,"TN00 Tunisia"]
[null,null,null,null,null,"TM00 Turkmenistan"]
[null,null,null,null,null,"TC00 Turks- og Caicosøyene"]
[null,null,null,null,null,"TV00 Tuvalu"]
[null,null,null,null,null,"TR00 Tyrkia"]
[null,null,null,null,null,"DE00 Tyskland"]
[null,null,null,null,null,"XX00 Ufordelt land"]
[null,null,null,null,null,"UG00 Uganda"]
[null,null,null,null,null,"UA00 Ukrania"]
[null,null,null,null,null,"HU00 Ungarn"]
[null,null,null,null,null,"UY00 Uruguay"]
[null,null,null,null,null,"US00 USA"]
[null,null,null,null,null,"UM00 USA mindre utenforliggende øyer"]
[null,null,null,null,null,"PU00 USA Pacific Islands"]
[null,null,null,null,null,"UZ00 Uzbekistan"]
[null,null,null,null,null,"VU00 Vanuatu"]
[null,null,null,null,null,"VA00 Vatikanstaten"]
[null,null,null,null,null,"VE00 Venezuela"]
[null,null,null,null,null,"PS00 Vestbredden/Gazastripen"]
[null,null,null,null,null,"EH00 Vest-Sahara"]
[null,null,null,null,null,"VN00 Vietnam"]
[null,null,null,null,null,"WF00 Wallis og Futunaøyene"]
[null,null,null,null,null,"YE00 Yemen"]
[null,null,null,null,null,"ZM00 Zambia"]
[null,null,null,null,null,"ZW00 Zimbabwe"]
[null,null,null,null,null,"AT00 Østerrike"]
[null,null,null,null,null,"TL00 Øst-Timor"]
[null,null,null,null,null,"AF00 Afghanistan"]
[null,null,null,null,null,"AL00 Albania"]
[null,null,null,null,null,"DZ00 Algerie"]
[null,null,null,null,null,"AS00 Amerikansk Samoa"]
[null,null,null,null,null,"AD00 Andorra"]
[null,null,null,null,null,"AO00 Angola"]
[null,null,null,null,null,"AI00 Anguilla"]
[null,null,null,null,null,"AG00 Antigua og Barbuda"]
[null,null,null,null,null,"AR00 Argentina"]
[null,null,null,null,null,"AM00 Armenia"]
[null,null,null,null,null,"AW00 Aruba"]
[null,null,null,null,null,"AZ00 Aserbajdsjan"]
[null,null,null,null,null,"AU00 Australia"]
[null,null,null,null,null,"BS00 Bahamas"]
[null,null,null,null,null,"BH00 Bahrain"]
[null,null,null,null,null,"BD00 Bangladesh"]
[null,null,null,null,null,"BB00 Barbados"]
[null,null,null,null,null,"BE00 Belgia"]
[null,null,null,null,null,"BZ00 Belize"]
[null,null,null,null,null,"BJ00 Benin"]
[null,null,null,null,null,"BM00 Bermuda"]
[null,null,null,null,null,"BT00 Bhutan"]
[null,null,null,null,null,"BO00 Bolivia"]
[null,null,null,null,null,"BQ00 Bonaire, Saba, St.Eustatius"]
[null,null,null,null,null,"BA00 Bosnia Hercegovina"]
[null,null,null,null,null,"BW00 Botswana"]
[null,null,null,null,null,"BR00 Brasil"]
[null,null,null,null,null,"IO00 Britisk territorium i Det Indiske Hav"]
[null,null,null,null,null,"BN00 Brunei"]
[null,null,null,null,null,"BG00 Bulgaria"]
[null,null,null,null,null,"BF00 Burkina Faso"]
[null,null,null,null,null,"BI00 Burundi"]
[null,null,null,null,null,"CA00 Canada"]
[null,null,null,null,null,"KY00 Caymanøyene"]
[null,null,null,null,null,"CL00 Chile"]
[null,null,null,null,null,"CX00 Christmasøya"]
[null,null,null,null,null,"CO00 Colombia"]
[null,null,null,null,null,"CK00 Cookøyene"]
[null,null,null,null,null,"CR00 Costa Rica"]
[null,null,null,null,null,"CU00 Cuba"]
[null,null,null,null,null,"CW00 Curacao"]
[null,null,null,null,null,"DK00 Danmark"]
[null,null,null,null,null,"AE00 De forente Arabiske Emirater"]
[null,null,null,null,null,"DO00 Den Dominikanske Republikk"]
[null,null,null,null,null,"DJ00 Djibouti"]
[null,null,null,null,null,"DM00 Dominicia"]
[null,null,null,null,null,"EC00 Ecuador"]
[null,null,null,null,null,"EG00 Egypt"]
[null,null,null,null,null,"GQ00 Ekvatorial-Guinea"]
[null,null,null,null,null,"SV00 El Salvador"]
[null,null,null,null,null,"CI00 Elfenbenskysten"]
[null,null,null,null,null,"ER00 Eritrea"]
[null,null,null,null,null,"EE00 Estland"]
[null,null,null,null,null,"ET00 Etiopia"]
[null,null,null,null,null,"FK00 Falklandsøyene"]
[null,null,null,null,null,"FJ00 Fiji"]
[null,null,null,null,null,"PH00 Filippinene"]
[null,null,null,null,null,"FI00 Finland"]
[null,null,null,null,null,"FR00 Frankrike"]
[null,null,null,null,null,"GF00 Fransk Guyana"]
[null,null,null,null,null,"PF00 Fransk Polynesia"]
[null,null,null,null,null,"TF00 Franske Antiller"]
[null,null,null,null,null,"FO00 Færøyene"]
[null,null,null,null,null,"GA00 Gabon"]
[null,null,null,null,null,"GM00 Gambia"]
[null,null,null,null,null,"GE00 Georgia"]
[null,null,null,null,null,"GH00 Ghana"]
[null,null,null,null,null,"GI00 Gibraltar"]
[null,null,null,null,null,"GD00 Grenada"]
[null,null,null,null,null,"GL00 Grønland"]
[null,null,null,null,null,"GP00 Guadeloupe"]
[null,null,null,null,null,"GU00 Guam"]
[null,null,null,null,null,"GT00 Guatemala"]
[null,null,null,null,null,"GG00 Guernsey"]
[null,null,null,null,null,"GN00 Guinea"]
[null,null,null,null,null,"GW00 Guinea-Bissau"]
[null,null,null,null,null,"GY00 Guyana"]
[null,null,null,null,null,"HT00 Haiti"]
[null,null,null,null,null,"HM00 Heard- og McDonaldøyene"]
[null,null,null,null,null,"GR00 Hellas"]
[null,null,null,null,null,"HN00 Honduras"]
[null,null,null,null,null,"HK00 Hong Kong"]
[null,null,null,null,null,"BY00 Hviterussland"]
[null,null,null,null,null,"IN00 India"]
[null,null,null,null,null,"ID00 Indonesia"]
[null,null,null,null,null,"ZZ00 Internasjonale organisasjoner"]
[null,null,null,null,null,"IQ00 Irak"]
[null,null,null,null,null,"IR00 Iran"]
[null,null,null,null,null,"IE00 Irland"]
[null,null,null,null,null,"IS00 Island"]
[null,null,null,null,null,"IM00 Isle of Man"]
[null,null,null,null,null,"IL00 Israel"]
[null,null,null,null,null,"IT00 Italia"]
[null,null,null,null,null,"JM00 Jamaica"]
[null,null,null,null,null,"JP00 Japan"]
[null,null,null,null,null,"JE00 Jersey"]
[null,null,null,null,null,"VI00 Jomfruøyene, Amerikanske"]
[null,null,null,null,null,"VG00 Jomfruøyene, Britiske"]
[null,null,null,null,null,"JO00 Jordan"]
[null,null,null,null,null,"KH00 Kambodsja"]
[null,null,null,null,null,"CM00 Kamerun"]
[null,null,null,null,null,"CV00 Kapp Verde"]
[null,null,null,null,null,"KZ00 Kasakhstan"]
[null,null,null,null,null,"KE00 Kenya"]
[null,null,null,null,null,"CN00 Kina"]
[null,null,null,null,null,"KG00 Kirgistan"]
[null,null,null,null,null,"KI00 Kiribati"]
[null,null,null,null,null,"CC00 Kokosøyene"]
[null,null,null,null,null,"KM00 Komorene"]
[null,null,null,null,null,"CD00 Kongo, Den demokratiske republ"]
[null,null,null,null,null,"CG00 Kongo, Republikken"]
[null,null,null,null,null,"KP00 Korea, Nord-"]
[null,null,null,null,null,"KR00 Korea, Sør-"]
[null,null,null,null,null,"HR00 Kroatia"]
[null,null,null,null,null,"KW00 Kuwait"]
[null,null,null,null,null,"CY00 Kypros"]
[null,null,null,null,null,"LA00 Laos"]
[null,null,null,null,null,"LV00 Latvia"]
[null,null,null,null,null,"LS00 Lesotho"]
[null,null,null,null,null,"LB00 Libanon"]
[null,null,null,null,null,"LR00 Liberia"]
[null,null,null,null,null,"LY00 Libya"]
[null,null,null,null,null,"LI00 Liechtenstein"]
[null,null,null,null,null,"LT00 Litauen"]
[null,null,null,null,null,"LU00 Luxembourg"]
[null,null,null,null,null,"MO00 Macao"]
[null,null,null,null,null,"MG00 Madagaskar"]
[null,null,null,null,null,"MK00 Makedonia"]
[null,null,null,null,null,"MW00 Malawi"]
[null,null,null,null,null,"MY00 Malaysia"]
[null,null,null,null,null,"MV00 Maldivene"]
[null,null,null,null,null,"ML00 Mali"]
[null,null,null,null,null,"MT00 Malta"]
[null,null,null,null,null,"MA00 Marokko"]
[null,null,null,null,null,"MH00 Marshalløyene"]
[null,null,null,null,null,"MQ00 Martinique"]
[null,null,null,null,null,"MR00 Mauritania"]
[null,null,null,null,null,"MU00 Mauritius"]
[null,null,null,null,null,"YT00 Mayotte"]
[null,null,null,null,null,"MX00 Mexico"]
[null,null,null,null,null,"FM00 Mikronesia føderasjonen"]
[null,null,null,null,null,"MD00 Moldova"]
[null,null,null,null,null,"MC00 Monaco"]
[null,null,null,null,null,"MN00 Mongolia"]
[null,null,null,null,null,"ME00 Montenegro"]
[null,null,null,null,null,"MS00 Montserrat"]
[null,null,null,null,null,"MZ00 Mozambique"]
[null,null,null,null,null,"MM00 Myanmar"]
[null,null,null,null,null,"NA00 Namibia"]
[null,null,null,null,null,"NR00 Nauru"]
[null,null,null,null,null,"NL00 Nederland"]
[null,null,null,null,null,"AN00 Nederlandske Antiller"]
[null,null,null,null,null,"NP00 Nepal"]
[null,null,null,null,null,"NZ00 New Zealand"]
[null,null,null,null,null,"NI00 Nicaragua"]
[null,null,null,null,null,"NE00 Niger"]
[null,null,null,null,null,"NG00 Nigeria"]
[null,null,null,null,null,"NU00 Niue"]
[null,null,null,null,null,"MP00 Nord-Marianene"]
[null,null,null,null,null,"NF00 Norfolkøya"]
[null,null,null,null,null,"NC00 Ny-Kaledonia"]
[null,null,null,null,null,"OM00 Oman"]
[null,null,null,null,null,"PK00 Pakistan"]
[null,null,null,null,null,"PW00 Palau"]
[null,null,null,null,null,"PA00 Panama"]
[null,null,null,null,null,"PG00 Papua Ny-Guinea"]
[null,null,null,null,null,"PY00 Paraguay"]
[null,null,null,null,null,"PE00 Peru"]
[null,null,null,null,null,"PN00 Pitcairn"]
[null,null,null,null,null,"PL00 Polen"]
[null,null,null,null,null,"PT00 Portugal"]
[null,null,null,null,null,"PR00 Puerto Rico"]
[null,null,null,null,null,"QA00 Qatar"]
[null,null,null,null,null,"RE00 Reunion"]
[null,null,null,null,null,"RO00 Romania"]
[null,null,null,null,null,"RU00 Russland"]
[null,null,null,null,null,"RW00 Rwanda"]
[null,null,null,null,null,"BL00 Saint Barthelemy"]
[null,null,null,null,null,"MF00 Saint Martin (fransk del)"]
[null,null,null,null,null,"PM00 Saint-Pierre og Miquelon"]
[null,null,null,null,null,"SB00 Salomonøyene"]
[null,null,null,null,null,"WS00 Samoa"]
[null,null,null,null,null,"SM00 San Marino"]
[null,null,null,null,null,"ST00 Sao Tome og Principe"]
[null,null,null,null,null,"SA00 Saudi-Arabia"]
[null,null,null,null,null,"SN00 Senegal"]
[null,null,null,null,null,"CF00 Sentralafrikanske republikk"]
[null,null,null,null,null,"RS00 Serbia"]
[null,null,null,null,null,"SC00 Seychellene"]
[null,null,null,null,null,"SL00 Sierra Leone"]
[null,null,null,null,null,"SG00 Singapore"]
[null,null,null,null,null,"SX00 Sint Maarten"]
[null,null,null,null,null,"SK00 Slovakia"]
[null,null,null,null,null,"SI00 Slovenia"]
[null,null,null,null,null,"SO00 Somalia"]
[null,null,null,null,null,"ES00 Spania"]
[null,null,null,null,null,"LK00 Sri Lanka"]
[null,null,null,null,null,"SH00 St. Helena"]
[null,null,null,null,null,"KN00 St. Kitts og Nevis"]
[null,null,null,null,null,"LC00 St. Lucia"]
[null,null,null,null,null,"VC00 St. Vincent"]
[null,null,null,null,null,"GB00 Storbritannia"]
[null,null,null,null,null,"SD00 Sudan"]
[null,null,null,null,null,"SR00 Surinam"]
[null,null,null,null,null,"CH00 Sveits"]
[null,null,null,null,null,"SE00 Sverige"]
[null,null,null,null,null,"SZ00 Swaziland"]
[null,null,null,null,null,"SY00 Syria"]
[null,null,null,null,null,"ZA00 Sør-Afrika"]
[null,null,null,null,null,"GS00 Sør-Georgia"]
[null,null,null,null,null,"SS00 Sør-Sudan"]
[null,null,null,null,null,"TJ00 Tadzjikistan"]
[null,null,null,null,null,"TW00 Taiwan"]
[null,null,null,null,null,"TZ00 Tanzania"]
[null,null,null,null,null,"TH00 Thailand"]
[null,null,null,null,null,"TG00 Togo"]
[null,null,null,null,null,"TK00 Tokelau"]
[null,null,null,null,null,"TO00 Tonga"]
[null,null,null,null,null,"TT00 Trinidad og Tobago"]
[null,null,null,null,null,"TD00 Tsjad"]
[null,null,null,null,null,"CZ00 Tsjekkia"]
[null,null,null,null,null,"TN00 Tunisia"]
[null,null,null,null,null,"TM00 Turkmenistan"]
[null,null,null,null,null,"TC00 Turks- og Caicosøyene"]
[null,null,null,null,null,"TV00 Tuvalu"]
[null,null,null,null,null,"TR00 Tyrkia"]
[null,null,null,null,null,"DE00 Tyskland"]
[null,null,null,null,null,"XX00 Ufordelt land"]
[null,null,null,null,null,"UG00 Uganda"]
[null,null,null,null,null,"UA00 Ukrania"]
[null,null,null,null,null,"HU00 Ungarn"]
[null,null,null,null,null,"UY00 Uruguay"]
[null,null,null,null,null,"US00 USA"]
[null,null,null,null,null,"UM00 USA mindre utenforliggende øyer"]
[null,null,null,null,null,"PU00 USA Pacific Islands"]
[null,null,null,null,null,"UZ00 Uzbekistan"]
[null,null,null,null,null,"VU00 Vanuatu"]
[null,null,null,null,null,"VA00 Vatikanstaten"]
[null,null,null,null,null,"VE00 Venezuela"]
[null,null,null,null,null,"PS00 Vestbredden/Gazastripen"]
[null,null,null,null,null,"EH00 Vest-Sahara"]
[null,null,null,null,null,"VN00 Vietnam"]
[null,null,null,null,null,"WF00 Wallis og Futunaøyene"]
[null,null,null,null,null,"YE00 Yemen"]
[null,null,null,null,null,"ZM00 Zambia"]
[null,null,null,null,null,"ZW00 Zimbabwe"]
[null,null,null,null,null,"AT00 Østerrike"]
[null,null,null,null,null,"TL00 Øst-Timor"]
[null,null,null,null,null,"AF00 Afghanistan"]
[null,null,null,null,null,"AL00 Albania"]
[null,null,null,null,null,"DZ00 Algerie"]
[null,null,null,null,null,"AS00 Amerikansk Samoa"]
[null,null,null,null,null,"AD00 Andorra"]
[null,null,null,null,null,"AO00 Angola"]
[null,null,null,null,null,"AI00 Anguilla"]
[null,null,null,null,null,"AG00 Antigua og Barbuda"]
[null,null,null,null,null,"AR00 Argentina"]
[null,null,null,null,null,"AM00 Armenia"]
[null,null,null,null,null,"AW00 Aruba"]
[null,null,null,null,null,"AZ00 Aserbajdsjan"]
[null,null,null,null,null,"AU00 Australia"]
[null,null,null,null,null,"BS00 Bahamas"]
[null,null,null,null,null,"BH00 Bahrain"]
[null,null,null,null,null,"BD00 Bangladesh"]
[null,null,null,null,null,"BB00 Barbados"]
[null,null,null,null,null,"BE00 Belgia"]
[null,null,null,null,null,"BZ00 Belize"]
[null,null,null,null,null,"BJ00 Benin"]
[null,null,null,null,null,"BM00 Bermuda"]
[null,null,null,null,null,"BT00 Bhutan"]
[null,null,null,null,null,"BO00 Bolivia"]
[null,null,null,null,null,"BQ00 Bonaire, Saba, St.Eustatius"]
[null,null,null,null,null,"BA00 Bosnia Hercegovina"]
[null,null,null,null,null,"BW00 Botswana"]
[null,null,null,null,null,"BR00 Brasil"]
[null,null,null,null,null,"IO00 Britisk territorium i Det Indiske Hav"]
[null,null,null,null,null,"BN00 Brunei"]
[null,null,null,null,null,"BG00 Bulgaria"]
[null,null,null,null,null,"BF00 Burkina Faso"]
[null,null,null,null,null,"BI00 Burundi"]
[null,null,null,null,null,"CA00 Canada"]
[null,null,null,null,null,"KY00 Caymanøyene"]
[null,null,null,null,null,"CL00 Chile"]
[null,null,null,null,null,"CX00 Christmasøya"]
[null,null,null,null,null,"CO00 Colombia"]
[null,null,null,null,null,"CK00 Cookøyene"]
[null,null,null,null,null,"CR00 Costa Rica"]
[null,null,null,null,null,"CU00 Cuba"]
[null,null,null,null,null,"CW00 Curacao"]
[null,null,null,null,null,"DK00 Danmark"]
[null,null,null,null,null,"AE00 De forente Arabiske Emirater"]
[null,null,null,null,null,"DO00 Den Dominikanske Republikk"]
[null,null,null,null,null,"DJ00 Djibouti"]
[null,null,null,null,null,"DM00 Dominicia"]
[null,null,null,null,null,"EC00 Ecuador"]
[null,null,null,null,null,"EG00 Egypt"]
[null,null,null,null,null,"GQ00 Ekvatorial-Guinea"]
[null,null,null,null,null,"SV00 El Salvador"]
[null,null,null,null,null,"CI00 Elfenbenskysten"]
[null,null,null,null,null,"ER00 Eritrea"]
[null,null,null,null,null,"EE00 Estland"]
[null,null,null,null,null,"ET00 Etiopia"]
[null,null,null,null,null,"FK00 Falklandsøyene"]
[null,null,null,null,null,"FJ00 Fiji"]
[null,null,null,null,null,"PH00 Filippinene"]
[null,null,null,null,null,"FI00 Finland"]
[null,null,null,null,null,"FR00 Frankrike"]
[null,null,null,null,null,"GF00 Fransk Guyana"]
[null,null,null,null,null,"PF00 Fransk Polynesia"]
[null,null,null,null,null,"TF00 Franske Antiller"]
[null,null,null,null,null,"FO00 Færøyene"]
[null,null,null,null,null,"GA00 Gabon"]
[null,null,null,null,null,"GM00 Gambia"]
[null,null,null,null,null,"GE00 Georgia"]
[null,null,null,null,null,"GH00 Ghana"]
[null,null,null,null,null,"GI00 Gibraltar"]
[null,null,null,null,null,"GD00 Grenada"]
[null,null,null,null,null,"GL00 Grønland"]
[null,null,null,null,null,"GP00 Guadeloupe"]
[null,null,null,null,null,"GU00 Guam"]
[null,null,null,null,null,"GT00 Guatemala"]
[null,null,null,null,null,"GG00 Guernsey"]
[null,null,null,null,null,"GN00 Guinea"]
[null,null,null,null,null,"GW00 Guinea-Bissau"]
[null,null,null,null,null,"GY00 Guyana"]
[null,null,null,null,null,"HT00 Haiti"]
[null,null,null,null,null,"HM00 Heard- og McDonaldøyene"]
[null,null,null,null,null,"GR00 Hellas"]
[null,null,null,null,null,"HN00 Honduras"]
[null,null,null,null,null,"HK00 Hong Kong"]
[null,null,null,null,null,"BY00 Hviterussland"]
[null,null,null,null,null,"IN00 India"]
[null,null,null,null,null,"ID00 Indonesia"]
[null,null,null,null,null,"ZZ00 Internasjonale organisasjoner"]
[null,null,null,null,null,"IQ00 Irak"]
[null,null,null,null,null,"IR00 Iran"]
[null,null,null,null,null,"IE00 Irland"]
[null,null,null,null,null,"IS00 Island"]
[null,null,null,null,null,"IM00 Isle of Man"]
[null,null,null,null,null,"IL00 Israel"]
[null,null,null,null,null,"IT00 Italia"]
[null,null,null,null,null,"JM00 Jamaica"]
[null,null,null,null,null,"JP00 Japan"]
[null,null,null,null,null,"JE00 Jersey"]
[null,null,null,null,null,"VI00 Jomfruøyene, Amerikanske"]
[null,null,null,null,null,"VG00 Jomfruøyene, Britiske"]
[null,null,null,null,null,"JO00 Jordan"]
[null,null,null,null,null,"KH00 Kambodsja"]
[null,null,null,null,null,"CM00 Kamerun"]
[null,null,null,null,null,"CV00 Kapp Verde"]
[null,null,null,null,null,"KZ00 Kasakhstan"]
[null,null,null,null,null,"KE00 Kenya"]
[null,null,null,null,null,"CN00 Kina"]
[null,null,null,null,null,"KG00 Kirgistan"]
[null,null,null,null,null,"KI00 Kiribati"]
[null,null,null,null,null,"CC00 Kokosøyene"]
[null,null,null,null,null,"KM00 Komorene"]
[null,null,null,null,null,"CD00 Kongo, Den demokratiske republ"]
[null,null,null,null,null,"CG00 Kongo, Republikken"]
[null,null,null,null,null,"KP00 Korea, Nord-"]
[null,null,null,null,null,"KR00 Korea, Sør-"]
[null,null,null,null,null,"HR00 Kroatia"]
[null,null,null,null,null,"KW00 Kuwait"]
[null,null,null,null,null,"CY00 Kypros"]
[null,null,null,null,null,"LA00 Laos"]
[null,null,null,null,null,"LV00 Latvia"]
[null,null,null,null,null,"LS00 Lesotho"]
[null,null,null,null,null,"LB00 Libanon"]
[null,null,null,null,null,"LR00 Liberia"]
[null,null,null,null,null,"LY00 Libya"]
[null,null,null,null,null,"LI00 Liechtenstein"]
[null,null,null,null,null,"LT00 Litauen"]
[null,null,null,null,null,"LU00 Luxembourg"]
[null,null,null,null,null,"MO00 Macao"]
[null,null,null,null,null,"MG00 Madagaskar"]
[null,null,null,null,null,"MK00 Makedonia"]
[null,null,null,null,null,"MW00 Malawi"]
[null,null,null,null,null,"MY00 Malaysia"]
[null,null,null,null,null,"MV00 Maldivene"]
[null,null,null,null,null,"ML00 Mali"]
[null,null,null,null,null,"MT00 Malta"]
[null,null,null,null,null,"MA00 Marokko"]
[null,null,null,null,null,"MH00 Marshalløyene"]
[null,null,null,null,null,"MQ00 Martinique"]
[null,null,null,null,null,"MR00 Mauritania"]
[null,null,null,null,null,"MU00 Mauritius"]
[null,null,null,null,null,"YT00 Mayotte"]
[null,null,null,null,null,"MX00 Mexico"]
[null,null,null,null,null,"FM00 Mikronesia føderasjonen"]
[null,null,null,null,null,"MD00 Moldova"]
[null,null,null,null,null,"MC00 Monaco"]
[null,null,null,null,null,"MN00 Mongolia"]
[null,null,null,null,null,"ME00 Montenegro"]
[null,null,null,null,null,"MS00 Montserrat"]
[null,null,null,null,null,"MZ00 Mozambique"]
[null,null,null,null,null,"MM00 Myanmar"]
[null,null,null,null,null,"NA00 Namibia"]
[null,null,null,null,null,"NR00 Nauru"]
[null,null,null,null,null,"NL00 Nederland"]
[null,null,null,null,null,"AN00 Nederlandske Antiller"]
[null,null,null,null,null,"NP00 Nepal"]
[null,null,null,null,null,"NZ00 New Zealand"]
[null,null,null,null,null,"NI00 Nicaragua"]
[null,null,null,null,null,"NE00 Niger"]
[null,null,null,null,null,"NG00 Nigeria"]
[null,null,null,null,null,"NU00 Niue"]
[null,null,null,null,null,"MP00 Nord-Marianene"]
[null,null,null,null,null,"NF00 Norfolkøya"]
[null,null,null,null,null,"NC00 Ny-Kaledonia"]
[null,null,null,null,null,"OM00 Oman"]
[null,null,null,null,null,"PK00 Pakistan"]
[null,null,null,null,null,"PW00 Palau"]
[null,null,null,null,null,"PA00 Panama"]
[null,null,null,null,null,"PG00 Papua Ny-Guinea"]
[null,null,null,null,null,"PY00 Paraguay"]
[null,null,null,null,null,"PE00 Peru"]
[null,null,null,null,null,"PN00 Pitcairn"]
[null,null,null,null,null,"PL00 Polen"]
[null,null,null,null,null,"PT00 Portugal"]
[null,null,null,null,null,"PR00 Puerto Rico"]
[null,null,null,null,null,"QA00 Qatar"]
[null,null,null,null,null,"RE00 Reunion"]
[null,null,null,null,null,"RO00 Romania"]
[null,null,null,null,null,"RU00 Russland"]
[null,null,null,null,null,"RW00 Rwanda"]
[null,null,null,null,null,"BL00 Saint Barthelemy"]
[null,null,null,null,null,"MF00 Saint Martin (fransk del)"]
[null,null,null,null,null,"PM00 Saint-Pierre og Miquelon"]
[null,null,null,null,null,"SB00 Salomonøyene"]
[null,null,null,null,null,"WS00 Samoa"]
[null,null,null,null,null,"SM00 San Marino"]
[null,null,null,null,null,"ST00 Sao Tome og Principe"]
[null,null,null,null,null,"SA00 Saudi-Arabia"]
[null,null,null,null,null,"SN00 Senegal"]
[null,null,null,null,null,"CF00 Sentralafrikanske republikk"]
[null,null,null,null,null,"RS00 Serbia"]
[null,null,null,null,null,"SC00 Seychellene"]
[null,null,null,null,null,"SL00 Sierra Leone"]
[null,null,null,null,null,"SG00 Singapore"]
[null,null,null,null,null,"SX00 Sint Maarten"]
[null,null,null,null,null,"SK00 Slovakia"]
[null,null,null,null,null,"SI00 Slovenia"]
[null,null,null,null,null,"SO00 Somalia"]
[null,null,null,null,null,"ES00 Spania"]
[null,null,null,null,null,"LK00 Sri Lanka"]
[null,null,null,null,null,"SH00 St. Helena"]
[null,null,null,null,null,"KN00 St. Kitts og Nevis"]
[null,null,null,null,null,"LC00 St. Lucia"]
[null,null,null,null,null,"VC00 St. Vincent"]
[null,null,null,null,null,"GB00 Storbritannia"]
[null,null,null,null,null,"SD00 Sudan"]
[null,null,null,null,null,"SR00 Surinam"]
[null,null,null,null,null,"CH00 Sveits"]
[null,null,null,null,null,"SE00 Sverige"]
[null,null,null,null,null,"SZ00 Swaziland"]
[null,null,null,null,null,"SY00 Syria"]
[null,null,null,null,null,"ZA00 Sør-Afrika"]
[null,null,null,null,null,"GS00 Sør-Georgia"]
[null,null,null,null,null,"SS00 Sør-Sudan"]
[null,null,null,null,null,"TJ00 Tadzjikistan"]
[null,null,null,null,null,"TW00 Taiwan"]
[null,null,null,null,null,"TZ00 Tanzania"]
[null,null,null,null,null,"TH00 Thailand"]
[null,null,null,null,null,"TG00 Togo"]
[null,null,null,null,null,"TK00 Tokelau"]
[null,null,null,null,null,"TO00 Tonga"]
[null,null,null,null,null,"TT00 Trinidad og Tobago"]
[null,null,null,null,null,"TD00 Tsjad"]
[null,null,null,null,null,"CZ00 Tsjekkia"]
[null,null,null,null,null,"TN00 Tunisia"]
[null,null,null,null,null,"TM00 Turkmenistan"]
[null,null,null,null,null,"TC00 Turks- og Caicosøyene"]
[null,null,null,null,null,"TV00 Tuvalu"]
[null,null,null,null,null,"TR00 Tyrkia"]
[null,null,null,null,null,"DE00 Tyskland"]
[null,null,null,null,null,"XX00 Ufordelt land"]
[null,null,null,null,null,"UG00 Uganda"]
[null,null,null,null,null,"UA00 Ukrania"]
[null,null,null,null,null,"HU00 Ungarn"]
[null,null,null,null,null,"UY00 Uruguay"]
[null,null,null,null,null,"US00 USA"]
[null,null,null,null,null,"UM00 USA mindre utenforliggende øyer"]
[null,null,null,null,null,"PU00 USA Pacific Islands"]
[null,null,null,null,null,"UZ00 Uzbekistan"]
[null,null,null,null,null,"VU00 Vanuatu"]
[null,null,null,null,null,"VA00 Vatikanstaten"]
[null,null,null,null,null,"VE00 Venezuela"]
[null,null,null,null,null,"PS00 Vestbredden/Gazastripen"]
[null,null,null,null,null,"EH00 Vest-Sahara"]
[null,null,null,null,null,"VN00 Vietnam"]
[null,null,null,null,null,"WF00 Wallis og Futunaøyene"]
[null,null,null,null,null,"YE00 Yemen"]
[null,null,null,null,null,"ZM00 Zambia"]
[null,null,null,null,null,"ZW00 Zimbabwe"]
[null,null,null,null,null,"AT00 Østerrike"]
[null,null,null,null,null,"TL00 Øst-Timor"]
[null,null,null,null,null,"AF00 Afghanistan"]
[null,null,null,null,null,"AL00 Albania"]
[null,null,null,null,null,"DZ00 Algerie"]
[null,null,null,null,null,"AS00 Amerikansk Samoa"]
[null,null,null,null,null,"AD00 Andorra"]
[null,null,null,null,null,"AO00 Angola"]
[null,null,null,null,null,"AI00 Anguilla"]
[null,null,null,null,null,"AG00 Antigua og Barbuda"]
[null,null,null,null,null,"AR00 Argentina"]
[null,null,null,null,null,"AM00 Armenia"]
[null,null,null,null,null,"AW00 Aruba"]
[null,null,null,null,null,"AZ00 Aserbajdsjan"]
[null,null,null,null,null,"AU00 Australia"]
[null,null,null,null,null,"BS00 Bahamas"]
[null,null,null,null,null,"BH00 Bahrain"]
[null,null,null,null,null,"BD00 Bangladesh"]
[null,null,null,null,null,"BB00 Barbados"]
[null,null,null,null,null,"BE00 Belgia"]
[null,null,null,null,null,"BZ00 Belize"]
[null,null,null,null,null,"BJ00 Benin"]
[null,null,null,null,null,"BM00 Bermuda"]
[null,null,null,null,null,"BT00 Bhutan"]
[null,null,null,null,null,"BO00 Bolivia"]
[null,null,null,null,null,"BQ00 Bonaire, Saba, St.Eustatius"]
[null,null,null,null,null,"BA00 Bosnia Hercegovina"]
[null,null,null,null,null,"BW00 Botswana"]
[null,null,null,null,null,"BR00 Brasil"]
[null,null,null,null,null,"IO00 Britisk territorium i Det Indiske Hav"]
[null,null,null,null,null,"BN00 Brunei"]
[null,null,null,null,null,"BG00 Bulgaria"]
[null,null,null,null,null,"BF00 Burkina Faso"]
[null,null,null,null,null,"BI00 Burundi"]
[null,null,null,null,null,"CA00 Canada"]
[null,null,null,null,null,"KY00 Caymanøyene"]
[null,null,null,null,null,"CL00 Chile"]
[null,null,null,null,null,"CX00 Christmasøya"]
[null,null,null,null,null,"CO00 Colombia"]
[null,null,null,null,null,"CK00 Cookøyene"]
[null,null,null,null,null,"CR00 Costa Rica"]
[null,null,null,null,null,"CU00 Cuba"]
[null,null,null,null,null,"CW00 Curacao"]
[null,null,null,null,null,"DK00 Danmark"]
[null,null,null,null,null,"AE00 De forente Arabiske Emirater"]
[null,null,null,null,null,"DO00 Den Dominikanske Republikk"]
[null,null,null,null,null,"DJ00 Djibouti"]
[null,null,null,null,null,"DM00 Dominicia"]
[null,null,null,null,null,"EC00 Ecuador"]
[null,null,null,null,null,"EG00 Egypt"]
[null,null,null,null,null,"GQ00 Ekvatorial-Guinea"]
[null,null,null,null,null,"SV00 El Salvador"]
[null,null,null,null,null,"CI00 Elfenbenskysten"]
[null,null,null,null,null,"ER00 Eritrea"]
[null,null,null,null,null,"EE00 Estland"]
[null,null,null,null,null,"ET00 Etiopia"]
[null,null,null,null,null,"FK00 Falklandsøyene"]
[null,null,null,null,null,"FJ00 Fiji"]
[null,null,null,null,null,"PH00 Filippinene"]
[null,null,null,null,null,"FI00 Finland"]
[null,null,null,null,null,"FR00 Frankrike"]
[null,null,null,null,null,"GF00 Fransk Guyana"]
[null,null,null,null,null,"PF00 Fransk Polynesia"]
[null,null,null,null,null,"TF00 Franske Antiller"]
[null,null,null,null,null,"FO00 Færøyene"]
[null,null,null,null,null,"GA00 Gabon"]
[null,null,null,null,null,"GM00 Gambia"]
[null,null,null,null,null,"GE00 Georgia"]
[null,null,null,null,null,"GH00 Ghana"]
[null,null,null,null,null,"GI00 Gibraltar"]
[null,null,null,null,null,"GD00 Grenada"]
[null,null,null,null,null,"GL00 Grønland"]
[null,null,null,null,null,"GP00 Guadeloupe"]
[null,null,null,null,null,"GU00 Guam"]
[null,null,null,null,null,"GT00 Guatemala"]
[null,null,null,null,null,"GG00 Guernsey"]
[null,null,null,null,null,"GN00 Guinea"]
[null,null,null,null,null,"GW00 Guinea-Bissau"]
[null,null,null,null,null,"GY00 Guyana"]
[null,null,null,null,null,"HT00 Haiti"]
[null,null,null,null,null,"HM00 Heard- og McDonaldøyene"]
[null,null,null,null,null,"GR00 Hellas"]
[null,null,null,null,null,"HN00 Honduras"]
[null,null,null,null,null,"HK00 Hong Kong"]
[null,null,null,null,null,"BY00 Hviterussland"]
[null,null,null,null,null,"IN00 India"]
[null,null,null,null,null,"ID00 Indonesia"]
[null,null,null,null,null,"ZZ00 Internasjonale organisasjoner"]
[null,null,null,null,null,"IQ00 Irak"]
[null,null,null,null,null,"IR00 Iran"]
[null,null,null,null,null,"IE00 Irland"]
[null,null,null,null,null,"IS00 Island"]
[null,null,null,null,null,"IM00 Isle of Man"]
[null,null,null,null,null,"IL00 Israel"]
[null,null,null,null,null,"IT00 Italia"]
[null,null,null,null,null,"JM00 Jamaica"]
[null,null,null,null,null,"JP00 Japan"]
[null,null,null,null,null,"JE00 Jersey"]
[null,null,null,null,null,"VI00 Jomfruøyene, Amerikanske"]
[null,null,null,null,null,"VG00 Jomfruøyene, Britiske"]
[null,null,null,null,null,"JO00 Jordan"]
[null,null,null,null,null,"KH00 Kambodsja"]
[null,null,null,null,null,"CM00 Kamerun"]
[null,null,null,null,null,"CV00 Kapp Verde"]
[null,null,null,null,null,"KZ00 Kasakhstan"]
[null,null,null,null,null,"KE00 Kenya"]
[null,null,null,null,null,"CN00 Kina"]
[null,null,null,null,null,"KG00 Kirgistan"]
[null,null,null,null,null,"KI00 Kiribati"]
[null,null,null,null,null,"CC00 Kokosøyene"]
[null,null,null,null,null,"KM00 Komorene"]
[null,null,null,null,null,"CD00 Kongo, Den demokratiske republ"]
[null,null,null,null,null,"CG00 Kongo, Republikken"]
[null,null,null,null,null,"KP00 Korea, Nord-"]
[null,null,null,null,null,"KR00 Korea, Sør-"]
[null,null,null,null,null,"HR00 Kroatia"]
[null,null,null,null,null,"KW00 Kuwait"]
[null,null,null,null,null,"CY00 Kypros"]
[null,null,null,null,null,"LA00 Laos"]
[null,null,null,null,null,"LV00 Latvia"]
[null,null,null,null,null,"LS00 Lesotho"]
[null,null,null,null,null,"LB00 Libanon"]
[null,null,null,null,null,"LR00 Liberia"]
[null,null,null,null,null,"LY00 Libya"]
[null,null,null,null,null,"LI00 Liechtenstein"]
[null,null,null,null,null,"LT00 Litauen"]
[null,null,null,null,null,"LU00 Luxembourg"]
[null,null,null,null,null,"MO00 Macao"]
[null,null,null,null,null,"MG00 Madagaskar"]
[null,null,null,null,null,"MK00 Makedonia"]
[null,null,null,null,null,"MW00 Malawi"]
[null,null,null,null,null,"MY00 Malaysia"]
[null,null,null,null,null,"MV00 Maldivene"]
[null,null,null,null,null,"ML00 Mali"]
[null,null,null,null,null,"MT00 Malta"]
[null,null,null,null,null,"MA00 Marokko"]
[null,null,null,null,null,"MH00 Marshalløyene"]
[null,null,null,null,null,"MQ00 Martinique"]
[null,null,null,null,null,"MR00 Mauritania"]
[null,null,null,null,null,"MU00 Mauritius"]
[null,null,null,null,null,"YT00 Mayotte"]
[null,null,null,null,null,"MX00 Mexico"]
[null,null,null,null,null,"FM00 Mikronesia føderasjonen"]
[null,null,null,null,null,"MD00 Moldova"]
[null,null,null,null,null,"MC00 Monaco"]
[null,null,null,null,null,"MN00 Mongolia"]
[null,null,null,null,null,"ME00 Montenegro"]
[null,null,null,null,null,"MS00 Montserrat"]
[null,null,null,null,null,"MZ00 Mozambique"]
[null,null,null,null,null,"MM00 Myanmar"]
[null,null,null,null,null,"NA00 Namibia"]
[null,null,null,null,null,"NR00 Nauru"]
[null,null,null,null,null,"NL00 Nederland"]
[null,null,null,null,null,"AN00 Nederlandske Antiller"]
[null,null,null,null,null,"NP00 Nepal"]
[null,null,null,null,null,"NZ00 New Zealand"]
[null,null,null,null,null,"NI00 Nicaragua"]
[null,null,null,null,null,"NE00 Niger"]
[null,null,null,null,null,"NG00 Nigeria"]
[null,null,null,null,null,"NU00 Niue"]
[null,null,null,null,null,"MP00 Nord-Marianene"]
[null,null,null,null,null,"NF00 Norfolkøya"]
[null,null,null,null,null,"NC00 Ny-Kaledonia"]
[null,null,null,null,null,"OM00 Oman"]
[null,null,null,null,null,"PK00 Pakistan"]
[null,null,null,null,null,"PW00 Palau"]
[null,null,null,null,null,"PA00 Panama"]
[null,null,null,null,null,"PG00 Papua Ny-Guinea"]
[null,null,null,null,null,"PY00 Paraguay"]
[null,null,null,null,null,"PE00 Peru"]
[null,null,null,null,null,"PN00 Pitcairn"]
[null,null,null,null,null,"PL00 Polen"]
[null,null,null,null,null,"PT00 Portugal"]
[null,null,null,null,null,"PR00 Puerto Rico"]
[null,null,null,null,null,"QA00 Qatar"]
[null,null,null,null,null,"RE00 Reunion"]
[null,null,null,null,null,"RO00 Romania"]
[null,null,null,null,null,"RU00 Russland"]
[null,null,null,null,null,"RW00 Rwanda"]
[null,null,null,null,null,"BL00 Saint Barthelemy"]
[null,null,null,null,null,"MF00 Saint Martin (fransk del)"]
[null,null,null,null,null,"PM00 Saint-Pierre og Miquelon"]
[null,null,null,null,null,"SB00 Salomonøyene"]
[null,null,null,null,null,"WS00 Samoa"]
[null,null,null,null,null,"SM00 San Marino"]
[null,null,null,null,null,"ST00 Sao Tome og Principe"]
[null,null,null,null,null,"SA00 Saudi-Arabia"]
[null,null,null,null,null,"SN00 Senegal"]
[null,null,null,null,null,"CF00 Sentralafrikanske republikk"]
[null,null,null,null,null,"RS00 Serbia"]
[null,null,null,null,null,"SC00 Seychellene"]
[null,null,null,null,null,"SL00 Sierra Leone"]
[null,null,null,null,null,"SG00 Singapore"]
[null,null,null,null,null,"SX00 Sint Maarten"]
[null,null,null,null,null,"SK00 Slovakia"]
[null,null,null,null,null,"SI00 Slovenia"]
[null,null,null,null,null,"SO00 Somalia"]
[null,null,null,null,null,"ES00 Spania"]
[null,null,null,null,null,"LK00 Sri Lanka"]
[null,null,null,null,null,"SH00 St. Helena"]
[null,null,null,null,null,"KN00 St. Kitts og Nevis"]
[null,null,null,null,null,"LC00 St. Lucia"]
[null,null,null,null,null,"VC00 St. Vincent"]
[null,null,null,null,null,"GB00 Storbritannia"]
[null,null,null,null,null,"SD00 Sudan"]
[null,null,null,null,null,"SR00 Surinam"]
[null,null,null,null,null,"CH00 Sveits"]
[null,null,null,null,null,"SE00 Sverige"]
[null,null,null,null,null,"SZ00 Swaziland"]
[null,null,null,null,null,"SY00 Syria"]
[null,null,null,null,null,"ZA00 Sør-Afrika"]
[null,null,null,null,null,"GS00 Sør-Georgia"]
[null,null,null,null,null,"SS00 Sør-Sudan"]
[null,null,null,null,null,"TJ00 Tadzjikistan"]
[null,null,null,null,null,"TW00 Taiwan"]
[null,null,null,null,null,"TZ00 Tanzania"]
[null,null,null,null,null,"TH00 Thailand"]
[null,null,null,null,null,"TG00 Togo"]
[null,null,null,null,null,"TK00 Tokelau"]
[null,null,null,null,null,"TO00 Tonga"]
[null,null,null,null,null,"TT00 Trinidad og Tobago"]
[null,null,null,null,null,"TD00 Tsjad"]
[null,null,null,null,null,"CZ00 Tsjekkia"]
[null,null,null,null,null,"TN00 Tunisia"]
[null,null,null,null,null,"TM00 Turkmenistan"]
[null,null,null,null,null,"TC00 Turks- og Caicosøyene"]
[null,null,null,null,null,"TV00 Tuvalu"]
[null,null,null,null,null,"TR00 Tyrkia"]
[null,null,null,null,null,"DE00 Tyskland"]
[null,null,null,null,null,"XX00 Ufordelt land"]
[null,null,null,null,null,"UG00 Uganda"]
[null,null,null,null,null,"UA00 Ukrania"]
[null,null,null,null,null,"HU00 Ungarn"]
[null,null,null,null,null,"UY00 Uruguay"]
[null,null,null,null,null,"US00 USA"]
[null,null,null,null,null,"UM00 USA mindre utenforliggende øyer"]
[null,null,null,null,null,"PU00 USA Pacific Islands"]
[null,null,null,null,null,"UZ00 Uzbekistan"]
[null,null,null,null,null,"VU00 Vanuatu"]
[null,null,null,null,null,"VA00 Vatikanstaten"]
[null,null,null,null,null,"VE00 Venezuela"]
[null,null,null,null,null,"PS00 Vestbredden/Gazastripen"]
[null,null,null,null,null,"EH00 Vest-Sahara"]
[null,null,null,null,null,"VN00 Vietnam"]
[null,null,null,null,null,"WF00 Wallis og Futunaøyene"]
[null,null,null,null,null,"YE00 Yemen"]
[null,null,null,null,null,"ZM00 Zambia"]
[null,null,null,null,null,"ZW00 Zimbabwe"]
[null,null,null,null,null,"AT00 Østerrike"]
[null,null,null,null,null,"TL00 Øst-Timor"]
[null,null,null,null,null,"AF00 Afghanistan"]
[null,null,null,null,null,"AL00 Albania"]
[null,null,null,null,null,"DZ00 Algerie"]
[null,null,null,null,null,"AS00 Amerikansk Samoa"]
[null,null,null,null,null,"AD00 Andorra"]
[null,null,null,null,null,"AO00 Angola"]
[null,null,null,null,null,"AI00 Anguilla"]
[null,null,null,null,null,"AG00 Antigua og Barbuda"]
[null,null,null,null,null,"AR00 Argentina"]
[null,null,null,null,null,"AM00 Armenia"]
[null,null,null,null,null,"AW00 Aruba"]
[null,null,null,null,null,"AZ00 Aserbajdsjan"]
[null,null,null,null,null,"AU00 Australia"]
[null,null,null,null,null,"BS00 Bahamas"]
[null,null,null,null,null,"BH00 Bahrain"]
[null,null,null,null,null,"BD00 Bangladesh"]
[null,null,null,null,null,"BB00 Barbados"]
[null,null,null,null,null,"BE00 Belgia"]
[null,null,null,null,null,"BZ00 Belize"]
[null,null,null,null,null,"BJ00 Benin"]
[null,null,null,null,null,"BM00 Bermuda"]
[null,null,null,null,null,"BT00 Bhutan"]
[null,null,null,null,null,"BO00 Bolivia"]
[null,null,null,null,null,"BQ00 Bonaire, Saba, St.Eustatius"]
[null,null,null,null,null,"BA00 Bosnia Hercegovina"]
[null,null,null,null,null,"BW00 Botswana"]
[null,null,null,null,null,"BR00 Brasil"]
[null,null,null,null,null,"IO00 Britisk territorium i Det Indiske Hav"]
[null,null,null,null,null,"BN00 Brunei"]
[null,null,null,null,null,"BG00 Bulgaria"]
[null,null,null,null,null,"BF00 Burkina Faso"]
[null,null,null,null,null,"BI00 Burundi"]
[null,null,null,null,null,"CA00 Canada"]
[null,null,null,null,null,"KY00 Caymanøyene"]
[null,null,null,null,null,"CL00 Chile"]
[null,null,null,null,null,"CX00 Christmasøya"]
[null,null,null,null,null,"CO00 Colombia"]
[null,null,null,null,null,"CK00 Cookøyene"]
[null,null,null,null,null,"CR00 Costa Rica"]
[null,null,null,null,null,"CU00 Cuba"]
[null,null,null,null,null,"CW00 Curacao"]
[null,null,null,null,null,"DK00 Danmark"]
[null,null,null,null,null,"AE00 De forente Arabiske Emirater"]
[null,null,null,null,null,"DO00 Den Dominikanske Republikk"]
[null,null,null,null,null,"DJ00 Djibouti"]
[null,null,null,null,null,"DM00 Dominicia"]
[null,null,null,null,null,"EC00 Ecuador"]
[null,null,null,null,null,"EG00 Egypt"]
[null,null,null,null,null,"GQ00 Ekvatorial-Guinea"]
[null,null,null,null,null,"SV00 El Salvador"]
[null,null,null,null,null,"CI00 Elfenbenskysten"]
[null,null,null,null,null,"ER00 Eritrea"]
[null,null,null,null,null,"EE00 Estland"]
[null,null,null,null,null,"ET00 Etiopia"]
[null,null,null,null,null,"FK00 Falklandsøyene"]
[null,null,null,null,null,"FJ00 Fiji"]
[null,null,null,null,null,"PH00 Filippinene"]
[null,null,null,null,null,"FI00 Finland"]
[null,null,null,null,null,"FR00 Frankrike"]
[null,null,null,null,null,"GF00 Fransk Guyana"]
[null,null,null,null,null,"PF00 Fransk Polynesia"]
[null,null,null,null,null,"TF00 Franske Antiller"]
[null,null,null,null,null,"FO00 Færøyene"]
[null,null,null,null,null,"GA00 Gabon"]
[null,null,null,null,null,"GM00 Gambia"]
[null,null,null,null,null,"GE00 Georgia"]
[null,null,null,null,null,"GH00 Ghana"]
[null,null,null,null,null,"GI00 Gibraltar"]
[null,null,null,null,null,"GD00 Grenada"]
[null,null,null,null,null,"GL00 Grønland"]
[null,null,null,null,null,"GP00 Guadeloupe"]
[null,null,null,null,null,"GU00 Guam"]
[null,null,null,null,null,"GT00 Guatemala"]
[null,null,null,null,null,"GG00 Guernsey"]
[null,null,null,null,null,"GN00 Guinea"]
[null,null,null,null,null,"GW00 Guinea-Bissau"]
[null,null,null,null,null,"GY00 Guyana"]
[null,null,null,null,null,"HT00 Haiti"]
[null,null,null,null,null,"HM00 Heard- og McDonaldøyene"]
[null,null,null,null,null,"GR00 Hellas"]
[null,null,null,null,null,"HN00 Honduras"]
[null,null,null,null,null,"HK00 Hong Kong"]
[null,null,null,null,null,"BY00 Hviterussland"]
[null,null,null,null,null,"IN00 India"]
[null,null,null,null,null,"ID00 Indonesia"]
[null,null,null,null,null,"ZZ00 Internasjonale organisasjoner"]
[null,null,null,null,null,"IQ00 Irak"]
[null,null,null,null,null,"IR00 Iran"]
[null,null,null,null,null,"IE00 Irland"]
[null,null,null,null,null,"IS00 Island"]
[null,null,null,null,null,"IM00 Isle of Man"]
[null,null,null,null,null,"IL00 Israel"]
[null,null,null,null,null,"IT00 Italia"]
[null,null,null,null,null,"JM00 Jamaica"]
[null,null,null,null,null,"JP00 Japan"]
[null,null,null,null,null,"JE00 Jersey"]
[null,null,null,null,null,"VI00 Jomfruøyene, Amerikanske"]
[null,null,null,null,null,"VG00 Jomfruøyene, Britiske"]
[null,null,null,null,null,"JO00 Jordan"]
[null,null,null,null,null,"KH00 Kambodsja"]
[null,null,null,null,null,"CM00 Kamerun"]
[null,null,null,null,null,"CV00 Kapp Verde"]
[null,null,null,null,null,"KZ00 Kasakhstan"]
[null,null,null,null,null,"KE00 Kenya"]
[null,null,null,null,null,"CN00 Kina"]
[null,null,null,null,null,"KG00 Kirgistan"]
[null,null,null,null,null,"KI00 Kiribati"]
[null,null,null,null,null,"CC00 Kokosøyene"]
[null,null,null,null,null,"KM00 Komorene"]
[null,null,null,null,null,"CD00 Kongo, Den demokratiske republ"]
[null,null,null,null,null,"CG00 Kongo, Republikken"]
[null,null,null,null,null,"KP00 Korea, Nord-"]
[null,null,null,null,null,"KR00 Korea, Sør-"]
[null,null,null,null,null,"HR00 Kroatia"]
[null,null,null,null,null,"KW00 Kuwait"]
[null,null,null,null,null,"CY00 Kypros"]
[null,null,null,null,null,"LA00 Laos"]
[null,null,null,null,null,"LV00 Latvia"]
[null,null,null,null,null,"LS00 Lesotho"]
[null,null,null,null,null,"LB00 Libanon"]
[null,null,null,null,null,"LR00 Liberia"]
[null,null,null,null,null,"LY00 Libya"]
[null,null,null,null,null,"LI00 Liechtenstein"]
[null,null,null,null,null,"LT00 Litauen"]
[null,null,null,null,null,"LU00 Luxembourg"]
[null,null,null,null,null,"MO00 Macao"]
[null,null,null,null,null,"MG00 Madagaskar"]
[null,null,null,null,null,"MK00 Makedonia"]
[null,null,null,null,null,"MW00 Malawi"]
[null,null,null,null,null,"MY00 Malaysia"]
[null,null,null,null,null,"MV00 Maldivene"]
[null,null,null,null,null,"ML00 Mali"]
[null,null,null,null,null,"MT00 Malta"]
[null,null,null,null,null,"MA00 Marokko"]
[null,null,null,null,null,"MH00 Marshalløyene"]
[null,null,null,null,null,"MQ00 Martinique"]
[null,null,null,null,null,"MR00 Mauritania"]
[null,null,null,null,null,"MU00 Mauritius"]
[null,null,null,null,null,"YT00 Mayotte"]
[null,null,null,null,null,"MX00 Mexico"]
[null,null,null,null,null,"FM00 Mikronesia føderasjonen"]
[null,null,null,null,null,"MD00 Moldova"]
[null,null,null,null,null,"MC00 Monaco"]
[null,null,null,null,null,"MN00 Mongolia"]
[null,null,null,null,null,"ME00 Montenegro"]
[null,null,null,null,null,"MS00 Montserrat"]
[null,null,null,null,null,"MZ00 Mozambique"]
[null,null,null,null,null,"MM00 Myanmar"]
[null,null,null,null,null,"NA00 Namibia"]
[null,null,null,null,null,"NR00 Nauru"]
[null,null,null,null,null,"NL00 Nederland"]
[null,null,null,null,null,"AN00 Nederlandske Antiller"]
[null,null,null,null,null,"NP00 Nepal"]
[null,null,null,null,null,"NZ00 New Zealand"]
[null,null,null,null,null,"NI00 Nicaragua"]
[null,null,null,null,null,"NE00 Niger"]
[null,null,null,null,null,"NG00 Nigeria"]
[null,null,null,null,null,"NU00 Niue"]
[null,null,null,null,null,"MP00 Nord-Marianene"]
[null,null,null,null,null,"NF00 Norfolkøya"]
[null,null,null,null,null,"NC00 Ny-Kaledonia"]
[null,null,null,null,null,"OM00 Oman"]
[null,null,null,null,null,"PK00 Pakistan"]
[null,null,null,null,null,"PW00 Palau"]
[null,null,null,null,null,"PA00 Panama"]
[null,null,null,null,null,"PG00 Papua Ny-Guinea"]
[null,null,null,null,null,"PY00 Paraguay"]
[null,null,null,null,null,"PE00 Peru"]
[null,null,null,null,null,"PN00 Pitcairn"]
[null,null,null,null,null,"PL00 Polen"]
[null,null,null,null,null,"PT00 Portugal"]
[null,null,null,null,null,"PR00 Puerto Rico"]
[null,null,null,null,null,"QA00 Qatar"]
[null,null,null,null,null,"RE00 Reunion"]
[null,null,null,null,null,"RO00 Romania"]
[null,null,null,null,null,"RU00 Russland"]
[null,null,null,null,null,"RW00 Rwanda"]
[null,null,null,null,null,"BL00 Saint Barthelemy"]
[null,null,null,null,null,"MF00 Saint Martin (fransk del)"]
[null,null,null,null,null,"PM00 Saint-Pierre og Miquelon"]
[null,null,null,null,null,"SB00 Salomonøyene"]
[null,null,null,null,null,"WS00 Samoa"]
[null,null,null,null,null,"SM00 San Marino"]
[null,null,null,null,null,"ST00 Sao Tome og Principe"]
[null,null,null,null,null,"SA00 Saudi-Arabia"]
[null,null,null,null,null,"SN00 Senegal"]
[null,null,null,null,null,"CF00 Sentralafrikanske republikk"]
[null,null,null,null,null,"RS00 Serbia"]
[null,null,null,null,null,"SC00 Seychellene"]
[null,null,null,null,null,"SL00 Sierra Leone"]
[null,null,null,null,null,"SG00 Singapore"]
[null,null,null,null,null,"SX00 Sint Maarten"]
[null,null,null,null,null,"SK00 Slovakia"]
[null,null,null,null,null,"SI00 Slovenia"]
[null,null,null,null,null,"SO00 Somalia"]
[null,null,null,null,null,"ES00 Spania"]
[null,null,null,null,null,"LK00 Sri Lanka"]
[null,null,null,null,null,"SH00 St. Helena"]
[null,null,null,null,null,"KN00 St. Kitts og Nevis"]
[null,null,null,null,null,"LC00 St. Lucia"]
[null,null,null,null,null,"VC00 St. Vincent"]
[null,null,null,null,null,"GB00 Storbritannia"]
[null,null,null,null,null,"SD00 Sudan"]
[null,null,null,null,null,"SR00 Surinam"]
[null,null,null,null,null,"CH00 Sveits"]
[null,null,null,null,null,"SE00 Sverige"]
[null,null,null,null,null,"SZ00 Swaziland"]
[null,null,null,null,null,"SY00 Syria"]
[null,null,null,null,null,"ZA00 Sør-Afrika"]
[null,null,null,null,null,"GS00 Sør-Georgia"]
[null,null,null,null,null,"SS00 Sør-Sudan"]
[null,null,null,null,null,"TJ00 Tadzjikistan"]
[null,null,null,null,null,"TW00 Taiwan"]
[null,null,null,null,null,"TZ00 Tanzania"]
[null,null,null,null,null,"TH00 Thailand"]
[null,null,null,null,null,"TG00 Togo"]
[null,null,null,null,null,"TK00 Tokelau"]
[null,null,null,null,null,"TO00 Tonga"]
[null,null,null,null,null,"TT00 Trinidad og Tobago"]
[null,null,null,null,null,"TD00 Tsjad"]
[null,null,null,null,null,"CZ00 Tsjekkia"]
[null,null,null,null,null,"TN00 Tunisia"]
[null,null,null,null,null,"TM00 Turkmenistan"]
[null,null,null,null,null,"TC00 Turks- og Caicosøyene"]
[null,null,null,null,null,"TV00 Tuvalu"]
[null,null,null,null,null,"TR00 Tyrkia"]
[null,null,null,null,null,"DE00 Tyskland"]
[null,null,null,null,null,"XX00 Ufordelt land"]
[null,null,null,null,null,"UG00 Uganda"]
[null,null,null,null,null,"UA00 Ukrania"]
[null,null,null,null,null,"HU00 Ungarn"]
[null,null,null,null,null,"UY00 Uruguay"]
[null,null,null,null,null,"US00 USA"]
[null,null,null,null,null,"UM00 USA mindre utenforliggende øyer"]
[null,null,null,null,null,"PU00 USA Pacific Islands"]
[null,null,null,null,null,"UZ00 Uzbekistan"]
[null,null,null,null,null,"VU00 Vanuatu"]
[null,null,null,null,null,"VA00 Vatikanstaten"]
[null,null,null,null,null,"VE00 Venezuela"]
[null,null,null,null,null,"PS00 Vestbredden/Gazastripen"]
[null,null,null,null,null,"EH00 Vest-Sahara"]
[null,null,null,null,null,"VN00 Vietnam"]
[null,null,null,null,null,"WF00 Wallis og Futunaøyene"]
[null,null,null,null,null,"YE00 Yemen"]
[null,null,null,null,null,"ZM00 Zambia"]
[null,null,null,null,null,"ZW00 Zimbabwe"]
[null,null,null,null,null,"AT00 Østerrike"]
[null,null,null,null,null,"TL00 Øst-Timor"]
[null,null,null,null,null,"AF00 Afghanistan"]
[null,null,null,null,null,"AL00 Albania"]
[null,null,null,null,null,"DZ00 Algerie"]
[null,null,null,null,null,"AS00 Amerikansk Samoa"]
[null,null,null,null,null,"AD00 Andorra"]
[null,null,null,null,null,"AO00 Angola"]
[null,null,null,null,null,"AI00 Anguilla"]
[null,null,null,null,null,"AG00 Antigua og Barbuda"]
[null,null,null,null,null,"AR00 Argentina"]
[null,null,null,null,null,"AM00 Armenia"]
[null,null,null,null,null,"AW00 Aruba"]
[null,null,null,null,null,"AZ00 Aserbajdsjan"]
[null,null,null,null,null,"AU00 Australia"]
[null,null,null,null,null,"BS00 Bahamas"]
[null,null,null,null,null,"BH00 Bahrain"]
[null,null,null,null,null,"BD00 Bangladesh"]
[null,null,null,null,null,"BB00 Barbados"]
[null,null,null,null,null,"BE00 Belgia"]
[null,null,null,null,null,"BZ00 Belize"]
[null,null,null,null,null,"BJ00 Benin"]
[null,null,null,null,null,"BM00 Bermuda"]
[null,null,null,null,null,"BT00 Bhutan"]
[null,null,null,null,null,"BO00 Bolivia"]
[null,null,null,null,null,"BQ00 Bonaire, Saba, St.Eustatius"]
[null,null,null,null,null,"BA00 Bosnia Hercegovina"]
[null,null,null,null,null,"BW00 Botswana"]
[null,null,null,null,null,"BR00 Brasil"]
[null,null,null,null,null,"IO00 Britisk territorium i Det Indiske Hav"]
[null,null,null,null,null,"BN00 Brunei"]
[null,null,null,null,null,"BG00 Bulgaria"]
[null,null,null,null,null,"BF00 Burkina Faso"]
[null,null,null,null,null,"BI00 Burundi"]
[null,null,null,null,null,"CA00 Canada"]
[null,null,null,null,null,"KY00 Caymanøyene"]
[null,null,null,null,null,"CL00 Chile"]
[null,null,null,null,null,"CX00 Christmasøya"]
[null,null,null,null,null,"CO00 Colombia"]
[null,null,null,null,null,"CK00 Cookøyene"]
[null,null,null,null,null,"CR00 Costa Rica"]
[null,null,null,null,null,"CU00 Cuba"]
[null,null,null,null,null,"CW00 Curacao"]
[null,null,null,null,null,"DK00 Danmark"]
[null,null,null,null,null,"AE00 De forente Arabiske Emirater"]
[null,null,null,null,null,"DO00 Den Dominikanske Republikk"]
[null,null,null,null,null,"DJ00 Djibouti"]
[null,null,null,null,null,"DM00 Dominicia"]
[null,null,null,null,null,"EC00 Ecuador"]
[null,null,null,null,null,"EG00 Egypt"]
[null,null,null,null,null,"GQ00 Ekvatorial-Guinea"]
[null,null,null,null,null,"SV00 El Salvador"]
[null,null,null,null,null,"CI00 Elfenbenskysten"]
[null,null,null,null,null,"ER00 Eritrea"]
[null,null,null,null,null,"EE00 Estland"]
[null,null,null,null,null,"ET00 Etiopia"]
[null,null,null,null,null,"FK00 Falklandsøyene"]
[null,null,null,null,null,"FJ00 Fiji"]
[null,null,null,null,null,"PH00 Filippinene"]
[null,null,null,null,null,"FI00 Finland"]
[null,null,null,null,null,"FR00 Frankrike"]
[null,null,null,null,null,"GF00 Fransk Guyana"]
[null,null,null,null,null,"PF00 Fransk Polynesia"]
[null,null,null,null,null,"TF00 Franske Antiller"]
[null,null,null,null,null,"FO00 Færøyene"]
[null,null,null,null,null,"GA00 Gabon"]
[null,null,null,null,null,"GM00 Gambia"]
[null,null,null,null,null,"GE00 Georgia"]
[null,null,null,null,null,"GH00 Ghana"]
[null,null,null,null,null,"GI00 Gibraltar"]
[null,null,null,null,null,"GD00 Grenada"]
[null,null,null,null,null,"GL00 Grønland"]
[null,null,null,null,null,"GP00 Guadeloupe"]
[null,null,null,null,null,"GU00 Guam"]
[null,null,null,null,null,"GT00 Guatemala"]
[null,null,null,null,null,"GG00 Guernsey"]
[null,null,null,null,null,"GN00 Guinea"]
[null,null,null,null,null,"GW00 Guinea-Bissau"]
[null,null,null,null,null,"GY00 Guyana"]
[null,null,null,null,null,"HT00 Haiti"]
[null,null,null,null,null,"HM00 Heard- og McDonaldøyene"]
[null,null,null,null,null,"GR00 Hellas"]
[null,null,null,null,null,"HN00 Honduras"]
[null,null,null,null,null,"HK00 Hong Kong"]
[null,null,null,null,null,"BY00 Hviterussland"]
[null,null,null,null,null,"IN00 India"]
[null,null,null,null,null,"ID00 Indonesia"]
[null,null,null,null,null,"ZZ00 Internasjonale organisasjoner"]
[null,null,null,null,null,"IQ00 Irak"]
[null,null,null,null,null,"IR00 Iran"]
[null,null,null,null,null,"IE00 Irland"]
[null,null,null,null,null,"IS00 Island"]
[null,null,null,null,null,"IM00 Isle of Man"]
[null,null,null,null,null,"IL00 Israel"]
[null,null,null,null,null,"IT00 Italia"]
[null,null,null,null,null,"JM00 Jamaica"]
[null,null,null,null,null,"JP00 Japan"]
[null,null,null,null,null,"JE00 Jersey"]
[null,null,null,null,null,"VI00 Jomfruøyene, Amerikanske"]
[null,null,null,null,null,"VG00 Jomfruøyene, Britiske"]
[null,null,null,null,null,"JO00 Jordan"]
[null,null,null,null,null,"KH00 Kambodsja"]
[null,null,null,null,null,"CM00 Kamerun"]
[null,null,null,null,null,"CV00 Kapp Verde"]
[null,null,null,null,null,"KZ00 Kasakhstan"]
[null,null,null,null,null,"KE00 Kenya"]
[null,null,null,null,null,"CN00 Kina"]
[null,null,null,null,null,"KG00 Kirgistan"]
[null,null,null,null,null,"KI00 Kiribati"]
[null,null,null,null,null,"CC00 Kokosøyene"]
[null,null,null,null,null,"KM00 Komorene"]
[null,null,null,null,null,"CD00 Kongo, Den demokratiske republ"]
[null,null,null,null,null,"CG00 Kongo, Republikken"]
[null,null,null,null,null,"KP00 Korea, Nord-"]
[null,null,null,null,null,"KR00 Korea, Sør-"]
[null,null,null,null,null,"HR00 Kroatia"]
[null,null,null,null,null,"KW00 Kuwait"]
[null,null,null,null,null,"CY00 Kypros"]
[null,null,null,null,null,"LA00 Laos"]
[null,null,null,null,null,"LV00 Latvia"]
[null,null,null,null,null,"LS00 Lesotho"]
[null,null,null,null,null,"LB00 Libanon"]
[null,null,null,null,null,"LR00 Liberia"]
[null,null,null,null,null,"LY00 Libya"]
[null,null,null,null,null,"LI00 Liechtenstein"]
[null,null,null,null,null,"LT00 Litauen"]
[null,null,null,null,null,"LU00 Luxembourg"]
[null,null,null,null,null,"MO00 Macao"]
[null,null,null,null,null,"MG00 Madagaskar"]
[null,null,null,null,null,"MK00 Makedonia"]
[null,null,null,null,null,"MW00 Malawi"]
[null,null,null,null,null,"MY00 Malaysia"]
[null,null,null,null,null,"MV00 Maldivene"]
[null,null,null,null,null,"ML00 Mali"]
[null,null,null,null,null,"MT00 Malta"]
[null,null,null,null,null,"MA00 Marokko"]
[null,null,null,null,null,"MH00 Marshalløyene"]
[null,null,null,null,null,"MQ00 Martinique"]
[null,null,null,null,null,"MR00 Mauritania"]
[null,null,null,null,null,"MU00 Mauritius"]
[null,null,null,null,null,"YT00 Mayotte"]
[null,null,null,null,null,"MX00 Mexico"]
[null,null,null,null,null,"FM00 Mikronesia føderasjonen"]
[null,null,null,null,null,"MD00 Moldova"]
[null,null,null,null,null,"MC00 Monaco"]
[null,null,null,null,null,"MN00 Mongolia"]
[null,null,null,null,null,"ME00 Montenegro"]
[null,null,null,null,null,"MS00 Montserrat"]
[null,null,null,null,null,"MZ00 Mozambique"]
[null,null,null,null,null,"MM00 Myanmar"]
[null,null,null,null,null,"NA00 Namibia"]
[null,null,null,null,null,"NR00 Nauru"]
[null,null,null,null,null,"NL00 Nederland"]
[null,null,null,null,null,"AN00 Nederlandske Antiller"]
[null,null,null,null,null,"NP00 Nepal"]
[null,null,null,null,null,"NZ00 New Zealand"]
[null,null,null,null,null,"NI00 Nicaragua"]
[null,null,null,null,null,"NE00 Niger"]
[null,null,null,null,null,"NG00 Nigeria"]
[null,null,null,null,null,"NU00 Niue"]
[null,null,null,null,null,"MP00 Nord-Marianene"]
[null,null,null,null,null,"NF00 Norfolkøya"]
[null,null,null,null,null,"NC00 Ny-Kaledonia"]
[null,null,null,null,null,"OM00 Oman"]
[null,null,null,null,null,"PK00 Pakistan"]
[null,null,null,null,null,"PW00 Palau"]
[null,null,null,null,null,"PA00 Panama"]
[null,null,null,null,null,"PG00 Papua Ny-Guinea"]
[null,null,null,null,null,"PY00 Paraguay"]
[null,null,null,null,null,"PE00 Peru"]
[null,null,null,null,null,"PN00 Pitcairn"]
[null,null,null,null,null,"PL00 Polen"]
[null,null,null,null,null,"PT00 Portugal"]
[null,null,null,null,null,"PR00 Puerto Rico"]
[null,null,null,null,null,"QA00 Qatar"]
[null,null,null,null,null,"RE00 Reunion"]
[null,null,null,null,null,"RO00 Romania"]
[null,null,null,null,null,"RU00 Russland"]
[null,null,null,null,null,"RW00 Rwanda"]
[null,null,null,null,null,"BL00 Saint Barthelemy"]
[null,null,null,null,null,"MF00 Saint Martin (fransk del)"]
[null,null,null,null,null,"PM00 Saint-Pierre og Miquelon"]
[null,null,null,null,null,"SB00 Salomonøyene"]
[null,null,null,null,null,"WS00 Samoa"]
[null,null,null,null,null,"SM00 San Marino"]
[null,null,null,null,null,"ST00 Sao Tome og Principe"]
[null,null,null,null,null,"SA00 Saudi-Arabia"]
[null,null,null,null,null,"SN00 Senegal"]
[null,null,null,null,null,"CF00 Sentralafrikanske republikk"]
[null,null,null,null,null,"RS00 Serbia"]
[null,null,null,null,null,"SC00 Seychellene"]
[null,null,null,null,null,"SL00 Sierra Leone"]
[null,null,null,null,null,"SG00 Singapore"]
[null,null,null,null,null,"SX00 Sint Maarten"]
[null,null,null,null,null,"SK00 Slovakia"]
[null,null,null,null,null,"SI00 Slovenia"]
[null,null,null,null,null,"SO00 Somalia"]
[null,null,null,null,null,"ES00 Spania"]
[null,null,null,null,null,"LK00 Sri Lanka"]
[null,null,null,null,null,"SH00 St. Helena"]
[null,null,null,null,null,"KN00 St. Kitts og Nevis"]
[null,null,null,null,null,"LC00 St. Lucia"]
[null,null,null,null,null,"VC00 St. Vincent"]
[null,null,null,null,null,"GB00 Storbritannia"]
[null,null,null,null,null,"SD00 Sudan"]
[null,null,null,null,null,"SR00 Surinam"]
[null,null,null,null,null,"CH00 Sveits"]
[null,null,null,null,null,"SE00 Sverige"]
[null,null,null,null,null,"SZ00 Swaziland"]
[null,null,null,null,null,"SY00 Syria"]
[null,null,null,null,null,"ZA00 Sør-Afrika"]
[null,null,null,null,null,"GS00 Sør-Georgia"]
[null,null,null,null,null,"SS00 Sør-Sudan"]
[null,null,null,null,null,"TJ00 Tadzjikistan"]
[null,null,null,null,null,"TW00 Taiwan"]
[null,null,null,null,null,"TZ00 Tanzania"]
[null,null,null,null,null,"TH00 Thailand"]
[null,null,null,null,null,"TG00 Togo"]
[null,null,null,null,null,"TK00 Tokelau"]
[null,null,null,null,null,"TO00 Tonga"]
[null,null,null,null,null,"TT00 Trinidad og Tobago"]
[null,null,null,null,null,"TD00 Tsjad"]
[null,null,null,null,null,"CZ00 Tsjekkia"]
[null,null,null,null,null,"TN00 Tunisia"]
[null,null,null,null,null,"TM00 Turkmenistan"]
[null,null,null,null,null,"TC00 Turks- og Caicosøyene"]
[null,null,null,null,null,"TV00 Tuvalu"]
[null,null,null,null,null,"TR00 Tyrkia"]
[null,null,null,null,null,"DE00 Tyskland"]
[null,null,null,null,null,"XX00 Ufordelt land"]
[null,null,null,null,null,"UG00 Uganda"]
[null,null,null,null,null,"UA00 Ukrania"]
[null,null,null,null,null,"HU00 Ungarn"]
[null,null,null,null,null,"UY00 Uruguay"]
[null,null,null,null,null,"US00 USA"]
[null,null,null,null,null,"UM00 USA mindre utenforliggende øyer"]
[null,null,null,null,null,"PU00 USA Pacific Islands"]
[null,null,null,null,null,"UZ00 Uzbekistan"]
[null,null,null,null,null,"VU00 Vanuatu"]
[null,null,null,null,null,"VA00 Vatikanstaten"]
[null,null,null,null,null,"VE00 Venezuela"]
[null,null,null,null,null,"PS00 Vestbredden/Gazastripen"]
[null,null,null,null,null,"EH00 Vest-Sahara"]
[null,null,null,null,null,"VN00 Vietnam"]
[null,null,null,null,null,"WF00 Wallis og Futunaøyene"]
[null,null,null,null,null,"YE00 Yemen"]
[null,null,null,null,null,"ZM00 Zambia"]
[null,null,null,null,null,"ZW00 Zimbabwe"]
[null,null,null,null,null,"AT00 Østerrike"]
[null,null,null,null,null,"TL00 Øst-Timor"]
[null,null,null,null,null,"AF00 Afghanistan"]
[null,null,null,null,null,"AL00 Albania"]
[null,null,null,null,null,"DZ00 Algerie"]
[null,null,null,null,null,"AS00 Amerikansk Samoa"]
[null,null,null,null,null,"AD00 Andorra"]
[null,null,null,null,null,"AO00 Angola"]
[null,null,null,null,null,"AI00 Anguilla"]
[null,null,null,null,null,"AG00 Antigua og Barbuda"]
[null,null,null,null,null,"AR00 Argentina"]
[null,null,null,null,null,"AM00 Armenia"]
[null,null,null,null,null,"AW00 Aruba"]
[null,null,null,null,null,"AZ00 Aserbajdsjan"]
[null,null,null,null,null,"AU00 Australia"]
[null,null,null,null,null,"BS00 Bahamas"]
[null,null,null,null,null,"BH00 Bahrain"]
[null,null,null,null,null,"BD00 Bangladesh"]
[null,null,null,null,null,"BB00 Barbados"]
[null,null,null,null,null,"BE00 Belgia"]
[null,null,null,null,null,"BZ00 Belize"]
[null,null,null,null,null,"BJ00 Benin"]
[null,null,null,null,null,"BM00 Bermuda"]
[null,null,null,null,null,"BT00 Bhutan"]
[null,null,null,null,null,"BO00 Bolivia"]
[null,null,null,null,null,"BQ00 Bonaire, Saba, St.Eustatius"]
[null,null,null,null,null,"BA00 Bosnia Hercegovina"]
[null,null,null,null,null,"BW00 Botswana"]
[null,null,null,null,null,"BR00 Brasil"]
[null,null,null,null,null,"IO00 Britisk territorium i Det Indiske Hav"]
[null,null,null,null,null,"BN00 Brunei"]
[null,null,null,null,null,"BG00 Bulgaria"]
[null,null,null,null,null,"BF00 Burkina Faso"]
[null,null,null,null,null,"BI00 Burundi"]
[null,null,null,null,null,"CA00 Canada"]
[null,null,null,null,null,"KY00 Caymanøyene"]
[null,null,null,null,null,"CL00 Chile"]
[null,null,null,null,null,"CX00 Christmasøya"]
[null,null,null,null,null,"CO00 Colombia"]
[null,null,null,null,null,"CK00 Cookøyene"]
[null,null,null,null,null,"CR00 Costa Rica"]
[null,null,null,null,null,"CU00 Cuba"]
[null,null,null,null,null,"CW00 Curacao"]
[null,null,null,null,null,"DK00 Danmark"]
[null,null,null,null,null,"AE00 De forente Arabiske Emirater"]
[null,null,null,null,null,"DO00 Den Dominikanske Republikk"]
[null,null,null,null,null,"DJ00 Djibouti"]
[null,null,null,null,null,"DM00 Dominicia"]
[null,null,null,null,null,"EC00 Ecuador"]
[null,null,null,null,null,"EG00 Egypt"]
[null,null,null,null,null,"GQ00 Ekvatorial-Guinea"]
[null,null,null,null,null,"SV00 El Salvador"]
[null,null,null,null,null,"CI00 Elfenbenskysten"]
[null,null,null,null,null,"ER00 Eritrea"]
[null,null,null,null,null,"EE00 Estland"]
[null,null,null,null,null,"ET00 Etiopia"]
[null,null,null,null,null,"FK00 Falklandsøyene"]
[null,null,null,null,null,"FJ00 Fiji"]
[null,null,null,null,null,"PH00 Filippinene"]
[null,null,null,null,null,"FI00 Finland"]
[null,null,null,null,null,"FR00 Frankrike"]
[null,null,null,null,null,"GF00 Fransk Guyana"]
[null,null,null,null,null,"PF00 Fransk Polynesia"]
[null,null,null,null,null,"TF00 Franske Antiller"]
[null,null,null,null,null,"FO00 Færøyene"]
[null,null,null,null,null,"GA00 Gabon"]
[null,null,null,null,null,"GM00 Gambia"]
[null,null,null,null,null,"GE00 Georgia"]
[null,null,null,null,null,"GH00 Ghana"]
[null,null,null,null,null,"GI00 Gibraltar"]
[null,null,null,null,null,"GD00 Grenada"]
[null,null,null,null,null,"GL00 Grønland"]
[null,null,null,null,null,"GP00 Guadeloupe"]
[null,null,null,null,null,"GU00 Guam"]
[null,null,null,null,null,"GT00 Guatemala"]
[null,null,null,null,null,"GG00 Guernsey"]
[null,null,null,null,null,"GN00 Guinea"]
[null,null,null,null,null,"GW00 Guinea-Bissau"]
[null,null,null,null,null,"GY00 Guyana"]
[null,null,null,null,null,"HT00 Haiti"]
[null,null,null,null,null,"HM00 Heard- og McDonaldøyene"]
[null,null,null,null,null,"GR00 Hellas"]
[null,null,null,null,null,"HN00 Honduras"]
[null,null,null,null,null,"HK00 Hong Kong"]
[null,null,null,null,null,"BY00 Hviterussland"]
[null,null,null,null,null,"IN00 India"]
[null,null,null,null,null,"ID00 Indonesia"]
[null,null,null,null,null,"ZZ00 Internasjonale organisasjoner"]
[null,null,null,null,null,"IQ00 Irak"]
[null,null,null,null,null,"IR00 Iran"]
[null,null,null,null,null,"IE00 Irland"]
[null,null,null,null,null,"IS00 Island"]
[null,null,null,null,null,"IM00 Isle of Man"]
[null,null,null,null,null,"IL00 Israel"]
[null,null,null,null,null,"IT00 Italia"]
[null,null,null,null,null,"JM00 Jamaica"]
[null,null,null,null,null,"JP00 Japan"]
[null,null,null,null,null,"JE00 Jersey"]
[null,null,null,null,null,"VI00 Jomfruøyene, Amerikanske"]
[null,null,null,null,null,"VG00 Jomfruøyene, Britiske"]
[null,null,null,null,null,"JO00 Jordan"]
[null,null,null,null,null,"KH00 Kambodsja"]
[null,null,null,null,null,"CM00 Kamerun"]
[null,null,null,null,null,"CV00 Kapp Verde"]
[null,null,null,null,null,"KZ00 Kasakhstan"]
[null,null,null,null,null,"KE00 Kenya"]
[null,null,null,null,null,"CN00 Kina"]
[null,null,null,null,null,"KG00 Kirgistan"]
[null,null,null,null,null,"KI00 Kiribati"]
[null,null,null,null,null,"CC00 Kokosøyene"]
[null,null,null,null,null,"KM00 Komorene"]
[null,null,null,null,null,"CD00 Kongo, Den demokratiske republ"]
[null,null,null,null,null,"CG00 Kongo, Republikken"]
[null,null,null,null,null,"KP00 Korea, Nord-"]
[null,null,null,null,null,"KR00 Korea, Sør-"]
[null,null,null,null,null,"HR00 Kroatia"]
[null,null,null,null,null,"KW00 Kuwait"]
[null,null,null,null,null,"CY00 Kypros"]
[null,null,null,null,null,"LA00 Laos"]
[null,null,null,null,null,"LV00 Latvia"]
[null,null,null,null,null,"LS00 Lesotho"]
[null,null,null,null,null,"LB00 Libanon"]
[null,null,null,null,null,"LR00 Liberia"]
[null,null,null,null,null,"LY00 Libya"]
[null,null,null,null,null,"LI00 Liechtenstein"]
[null,null,null,null,null,"LT00 Litauen"]
[null,null,null,null,null,"LU00 Luxembourg"]
[null,null,null,null,null,"MO00 Macao"]
[null,null,null,null,null,"MG00 Madagaskar"]
[null,null,null,null,null,"MK00 Makedonia"]
[null,null,null,null,null,"MW00 Malawi"]
[null,null,null,null,null,"MY00 Malaysia"]
[null,null,null,null,null,"MV00 Maldivene"]
[null,null,null,null,null,"ML00 Mali"]
[null,null,null,null,null,"MT00 Malta"]
[null,null,null,null,null,"MA00 Marokko"]
[null,null,null,null,null,"MH00 Marshalløyene"]
[null,null,null,null,null,"MQ00 Martinique"]
[null,null,null,null,null,"MR00 Mauritania"]
[null,null,null,null,null,"MU00 Mauritius"]
[null,null,null,null,null,"YT00 Mayotte"]
[null,null,null,null,null,"MX00 Mexico"]
[null,null,null,null,null,"FM00 Mikronesia føderasjonen"]
[null,null,null,null,null,"MD00 Moldova"]
[null,null,null,null,null,"MC00 Monaco"]
[null,null,null,null,null,"MN00 Mongolia"]
[null,null,null,null,null,"ME00 Montenegro"]
[null,null,null,null,null,"MS00 Montserrat"]
[null,null,null,null,null,"MZ00 Mozambique"]
[null,null,null,null,null,"MM00 Myanmar"]
[null,null,null,null,null,"NA00 Namibia"]
[null,null,null,null,null,"NR00 Nauru"]
[null,null,null,null,null,"NL00 Nederland"]
[null,null,null,null,null,"AN00 Nederlandske Antiller"]
[null,null,null,null,null,"NP00 Nepal"]
[null,null,null,null,null,"NZ00 New Zealand"]
[null,null,null,null,null,"NI00 Nicaragua"]
[null,null,null,null,null,"NE00 Niger"]
[null,null,null,null,null,"NG00 Nigeria"]
[null,null,null,null,null,"NU00 Niue"]
[null,null,null,null,null,"MP00 Nord-Marianene"]
[null,null,null,null,null,"NF00 Norfolkøya"]
[null,null,null,null,null,"NC00 Ny-Kaledonia"]
[null,null,null,null,null,"OM00 Oman"]
[null,null,null,null,null,"PK00 Pakistan"]
[null,null,null,null,null,"PW00 Palau"]
[null,null,null,null,null,"PA00 Panama"]
[null,null,null,null,null,"PG00 Papua Ny-Guinea"]
[null,null,null,null,null,"PY00 Paraguay"]
[null,null,null,null,null,"PE00 Peru"]
[null,null,null,null,null,"PN00 Pitcairn"]
[null,null,null,null,null,"PL00 Polen"]
[null,null,null,null,null,"PT00 Portugal"]
[null,null,null,null,null,"PR00 Puerto Rico"]
[null,null,null,null,null,"QA00 Qatar"]
[null,null,null,null,null,"RE00 Reunion"]
[null,null,null,null,null,"RO00 Romania"]
[null,null,null,null,null,"RU00 Russland"]
[null,null,null,null,null,"RW00 Rwanda"]
[null,null,null,null,null,"BL00 Saint Barthelemy"]
[null,null,null,null,null,"MF00 Saint Martin (fransk del)"]
[null,null,null,null,null,"PM00 Saint-Pierre og Miquelon"]
[null,null,null,null,null,"SB00 Salomonøyene"]
[null,null,null,null,null,"WS00 Samoa"]
[null,null,null,null,null,"SM00 San Marino"]
[null,null,null,null,null,"ST00 Sao Tome og Principe"]
[null,null,null,null,null,"SA00 Saudi-Arabia"]
[null,null,null,null,null,"SN00 Senegal"]
[null,null,null,null,null,"CF00 Sentralafrikanske republikk"]
[null,null,null,null,null,"RS00 Serbia"]
[null,null,null,null,null,"SC00 Seychellene"]
[null,null,null,null,null,"SL00 Sierra Leone"]
[null,null,null,null,null,"SG00 Singapore"]
[null,null,null,null,null,"SX00 Sint Maarten"]
[null,null,null,null,null,"SK00 Slovakia"]
[null,null,null,null,null,"SI00 Slovenia"]
[null,null,null,null,null,"SO00 Somalia"]
[null,null,null,null,null,"ES00 Spania"]
[null,null,null,null,null,"LK00 Sri Lanka"]
[null,null,null,null,null,"SH00 St. Helena"]
[null,null,null,null,null,"KN00 St. Kitts og Nevis"]
[null,null,null,null,null,"LC00 St. Lucia"]
[null,null,null,null,null,"VC00 St. Vincent"]
[null,null,null,null,null,"GB00 Storbritannia"]
[null,null,null,null,null,"SD00 Sudan"]
[null,null,null,null,null,"SR00 Surinam"]
[null,null,null,null,null,"CH00 Sveits"]
[null,null,null,null,null,"SE00 Sverige"]
[null,null,null,null,null,"SZ00 Swaziland"]
[null,null,null,null,null,"SY00 Syria"]
[null,null,null,null,null,"ZA00 Sør-Afrika"]
[null,null,null,null,null,"GS00 Sør-Georgia"]
[null,null,null,null,null,"SS00 Sør-Sudan"]
[null,null,null,null,null,"TJ00 Tadzjikistan"]
[null,null,null,null,null,"TW00 Taiwan"]
[null,null,null,null,null,"TZ00 Tanzania"]
[null,null,null,null,null,"TH00 Thailand"]
[null,null,null,null,null,"TG00 Togo"]
[null,null,null,null,null,"TK00 Tokelau"]
[null,null,null,null,null,"TO00 Tonga"]
[null,null,null,null,null,"TT00 Trinidad og Tobago"]
[null,null,null,null,null,"TD00 Tsjad"]
[null,null,null,null,null,"CZ00 Tsjekkia"]
[null,null,null,null,null,"TN00 Tunisia"]
[null,null,null,null,null,"TM00 Turkmenistan"]
[null,null,null,null,null,"TC00 Turks- og Caicosøyene"]
[null,null,null,null,null,"TV00 Tuvalu"]
[null,null,null,null,null,"TR00 Tyrkia"]
[null,null,null,null,null,"DE00 Tyskland"]
[null,null,null,null,null,"XX00 Ufordelt land"]
[null,null,null,null,null,"UG00 Uganda"]
[null,null,null,null,null,"UA00 Ukrania"]
[null,null,null,null,null,"HU00 Ungarn"]
[null,null,null,null,null,"UY00 Uruguay"]
[null,null,null,null,null,"US00 USA"]
[null,null,null,null,null,"UM00 USA mindre utenforliggende øyer"]
[null,null,null,null,null,"PU00 USA Pacific Islands"]
[null,null,null,null,null,"UZ00 Uzbekistan"]
[null,null,null,null,null,"VU00 Vanuatu"]
[null,null,null,null,null,"VA00 Vatikanstaten"]
[null,null,null,null,null,"VE00 Venezuela"]
[null,null,null,null,null,"PS00 Vestbredden/Gazastripen"]
[null,null,null,null,null,"EH00 Vest-Sahara"]
[null,null,null,null,null,"VN00 Vietnam"]
[null,null,null,null,null,"WF00 Wallis og Futunaøyene"]
[null,null,null,null,null,"YE00 Yemen"]
[null,null,null,null,null,"ZM00 Zambia"]
[null,null,null,null,null,"ZW00 Zimbabwe"]
[null,null,null,null,null,"AT00 Østerrike"]
[null,null,null,null,null,"TL00 Øst-Timor"]
[null,null,null,null,null,"AF00 Afghanistan"]
[null,null,null,null,null,"AL00 Albania"]
[null,null,null,null,null,"DZ00 Algerie"]
[null,null,null,null,null,"AS00 Amerikansk Samoa"]
[null,null,null,null,null,"AD00 Andorra"]
[null,null,null,null,null,"AO00 Angola"]
[null,null,null,null,null,"AI00 Anguilla"]
[null,null,null,null,null,"AG00 Antigua og Barbuda"]
[null,null,null,null,null,"AR00 Argentina"]
[null,null,null,null,null,"AM00 Armenia"]
[null,null,null,null,null,"AW00 Aruba"]
[null,null,null,null,null,"AZ00 Aserbajdsjan"]
[null,null,null,null,null,"AU00 Australia"]
[null,null,null,null,null,"BS00 Bahamas"]
[null,null,null,null,null,"BH00 Bahrain"]
[null,null,null,null,null,"BD00 Bangladesh"]
[null,null,null,null,null,"BB00 Barbados"]
[null,null,null,null,null,"BE00 Belgia"]
[null,null,null,null,null,"BZ00 Belize"]
[null,null,null,null,null,"BJ00 Benin"]
[null,null,null,null,null,"BM00 Bermuda"]
[null,null,null,null,null,"BT00 Bhutan"]
[null,null,null,null,null,"BO00 Bolivia"]
[null,null,null,null,null,"BQ00 Bonaire, Saba, St.Eustatius"]
[null,null,null,null,null,"BA00 Bosnia Hercegovina"]
[null,null,null,null,null,"BW00 Botswana"]
[null,null,null,null,null,"BR00 Brasil"]
[null,null,null,null,null,"IO00 Britisk territorium i Det Indiske Hav"]
[null,null,null,null,null,"BN00 Brunei"]
[null,null,null,null,null,"BG00 Bulgaria"]
[null,null,null,null,null,"BF00 Burkina Faso"]
[null,null,null,null,null,"BI00 Burundi"]
[null,null,null,null,null,"CA00 Canada"]
[null,null,null,null,null,"KY00 Caymanøyene"]
[null,null,null,null,null,"CL00 Chile"]
[null,null,null,null,null,"CX00 Christmasøya"]
[null,null,null,null,null,"CO00 Colombia"]
[null,null,null,null,null,"CK00 Cookøyene"]
[null,null,null,null,null,"CR00 Costa Rica"]
[null,null,null,null,null,"CU00 Cuba"]
[null,null,null,null,null,"CW00 Curacao"]
[null,null,null,null,null,"DK00 Danmark"]
[null,null,null,null,null,"AE00 De forente Arabiske Emirater"]
[null,null,null,null,null,"DO00 Den Dominikanske Republikk"]
[null,null,null,null,null,"DJ00 Djibouti"]
[null,null,null,null,null,"DM00 Dominicia"]
[null,null,null,null,null,"EC00 Ecuador"]
[null,null,null,null,null,"EG00 Egypt"]
[null,null,null,null,null,"GQ00 Ekvatorial-Guinea"]
[null,null,null,null,null,"SV00 El Salvador"]
[null,null,null,null,null,"CI00 Elfenbenskysten"]
[null,null,null,null,null,"ER00 Eritrea"]
[null,null,null,null,null,"EE00 Estland"]
[null,null,null,null,null,"ET00 Etiopia"]
[null,null,null,null,null,"FK00 Falklandsøyene"]
[null,null,null,null,null,"FJ00 Fiji"]
[null,null,null,null,null,"PH00 Filippinene"]
[null,null,null,null,null,"FI00 Finland"]
[null,null,null,null,null,"FR00 Frankrike"]
[null,null,null,null,null,"GF00 Fransk Guyana"]
[null,null,null,null,null,"PF00 Fransk Polynesia"]
[null,null,null,null,null,"TF00 Franske Antiller"]
[null,null,null,null,null,"FO00 Færøyene"]
[null,null,null,null,null,"GA00 Gabon"]
[null,null,null,null,null,"GM00 Gambia"]
[null,null,null,null,null,"GE00 Georgia"]
[null,null,null,null,null,"GH00 Ghana"]
[null,null,null,null,null,"GI00 Gibraltar"]
[null,null,null,null,null,"GD00 Grenada"]
[null,null,null,null,null,"GL00 Grønland"]
[null,null,null,null,null,"GP00 Guadeloupe"]
[null,null,null,null,null,"GU00 Guam"]
[null,null,null,null,null,"GT00 Guatemala"]
[null,null,null,null,null,"GG00 Guernsey"]
[null,null,null,null,null,"GN00 Guinea"]
[null,null,null,null,null,"GW00 Guinea-Bissau"]
[null,null,null,null,null,"GY00 Guyana"]
[null,null,null,null,null,"HT00 Haiti"]
[null,null,null,null,null,"HM00 Heard- og McDonaldøyene"]
[null,null,null,null,null,"GR00 Hellas"]
[null,null,null,null,null,"HN00 Honduras"]
[null,null,null,null,null,"HK00 Hong Kong"]
[null,null,null,null,null,"BY00 Hviterussland"]
[null,null,null,null,null,"IN00 India"]
[null,null,null,null,null,"ID00 Indonesia"]
[null,null,null,null,null,"ZZ00 Internasjonale organisasjoner"]
[null,null,null,null,null,"IQ00 Irak"]
[null,null,null,null,null,"IR00 Iran"]
[null,null,null,null,null,"IE00 Irland"]
[null,null,null,null,null,"IS00 Island"]
[null,null,null,null,null,"IM00 Isle of Man"]
[null,null,null,null,null,"IL00 Israel"]
[null,null,null,null,null,"IT00 Italia"]
[null,null,null,null,null,"JM00 Jamaica"]
[null,null,null,null,null,"JP00 Japan"]
[null,null,null,null,null,"JE00 Jersey"]
[null,null,null,null,null,"VI00 Jomfruøyene, Amerikanske"]
[null,null,null,null,null,"VG00 Jomfruøyene, Britiske"]
[null,null,null,null,null,"JO00 Jordan"]
[null,null,null,null,null,"KH00 Kambodsja"]
[null,null,null,null,null,"CM00 Kamerun"]
[null,null,null,null,null,"CV00 Kapp Verde"]
[null,null,null,null,null,"KZ00 Kasakhstan"]
[null,null,null,null,null,"KE00 Kenya"]
[null,null,null,null,null,"CN00 Kina"]
[null,null,null,null,null,"KG00 Kirgistan"]
[null,null,null,null,null,"KI00 Kiribati"]
[null,null,null,null,null,"CC00 Kokosøyene"]
[null,null,null,null,null,"KM00 Komorene"]
[null,null,null,null,null,"CD00 Kongo, Den demokratiske republ"]
[null,null,null,null,null,"CG00 Kongo, Republikken"]
[null,null,null,null,null,"KP00 Korea, Nord-"]
[null,null,null,null,null,"KR00 Korea, Sør-"]
[null,null,null,null,null,"HR00 Kroatia"]
[null,null,null,null,null,"KW00 Kuwait"]
[null,null,null,null,null,"CY00 Kypros"]
[null,null,null,null,null,"LA00 Laos"]
[null,null,null,null,null,"LV00 Latvia"]
[null,null,null,null,null,"LS00 Lesotho"]
[null,null,null,null,null,"LB00 Libanon"]
[null,null,null,null,null,"LR00 Liberia"]
[null,null,null,null,null,"LY00 Libya"]
[null,null,null,null,null,"LI00 Liechtenstein"]
[null,null,null,null,null,"LT00 Litauen"]
[null,null,null,null,null,"LU00 Luxembourg"]
[null,null,null,null,null,"MO00 Macao"]
[null,null,null,null,null,"MG00 Madagaskar"]
[null,null,null,null,null,"MK00 Makedonia"]
[null,null,null,null,null,"MW00 Malawi"]
[null,null,null,null,null,"MY00 Malaysia"]
[null,null,null,null,null,"MV00 Maldivene"]
[null,null,null,null,null,"ML00 Mali"]
[null,null,null,null,null,"MT00 Malta"]
[null,null,null,null,null,"MA00 Marokko"]
[null,null,null,null,null,"MH00 Marshalløyene"]
[null,null,null,null,null,"MQ00 Martinique"]
[null,null,null,null,null,"MR00 Mauritania"]
[null,null,null,null,null,"MU00 Mauritius"]
[null,null,null,null,null,"YT00 Mayotte"]
[null,null,null,null,null,"MX00 Mexico"]
[null,null,null,null,null,"FM00 Mikronesia føderasjonen"]
[null,null,null,null,null,"MD00 Moldova"]
[null,null,null,null,null,"MC00 Monaco"]
[null,null,null,null,null,"MN00 Mongolia"]
[null,null,null,null,null,"ME00 Montenegro"]
[null,null,null,null,null,"MS00 Montserrat"]
[null,null,null,null,null,"MZ00 Mozambique"]
[null,null,null,null,null,"MM00 Myanmar"]
[null,null,null,null,null,"NA00 Namibia"]
[null,null,null,null,null,"NR00 Nauru"]
[null,null,null,null,null,"NL00 Nederland"]
[null,null,null,null,null,"AN00 Nederlandske Antiller"]
[null,null,null,null,null,"NP00 Nepal"]
[null,null,null,null,null,"NZ00 New Zealand"]
[null,null,null,null,null,"NI00 Nicaragua"]
[null,null,null,null,null,"NE00 Niger"]
[null,null,null,null,null,"NG00 Nigeria"]
[null,null,null,null,null,"NU00 Niue"]
[null,null,null,null,null,"MP00 Nord-Marianene"]
[null,null,null,null,null,"NF00 Norfolkøya"]
[null,null,null,null,null,"NC00 Ny-Kaledonia"]
[null,null,null,null,null,"OM00 Oman"]
[null,null,null,null,null,"PK00 Pakistan"]
[null,null,null,null,null,"PW00 Palau"]
[null,null,null,null,null,"PA00 Panama"]
[null,null,null,null,null,"PG00 Papua Ny-Guinea"]
[null,null,null,null,null,"PY00 Paraguay"]
[null,null,null,null,null,"PE00 Peru"]
[null,null,null,null,null,"PN00 Pitcairn"]
[null,null,null,null,null,"PL00 Polen"]
[null,null,null,null,null,"PT00 Portugal"]
[null,null,null,null,null,"PR00 Puerto Rico"]
[null,null,null,null,null,"QA00 Qatar"]
[null,null,null,null,null,"RE00 Reunion"]
[null,null,null,null,null,"RO00 Romania"]
[null,null,null,null,null,"RU00 Russland"]
[null,null,null,null,null,"RW00 Rwanda"]
[null,null,null,null,null,"BL00 Saint Barthelemy"]
[null,null,null,null,null,"MF00 Saint Martin (fransk del)"]
[null,null,null,null,null,"PM00 Saint-Pierre og Miquelon"]
[null,null,null,null,null,"SB00 Salomonøyene"]
[null,null,null,null,null,"WS00 Samoa"]
[null,null,null,null,null,"SM00 San Marino"]
[null,null,null,null,null,"ST00 Sao Tome og Principe"]
[null,null,null,null,null,"SA00 Saudi-Arabia"]
[null,null,null,null,null,"SN00 Senegal"]
[null,null,null,null,null,"CF00 Sentralafrikanske republikk"]
[null,null,null,null,null,"RS00 Serbia"]
[null,null,null,null,null,"SC00 Seychellene"]
[null,null,null,null,null,"SL00 Sierra Leone"]
[null,null,null,null,null,"SG00 Singapore"]
[null,null,null,null,null,"SX00 Sint Maarten"]
[null,null,null,null,null,"SK00 Slovakia"]
[null,null,null,null,null,"SI00 Slovenia"]
[null,null,null,null,null,"SO00 Somalia"]
[null,null,null,null,null,"ES00 Spania"]
[null,null,null,null,null,"LK00 Sri Lanka"]
[null,null,null,null,null,"SH00 St. Helena"]
[null,null,null,null,null,"KN00 St. Kitts og Nevis"]
[null,null,null,null,null,"LC00 St. Lucia"]
[null,null,null,null,null,"VC00 St. Vincent"]
[null,null,null,null,null,"GB00 Storbritannia"]
[null,null,null,null,null,"SD00 Sudan"]
[null,null,null,null,null,"SR00 Surinam"]
[null,null,null,null,null,"CH00 Sveits"]
[null,null,null,null,null,"SE00 Sverige"]
[null,null,null,null,null,"SZ00 Swaziland"]
[null,null,null,null,null,"SY00 Syria"]
[null,null,null,null,null,"ZA00 Sør-Afrika"]
[null,null,null,null,null,"GS00 Sør-Georgia"]
[null,null,null,null,null,"SS00 Sør-Sudan"]
[null,null,null,null,null,"TJ00 Tadzjikistan"]
[null,null,null,null,null,"TW00 Taiwan"]
[null,null,null,null,null,"TZ00 Tanzania"]
[null,null,null,null,null,"TH00 Thailand"]
[null,null,null,null,null,"TG00 Togo"]
[null,null,null,null,null,"TK00 Tokelau"]
[null,null,null,null,null,"TO00 Tonga"]
[null,null,null,null,null,"TT00 Trinidad og Tobago"]
[null,null,null,null,null,"TD00 Tsjad"]
[null,null,null,null,null,"CZ00 Tsjekkia"]
[null,null,null,null,null,"TN00 Tunisia"]
[null,null,null,null,null,"TM00 Turkmenistan"]
[null,null,null,null,null,"TC00 Turks- og Caicosøyene"]
[null,null,null,null,null,"TV00 Tuvalu"]
[null,null,null,null,null,"TR00 Tyrkia"]
[null,null,null,null,null,"DE00 Tyskland"]
[null,null,null,null,null,"XX00 Ufordelt land"]
[null,null,null,null,null,"UG00 Uganda"]
[null,null,null,null,null,"UA00 Ukrania"]
[null,null,null,null,null,"HU00 Ungarn"]
[null,null,null,null,null,"UY00 Uruguay"]
[null,null,null,null,null,"US00 USA"]
[null,null,null,null,null,"UM00 USA mindre utenforliggende øyer"]
[null,null,null,null,null,"PU00 USA Pacific Islands"]
[null,null,null,null,null,"UZ00 Uzbekistan"]
[null,null,null,null,null,"VU00 Vanuatu"]
[null,null,null,null,null,"VA00 Vatikanstaten"]
[null,null,null,null,null,"VE00 Venezuela"]
[null,null,null,null,null,"PS00 Vestbredden/Gazastripen"]
[null,null,null,null,null,"EH00 Vest-Sahara"]
[null,null,null,null,null,"VN00 Vietnam"]
[null,null,null,null,null,"WF00 Wallis og Futunaøyene"]
[null,null,null,null,null,"YE00 Yemen"]
[null,null,null,null,null,"ZM00 Zambia"]
[null,null,null,null,null,"ZW00 Zimbabwe"]
[null,null,null,null,null,"AT00 Østerrike"]
[null,null,null,null,null,"TL00 Øst-Timor"]
[null,null,null,null,null,"AF00 Afghanistan"]
[null,null,null,null,null,"AL00 Albania"]
[null,null,null,null,null,"DZ00 Algerie"]
[null,null,null,null,null,"AS00 Amerikansk Samoa"]
[null,null,null,null,null,"AD00 Andorra"]
[null,null,null,null,null,"AO00 Angola"]
[null,null,null,null,null,"AI00 Anguilla"]
[null,null,null,null,null,"AG00 Antigua og Barbuda"]
[null,null,null,null,null,"AR00 Argentina"]
[null,null,null,null,null,"AM00 Armenia"]
[null,null,null,null,null,"AW00 Aruba"]
[null,null,null,null,null,"AZ00 Aserbajdsjan"]
[null,null,null,null,null,"AU00 Australia"]
[null,null,null,null,null,"BS00 Bahamas"]
[null,null,null,null,null,"BH00 Bahrain"]
[null,null,null,null,null,"BD00 Bangladesh"]
[null,null,null,null,null,"BB00 Barbados"]
[null,null,null,null,null,"BE00 Belgia"]
[null,null,null,null,null,"BZ00 Belize"]
[null,null,null,null,null,"BJ00 Benin"]
[null,null,null,null,null,"BM00 Bermuda"]
[null,null,null,null,null,"BT00 Bhutan"]
[null,null,null,null,null,"BO00 Bolivia"]
[null,null,null,null,null,"BQ00 Bonaire, Saba, St.Eustatius"]
[null,null,null,null,null,"BA00 Bosnia Hercegovina"]
[null,null,null,null,null,"BW00 Botswana"]
[null,null,null,null,null,"BR00 Brasil"]
[null,null,null,null,null,"IO00 Britisk territorium i Det Indiske Hav"]
[null,null,null,null,null,"BN00 Brunei"]
[null,null,null,null,null,"BG00 Bulgaria"]
[null,null,null,null,null,"BF00 Burkina Faso"]
[null,null,null,null,null,"BI00 Burundi"]
[null,null,null,null,null,"CA00 Canada"]
[null,null,null,null,null,"KY00 Caymanøyene"]
[null,null,null,null,null,"CL00 Chile"]
[null,null,null,null,null,"CX00 Christmasøya"]
[null,null,null,null,null,"CO00 Colombia"]
[null,null,null,null,null,"CK00 Cookøyene"]
[null,null,null,null,null,"CR00 Costa Rica"]
[null,null,null,null,null,"CU00 Cuba"]
[null,null,null,null,null,"CW00 Curacao"]
[null,null,null,null,null,"DK00 Danmark"]
[null,null,null,null,null,"AE00 De forente Arabiske Emirater"]
[null,null,null,null,null,"DO00 Den Dominikanske Republikk"]
[null,null,null,null,null,"DJ00 Djibouti"]
[null,null,null,null,null,"DM00 Dominicia"]
[null,null,null,null,null,"EC00 Ecuador"]
[null,null,null,null,null,"EG00 Egypt"]
[null,null,null,null,null,"GQ00 Ekvatorial-Guinea"]
[null,null,null,null,null,"SV00 El Salvador"]
[null,null,null,null,null,"CI00 Elfenbenskysten"]
[null,null,null,null,null,"ER00 Eritrea"]
[null,null,null,null,null,"EE00 Estland"]
[null,null,null,null,null,"ET00 Etiopia"]
[null,null,null,null,null,"FK00 Falklandsøyene"]
[null,null,null,null,null,"FJ00 Fiji"]
[null,null,null,null,null,"PH00 Filippinene"]
[null,null,null,null,null,"FI00 Finland"]
[null,null,null,null,null,"FR00 Frankrike"]
[null,null,null,null,null,"GF00 Fransk Guyana"]
[null,null,null,null,null,"PF00 Fransk Polynesia"]
[null,null,null,null,null,"TF00 Franske Antiller"]
[null,null,null,null,null,"FO00 Færøyene"]
[null,null,null,null,null,"GA00 Gabon"]
[null,null,null,null,null,"GM00 Gambia"]
[null,null,null,null,null,"GE00 Georgia"]
[null,null,null,null,null,"GH00 Ghana"]
[null,null,null,null,null,"GI00 Gibraltar"]
[null,null,null,null,null,"GD00 Grenada"]
[null,null,null,null,null,"GL00 Grønland"]
[null,null,null,null,null,"GP00 Guadeloupe"]
[null,null,null,null,null,"GU00 Guam"]
[null,null,null,null,null,"GT00 Guatemala"]
[null,null,null,null,null,"GG00 Guernsey"]
[null,null,null,null,null,"GN00 Guinea"]
[null,null,null,null,null,"GW00 Guinea-Bissau"]
[null,null,null,null,null,"GY00 Guyana"]
[null,null,null,null,null,"HT00 Haiti"]
[null,null,null,null,null,"HM00 Heard- og McDonaldøyene"]
[null,null,null,null,null,"GR00 Hellas"]
[null,null,null,null,null,"HN00 Honduras"]
[null,null,null,null,null,"HK00 Hong Kong"]
[null,null,null,null,null,"BY00 Hviterussland"]
[null,null,null,null,null,"IN00 India"]
[null,null,null,null,null,"ID00 Indonesia"]
[null,null,null,null,null,"ZZ00 Internasjonale organisasjoner"]
[null,null,null,null,null,"IQ00 Irak"]
[null,null,null,null,null,"IR00 Iran"]
[null,null,null,null,null,"IE00 Irland"]
[null,null,null,null,null,"IS00 Island"]
[null,null,null,null,null,"IM00 Isle of Man"]
[null,null,null,null,null,"IL00 Israel"]
[null,null,null,null,null,"IT00 Italia"]
[null,null,null,null,null,"JM00 Jamaica"]
[null,null,null,null,null,"JP00 Japan"]
[null,null,null,null,null,"JE00 Jersey"]
[null,null,null,null,null,"VI00 Jomfruøyene, Amerikanske"]
[null,null,null,null,null,"VG00 Jomfruøyene, Britiske"]
[null,null,null,null,null,"JO00 Jordan"]
[null,null,null,null,null,"KH00 Kambodsja"]
[null,null,null,null,null,"CM00 Kamerun"]
[null,null,null,null,null,"CV00 Kapp Verde"]
[null,null,null,null,null,"KZ00 Kasakhstan"]
[null,null,null,null,null,"KE00 Kenya"]
[null,null,null,null,null,"CN00 Kina"]
[null,null,null,null,null,"KG00 Kirgistan"]
[null,null,null,null,null,"KI00 Kiribati"]
[null,null,null,null,null,"CC00 Kokosøyene"]
[null,null,null,null,null,"KM00 Komorene"]
[null,null,null,null,null,"CD00 Kongo, Den demokratiske republ"]
[null,null,null,null,null,"CG00 Kongo, Republikken"]
[null,null,null,null,null,"KP00 Korea, Nord-"]
[null,null,null,null,null,"KR00 Korea, Sør-"]
[null,null,null,null,null,"HR00 Kroatia"]
[null,null,null,null,null,"KW00 Kuwait"]
[null,null,null,null,null,"CY00 Kypros"]
[null,null,null,null,null,"LA00 Laos"]
[null,null,null,null,null,"LV00 Latvia"]
[null,null,null,null,null,"LS00 Lesotho"]
[null,null,null,null,null,"LB00 Libanon"]
[null,null,null,null,null,"LR00 Liberia"]
[null,null,null,null,null,"LY00 Libya"]
[null,null,null,null,null,"LI00 Liechtenstein"]
[null,null,null,null,null,"LT00 Litauen"]
[null,null,null,null,null,"LU00 Luxembourg"]
[null,null,null,null,null,"MO00 Macao"]
[null,null,null,null,null,"MG00 Madagaskar"]
[null,null,null,null,null,"MK00 Makedonia"]
[null,null,null,null,null,"MW00 Malawi"]
[null,null,null,null,null,"MY00 Malaysia"]
[null,null,null,null,null,"MV00 Maldivene"]
[null,null,null,null,null,"ML00 Mali"]
[null,null,null,null,null,"MT00 Malta"]
[null,null,null,null,null,"MA00 Marokko"]
[null,null,null,null,null,"MH00 Marshalløyene"]
[null,null,null,null,null,"MQ00 Martinique"]
[null,null,null,null,null,"MR00 Mauritania"]
[null,null,null,null,null,"MU00 Mauritius"]
[null,null,null,null,null,"YT00 Mayotte"]
[null,null,null,null,null,"MX00 Mexico"]
[null,null,null,null,null,"FM00 Mikronesia føderasjonen"]
[null,null,null,null,null,"MD00 Moldova"]
[null,null,null,null,null,"MC00 Monaco"]
[null,null,null,null,null,"MN00 Mongolia"]
[null,null,null,null,null,"ME00 Montenegro"]
[null,null,null,null,null,"MS00 Montserrat"]
[null,null,null,null,null,"MZ00 Mozambique"]
[null,null,null,null,null,"MM00 Myanmar"]
[null,null,null,null,null,"NA00 Namibia"]
[null,null,null,null,null,"NR00 Nauru"]
[null,null,null,null,null,"NL00 Nederland"]
[null,null,null,null,null,"AN00 Nederlandske Antiller"]
[null,null,null,null,null,"NP00 Nepal"]
[null,null,null,null,null,"NZ00 New Zealand"]
[null,null,null,null,null,"NI00 Nicaragua"]
[null,null,null,null,null,"NE00 Niger"]
[null,null,null,null,null,"NG00 Nigeria"]
[null,null,null,null,null,"NU00 Niue"]
[null,null,null,null,null,"MP00 Nord-Marianene"]
[null,null,null,null,null,"NF00 Norfolkøya"]
[null,null,null,null,null,"NC00 Ny-Kaledonia"]
[null,null,null,null,null,"OM00 Oman"]
[null,null,null,null,null,"PK00 Pakistan"]
[null,null,null,null,null,"PW00 Palau"]
[null,null,null,null,null,"PA00 Panama"]
[null,null,null,null,null,"PG00 Papua Ny-Guinea"]
[null,null,null,null,null,"PY00 Paraguay"]
[null,null,null,null,null,"PE00 Peru"]
[null,null,null,null,null,"PN00 Pitcairn"]
[null,null,null,null,null,"PL00 Polen"]
[null,null,null,null,null,"PT00 Portugal"]
[null,null,null,null,null,"PR00 Puerto Rico"]
[null,null,null,null,null,"QA00 Qatar"]
[null,null,null,null,null,"RE00 Reunion"]
[null,null,null,null,null,"RO00 Romania"]
[null,null,null,null,null,"RU00 Russland"]
[null,null,null,null,null,"RW00 Rwanda"]
[null,null,null,null,null,"BL00 Saint Barthelemy"]
[null,null,null,null,null,"MF00 Saint Martin (fransk del)"]
[null,null,null,null,null,"PM00 Saint-Pierre og Miquelon"]
[null,null,null,null,null,"SB00 Salomonøyene"]
[null,null,null,null,null,"WS00 Samoa"]
[null,null,null,null,null,"SM00 San Marino"]
[null,null,null,null,null,"ST00 Sao Tome og Principe"]
[null,null,null,null,null,"SA00 Saudi-Arabia"]
[null,null,null,null,null,"SN00 Senegal"]
[null,null,null,null,null,"CF00 Sentralafrikanske republikk"]
[null,null,null,null,null,"RS00 Serbia"]
[null,null,null,null,null,"SC00 Seychellene"]
[null,null,null,null,null,"SL00 Sierra Leone"]
[null,null,null,null,null,"SG00 Singapore"]
[null,null,null,null,null,"SX00 Sint Maarten"]
[null,null,null,null,null,"SK00 Slovakia"]
[null,null,null,null,null,"SI00 Slovenia"]
[null,null,null,null,null,"SO00 Somalia"]
[null,null,null,null,null,"ES00 Spania"]
[null,null,null,null,null,"LK00 Sri Lanka"]
[null,null,null,null,null,"SH00 St. Helena"]
[null,null,null,null,null,"KN00 St. Kitts og Nevis"]
[null,null,null,null,null,"LC00 St. Lucia"]
[null,null,null,null,null,"VC00 St. Vincent"]
[null,null,null,null,null,"GB00 Storbritannia"]
[null,null,null,null,null,"SD00 Sudan"]
[null,null,null,null,null,"SR00 Surinam"]
[null,null,null,null,null,"CH00 Sveits"]
[null,null,null,null,null,"SE00 Sverige"]
[null,null,null,null,null,"SZ00 Swaziland"]
[null,null,null,null,null,"SY00 Syria"]
[null,null,null,null,null,"ZA00 Sør-Afrika"]
[null,null,null,null,null,"GS00 Sør-Georgia"]
[null,null,null,null,null,"SS00 Sør-Sudan"]
[null,null,null,null,null,"TJ00 Tadzjikistan"]
[null,null,null,null,null,"TW00 Taiwan"]
[null,null,null,null,null,"TZ00 Tanzania"]
[null,null,null,null,null,"TH00 Thailand"]
[null,null,null,null,null,"TG00 Togo"]
[null,null,null,null,null,"TK00 Tokelau"]
[null,null,null,null,null,"TO00 Tonga"]
[null,null,null,null,null,"TT00 Trinidad og Tobago"]
[null,null,null,null,null,"TD00 Tsjad"]
[null,null,null,null,null,"CZ00 Tsjekkia"]
[null,null,null,null,null,"TN00 Tunisia"]
[null,null,null,null,null,"TM00 Turkmenistan"]
[null,null,null,null,null,"TC00 Turks- og Caicosøyene"]
[null,null,null,null,null,"TV00 Tuvalu"]
[null,null,null,null,null,"TR00 Tyrkia"]
[null,null,null,null,null,"DE00 Tyskland"]
[null,null,null,null,null,"XX00 Ufordelt land"]
[null,null,null,null,null,"UG00 Uganda"]
[null,null,null,null,null,"UA00 Ukrania"]
[null,null,null,null,null,"HU00 Ungarn"]
[null,null,null,null,null,"UY00 Uruguay"]
[null,null,null,null,null,"US00 USA"]
[null,null,null,null,null,"UM00 USA mindre utenforliggende øyer"]
[null,null,null,null,null,"PU00 USA Pacific Islands"]
[null,null,null,null,null,"UZ00 Uzbekistan"]
[null,null,null,null,null,"VU00 Vanuatu"]
[null,null,null,null,null,"VA00 Vatikanstaten"]
[null,null,null,null,null,"VE00 Venezuela"]
[null,null,null,null,null,"PS00 Vestbredden/Gazastripen"]
[null,null,null,null,null,"EH00 Vest-Sahara"]
[null,null,null,null,null,"VN00 Vietnam"]
[null,null,null,null,null,"WF00 Wallis og Futunaøyene"]
[null,null,null,null,null,"YE00 Yemen"]
[null,null,null,null,null,"ZM00 Zambia"]
[null,null,null,null,null,"ZW00 Zimbabwe"]
[null,null,null,null,null,"AT00 Østerrike"]
[null,null,null,null,null,"TL00 Øst-Timor"]
[null,null,null,null,null,"AF00 Afghanistan"]
[null,null,null,null,null,"AL00 Albania"]
[null,null,null,null,null,"DZ00 Algerie"]
[null,null,null,null,null,"AS00 Amerikansk Samoa"]
[null,null,null,null,null,"AD00 Andorra"]
[null,null,null,null,null,"AO00 Angola"]
[null,null,null,null,null,"AI00 Anguilla"]
[null,null,null,null,null,"AG00 Antigua og Barbuda"]
[null,null,null,null,null,"AR00 Argentina"]
[null,null,null,null,null,"AM00 Armenia"]
[null,null,null,null,null,"AW00 Aruba"]
[null,null,null,null,null,"AZ00 Aserbajdsjan"]
[null,null,null,null,null,"AU00 Australia"]
[null,null,null,null,null,"BS00 Bahamas"]
[null,null,null,null,null,"BH00 Bahrain"]
[null,null,null,null,null,"BD00 Bangladesh"]
[null,null,null,null,null,"BB00 Barbados"]
[null,null,null,null,null,"BE00 Belgia"]
[null,null,null,null,null,"BZ00 Belize"]
[null,null,null,null,null,"BJ00 Benin"]
[null,null,null,null,null,"BM00 Bermuda"]
[null,null,null,null,null,"BT00 Bhutan"]
[null,null,null,null,null,"BO00 Bolivia"]
[null,null,null,null,null,"BQ00 Bonaire, Saba, St.Eustatius"]
[null,null,null,null,null,"BA00 Bosnia Hercegovina"]
[null,null,null,null,null,"BW00 Botswana"]
[null,null,null,null,null,"BR00 Brasil"]
[null,null,null,null,null,"IO00 Britisk territorium i Det Indiske Hav"]
[null,null,null,null,null,"BN00 Brunei"]
[null,null,null,null,null,"BG00 Bulgaria"]
[null,null,null,null,null,"BF00 Burkina Faso"]
[null,null,null,null,null,"BI00 Burundi"]
[null,null,null,null,null,"CA00 Canada"]
[null,null,null,null,null,"KY00 Caymanøyene"]
[null,null,null,null,null,"CL00 Chile"]
[null,null,null,null,null,"CX00 Christmasøya"]
[null,null,null,null,null,"CO00 Colombia"]
[null,null,null,null,null,"CK00 Cookøyene"]
[null,null,null,null,null,"CR00 Costa Rica"]
[null,null,null,null,null,"CU00 Cuba"]
[null,null,null,null,null,"CW00 Curacao"]
[null,null,null,null,null,"DK00 Danmark"]
[null,null,null,null,null,"AE00 De forente Arabiske Emirater"]
[null,null,null,null,null,"DO00 Den Dominikanske Republikk"]
[null,null,null,null,null,"DJ00 Djibouti"]
[null,null,null,null,null,"DM00 Dominicia"]
[null,null,null,null,null,"EC00 Ecuador"]
[null,null,null,null,null,"EG00 Egypt"]
[null,null,null,null,null,"GQ00 Ekvatorial-Guinea"]
[null,null,null,null,null,"SV00 El Salvador"]
[null,null,null,null,null,"CI00 Elfenbenskysten"]
[null,null,null,null,null,"ER00 Eritrea"]
[null,null,null,null,null,"EE00 Estland"]
[null,null,null,null,null,"ET00 Etiopia"]
[null,null,null,null,null,"FK00 Falklandsøyene"]
[null,null,null,null,null,"FJ00 Fiji"]
[null,null,null,null,null,"PH00 Filippinene"]
[null,null,null,null,null,"FI00 Finland"]
[null,null,null,null,null,"FR00 Frankrike"]
[null,null,null,null,null,"GF00 Fransk Guyana"]
[null,null,null,null,null,"PF00 Fransk Polynesia"]
[null,null,null,null,null,"TF00 Franske Antiller"]
[null,null,null,null,null,"FO00 Færøyene"]
[null,null,null,null,null,"GA00 Gabon"]
[null,null,null,null,null,"GM00 Gambia"]
[null,null,null,null,null,"GE00 Georgia"]
[null,null,null,null,null,"GH00 Ghana"]
[null,null,null,null,null,"GI00 Gibraltar"]
[null,null,null,null,null,"GD00 Grenada"]
[null,null,null,null,null,"GL00 Grønland"]
[null,null,null,null,null,"GP00 Guadeloupe"]
[null,null,null,null,null,"GU00 Guam"]
[null,null,null,null,null,"GT00 Guatemala"]
[null,null,null,null,null,"GG00 Guernsey"]
[null,null,null,null,null,"GN00 Guinea"]
[null,null,null,null,null,"GW00 Guinea-Bissau"]
[null,null,null,null,null,"GY00 Guyana"]
[null,null,null,null,null,"HT00 Haiti"]
[null,null,null,null,null,"HM00 Heard- og McDonaldøyene"]
[null,null,null,null,null,"GR00 Hellas"]
[null,null,null,null,null,"HN00 Honduras"]
[null,null,null,null,null,"HK00 Hong Kong"]
[null,null,null,null,null,"BY00 Hviterussland"]
[null,null,null,null,null,"IN00 India"]
[null,null,null,null,null,"ID00 Indonesia"]
[null,null,null,null,null,"ZZ00 Internasjonale organisasjoner"]
[null,null,null,null,null,"IQ00 Irak"]
[null,null,null,null,null,"IR00 Iran"]
[null,null,null,null,null,"IE00 Irland"]
[null,null,null,null,null,"IS00 Island"]
[null,null,null,null,null,"IM00 Isle of Man"]
[null,null,null,null,null,"IL00 Israel"]
[null,null,null,null,null,"IT00 Italia"]
[null,null,null,null,null,"JM00 Jamaica"]
[null,null,null,null,null,"JP00 Japan"]
[null,null,null,null,null,"JE00 Jersey"]
[null,null,null,null,null,"VI00 Jomfruøyene, Amerikanske"]
[null,null,null,null,null,"VG00 Jomfruøyene, Britiske"]
[null,null,null,null,null,"JO00 Jordan"]
[null,null,null,null,null,"KH00 Kambodsja"]
[null,null,null,null,null,"CM00 Kamerun"]
[null,null,null,null,null,"CV00 Kapp Verde"]
[null,null,null,null,null,"KZ00 Kasakhstan"]
[null,null,null,null,null,"KE00 Kenya"]
[null,null,null,null,null,"CN00 Kina"]
[null,null,null,null,null,"KG00 Kirgistan"]
[null,null,null,null,null,"KI00 Kiribati"]
[null,null,null,null,null,"CC00 Kokosøyene"]
[null,null,null,null,null,"KM00 Komorene"]
[null,null,null,null,null,"CD00 Kongo, Den demokratiske republ"]
[null,null,null,null,null,"CG00 Kongo, Republikken"]
[null,null,null,null,null,"KP00 Korea, Nord-"]
[null,null,null,null,null,"KR00 Korea, Sør-"]
[null,null,null,null,null,"HR00 Kroatia"]
[null,null,null,null,null,"KW00 Kuwait"]
[null,null,null,null,null,"CY00 Kypros"]
[null,null,null,null,null,"LA00 Laos"]
[null,null,null,null,null,"LV00 Latvia"]
[null,null,null,null,null,"LS00 Lesotho"]
[null,null,null,null,null,"LB00 Libanon"]
[null,null,null,null,null,"LR00 Liberia"]
[null,null,null,null,null,"LY00 Libya"]
[null,null,null,null,null,"LI00 Liechtenstein"]
[null,null,null,null,null,"LT00 Litauen"]
[null,null,null,null,null,"LU00 Luxembourg"]
[null,null,null,null,null,"MO00 Macao"]
[null,null,null,null,null,"MG00 Madagaskar"]
[null,null,null,null,null,"MK00 Makedonia"]
[null,null,null,null,null,"MW00 Malawi"]
[null,null,null,null,null,"MY00 Malaysia"]
[null,null,null,null,null,"MV00 Maldivene"]
[null,null,null,null,null,"ML00 Mali"]
[null,null,null,null,null,"MT00 Malta"]
[null,null,null,null,null,"MA00 Marokko"]
[null,null,null,null,null,"MH00 Marshalløyene"]
[null,null,null,null,null,"MQ00 Martinique"]
[null,null,null,null,null,"MR00 Mauritania"]
[null,null,null,null,null,"MU00 Mauritius"]
[null,null,null,null,null,"YT00 Mayotte"]
[null,null,null,null,null,"MX00 Mexico"]
[null,null,null,null,null,"FM00 Mikronesia føderasjonen"]
[null,null,null,null,null,"MD00 Moldova"]
[null,null,null,null,null,"MC00 Monaco"]
[null,null,null,null,null,"MN00 Mongolia"]
[null,null,null,null,null,"ME00 Montenegro"]
[null,null,null,null,null,"MS00 Montserrat"]
[null,null,null,null,null,"MZ00 Mozambique"]
[null,null,null,null,null,"MM00 Myanmar"]
[null,null,null,null,null,"NA00 Namibia"]
[null,null,null,null,null,"NR00 Nauru"]
[null,null,null,null,null,"NL00 Nederland"]
[null,null,null,null,null,"AN00 Nederlandske Antiller"]
[null,null,null,null,null,"NP00 Nepal"]
[null,null,null,null,null,"NZ00 New Zealand"]
[null,null,null,null,null,"NI00 Nicaragua"]
[null,null,null,null,null,"NE00 Niger"]
[null,null,null,null,null,"NG00 Nigeria"]
[null,null,null,null,null,"NU00 Niue"]
[null,null,null,null,null,"MP00 Nord-Marianene"]
[null,null,null,null,null,"NF00 Norfolkøya"]
[null,null,null,null,null,"NC00 Ny-Kaledonia"]
[null,null,null,null,null,"OM00 Oman"]
[null,null,null,null,null,"PK00 Pakistan"]
[null,null,null,null,null,"PW00 Palau"]
[null,null,null,null,null,"PA00 Panama"]
[null,null,null,null,null,"PG00 Papua Ny-Guinea"]
[null,null,null,null,null,"PY00 Paraguay"]
[null,null,null,null,null,"PE00 Peru"]
[null,null,null,null,null,"PN00 Pitcairn"]
[null,null,null,null,null,"PL00 Polen"]
[null,null,null,null,null,"PT00 Portugal"]
[null,null,null,null,null,"PR00 Puerto Rico"]
[null,null,null,null,null,"QA00 Qatar"]
[null,null,null,null,null,"RE00 Reunion"]
[null,null,null,null,null,"RO00 Romania"]
[null,null,null,null,null,"RU00 Russland"]
[null,null,null,null,null,"RW00 Rwanda"]
[null,null,null,null,null,"BL00 Saint Barthelemy"]
[null,null,null,null,null,"MF00 Saint Martin (fransk del)"]
[null,null,null,null,null,"PM00 Saint-Pierre og Miquelon"]
[null,null,null,null,null,"SB00 Salomonøyene"]
[null,null,null,null,null,"WS00 Samoa"]
[null,null,null,null,null,"SM00 San Marino"]
[null,null,null,null,null,"ST00 Sao Tome og Principe"]
[null,null,null,null,null,"SA00 Saudi-Arabia"]
[null,null,null,null,null,"SN00 Senegal"]
[null,null,null,null,null,"CF00 Sentralafrikanske republikk"]
[null,null,null,null,null,"RS00 Serbia"]
[null,null,null,null,null,"SC00 Seychellene"]
[null,null,null,null,null,"SL00 Sierra Leone"]
[null,null,null,null,null,"SG00 Singapore"]
[null,null,null,null,null,"SX00 Sint Maarten"]
[null,null,null,null,null,"SK00 Slovakia"]
[null,null,null,null,null,"SI00 Slovenia"]
[null,null,null,null,null,"SO00 Somalia"]
[null,null,null,null,null,"ES00 Spania"]
[null,null,null,null,null,"LK00 Sri Lanka"]
[null,null,null,null,null,"SH00 St. Helena"]
[null,null,null,null,null,"KN00 St. Kitts og Nevis"]
[null,null,null,null,null,"LC00 St. Lucia"]
[null,null,null,null,null,"VC00 St. Vincent"]
[null,null,null,null,null,"GB00 Storbritannia"]
[null,null,null,null,null,"SD00 Sudan"]
[null,null,null,null,null,"SR00 Surinam"]
[null,null,null,null,null,"CH00 Sveits"]
[null,null,null,null,null,"SE00 Sverige"]
[null,null,null,null,null,"SZ00 Swaziland"]
[null,null,null,null,null,"SY00 Syria"]
[null,null,null,null,null,"ZA00 Sør-Afrika"]
[null,null,null,null,null,"GS00 Sør-Georgia"]
[null,null,null,null,null,"SS00 Sør-Sudan"]
[null,null,null,null,null,"TJ00 Tadzjikistan"]
[null,null,null,null,null,"TW00 Taiwan"]
[null,null,null,null,null,"TZ00 Tanzania"]
[null,null,null,null,null,"TH00 Thailand"]
[null,null,null,null,null,"TG00 Togo"]
[null,null,null,null,null,"TK00 Tokelau"]
[null,null,null,null,null,"TO00 Tonga"]
[null,null,null,null,null,"TT00 Trinidad og Tobago"]
[null,null,null,null,null,"TD00 Tsjad"]
[null,null,null,null,null,"CZ00 Tsjekkia"]
[null,null,null,null,null,"TN00 Tunisia"]
[null,null,null,null,null,"TM00 Turkmenistan"]
[null,null,null,null,null,"TC00 Turks- og Caicosøyene"]
[null,null,null,null,null,"TV00 Tuvalu"]
[null,null,null,null,null,"TR00 Tyrkia"]
[null,null,null,null,null,"DE00 Tyskland"]
[null,null,null,null,null,"XX00 Ufordelt land"]
[null,null,null,null,null,"UG00 Uganda"]
[null,null,null,null,null,"UA00 Ukrania"]
[null,null,null,null,null,"HU00 Ungarn"]
[null,null,null,null,null,"UY00 Uruguay"]
[null,null,null,null,null,"US00 USA"]
[null,null,null,null,null,"UM00 USA mindre utenforliggende øyer"]
[null,null,null,null,null,"PU00 USA Pacific Islands"]
[null,null,null,null,null,"UZ00 Uzbekistan"]
[null,null,null,null,null,"VU00 Vanuatu"]
[null,null,null,null,null,"VA00 Vatikanstaten"]
[null,null,null,null,null,"VE00 Venezuela"]
[null,null,null,null,null,"PS00 Vestbredden/Gazastripen"]
[null,null,null,null,null,"EH00 Vest-Sahara"]
[null,null,null,null,null,"VN00 Vietnam"]
[null,null,null,null,null,"WF00 Wallis og Futunaøyene"]
[null,null,null,null,null,"YE00 Yemen"]
[null,null,null,null,null,"ZM00 Zambia"]
[null,null,null,null,null,"ZW00 Zimbabwe"]
[null,null,null,null,null,"AT00 Østerrike"]
[null,null,null,null,null,"TL00 Øst-Timor"]
[null,null,null,null,null,"AF00 Afghanistan"]
[null,null,null,null,null,"AL00 Albania"]
[null,null,null,null,null,"DZ00 Algerie"]
[null,null,null,null,null,"AS00 Amerikansk Samoa"]
[null,null,null,null,null,"AD00 Andorra"]
[null,null,null,null,null,"AO00 Angola"]
[null,null,null,null,null,"AI00 Anguilla"]
[null,null,null,null,null,"AG00 Antigua og Barbuda"]
[null,null,null,null,null,"AR00 Argentina"]
[null,null,null,null,null,"AM00 Armenia"]
[null,null,null,null,null,"AW00 Aruba"]
[null,null,null,null,null,"AZ00 Aserbajdsjan"]
[null,null,null,null,null,"AU00 Australia"]
[null,null,null,null,null,"BS00 Bahamas"]
[null,null,null,null,null,"BH00 Bahrain"]
[null,null,null,null,null,"BD00 Bangladesh"]
[null,null,null,null,null,"BB00 Barbados"]
[null,null,null,null,null,"BE00 Belgia"]
[null,null,null,null,null,"BZ00 Belize"]
[null,null,null,null,null,"BJ00 Benin"]
[null,null,null,null,null,"BM00 Bermuda"]
[null,null,null,null,null,"BT00 Bhutan"]
[null,null,null,null,null,"BO00 Bolivia"]
[null,null,null,null,null,"BQ00 Bonaire, Saba, St.Eustatius"]
[null,null,null,null,null,"BA00 Bosnia Hercegovina"]
[null,null,null,null,null,"BW00 Botswana"]
[null,null,null,null,null,"BR00 Brasil"]
[null,null,null,null,null,"IO00 Britisk territorium i Det Indiske Hav"]
[null,null,null,null,null,"BN00 Brunei"]
[null,null,null,null,null,"BG00 Bulgaria"]
[null,null,null,null,null,"BF00 Burkina Faso"]
[null,null,null,null,null,"BI00 Burundi"]
[null,null,null,null,null,"CA00 Canada"]
[null,null,null,null,null,"KY00 Caymanøyene"]
[null,null,null,null,null,"CL00 Chile"]
[null,null,null,null,null,"CX00 Christmasøya"]
[null,null,null,null,null,"CO00 Colombia"]
[null,null,null,null,null,"CK00 Cookøyene"]
[null,null,null,null,null,"CR00 Costa Rica"]
[null,null,null,null,null,"CU00 Cuba"]
[null,null,null,null,null,"CW00 Curacao"]
[null,null,null,null,null,"DK00 Danmark"]
[null,null,null,null,null,"AE00 De forente Arabiske Emirater"]
[null,null,null,null,null,"DO00 Den Dominikanske Republikk"]
[null,null,null,null,null,"DJ00 Djibouti"]
[null,null,null,null,null,"DM00 Dominicia"]
[null,null,null,null,null,"EC00 Ecuador"]
[null,null,null,null,null,"EG00 Egypt"]
[null,null,null,null,null,"GQ00 Ekvatorial-Guinea"]
[null,null,null,null,null,"SV00 El Salvador"]
[null,null,null,null,null,"CI00 Elfenbenskysten"]
[null,null,null,null,null,"ER00 Eritrea"]
[null,null,null,null,null,"EE00 Estland"]
[null,null,null,null,null,"ET00 Etiopia"]
[null,null,null,null,null,"FK00 Falklandsøyene"]
[null,null,null,null,null,"FJ00 Fiji"]
[null,null,null,null,null,"PH00 Filippinene"]
[null,null,null,null,null,"FI00 Finland"]
[null,null,null,null,null,"FR00 Frankrike"]
[null,null,null,null,null,"GF00 Fransk Guyana"]
[null,null,null,null,null,"PF00 Fransk Polynesia"]
[null,null,null,null,null,"TF00 Franske Antiller"]
[null,null,null,null,null,"FO00 Færøyene"]
[null,null,null,null,null,"GA00 Gabon"]
[null,null,null,null,null,"GM00 Gambia"]
[null,null,null,null,null,"GE00 Georgia"]
[null,null,null,null,null,"GH00 Ghana"]
[null,null,null,null,null,"GI00 Gibraltar"]
[null,null,null,null,null,"GD00 Grenada"]
[null,null,null,null,null,"GL00 Grønland"]
[null,null,null,null,null,"GP00 Guadeloupe"]
[null,null,null,null,null,"GU00 Guam"]
[null,null,null,null,null,"GT00 Guatemala"]
[null,null,null,null,null,"GG00 Guernsey"]
[null,null,null,null,null,"GN00 Guinea"]
[null,null,null,null,null,"GW00 Guinea-Bissau"]
[null,null,null,null,null,"GY00 Guyana"]
[null,null,null,null,null,"HT00 Haiti"]
[null,null,null,null,null,"HM00 Heard- og McDonaldøyene"]
[null,null,null,null,null,"GR00 Hellas"]
[null,null,null,null,null,"HN00 Honduras"]
[null,null,null,null,null,"HK00 Hong Kong"]
[null,null,null,null,null,"BY00 Hviterussland"]
[null,null,null,null,null,"IN00 India"]
[null,null,null,null,null,"ID00 Indonesia"]
[null,null,null,null,null,"ZZ00 Internasjonale organisasjoner"]
[null,null,null,null,null,"IQ00 Irak"]
[null,null,null,null,null,"IR00 Iran"]
[null,null,null,null,null,"IE00 Irland"]
[null,null,null,null,null,"IS00 Island"]
[null,null,null,null,null,"IM00 Isle of Man"]
[null,null,null,null,null,"IL00 Israel"]
[null,null,null,null,null,"IT00 Italia"]
[null,null,null,null,null,"JM00 Jamaica"]
[null,null,null,null,null,"JP00 Japan"]
[null,null,null,null,null,"JE00 Jersey"]
[null,null,null,null,null,"VI00 Jomfruøyene, Amerikanske"]
[null,null,null,null,null,"VG00 Jomfruøyene, Britiske"]
[null,null,null,null,null,"JO00 Jordan"]
[null,null,null,null,null,"KH00 Kambodsja"]
[null,null,null,null,null,"CM00 Kamerun"]
[null,null,null,null,null,"CV00 Kapp Verde"]
[null,null,null,null,null,"KZ00 Kasakhstan"]
[null,null,null,null,null,"KE00 Kenya"]
[null,null,null,null,null,"CN00 Kina"]
[null,null,null,null,null,"KG00 Kirgistan"]
[null,null,null,null,null,"KI00 Kiribati"]
[null,null,null,null,null,"CC00 Kokosøyene"]
[null,null,null,null,null,"KM00 Komorene"]
[null,null,null,null,null,"CD00 Kongo, Den demokratiske republ"]
[null,null,null,null,null,"CG00 Kongo, Republikken"]
[null,null,null,null,null,"KP00 Korea, Nord-"]
[null,null,null,null,null,"KR00 Korea, Sør-"]
[null,null,null,null,null,"HR00 Kroatia"]
[null,null,null,null,null,"KW00 Kuwait"]
[null,null,null,null,null,"CY00 Kypros"]
[null,null,null,null,null,"LA00 Laos"]
[null,null,null,null,null,"LV00 Latvia"]
[null,null,null,null,null,"LS00 Lesotho"]
[null,null,null,null,null,"LB00 Libanon"]
[null,null,null,null,null,"LR00 Liberia"]
[null,null,null,null,null,"LY00 Libya"]
[null,null,null,null,null,"LI00 Liechtenstein"]
[null,null,null,null,null,"LT00 Litauen"]
[null,null,null,null,null,"LU00 Luxembourg"]
[null,null,null,null,null,"MO00 Macao"]
[null,null,null,null,null,"MG00 Madagaskar"]
[null,null,null,null,null,"MK00 Makedonia"]
[null,null,null,null,null,"MW00 Malawi"]
[null,null,null,null,null,"MY00 Malaysia"]
[null,null,null,null,null,"MV00 Maldivene"]
[null,null,null,null,null,"ML00 Mali"]
[null,null,null,null,null,"MT00 Malta"]
[null,null,null,null,null,"MA00 Marokko"]
[null,null,null,null,null,"MH00 Marshalløyene"]
[null,null,null,null,null,"MQ00 Martinique"]
[null,null,null,null,null,"MR00 Mauritania"]
[null,null,null,null,null,"MU00 Mauritius"]
[null,null,null,null,null,"YT00 Mayotte"]
[null,null,null,null,null,"MX00 Mexico"]
[null,null,null,null,null,"FM00 Mikronesia føderasjonen"]
[null,null,null,null,null,"MD00 Moldova"]
[null,null,null,null,null,"MC00 Monaco"]
[null,null,null,null,null,"MN00 Mongolia"]
[null,null,null,null,null,"ME00 Montenegro"]
[null,null,null,null,null,"MS00 Montserrat"]
[null,null,null,null,null,"MZ00 Mozambique"]
[null,null,null,null,null,"MM00 Myanmar"]
[null,null,null,null,null,"NA00 Namibia"]
[null,null,null,null,null,"NR00 Nauru"]
[null,null,null,null,null,"NL00 Nederland"]
[null,null,null,null,null,"AN00 Nederlandske Antiller"]
[null,null,null,null,null,"NP00 Nepal"]
[null,null,null,null,null,"NZ00 New Zealand"]
[null,null,null,null,null,"NI00 Nicaragua"]
[null,null,null,null,null,"NE00 Niger"]
[null,null,null,null,null,"NG00 Nigeria"]
[null,null,null,null,null,"NU00 Niue"]
[null,null,null,null,null,"MP00 Nord-Marianene"]
[null,null,null,null,null,"NF00 Norfolkøya"]
[null,null,null,null,null,"NC00 Ny-Kaledonia"]
[null,null,null,null,null,"OM00 Oman"]
[null,null,null,null,null,"PK00 Pakistan"]
[null,null,null,null,null,"PW00 Palau"]
[null,null,null,null,null,"PA00 Panama"]
[null,null,null,null,null,"PG00 Papua Ny-Guinea"]
[null,null,null,null,null,"PY00 Paraguay"]
[null,null,null,null,null,"PE00 Peru"]
[null,null,null,null,null,"PN00 Pitcairn"]
[null,null,null,null,null,"PL00 Polen"]
[null,null,null,null,null,"PT00 Portugal"]
[null,null,null,null,null,"PR00 Puerto Rico"]
[null,null,null,null,null,"QA00 Qatar"]
[null,null,null,null,null,"RE00 Reunion"]
[null,null,null,null,null,"RO00 Romania"]
[null,null,null,null,null,"RU00 Russland"]
[null,null,null,null,null,"RW00 Rwanda"]
[null,null,null,null,null,"BL00 Saint Barthelemy"]
[null,null,null,null,null,"MF00 Saint Martin (fransk del)"]
[null,null,null,null,null,"PM00 Saint-Pierre og Miquelon"]
[null,null,null,null,null,"SB00 Salomonøyene"]
[null,null,null,null,null,"WS00 Samoa"]
[null,null,null,null,null,"SM00 San Marino"]
[null,null,null,null,null,"ST00 Sao Tome og Principe"]
[null,null,null,null,null,"SA00 Saudi-Arabia"]
[null,null,null,null,null,"SN00 Senegal"]
[null,null,null,null,null,"CF00 Sentralafrikanske republikk"]
[null,null,null,null,null,"RS00 Serbia"]
[null,null,null,null,null,"SC00 Seychellene"]
[null,null,null,null,null,"SL00 Sierra Leone"]
[null,null,null,null,null,"SG00 Singapore"]
[null,null,null,null,null,"SX00 Sint Maarten"]
[null,null,null,null,null,"SK00 Slovakia"]
[null,null,null,null,null,"SI00 Slovenia"]
[null,null,null,null,null,"SO00 Somalia"]
[null,null,null,null,null,"ES00 Spania"]
[null,null,null,null,null,"LK00 Sri Lanka"]
[null,null,null,null,null,"SH00 St. Helena"]
[null,null,null,null,null,"KN00 St. Kitts og Nevis"]
[null,null,null,null,null,"LC00 St. Lucia"]
[null,null,null,null,null,"VC00 St. Vincent"]
[null,null,null,null,null,"GB00 Storbritannia"]
[null,null,null,null,null,"SD00 Sudan"]
[null,null,null,null,null,"SR00 Surinam"]
[null,null,null,null,null,"CH00 Sveits"]
[null,null,null,null,null,"SE00 Sverige"]
[null,null,null,null,null,"SZ00 Swaziland"]
[null,null,null,null,null,"SY00 Syria"]
[null,null,null,null,null,"ZA00 Sør-Afrika"]
[null,null,null,null,null,"GS00 Sør-Georgia"]
[null,null,null,null,null,"SS00 Sør-Sudan"]
[null,null,null,null,null,"TJ00 Tadzjikistan"]
[null,null,null,null,null,"TW00 Taiwan"]
[null,null,null,null,null,"TZ00 Tanzania"]
[null,null,null,null,null,"TH00 Thailand"]
[null,null,null,null,null,"TG00 Togo"]
[null,null,null,null,null,"TK00 Tokelau"]
[null,null,null,null,null,"TO00 Tonga"]
[null,null,null,null,null,"TT00 Trinidad og Tobago"]
[null,null,null,null,null,"TD00 Tsjad"]
[null,null,null,null,null,"CZ00 Tsjekkia"]
[null,null,null,null,null,"TN00 Tunisia"]
[null,null,null,null,null,"TM00 Turkmenistan"]
[null,null,null,null,null,"TC00 Turks- og Caicosøyene"]
[null,null,null,null,null,"TV00 Tuvalu"]
[null,null,null,null,null,"TR00 Tyrkia"]
[null,null,null,null,null,"DE00 Tyskland"]
[null,null,null,null,null,"XX00 Ufordelt land"]
[null,null,null,null,null,"UG00 Uganda"]
[null,null,null,null,null,"UA00 Ukrania"]
[null,null,null,null,null,"HU00 Ungarn"]
[null,null,null,null,null,"UY00 Uruguay"]
[null,null,null,null,null,"US00 USA"]
[null,null,null,null,null,"UM00 USA mindre utenforliggende øyer"]
[null,null,null,null,null,"PU00 USA Pacific Islands"]
[null,null,null,null,null,"UZ00 Uzbekistan"]
[null,null,null,null,null,"VU00 Vanuatu"]
[null,null,null,null,null,"VA00 Vatikanstaten"]
[null,null,null,null,null,"VE00 Venezuela"]
[null,null,null,null,null,"PS00 Vestbredden/Gazastripen"]
[null,null,null,null,null,"EH00 Vest-Sahara"]
[null,null,null,null,null,"VN00 Vietnam"]
[null,null,null,null,null,"WF00 Wallis og Futunaøyene"]
[null,null,null,null,null,"YE00 Yemen"]
[null,null,null,null,null,"ZM00 Zambia"]
[null,null,null,null,null,"ZW00 Zimbabwe"]
[null,null,null,null,null,"AT00 Østerrike"]
[null,null,null,null,null,"TL00 Øst-Timor"]
[null,null,null,null,null,"AF00 Afghanistan"]
[null,null,null,null,null,"AL00 Albania"]
[null,null,null,null,null,"DZ00 Algerie"]
[null,null,null,null,null,"AS00 Amerikansk Samoa"]
[null,null,null,null,null,"AD00 Andorra"]
[null,null,null,null,null,"AO00 Angola"]
[null,null,null,null,null,"AI00 Anguilla"]
[null,null,null,null,null,"AG00 Antigua og Barbuda"]
[null,null,null,null,null,"AR00 Argentina"]
[null,null,null,null,null,"AM00 Armenia"]
[null,null,null,null,null,"AW00 Aruba"]
[null,null,null,null,null,"AZ00 Aserbajdsjan"]
[null,null,null,null,null,"AU00 Australia"]
[null,null,null,null,null,"BS00 Bahamas"]
[null,null,null,null,null,"BH00 Bahrain"]
[null,null,null,null,null,"BD00 Bangladesh"]
[null,null,null,null,null,"BB00 Barbados"]
[null,null,null,null,null,"BE00 Belgia"]
[null,null,null,null,null,"BZ00 Belize"]
[null,null,null,null,null,"BJ00 Benin"]
[null,null,null,null,null,"BM00 Bermuda"]
[null,null,null,null,null,"BT00 Bhutan"]
[null,null,null,null,null,"BO00 Bolivia"]
[null,null,null,null,null,"BQ00 Bonaire, Saba, St.Eustatius"]
[null,null,null,null,null,"BA00 Bosnia Hercegovina"]
[null,null,null,null,null,"BW00 Botswana"]
[null,null,null,null,null,"BR00 Brasil"]
[null,null,null,null,null,"IO00 Britisk territorium i Det Indiske Hav"]
[null,null,null,null,null,"BN00 Brunei"]
[null,null,null,null,null,"BG00 Bulgaria"]
[null,null,null,null,null,"BF00 Burkina Faso"]
[null,null,null,null,null,"BI00 Burundi"]
[null,null,null,null,null,"CA00 Canada"]
[null,null,null,null,null,"KY00 Caymanøyene"]
[null,null,null,null,null,"CL00 Chile"]
[null,null,null,null,null,"CX00 Christmasøya"]
[null,null,null,null,null,"CO00 Colombia"]
[null,null,null,null,null,"CK00 Cookøyene"]
[null,null,null,null,null,"CR00 Costa Rica"]
[null,null,null,null,null,"CU00 Cuba"]
[null,null,null,null,null,"CW00 Curacao"]
[null,null,null,null,null,"DK00 Danmark"]
[null,null,null,null,null,"AE00 De forente Arabiske Emirater"]
[null,null,null,null,null,"DO00 Den Dominikanske Republikk"]
[null,null,null,null,null,"DJ00 Djibouti"]
[null,null,null,null,null,"DM00 Dominicia"]
[null,null,null,null,null,"EC00 Ecuador"]
[null,null,null,null,null,"EG00 Egypt"]
[null,null,null,null,null,"GQ00 Ekvatorial-Guinea"]
[null,null,null,null,null,"SV00 El Salvador"]
[null,null,null,null,null,"CI00 Elfenbenskysten"]
[null,null,null,null,null,"ER00 Eritrea"]
[null,null,null,null,null,"EE00 Estland"]
[null,null,null,null,null,"ET00 Etiopia"]
[null,null,null,null,null,"FK00 Falklandsøyene"]
[null,null,null,null,null,"FJ00 Fiji"]
[null,null,null,null,null,"PH00 Filippinene"]
[null,null,null,null,null,"FI00 Finland"]
[null,null,null,null,null,"FR00 Frankrike"]
[null,null,null,null,null,"GF00 Fransk Guyana"]
[null,null,null,null,null,"PF00 Fransk Polynesia"]
[null,null,null,null,null,"TF00 Franske Antiller"]
[null,null,null,null,null,"FO00 Færøyene"]
[null,null,null,null,null,"GA00 Gabon"]
[null,null,null,null,null,"GM00 Gambia"]
[null,null,null,null,null,"GE00 Georgia"]
[null,null,null,null,null,"GH00 Ghana"]
[null,null,null,null,null,"GI00 Gibraltar"]
[null,null,null,null,null,"GD00 Grenada"]
[null,null,null,null,null,"GL00 Grønland"]
[null,null,null,null,null,"GP00 Guadeloupe"]
[null,null,null,null,null,"GU00 Guam"]
[null,null,null,null,null,"GT00 Guatemala"]
[null,null,null,null,null,"GG00 Guernsey"]
[null,null,null,null,null,"GN00 Guinea"]
[null,null,null,null,null,"GW00 Guinea-Bissau"]
[null,null,null,null,null,"GY00 Guyana"]
[null,null,null,null,null,"HT00 Haiti"]
[null,null,null,null,null,"HM00 Heard- og McDonaldøyene"]
[null,null,null,null,null,"GR00 Hellas"]
[null,null,null,null,null,"HN00 Honduras"]
[null,null,null,null,null,"HK00 Hong Kong"]
[null,null,null,null,null,"BY00 Hviterussland"]
[null,null,null,null,null,"IN00 India"]
[null,null,null,null,null,"ID00 Indonesia"]
[null,null,null,null,null,"ZZ00 Internasjonale organisasjoner"]
[null,null,null,null,null,"IQ00 Irak"]
[null,null,null,null,null,"IR00 Iran"]
[null,null,null,null,null,"IE00 Irland"]
[null,null,null,null,null,"IS00 Island"]
[null,null,null,null,null,"IM00 Isle of Man"]
[null,null,null,null,null,"IL00 Israel"]
[null,null,null,null,null,"IT00 Italia"]
[null,null,null,null,null,"JM00 Jamaica"]
[null,null,null,null,null,"JP00 Japan"]
[null,null,null,null,null,"JE00 Jersey"]
[null,null,null,null,null,"VI00 Jomfruøyene, Amerikanske"]
[null,null,null,null,null,"VG00 Jomfruøyene, Britiske"]
[null,null,null,null,null,"JO00 Jordan"]
[null,null,null,null,null,"KH00 Kambodsja"]
[null,null,null,null,null,"CM00 Kamerun"]
[null,null,null,null,null,"CV00 Kapp Verde"]
[null,null,null,null,null,"KZ00 Kasakhstan"]
[null,null,null,null,null,"KE00 Kenya"]
[null,null,null,null,null,"CN00 Kina"]
[null,null,null,null,null,"KG00 Kirgistan"]
[null,null,null,null,null,"KI00 Kiribati"]
[null,null,null,null,null,"CC00 Kokosøyene"]
[null,null,null,null,null,"KM00 Komorene"]
[null,null,null,null,null,"CD00 Kongo, Den demokratiske republ"]
[null,null,null,null,null,"CG00 Kongo, Republikken"]
[null,null,null,null,null,"KP00 Korea, Nord-"]
[null,null,null,null,null,"KR00 Korea, Sør-"]
[null,null,null,null,null,"HR00 Kroatia"]
[null,null,null,null,null,"KW00 Kuwait"]
[null,null,null,null,null,"CY00 Kypros"]
[null,null,null,null,null,"LA00 Laos"]
[null,null,null,null,null,"LV00 Latvia"]
[null,null,null,null,null,"LS00 Lesotho"]
[null,null,null,null,null,"LB00 Libanon"]
[null,null,null,null,null,"LR00 Liberia"]
[null,null,null,null,null,"LY00 Libya"]
[null,null,null,null,null,"LI00 Liechtenstein"]
[null,null,null,null,null,"LT00 Litauen"]
[null,null,null,null,null,"LU00 Luxembourg"]
[null,null,null,null,null,"MO00 Macao"]
[null,null,null,null,null,"MG00 Madagaskar"]
[null,null,null,null,null,"MK00 Makedonia"]
[null,null,null,null,null,"MW00 Malawi"]
[null,null,null,null,null,"MY00 Malaysia"]
[null,null,null,null,null,"MV00 Maldivene"]
[null,null,null,null,null,"ML00 Mali"]
[null,null,null,null,null,"MT00 Malta"]
[null,null,null,null,null,"MA00 Marokko"]
[null,null,null,null,null,"MH00 Marshalløyene"]
[null,null,null,null,null,"MQ00 Martinique"]
[null,null,null,null,null,"MR00 Mauritania"]
[null,null,null,null,null,"MU00 Mauritius"]
[null,null,null,null,null,"YT00 Mayotte"]
[null,null,null,null,null,"MX00 Mexico"]
[null,null,null,null,null,"FM00 Mikronesia føderasjonen"]
[null,null,null,null,null,"MD00 Moldova"]
[null,null,null,null,null,"MC00 Monaco"]
[null,null,null,null,null,"MN00 Mongolia"]
[null,null,null,null,null,"ME00 Montenegro"]
[null,null,null,null,null,"MS00 Montserrat"]
[null,null,null,null,null,"MZ00 Mozambique"]
[null,null,null,null,null,"MM00 Myanmar"]
[null,null,null,null,null,"NA00 Namibia"]
[null,null,null,null,null,"NR00 Nauru"]
[null,null,null,null,null,"NL00 Nederland"]
[null,null,null,null,null,"AN00 Nederlandske Antiller"]
[null,null,null,null,null,"NP00 Nepal"]
[null,null,null,null,null,"NZ00 New Zealand"]
[null,null,null,null,null,"NI00 Nicaragua"]
[null,null,null,null,null,"NE00 Niger"]
[null,null,null,null,null,"NG00 Nigeria"]
[null,null,null,null,null,"NU00 Niue"]
[null,null,null,null,null,"MP00 Nord-Marianene"]
[null,null,null,null,null,"NF00 Norfolkøya"]
[null,null,null,null,null,"NC00 Ny-Kaledonia"]
[null,null,null,null,null,"OM00 Oman"]
[null,null,null,null,null,"PK00 Pakistan"]
[null,null,null,null,null,"PW00 Palau"]
[null,null,null,null,null,"PA00 Panama"]
[null,null,null,null,null,"PG00 Papua Ny-Guinea"]
[null,null,null,null,null,"PY00 Paraguay"]
[null,null,null,null,null,"PE00 Peru"]
[null,null,null,null,null,"PN00 Pitcairn"]
[null,null,null,null,null,"PL00 Polen"]
[null,null,null,null,null,"PT00 Portugal"]
[null,null,null,null,null,"PR00 Puerto Rico"]
[null,null,null,null,null,"QA00 Qatar"]
[null,null,null,null,null,"RE00 Reunion"]
[null,null,null,null,null,"RO00 Romania"]
[null,null,null,null,null,"RU00 Russland"]
[null,null,null,null,null,"RW00 Rwanda"]
[null,null,null,null,null,"BL00 Saint Barthelemy"]
[null,null,null,null,null,"MF00 Saint Martin (fransk del)"]
[null,null,null,null,null,"PM00 Saint-Pierre og Miquelon"]
[null,null,null,null,null,"SB00 Salomonøyene"]
[null,null,null,null,null,"WS00 Samoa"]
[null,null,null,null,null,"SM00 San Marino"]
[null,null,null,null,null,"ST00 Sao Tome og Principe"]
[null,null,null,null,null,"SA00 Saudi-Arabia"]
[null,null,null,null,null,"SN00 Senegal"]
[null,null,null,null,null,"CF00 Sentralafrikanske republikk"]
[null,null,null,null,null,"RS00 Serbia"]
[null,null,null,null,null,"SC00 Seychellene"]
[null,null,null,null,null,"SL00 Sierra Leone"]
[null,null,null,null,null,"SG00 Singapore"]
[null,null,null,null,null,"SX00 Sint Maarten"]
[null,null,null,null,null,"SK00 Slovakia"]
[null,null,null,null,null,"SI00 Slovenia"]
[null,null,null,null,null,"SO00 Somalia"]
[null,null,null,null,null,"ES00 Spania"]
[null,null,null,null,null,"LK00 Sri Lanka"]
[null,null,null,null,null,"SH00 St. Helena"]
[null,null,null,null,null,"KN00 St. Kitts og Nevis"]
[null,null,null,null,null,"LC00 St. Lucia"]
[null,null,null,null,null,"VC00 St. Vincent"]
[null,null,null,null,null,"GB00 Storbritannia"]
[null,null,null,null,null,"SD00 Sudan"]
[null,null,null,null,null,"SR00 Surinam"]
[null,null,null,null,null,"CH00 Sveits"]
[null,null,null,null,null,"SE00 Sverige"]
[null,null,null,null,null,"SZ00 Swaziland"]
[null,null,null,null,null,"SY00 Syria"]
[null,null,null,null,null,"ZA00 Sør-Afrika"]
[null,null,null,null,null,"GS00 Sør-Georgia"]
[null,null,null,null,null,"SS00 Sør-Sudan"]
[null,null,null,null,null,"TJ00 Tadzjikistan"]
[null,null,null,null,null,"TW00 Taiwan"]
[null,null,null,null,null,"TZ00 Tanzania"]
[null,null,null,null,null,"TH00 Thailand"]
[null,null,null,null,null,"TG00 Togo"]
[null,null,null,null,null,"TK00 Tokelau"]
[null,null,null,null,null,"TO00 Tonga"]
[null,null,null,null,null,"TT00 Trinidad og Tobago"]
[null,null,null,null,null,"TD00 Tsjad"]
[null,null,null,null,null,"CZ00 Tsjekkia"]
[null,null,null,null,null,"TN00 Tunisia"]
[null,null,null,null,null,"TM00 Turkmenistan"]
[null,null,null,null,null,"TC00 Turks- og Caicosøyene"]
[null,null,null,null,null,"TV00 Tuvalu"]
[null,null,null,null,null,"TR00 Tyrkia"]
[null,null,null,null,null,"DE00 Tyskland"]
[null,null,null,null,null,"XX00 Ufordelt land"]
[null,null,null,null,null,"UG00 Uganda"]
[null,null,null,null,null,"UA00 Ukrania"]
[null,null,null,null,null,"HU00 Ungarn"]
[null,null,null,null,null,"UY00 Uruguay"]
[null,null,null,null,null,"US00 USA"]
[null,null,null,null,null,"UM00 USA mindre utenforliggende øyer"]
[null,null,null,null,null,"PU00 USA Pacific Islands"]
[null,null,null,null,null,"UZ00 Uzbekistan"]
[null,null,null,null,null,"VU00 Vanuatu"]
[null,null,null,null,null,"VA00 Vatikanstaten"]
[null,null,null,null,null,"VE00 Venezuela"]
[null,null,null,null,null,"PS00 Vestbredden/Gazastripen"]
[null,null,null,null,null,"EH00 Vest-Sahara"]
[null,null,null,null,null,"VN00 Vietnam"]
[null,null,null,null,null,"WF00 Wallis og Futunaøyene"]
[null,null,null,null,null,"YE00 Yemen"]
[null,null,null,null,null,"ZM00 Zambia"]
[null,null,null,null,null,"ZW00 Zimbabwe"]
[null,null,null,null,null,"AT00 Østerrike"]
[null,null,null,null,null,"TL00 Øst-Timor"]
[null,null,null,null,null,"0000 Ingen fordeling"]
[null,null,null,null,null,"0000 Ingen fordeling"]
[null,null,null,null,null,"0000 Ingen fordeling"]
[null,null,null,null,null,"0000 Ingen fordeling"]
[null,null,null,null,null,"0000 Ingen fordeling"]
[null,null,null,null,null,"0000 Ingen fordeling"]
[null,null,null,null,null,"0000 Ingen fordeling"]
[null,null,null,null,null,"0000 Ingen fordeling"]
[null,null,null,null,null,"0000 Ingen fordeling"]
[null,null,null,null,null,"0000 Ingen fordeling"]
[null,null,null,null,null,"0000 Ingen fordeling"]
[null,null,null,null,null,"0000 Ingen fordeling"]
[null,null,null,null,null,"0000 Ingen fordeling"]
[null,null,null,null,null,"0000 Ingen fordeling"]
[null,null,null,null,null,"0000 Ingen fordeling"]
[null,null,null,null,null,"0000 Ingen fordeling"]
[null,null,null,null,null,"0000 Ingen fordeling"]
[null,null,null,null,null,"0000 Ingen fordeling"]
[null,null,null,null,null,"0000 Ingen fordeling"]
[null,null,null,null,null,"0000 Ingen fordeling"]
[null,null,null,null,null,"0000 Ingen fordeling"]
[null,null,null,null,null,"0000 Ingen fordeling"]
[null,null,null,null,null,"0000 Ingen fordeling"]
[null,null,null,null,null,"0000 Ingen fordeling"]
[null,null,null,null,null,"0000 Ingen fordeling"]
[null,null,null,null,null,"0000 Ingen fordeling"]
[null,null,null,null,null,"NO00 Norge"]
[null,null,null,null,null,"AF00 Afghanistan"]
[null,null,null,null,null,"AL00 Albania"]
[null,null,null,null,null,"DZ00 Algerie"]
[null,null,null,null,null,"AS00 Amerikansk Samoa"]
[null,null,null,null,null,"AD00 Andorra"]
[null,null,null,null,null,"AO00 Angola"]
[null,null,null,null,null,"AI00 Anguilla"]
[null,null,null,null,null,"AG00 Antigua og Barbuda"]
[null,null,null,null,null,"AR00 Argentina"]
[null,null,null,null,null,"AM00 Armenia"]
[null,null,null,null,null,"AW00 Aruba"]
[null,null,null,null,null,"AZ00 Aserbajdsjan"]
[null,null,null,null,null,"AU00 Australia"]
[null,null,null,null,null,"BS00 Bahamas"]
[null,null,null,null,null,"BH00 Bahrain"]
[null,null,null,null,null,"BD00 Bangladesh"]
[null,null,null,null,null,"BB00 Barbados"]
[null,null,null,null,null,"BE00 Belgia"]
[null,null,null,null,null,"BZ00 Belize"]
[null,null,null,null,null,"BJ00 Benin"]
[null,null,null,null,null,"BM00 Bermuda"]
[null,null,null,null,null,"BT00 Bhutan"]
[null,null,null,null,null,"BO00 Bolivia"]
[null,null,null,null,null,"BQ00 Bonaire, Saba, St.Eustatius"]
[null,null,null,null,null,"BA00 Bosnia Hercegovina"]
[null,null,null,null,null,"BW00 Botswana"]
[null,null,null,null,null,"BR00 Brasil"]
[null,null,null,null,null,"IO00 Britisk territorium i Det Indiske Hav"]
[null,null,null,null,null,"BN00 Brunei"]
[null,null,null,null,null,"BG00 Bulgaria"]
[null,null,null,null,null,"BF00 Burkina Faso"]
[null,null,null,null,null,"BI00 Burundi"]
[null,null,null,null,null,"CA00 Canada"]
[null,null,null,null,null,"KY00 Caymanøyene"]
[null,null,null,null,null,"CL00 Chile"]
[null,null,null,null,null,"CX00 Christmasøya"]
[null,null,null,null,null,"CO00 Colombia"]
[null,null,null,null,null,"CK00 Cookøyene"]
[null,null,null,null,null,"CR00 Costa Rica"]
[null,null,null,null,null,"CU00 Cuba"]
[null,null,null,null,null,"CW00 Curacao"]
[null,null,null,null,null,"DK00 Danmark"]
[null,null,null,null,null,"AE00 De forente Arabiske Emirater"]
[null,null,null,null,null,"DO00 Den Dominikanske Republikk"]
[null,null,null,null,null,"DJ00 Djibouti"]
[null,null,null,null,null,"DM00 Dominicia"]
[null,null,null,null,null,"EC00 Ecuador"]
[null,null,null,null,null,"EG00 Egypt"]
[null,null,null,null,null,"GQ00 Ekvatorial-Guinea"]
[null,null,null,null,null,"SV00 El Salvador"]
[null,null,null,null,null,"CI00 Elfenbenskysten"]
[null,null,null,null,null,"ER00 Eritrea"]
[null,null,null,null,null,"EE00 Estland"]
[null,null,null,null,null,"ET00 Etiopia"]
[null,null,null,null,null,"FK00 Falklandsøyene"]
[null,null,null,null,null,"FJ00 Fiji"]
[null,null,null,null,null,"PH00 Filippinene"]
[null,null,null,null,null,"FI00 Finland"]
[null,null,null,null,null,"FR00 Frankrike"]
[null,null,null,null,null,"GF00 Fransk Guyana"]
[null,null,null,null,null,"PF00 Fransk Polynesia"]
[null,null,null,null,null,"TF00 Franske Antiller"]
[null,null,null,null,null,"FO00 Færøyene"]
[null,null,null,null,null,"GA00 Gabon"]
[null,null,null,null,null,"GM00 Gambia"]
[null,null,null,null,null,"GE00 Georgia"]
[null,null,null,null,null,"GH00 Ghana"]
[null,null,null,null,null,"GI00 Gibraltar"]
[null,null,null,null,null,"GD00 Grenada"]
[null,null,null,null,null,"GL00 Grønland"]
[null,null,null,null,null,"GP00 Guadeloupe"]
[null,null,null,null,null,"GU00 Guam"]
[null,null,null,null,null,"GT00 Guatemala"]
[null,null,null,null,null,"GG00 Guernsey"]
[null,null,null,null,null,"GN00 Guinea"]
[null,null,null,null,null,"GW00 Guinea-Bissau"]
[null,null,null,null,null,"GY00 Guyana"]
[null,null,null,null,null,"HT00 Haiti"]
[null,null,null,null,null,"HM00 Heard- og McDonaldøyene"]
[null,null,null,null,null,"GR00 Hellas"]
[null,null,null,null,null,"HN00 Honduras"]
[null,null,null,null,null,"HK00 Hong Kong"]
[null,null,null,null,null,"BY00 Hviterussland"]
[null,null,null,null,null,"IN00 India"]
[null,null,null,null,null,"ID00 Indonesia"]
[null,null,null,null,null,"ZZ00 Internasjonale organisasjoner"]
[null,null,null,null,null,"IQ00 Irak"]
[null,null,null,null,null,"IR00 Iran"]
[null,null,null,null,null,"IE00 Irland"]
[null,null,null,null,null,"IS00 Island"]
[null,null,null,null,null,"IM00 Isle of Man"]
[null,null,null,null,null,"IL00 Israel"]
[null,null,null,null,null,"IT00 Italia"]
[null,null,null,null,null,"JM00 Jamaica"]
[null,null,null,null,null,"JP00 Japan"]
[null,null,null,null,null,"JE00 Jersey"]
[null,null,null,null,null,"VI00 Jomfruøyene, Amerikanske"]
[null,null,null,null,null,"VG00 Jomfruøyene, Britiske"]
[null,null,null,null,null,"JO00 Jordan"]
[null,null,null,null,null,"KH00 Kambodsja"]
[null,null,null,null,null,"CM00 Kamerun"]
[null,null,null,null,null,"CV00 Kapp Verde"]
[null,null,null,null,null,"KZ00 Kasakhstan"]
[null,null,null,null,null,"KE00 Kenya"]
[null,null,null,null,null,"CN00 Kina"]
[null,null,null,null,null,"KG00 Kirgistan"]
[null,null,null,null,null,"KI00 Kiribati"]
[null,null,null,null,null,"CC00 Kokosøyene"]
[null,null,null,null,null,"KM00 Komorene"]
[null,null,null,null,null,"CD00 Kongo, Den demokratiske republ"]
[null,null,null,null,null,"CG00 Kongo, Republikken"]
[null,null,null,null,null,"KP00 Korea, Nord-"]
[null,null,null,null,null,"KR00 Korea, Sør-"]
[null,null,null,null,null,"HR00 Kroatia"]
[null,null,null,null,null,"KW00 Kuwait"]
[null,null,null,null,null,"CY00 Kypros"]
[null,null,null,null,null,"LA00 Laos"]
[null,null,null,null,null,"LV00 Latvia"]
[null,null,null,null,null,"LS00 Lesotho"]
[null,null,null,null,null,"LB00 Libanon"]
[null,null,null,null,null,"LR00 Liberia"]
[null,null,null,null,null,"LY00 Libya"]
[null,null,null,null,null,"LI00 Liechtenstein"]
[null,null,null,null,null,"LT00 Litauen"]
[null,null,null,null,null,"LU00 Luxembourg"]
[null,null,null,null,null,"MO00 Macao"]
[null,null,null,null,null,"MG00 Madagaskar"]
[null,null,null,null,null,"MK00 Makedonia"]
[null,null,null,null,null,"MW00 Malawi"]
[null,null,null,null,null,"MY00 Malaysia"]
[null,null,null,null,null,"MV00 Maldivene"]
[null,null,null,null,null,"ML00 Mali"]
[null,null,null,null,null,"MT00 Malta"]
[null,null,null,null,null,"MA00 Marokko"]
[null,null,null,null,null,"MH00 Marshalløyene"]
[null,null,null,null,null,"MQ00 Martinique"]
[null,null,null,null,null,"MR00 Mauritania"]
[null,null,null,null,null,"MU00 Mauritius"]
[null,null,null,null,null,"YT00 Mayotte"]
[null,null,null,null,null,"MX00 Mexico"]
[null,null,null,null,null,"FM00 Mikronesia føderasjonen"]
[null,null,null,null,null,"MD00 Moldova"]
[null,null,null,null,null,"MC00 Monaco"]
[null,null,null,null,null,"MN00 Mongolia"]
[null,null,null,null,null,"ME00 Montenegro"]
[null,null,null,null,null,"MS00 Montserrat"]
[null,null,null,null,null,"MZ00 Mozambique"]
[null,null,null,null,null,"MM00 Myanmar"]
[null,null,null,null,null,"NA00 Namibia"]
[null,null,null,null,null,"NR00 Nauru"]
[null,null,null,null,null,"NL00 Nederland"]
[null,null,null,null,null,"AN00 Nederlandske Antiller"]
[null,null,null,null,null,"NP00 Nepal"]
[null,null,null,null,null,"NZ00 New Zealand"]
[null,null,null,null,null,"NI00 Nicaragua"]
[null,null,null,null,null,"NE00 Niger"]
[null,null,null,null,null,"NG00 Nigeria"]
[null,null,null,null,null,"NU00 Niue"]
[null,null,null,null,null,"MP00 Nord-Marianene"]
[null,null,null,null,null,"NF00 Norfolkøya"]
[null,null,null,null,null,"NC00 Ny-Kaledonia"]
[null,null,null,null,null,"OM00 Oman"]
[null,null,null,null,null,"PK00 Pakistan"]
[null,null,null,null,null,"PW00 Palau"]
[null,null,null,null,null,"PA00 Panama"]
[null,null,null,null,null,"PG00 Papua Ny-Guinea"]
[null,null,null,null,null,"PY00 Paraguay"]
[null,null,null,null,null,"PE00 Peru"]
[null,null,null,null,null,"PN00 Pitcairn"]
[null,null,null,null,null,"PL00 Polen"]
[null,null,null,null,null,"PT00 Portugal"]
[null,null,null,null,null,"PR00 Puerto Rico"]
[null,null,null,null,null,"QA00 Qatar"]
[null,null,null,null,null,"RE00 Reunion"]
[null,null,null,null,null,"RO00 Romania"]
[null,null,null,null,null,"RU00 Russland"]
[null,null,null,null,null,"RW00 Rwanda"]
[null,null,null,null,null,"BL00 Saint Barthelemy"]
[null,null,null,null,null,"MF00 Saint Martin (fransk del)"]
[null,null,null,null,null,"PM00 Saint-Pierre og Miquelon"]
[null,null,null,null,null,"SB00 Salomonøyene"]
[null,null,null,null,null,"WS00 Samoa"]
[null,null,null,null,null,"SM00 San Marino"]
[null,null,null,null,null,"ST00 Sao Tome og Principe"]
[null,null,null,null,null,"SA00 Saudi-Arabia"]
[null,null,null,null,null,"SN00 Senegal"]
[null,null,null,null,null,"CF00 Sentralafrikanske republikk"]
[null,null,null,null,null,"RS00 Serbia"]
[null,null,null,null,null,"SC00 Seychellene"]
[null,null,null,null,null,"SL00 Sierra Leone"]
[null,null,null,null,null,"SG00 Singapore"]
[null,null,null,null,null,"SX00 Sint Maarten"]
[null,null,null,null,null,"SK00 Slovakia"]
[null,null,null,null,null,"SI00 Slovenia"]
[null,null,null,null,null,"SO00 Somalia"]
[null,null,null,null,null,"ES00 Spania"]
[null,null,null,null,null,"LK00 Sri Lanka"]
[null,null,null,null,null,"SH00 St. Helena"]
[null,null,null,null,null,"KN00 St. Kitts og Nevis"]
[null,null,null,null,null,"LC00 St. Lucia"]
[null,null,null,null,null,"VC00 St. Vincent"]
[null,null,null,null,null,"GB00 Storbritannia"]
[null,null,null,null,null,"SD00 Sudan"]
[null,null,null,null,null,"SR00 Surinam"]
[null,null,null,null,null,"CH00 Sveits"]
[null,null,null,null,null,"SE00 Sverige"]
[null,null,null,null,null,"SZ00 Swaziland"]
[null,null,null,null,null,"SY00 Syria"]
[null,null,null,null,null,"ZA00 Sør-Afrika"]
[null,null,null,null,null,"GS00 Sør-Georgia"]
[null,null,null,null,null,"SS00 Sør-Sudan"]
[null,null,null,null,null,"TJ00 Tadzjikistan"]
[null,null,null,null,null,"TW00 Taiwan"]
[null,null,null,null,null,"TZ00 Tanzania"]
[null,null,null,null,null,"TH00 Thailand"]
[null,null,null,null,null,"TG00 Togo"]
[null,null,null,null,null,"TK00 Tokelau"]
[null,null,null,null,null,"TO00 Tonga"]
[null,null,null,null,null,"TT00 Trinidad og Tobago"]
[null,null,null,null,null,"TD00 Tsjad"]
[null,null,null,null,null,"CZ00 Tsjekkia"]
[null,null,null,null,null,"TN00 Tunisia"]
[null,null,null,null,null,"TM00 Turkmenistan"]
[null,null,null,null,null,"TC00 Turks- og Caicosøyene"]
[null,null,null,null,null,"TV00 Tuvalu"]
[null,null,null,null,null,"TR00 Tyrkia"]
[null,null,null,null,null,"DE00 Tyskland"]
[null,null,null,null,null,"XX00 Ufordelt land"]
[null,null,null,null,null,"UG00 Uganda"]
[null,null,null,null,null,"UA00 Ukrania"]
[null,null,null,null,null,"HU00 Ungarn"]
[null,null,null,null,null,"UY00 Uruguay"]
[null,null,null,null,null,"US00 USA"]
[null,null,null,null,null,"UM00 USA mindre utenforliggende øyer"]
[null,null,null,null,null,"PU00 USA Pacific Islands"]
[null,null,null,null,null,"UZ00 Uzbekistan"]
[null,null,null,null,null,"VU00 Vanuatu"]
[null,null,null,null,null,"VA00 Vatikanstaten"]
[null,null,null,null,null,"VE00 Venezuela"]
[null,null,null,null,null,"PS00 Vestbredden/Gazastripen"]
[null,null,null,null,null,"EH00 Vest-Sahara"]
[null,null,null,null,null,"VN00 Vietnam"]
[null,null,null,null,null,"WF00 Wallis og Futunaøyene"]
[null,null,null,null,null,"YE00 Yemen"]
[null,null,null,null,null,"ZM00 Zambia"]
[null,null,null,null,null,"ZW00 Zimbabwe"]
[null,null,null,null,null,"AT00 Østerrike"]
[null,null,null,null,null,"TL00 Øst-Timor"]
[null,null,null,null,null,"NO00 Norge"]
[null,null,null,null,null,"AF00 Afghanistan"]
[null,null,null,null,null,"AL00 Albania"]
[null,null,null,null,null,"DZ00 Algerie"]
[null,null,null,null,null,"AS00 Amerikansk Samoa"]
[null,null,null,null,null,"AD00 Andorra"]
[null,null,null,null,null,"AO00 Angola"]
[null,null,null,null,null,"AI00 Anguilla"]
[null,null,null,null,null,"AG00 Antigua og Barbuda"]
[null,null,null,null,null,"AR00 Argentina"]
[null,null,null,null,null,"AM00 Armenia"]
[null,null,null,null,null,"AW00 Aruba"]
[null,null,null,null,null,"AZ00 Aserbajdsjan"]
[null,null,null,null,null,"AU00 Australia"]
[null,null,null,null,null,"BS00 Bahamas"]
[null,null,null,null,null,"BH00 Bahrain"]
[null,null,null,null,null,"BD00 Bangladesh"]
[null,null,null,null,null,"BB00 Barbados"]
[null,null,null,null,null,"BE00 Belgia"]
[null,null,null,null,null,"BZ00 Belize"]
[null,null,null,null,null,"BJ00 Benin"]
[null,null,null,null,null,"BM00 Bermuda"]
[null,null,null,null,null,"BT00 Bhutan"]
[null,null,null,null,null,"BO00 Bolivia"]
[null,null,null,null,null,"BQ00 Bonaire, Saba, St.Eustatius"]
[null,null,null,null,null,"BA00 Bosnia Hercegovina"]
[null,null,null,null,null,"BW00 Botswana"]
[null,null,null,null,null,"BR00 Brasil"]
[null,null,null,null,null,"IO00 Britisk territorium i Det Indiske Hav"]
[null,null,null,null,null,"BN00 Brunei"]
[null,null,null,null,null,"BG00 Bulgaria"]
[null,null,null,null,null,"BF00 Burkina Faso"]
[null,null,null,null,null,"BI00 Burundi"]
[null,null,null,null,null,"CA00 Canada"]
[null,null,null,null,null,"KY00 Caymanøyene"]
[null,null,null,null,null,"CL00 Chile"]
[null,null,null,null,null,"CX00 Christmasøya"]
[null,null,null,null,null,"CO00 Colombia"]
[null,null,null,null,null,"CK00 Cookøyene"]
[null,null,null,null,null,"CR00 Costa Rica"]
[null,null,null,null,null,"CU00 Cuba"]
[null,null,null,null,null,"CW00 Curacao"]
[null,null,null,null,null,"DK00 Danmark"]
[null,null,null,null,null,"AE00 De forente Arabiske Emirater"]
[null,null,null,null,null,"DO00 Den Dominikanske Republikk"]
[null,null,null,null,null,"DJ00 Djibouti"]
[null,null,null,null,null,"DM00 Dominicia"]
[null,null,null,null,null,"EC00 Ecuador"]
[null,null,null,null,null,"EG00 Egypt"]
[null,null,null,null,null,"GQ00 Ekvatorial-Guinea"]
[null,null,null,null,null,"SV00 El Salvador"]
[null,null,null,null,null,"CI00 Elfenbenskysten"]
[null,null,null,null,null,"ER00 Eritrea"]
[null,null,null,null,null,"EE00 Estland"]
[null,null,null,null,null,"ET00 Etiopia"]
[null,null,null,null,null,"FK00 Falklandsøyene"]
[null,null,null,null,null,"FJ00 Fiji"]
[null,null,null,null,null,"PH00 Filippinene"]
[null,null,null,null,null,"FI00 Finland"]
[null,null,null,null,null,"FR00 Frankrike"]
[null,null,null,null,null,"GF00 Fransk Guyana"]
[null,null,null,null,null,"PF00 Fransk Polynesia"]
[null,null,null,null,null,"TF00 Franske Antiller"]
[null,null,null,null,null,"FO00 Færøyene"]
[null,null,null,null,null,"GA00 Gabon"]
[null,null,null,null,null,"GM00 Gambia"]
[null,null,null,null,null,"GE00 Georgia"]
[null,null,null,null,null,"GH00 Ghana"]
[null,null,null,null,null,"GI00 Gibraltar"]
[null,null,null,null,null,"GD00 Grenada"]
[null,null,null,null,null,"GL00 Grønland"]
[null,null,null,null,null,"GP00 Guadeloupe"]
[null,null,null,null,null,"GU00 Guam"]
[null,null,null,null,null,"GT00 Guatemala"]
[null,null,null,null,null,"GG00 Guernsey"]
[null,null,null,null,null,"GN00 Guinea"]
[null,null,null,null,null,"GW00 Guinea-Bissau"]
[null,null,null,null,null,"GY00 Guyana"]
[null,null,null,null,null,"HT00 Haiti"]
[null,null,null,null,null,"HM00 Heard- og McDonaldøyene"]
[null,null,null,null,null,"GR00 Hellas"]
[null,null,null,null,null,"HN00 Honduras"]
[null,null,null,null,null,"HK00 Hong Kong"]
[null,null,null,null,null,"BY00 Hviterussland"]
[null,null,null,null,null,"IN00 India"]
[null,null,null,null,null,"ID00 Indonesia"]
[null,null,null,null,null,"ZZ00 Internasjonale organisasjoner"]
[null,null,null,null,null,"IQ00 Irak"]
[null,null,null,null,null,"IR00 Iran"]
[null,null,null,null,null,"IE00 Irland"]
[null,null,null,null,null,"IS00 Island"]
[null,null,null,null,null,"IM00 Isle of Man"]
[null,null,null,null,null,"IL00 Israel"]
[null,null,null,null,null,"IT00 Italia"]
[null,null,null,null,null,"JM00 Jamaica"]
[null,null,null,null,null,"JP00 Japan"]
[null,null,null,null,null,"JE00 Jersey"]
[null,null,null,null,null,"VI00 Jomfruøyene, Amerikanske"]
[null,null,null,null,null,"VG00 Jomfruøyene, Britiske"]
[null,null,null,null,null,"JO00 Jordan"]
[null,null,null,null,null,"KH00 Kambodsja"]
[null,null,null,null,null,"CM00 Kamerun"]
[null,null,null,null,null,"CV00 Kapp Verde"]
[null,null,null,null,null,"KZ00 Kasakhstan"]
[null,null,null,null,null,"KE00 Kenya"]
[null,null,null,null,null,"CN00 Kina"]
[null,null,null,null,null,"KG00 Kirgistan"]
[null,null,null,null,null,"KI00 Kiribati"]
[null,null,null,null,null,"CC00 Kokosøyene"]
[null,null,null,null,null,"KM00 Komorene"]
[null,null,null,null,null,"CD00 Kongo, Den demokratiske republ"]
[null,null,null,null,null,"CG00 Kongo, Republikken"]
[null,null,null,null,null,"KP00 Korea, Nord-"]
[null,null,null,null,null,"KR00 Korea, Sør-"]
[null,null,null,null,null,"HR00 Kroatia"]
[null,null,null,null,null,"KW00 Kuwait"]
[null,null,null,null,null,"CY00 Kypros"]
[null,null,null,null,null,"LA00 Laos"]
[null,null,null,null,null,"LV00 Latvia"]
[null,null,null,null,null,"LS00 Lesotho"]
[null,null,null,null,null,"LB00 Libanon"]
[null,null,null,null,null,"LR00 Liberia"]
[null,null,null,null,null,"LY00 Libya"]
[null,null,null,null,null,"LI00 Liechtenstein"]
[null,null,null,null,null,"LT00 Litauen"]
[null,null,null,null,null,"LU00 Luxembourg"]
[null,null,null,null,null,"MO00 Macao"]
[null,null,null,null,null,"MG00 Madagaskar"]
[null,null,null,null,null,"MK00 Makedonia"]
[null,null,null,null,null,"MW00 Malawi"]
[null,null,null,null,null,"MY00 Malaysia"]
[null,null,null,null,null,"MV00 Maldivene"]
[null,null,null,null,null,"ML00 Mali"]
[null,null,null,null,null,"MT00 Malta"]
[null,null,null,null,null,"MA00 Marokko"]
[null,null,null,null,null,"MH00 Marshalløyene"]
[null,null,null,null,null,"MQ00 Martinique"]
[null,null,null,null,null,"MR00 Mauritania"]
[null,null,null,null,null,"MU00 Mauritius"]
[null,null,null,null,null,"YT00 Mayotte"]
[null,null,null,null,null,"MX00 Mexico"]
[null,null,null,null,null,"FM00 Mikronesia føderasjonen"]
[null,null,null,null,null,"MD00 Moldova"]
[null,null,null,null,null,"MC00 Monaco"]
[null,null,null,null,null,"MN00 Mongolia"]
[null,null,null,null,null,"ME00 Montenegro"]
[null,null,null,null,null,"MS00 Montserrat"]
[null,null,null,null,null,"MZ00 Mozambique"]
[null,null,null,null,null,"MM00 Myanmar"]
[null,null,null,null,null,"NA00 Namibia"]
[null,null,null,null,null,"NR00 Nauru"]
[null,null,null,null,null,"NL00 Nederland"]
[null,null,null,null,null,"AN00 Nederlandske Antiller"]
[null,null,null,null,null,"NP00 Nepal"]
[null,null,null,null,null,"NZ00 New Zealand"]
[null,null,null,null,null,"NI00 Nicaragua"]
[null,null,null,null,null,"NE00 Niger"]
[null,null,null,null,null,"NG00 Nigeria"]
[null,null,null,null,null,"NU00 Niue"]
[null,null,null,null,null,"MP00 Nord-Marianene"]
[null,null,null,null,null,"NF00 Norfolkøya"]
[null,null,null,null,null,"NC00 Ny-Kaledonia"]
[null,null,null,null,null,"OM00 Oman"]
[null,null,null,null,null,"PK00 Pakistan"]
[null,null,null,null,null,"PW00 Palau"]
[null,null,null,null,null,"PA00 Panama"]
[null,null,null,null,null,"PG00 Papua Ny-Guinea"]
[null,null,null,null,null,"PY00 Paraguay"]
[null,null,null,null,null,"PE00 Peru"]
[null,null,null,null,null,"PN00 Pitcairn"]
[null,null,null,null,null,"PL00 Polen"]
[null,null,null,null,null,"PT00 Portugal"]
[null,null,null,null,null,"PR00 Puerto Rico"]
[null,null,null,null,null,"QA00 Qatar"]
[null,null,null,null,null,"RE00 Reunion"]
[null,null,null,null,null,"RO00 Romania"]
[null,null,null,null,null,"RU00 Russland"]
[null,null,null,null,null,"RW00 Rwanda"]
[null,null,null,null,null,"BL00 Saint Barthelemy"]
[null,null,null,null,null,"MF00 Saint Martin (fransk del)"]
[null,null,null,null,null,"PM00 Saint-Pierre og Miquelon"]
[null,null,null,null,null,"SB00 Salomonøyene"]
[null,null,null,null,null,"WS00 Samoa"]
[null,null,null,null,null,"SM00 San Marino"]
[null,null,null,null,null,"ST00 Sao Tome og Principe"]
[null,null,null,null,null,"SA00 Saudi-Arabia"]
[null,null,null,null,null,"SN00 Senegal"]
[null,null,null,null,null,"CF00 Sentralafrikanske republikk"]
[null,null,null,null,null,"RS00 Serbia"]
[null,null,null,null,null,"SC00 Seychellene"]
[null,null,null,null,null,"SL00 Sierra Leone"]
[null,null,null,null,null,"SG00 Singapore"]
[null,null,null,null,null,"SX00 Sint Maarten"]
[null,null,null,null,null,"SK00 Slovakia"]
[null,null,null,null,null,"SI00 Slovenia"]
[null,null,null,null,null,"SO00 Somalia"]
[null,null,null,null,null,"ES00 Spania"]
[null,null,null,null,null,"LK00 Sri Lanka"]
[null,null,null,null,null,"SH00 St. Helena"]
[null,null,null,null,null,"KN00 St. Kitts og Nevis"]
[null,null,null,null,null,"LC00 St. Lucia"]
[null,null,null,null,null,"VC00 St. Vincent"]
[null,null,null,null,null,"GB00 Storbritannia"]
[null,null,null,null,null,"SD00 Sudan"]
[null,null,null,null,null,"SR00 Surinam"]
[null,null,null,null,null,"CH00 Sveits"]
[null,null,null,null,null,"SE00 Sverige"]
[null,null,null,null,null,"SZ00 Swaziland"]
[null,null,null,null,null,"SY00 Syria"]
[null,null,null,null,null,"ZA00 Sør-Afrika"]
[null,null,null,null,null,"GS00 Sør-Georgia"]
[null,null,null,null,null,"SS00 Sør-Sudan"]
[null,null,null,null,null,"TJ00 Tadzjikistan"]
[null,null,null,null,null,"TW00 Taiwan"]
[null,null,null,null,null,"TZ00 Tanzania"]
[null,null,null,null,null,"TH00 Thailand"]
[null,null,null,null,null,"TG00 Togo"]
[null,null,null,null,null,"TK00 Tokelau"]
[null,null,null,null,null,"TO00 Tonga"]
[null,null,null,null,null,"TT00 Trinidad og Tobago"]
[null,null,null,null,null,"TD00 Tsjad"]
[null,null,null,null,null,"CZ00 Tsjekkia"]
[null,null,null,null,null,"TN00 Tunisia"]
[null,null,null,null,null,"TM00 Turkmenistan"]
[null,null,null,null,null,"TC00 Turks- og Caicosøyene"]
[null,null,null,null,null,"TV00 Tuvalu"]
[null,null,null,null,null,"TR00 Tyrkia"]
[null,null,null,null,null,"DE00 Tyskland"]
[null,null,null,null,null,"XX00 Ufordelt land"]
[null,null,null,null,null,"UG00 Uganda"]
[null,null,null,null,null,"UA00 Ukrania"]
[null,null,null,null,null,"HU00 Ungarn"]
[null,null,null,null,null,"UY00 Uruguay"]
[null,null,null,null,null,"US00 USA"]
[null,null,null,null,null,"UM00 USA mindre utenforliggende øyer"]
[null,null,null,null,null,"PU00 USA Pacific Islands"]
[null,null,null,null,null,"UZ00 Uzbekistan"]
[null,null,null,null,null,"VU00 Vanuatu"]
[null,null,null,null,null,"VA00 Vatikanstaten"]
[null,null,null,null,null,"VE00 Venezuela"]
[null,null,null,null,null,"PS00 Vestbredden/Gazastripen"]
[null,null,null,null,null,"EH00 Vest-Sahara"]
[null,null,null,null,null,"VN00 Vietnam"]
[null,null,null,null,null,"WF00 Wallis og Futunaøyene"]
[null,null,null,null,null,"YE00 Yemen"]
[null,null,null,null,null,"ZM00 Zambia"]
[null,null,null,null,null,"ZW00 Zimbabwe"]
[null,null,null,null,null,"AT00 Østerrike"]
[null,null,null,null,null,"TL00 Øst-Timor"]
[null,null,null,null,null,"0000 Ingen fordeling"]
[null,null,null,null,null,"0000 Ingen fordeling"]
[null,null,null,null,null,"0000 Ingen fordeling"]
[null,null,null,null,null,"0000 Ingen fordeling"]
[null,null,null,null,null,"0000 Ingen fordeling"]
[null,null,null,null,null,"0000 Ingen fordeling"]
[null,null,null,null,null,"0000 Ingen fordeling"]
[null,null,null,null,null,"0000 Ingen fordeling"]
[null,null,null,null,null,"0000 Ingen fordeling"]
[null,null,null,null,null,"0000 Ingen fordeling"]
[null,null,null,null,null,"0000 Ingen fordeling"]
[null,null,null,null,null,"0000 Ingen fordeling"]
[null,null,null,null,null,"0000 Ingen fordeling"]
[null,null,null,null,null,"0000 Ingen fordeling"]

{"sheet":"Hjelp","index":9,"n_rows":136,"n_cols":2,"rows_kept":136,"cut":false,"hidden":true,"merged":[[28,1,28,7],[29,1,29,7],[1,1,1,7],[9,1,9,7],[16,1,16,7],[27,1,27,7],[10,1,10,7],[6,1,6,7],[7,1,7,7],[135,1,135,7],[32,1,32,7],[51,1,51,7],[83,1,83,7],[130,1,130,7],[133,1,133,7],[115,1,115,7]]}
[]
[null,"Dette arket gir en innføring i hvordan man fyller ut regnearksmalen som benyttes for å rapportere PORT. For nærmere informasjon om prosedyrer for oversendelse av data til SSB se http://www.ssb.no/pensjonskasser/rapportering/Altinn, ev. se kapitel 7 i \"Veiledning til rapporteringen\" som finnes på følgende internettside http://www.ssb.no/pensjonskasser/rapportering. "]
[]
[null,"Hjelp til utfylling av regnearksmalen"]
[]
[null,"1 Generell informasjon"]
[null,"Regnearksmalen er laget slik at rapportøren selv bygger opp en kode ut i fra lovlige kodekombinasjoner. Brukeren skal benytte nedtrekksmenyer for å legge inn kodeverdier."]
[null,"Vi anbefaler brukeren til å lagre regnearket som inneholder egne data i et navnesystem på et eget område. Et eksempel på en filstruktur kan være \\Rapporter til offentlige myndigheter\\PORT\\R50\\filnavnR50-200812.xls "]
[]
[null,"Når du har fylt ut regnearksmalen skal du sende en fil som kun innholder de utfylte dataene til Statistisk sentralbyrå og ikke hele Excel dokumentet. For å generere de utfylte dataene til en fil for oversending trykker du på knappen \"Klargjøring for sending\", som du finner øverst i regnearksmalen. Du får beskjed om å lagre filen på et ønsket område, slik at den lett kan hentes frem for overføring. "]
[null,"For innsending av data til SSB benyttes Altinn portalen. Altinn portalen gir en sikker dataoverføing. Nærmere informasjon om prosedyrer for innsending av data til SSB se http://www.ssb.no/pensjonsfond/rapportering/ eller se kapitel 7 i  \"Veiledning til rapporteringen\" som ligger ute på http://www.ssb.no/pensjonsfond/rapportering/"]
[null,"2 Utfylling av regnearksmalen"]
[]
[null,"Rapport 50 (årsbalansen) brukt som eksempel. De samme utfyllingsprinsippene gjelder for rapport 20 og 51."]
[]
[null,"2.1 Generelt"]
[null,"Det første du bør fylle ut er organisasjonsnummer (9 siffer) på startsiden"]
[]
[]
[]
[]
[]
[]
[]
[]
[]
[null,"2.2 Førstegangsregistrering av koder og beløp"]
[null,"Regnearket er bygd opp av nedtrekksmenyer. Ved å trykke på pilen til høyre i en kolonne, kommer valgmuligheten opp, og du velger hvilken kode du skal benytte. Man starter bestandig med å velge hvilken post man ønsker. Når denne er valgt, vil den tilhørende koden komme opp i kolonne B. Ut fra hvilken post som ble valgt, vil de lovlige portefølje-, verdsettings-, sektor- og valutakodene for denne posten komme opp i de respektive nedtrekksmenyene. Etter at valutakode er valgt, kan du taste inn selve verdien (og deretter trykke enter). Hvis det kun er én lovlig portefølje-, verdsettings-, sektor- eller valutakode vil denne automatisk legge seg inn i feltet, og du kan velge neste felt i raden."]
[null,"nedtrekksmenyen i regnearksmalen er følsom for bruksmåte. Det anbefales derfor at man hele tiden bruker musepeker for å velge riktige koder fra nedtrekksmenyene, og kun taster inn tall i beløpsfeltet. Fyll hele tiden ut rapportene fra venstre mot høyre, på denne måten er man sikker på at man får opp de statistiske kjennetegnene som korresponderer til den koden som ble valgt i kolonne A. Funksjonaliteten i nedtrekksmenyen forsvinner når man bruker piltastene på tastaturet, eller kopierer cellene nedover."]
[null,"Vær oppmerksom på at øverste delen av skjermbildet er fryst slik at nedtrekksmenyene vises uansett hvor langt ned på arket man er. Hvis en valgt kode ikke kommer opp i det hvite feltet under nedtrekksmenyen, kan dette skyldes at man er for langt nede på arket. Om man da blar seg oppover i arket vil man finne koden man akkurat har valgt.  "]
[]
[null,"2.3 Samme postering med forskjellige statistiske kjennetegn"]
[null,"Det er ikke mulig å velge samme kode i kolonne to ganger rett etter hverandre. Problemet kan løses på følgende måte: Velg den koden du ønsker i kolonne A og bruk nedtrekksmenyene videre for å velge riktige statistiske kjennetegn (portefølje, sektor osv.), og tast til slutt inn beløp. Gå deretter inn i nedtrekksmenyen i kolonne A og velg ett blankt felt. Velg deretter den første koden på nytt og fyll ut riktige statistiske kjennetegn. NB: Dersom de to linjene/oppføringene er identiske (dubletter) bortsett fra beløpet, skal de slås sammen."]
[]
[null,"2.4 Registrering av data"]
[null,"Nedenfor følger gangen i registrering av en kode:"]
[]
[]
[]
[]
[]
[]
[]
[]
[]
[]
[]
[]
[]
[]
[]
[null,"Hvis du for eksempel velger posten 1362100 Aksjer, eksl. aksjer i eiendomsselskaper, kommer koden 1362100 i kolonne B. Fra kolonne C ser du nå hvilke tillatte porteføljer aksjene kan tilskrives, og du må velge den porteføljen aksjebeholdingen tilhører fra nedtrekksmenyen. "]
[]
[]
[]
[]
[]
[]
[]
[]
[]
[]
[]
[]
[]
[]
[]
[null,"Når du har valgt porteføljekode, må du spesifisere verdsetting fra nedtrekksmenyen"]
[]
[]
[]
[]
[]
[]
[]
[]
[]
[]
[]
[]
[]
[]
[]
[null,"Etter at du har valgt verdsettingskode, må du spesifisere sektor fra nedtrekksmenyen "]
[]
[]
[]
[]
[]
[]
[]
[]
[]
[]
[]
[]
[]
[]
[]
[null,"Etter at du har valgt sektorkode, må du spesifisere valuta "]
[]
[]
[]
[]
[]
[]
[]
[]
[]
[]
[]
[]
[]
[]
[]
[null,"Etter at du har valgt valutakode, kan du taste inn verdien og deretter trykke <enter>. Du er nå klar til å registrere neste post"]
[]
[]
[]
[]
[]
[]
[]
[]
[]
[]
[]
[]
[]
[]
[null,"Kodene må registreres fortløpende, og hvis man har glemt en kode, må denne registres nederst i arket. Sorteringsknappen øverst i regnearket sorterer de radene du har fylt ut. Etter registrering av noen koder kan arket sorteres slik at kodene ligger i stigende rekkefølge. Sorteringen kan utføres når som helst, men hele raden må være utfylt. Etter sorteringen kan du gjerne fortsette å registre koder. Etter at alle postene i rapport 50 er fylt ut må Kontroll r50 kjøres. Rett opp i eventuelle feil som påpekes og kjør kontrollen på nytt. Vær oppmerksom på at  kontrollen må kjøres en gang til etter at siste feil er rettet opp slik at det blir registrert at rapporten er feilfri. Rapportene kan ikke klargjøres for sending om de ikke er feilfrie. Det er også en kontroll mellom Eiendeler - egenkapital og gjeld (inntekter - kostnader i rapport 20). Om ikke denne kontrollen står i null, vil det ikke være mulig å klargjøre rapportene for sending til SSB. "]
[null,"3 Spørsmål"]
[]
[null,"For spørsmål angående rapporteringen ta kontakt med Statistisk sentralbyrå (SSB) på telefon 21 09 00 00 eller send e-post til Kreditt250@ssb.no, evt. ta kontakt med Kredittilsynet på telefon 22 93 98 00."]
[]
[null,"For spørsmål om innsending via Altinn se www.altinnn.no eller kontakt Altinns supporttjeneste på e-post adresse support@altinn.no eller 23 14 52 22"]

{"sheet":"Feilliste","index":10,"n_rows":3,"n_cols":4,"rows_kept":3,"cut":false,"hidden":true,"merged":[]}
["1) Antall posteringer i rapport 20 er null. Rapport 20 må fylles ut før man kjører kontroll r20.","1) Antall posteringer i rapport 50 er null. Rapport 50 må fylles ut før man kjører kontroll r50","1) Antall posteringer i rapport 51 er null. Rapport 51 må fylles ut før man kjører kontroll r51","1) Antall posteringer i rapport 20 er null. Alle tre rapporter må fylles ut før man kjører avstemmingskontrollen."]
[null,null,null,"2) Antall posteringer i rapport 50 er null. Alle tre rapporter må fylles ut før man kjører avstemmingskontrollen."]
[null,null,null,"3) Antall posteringer i rapport 51 er null. Alle tre rapporter må fylles ut før man kjører avstemmingskontrollen."]

{"sheet":"Kontroll","index":11,"n_rows":404,"n_cols":12,"rows_kept":404,"cut":false,"hidden":true,"merged":[[5,10,5,11]]}
["Kontroller"]
["NB: Alle kontrollene på dette arket har makroer som er tilknyttet spesifikke celler. Cellereferansene i makroene oppdateres ikke når det blir lagt til/fjernet rader og kolonner i dette arket. "]
["Hvis noe skal legges til på dette arket, legg det nederst på arket eller på siden, men ikke sett inn/fjern rader og kolonner."]
["1) Rapport 50: Aktiva=passiva"]
[]
[null,null,null,null,null,null,null,null,"Kontrollkjøring"," OK?","Oppstillingsplan"]
["POSTER I BALANSEN","KODE","PORTEFØLJE","SEKTOR","BELØP","KODE",null,null,"Kontroll r20",null,"resultat"]
[null,">=1150000",null,null,null,"<=5870000",{"$f":"ROUND(DSUM('r50'!$A$11:$G$998,\"BELØP\",Kontroll!$A$7:$F$8),0)","v":0},null,"Kontroll r50",null,"balanse"]
[null,null,null,null,null,null,null,null,"Kontroll r51"]
[null,null,null,null,null,null,null,null,"Avstemming"]
["POSTER I BALANSEN","KODE","PORTEFØLJE","SEKTOR","BELØP","KODE"]
[null,">=7559000",null,null,null,"<=9989000",{"$f":"ROUND(DSUM('r50'!$A$11:$G$999,\"BELØP\",Kontroll!$A$11:$F$12),0)","v":0},null,"A1-sektorkoder","kode_50","kode_51"]
[null,null,null,null,null,null,null,null,11100,1362100,401400130]
[null,null,null,null,null,"SUM",{"$f":"G8-G12","v":0},null,11200,1362200,402556000]
[null,null,null,null,null,null,null,null,11208,1363100]
["2) Rapport 20: Inntekter= Kostnader",null,null,null,null,null,null,null,15100,1363200]
["Innaktiv, ikke slett denne kontrollen",null,null,null,null,null,null,null,15200,1369000]
[null,null,null,null,null,null,null,null,15208,1400000]
[null,null,null,null,null,null,null,null,21000,1880000]
["POSTER I ÅRSRESULTATREGNSKAPET","KODE","PORTEFØLJE","SEKTOR","BELØP","KODE",null,null,21008,1899000]
[null,">=10501010",null,null,null,"<=36500000",{"$f":"ROUND(DSUM('r20'!$A$11:$E$999,\"BELØP\",Kontroll!$A$20:$F$21),0)","v":0},null,21009,2554600]
[null,null,null,null,null,null,null,null,23000,2554700]
[null,null,null,null,null,null,null,null,23008,2559600]
["POSTER I ÅRSRESULTATREGNSKAPET","KODE","PORTEFØLJE","SEKTOR","BELØP","KODE",null,null,23009,2559700]
[null,">=40501010",null,null,null,"<=99900000",{"$f":"ROUND(DSUM('r20'!$A$11:$E$999,\"BELØP\",Kontroll!$A$24:$F$25),0)","v":0},null,25000,7559000]
[null,null,null,null,null,null,null,null,31000,7880000]
[null,null,null,null,null,"SUM",{"$f":"G21-G25","v":0},null,32000,8551200]
[null,null,null,null,null,null,null,null,35000,8552200]
["3) Avstemming mellom poster i rapport 20 og 51: Driftskostnader",null,null,null,null,null,null,null,36000]
["Innaktiv, ikke slett denne kontrollen",null,null,null,null,null,null,null,39000]
[null,null,null,null,null,null,null,null,41000]
["POSTER I rapport 20","KODE","PORTEFØLJE","SEKTOR","BELØP","KODE",null,null,45000]
[null,">=54508800",null,null,null,"<=55209000",{"$f":"ROUND(DSUM('r20'!$A$11:$G$999,\"BELØP\",Kontroll!$A32:$F33),0)","v":0},null,49000]
[null,null,null,null,null,null,null,null,49008]
[null,null,null,null,null,null,null,null,49009]
["POSTER I rapport 51","KODE","PORTEFØLJE","SEKTOR","BELØP","KODE",null,null,55000]
[null,">=920091000",null,null,null,"<=920141000",{"$f":"ROUND(DSUM('r51'!$A$11:$H$998,\"BELØP\",Kontroll!$A$36:$F$37),0)","v":0},null,57000]
[null,null,null,null,null,null,null,null,61000]
[null,null,null,null,null,"SUM",{"$f":"G33-G37","v":0},null,65000]
[null,null,null,null,null,null,null,null,70000]
["4) Avstemming mellom rapport 50 og 51: Finansielle derivater aktiva",null,null,null,null,null,null,null,82000]
[null,null,null,null,null,null,null,null,83000]
[null,null,null,null,null,null,null,null,85000]
["POSTER I rapport 50","KODE","PORTEFØLJE","SEKTOR","BELØP","KODE",null,null,8000]
[null,">=1880000",null,null,null,"<=1880000",{"$f":"ROUND(DSUM('r50'!$A$11:$G$998,\"BELØP\",Kontroll!$A44:$F45),0)","v":0},null,90010]
[null,null,null,null,null,null,null,null,90008]
[null,null,null,null,null,null,null,null,90009]
["POSTER I rapport 51","KODE","PORTEFØLJE","SEKTOR","BELØP","KODE"]
[null,">=401881000",null,null,null,"<=401889000",{"$f":"ROUND(DSUM('r51'!$A$11:$H$999,\"BELØP\",Kontroll!$A$48:$F$49),0)","v":0}]
[]
[null,null,null,null,null,"SUM",{"$f":"G45-G49","v":0}]
[]
["5) Avstemming mellom rapport 50 og 51: Finansielle derivater passiva"]
[null,null,null,null,null,null,null,null,"IU-sektorkoder","kode_20","kode_50","kode_51"]
[null,null,null,null,null,null,null,null,1000,10502000,1210010,401362700]
["POSTER I rapport 50","KODE","PORTEFØLJE","SEKTOR","BELØP","KODE",null,null,90000,10700000,1210013,640890000]
[null,">=7880000",null,null,null,"<=7880000",{"$f":"ROUND(DSUM('r50'!$A$11:$G$998,\"BELØP\",Kontroll!$A56:$F57),0)","v":0},null,null,11012110,3080000,810300000]
[null,null,null,null,null,null,null,null,null,11012113,3627000,931051010]
[null,null,null,null,null,null,null,null,null,11008800,3629000,931051020]
["POSTER I rapport 51","KODE","PORTEFØLJE","SEKTOR","BELØP","KODE",null,null,null,11009400,3639000]
[null,">=407881000",null,null,null,"<=407889000",{"$f":"ROUND(DSUM('r51'!$A$11:$H$998,\"BELØP\",Kontroll!$A$60:$F$61),0)","v":0},null,null,16013610,3753000]
[null,null,null,null,null,null,null,null,null,16014000,3759000]
[null,null,null,null,null,"SUM",{"$f":"G57-G61","v":0},null,null,16025500,3840000]
[null,null,null,null,null,null,null,null,null,16058600,3899000]
["6) Avstemming mellom rapport 50 og 51: Premiereserve",null,null,null,null,null,null,null,null,16008800,4859000]
[null,null,null,null,null,null,null,null,null,16009100,5860000]
[null,null,null,null,null,null,null,null,null,16009410,5870000]
["POSTER I rapport 50","KODE","PORTEFØLJE","SEKTOR","BELØP","KODE",null,null,null,16009420,7629000]
[null,">=8010000",null,null,null,"<=8010000",{"$f":"ROUND(DSUM('r50'!$A$11:$G$998,\"BELØP\",Kontroll!$A68:$F69),0)","v":0},null,null,17013610,7637000]
[null,null,null,null,null,null,null,null,null,17014000,7639000]
[null,null,null,null,null,null,null,null,null,17058600,7711000]
["POSTER I rapport 51","KODE","PORTEFØLJE","SEKTOR","BELØP","KODE",null,null,null,17008800,7753000]
[null,">=408015100",null,null,null,"<=408018200",{"$f":"ROUND(DSUM('r51'!$A$11:$H$998,\"BELØP\",Kontroll!$A$72:$F$73),0)","v":0},null,null,17009100,7759000]
[null,null,null,null,null,null,null,null,null,25500000,7901100]
[null,null,null,null,null,"SUM",{"$f":"G69-G73","v":0},null,null,40501010,7901300]
[null,null,null,null,null,null,null,null,null,40501020,7901500]
["7) Avstemming mellom rapport 20 og 51: Forfalte premier brutto",null,null,null,null,null,null,null,null,40501030,8010000]
[null,null,null,null,null,null,null,null,null,40501040,8020000]
[null,null,null,null,null,null,null,null,null,40501060,8030000]
["POSTER I rapport 20","KODE","PORTEFØLJE","SEKTOR","BELØP","KODE",null,null,null,40501070,8060000]
[null,">=10501010",null,null,null,"<=10501030",{"$f":"ROUND(DSUM('r20'!$A$11:$G$999,\"BELØP\",Kontroll!$A80:$F81),0)","v":0},null,null,40502000,8070000]
[null,null,null,null,null,null,null,null,null,40700000,9933000]
[null,null,null,null,null,null,null,null,null,41080000]
["POSTER I rapport 51","KODE","PORTEFØLJE","SEKTOR","BELØP","KODE",null,null,null,41008800]
[null,">=931051010",null,null,null,"<=931051030",{"$f":"ROUND(DSUM('r51'!$A$11:$H$998,\"BELØP\",Kontroll!$A$84:$F$85),0)","v":0},null,null,41009100]
[null,null,null,null,null,null,null,null,null,41009400]
[null,null,null,null,null,"SUM",{"$f":"G81-G85","v":0},null,null,55500000]
[]
["8) Avstemming mellom rapport 50 og 51: Sertifikater"]
[]
[]
["POSTER I rapport 50","KODE","PORTEFØLJE","SEKTOR","BELØP","KODE"]
[null,">=1400000",null,null,null,"<=1400000",{"$f":"ROUND(DSUM('r50'!$A$11:$G$998,\"BELØP\",Kontroll!$A92:$F93),0)","v":0}]
[]
[]
["POSTER I rapport 51","KODE","PORTEFØLJE","SEKTOR","BELØP","KODE"]
[null,">=401400130",null,null,null,"<=401400130",{"$f":"ROUND(DSUM('r51'!$A$11:$H$998,\"BELØP\",Kontroll!$A$96:$F$97),0)","v":0}]
[]
[null,null,null,null,null,"SUM",{"$f":"G93-G97","v":0}]
[]
["9) Avstemming mellom rapport 50 og 51: Børsnoterte aksjer"]
["Innaktiv, ikke slett denne kontrollen"]
[]
["POSTER I rapport 50","KODE","PORTEFØLJE","SEKTOR","BELØP","KODE"]
[null,">=1362100",null,null,null,"<=1362200",{"$f":"ROUND(DSUM('r50'!$A$11:$G$998,\"BELØP\",Kontroll!$A104:$F105),0)","v":0}]
[]
[]
["POSTER I rapport 51","KODE","PORTEFØLJE","SEKTOR","BELØP","KODE"]
[null,">=401362700",null,null,null,"<=401362800",{"$f":"ROUND(DSUM('r51'!$A$11:$H$998,\"BELØP\",Kontroll!$A$108:$F$109),0)","v":0}]
[]
[null,null,null,null,null,"SUM",{"$f":"G105-G109","v":0}]
[]
["10) Avstemming mellom rapport 50 og 51: Landfordeling bankinnskudd"]
[]
[]
["POSTER I rapport 50","KODE","PORTEFØLJE","SEKTOR","BELØP","KODE"]
[null,">=1210010",null,90000,null,"<=1210013",{"$f":"ROUND(DSUM('r50'!$A$11:$G$998,\"BELØP\",(Kontroll!$A$116:$F$117)),0)","v":0}]
[]
[]
["POSTER I rapport 51","KODE","PORTEFØLJE","SEKTOR","BELØP","KODE"]
[null,">=601210010",null,null,null,"<=601210013",{"$f":"ROUND(DSUM('r51'!$A$11:$H$998,\"BELØP\",Kontroll!$A$120:$F$121),0)","v":0}]
[]
[null,null,null,null,null,"SUM",{"$f":"G117-G121","v":0}]
[]
["11) Avstemming mellom rapport 50 og 51: Landfordeling aksjer "]
[]
[]
["POSTER I rapport 50","KODE","PORTEFØLJE","SEKTOR","BELØP","KODE"]
[null,">=1362100",null,">=90008",null,"<=1362200",{"$f":"ROUND(DSUM('r50'!$A$11:$G$998,\"BELØP\",(Kontroll!$A$128:$F$129)),0)","v":0}]
[]
[]
["POSTER I rapport 51","KODE","PORTEFØLJE","SEKTOR","BELØP","KODE"]
[null,">=601362000",null,null,null,"<=601362000",{"$f":"ROUND(DSUM('r51'!$A$11:$H$998,\"BELØP\",Kontroll!$A$132:$F$133),0)","v":0}]
[]
[null,null,null,null,null,"SUM",{"$f":"G129-G133","v":0}]
[]
["12) Avstemming mellom rapport 50 og 51: Landfordeling andeler i KS og ANS inkl. eiendomsselsk (se rad 330 for kontroll av andeler i fond (136.82-89, 60.136.80)"]
[]
[]
["POSTER I rapport 50","KODE","PORTEFØLJE","SEKTOR","BELØP","KODE"]
[null,">=1363100",null,">=90008",null,"<=1363200",{"$f":"ROUND(DSUM('r50'!$A$11:$G$998,\"BELØP\",(Kontroll!$A$140:$F$141)),0)","v":0}]
[]
[]
["POSTER I rapport 51","KODE","PORTEFØLJE","SEKTOR","BELØP","KODE"]
[null,">=601363000",null,null,null,"<=601363000",{"$f":"ROUND(DSUM('r51'!$A$11:$H$998,\"BELØP\",Kontroll!$A$144:$F$145),0)","v":0}]
[]
[null,null,null,null,null,"SUM",{"$f":"G141-G145","v":0}]
[]
["13) Avstemming mellom rapport 50 og 51: Landfordeling ihendehaverobligasjoner, sertifikater"]
[]
[]
["POSTER I rapport 50","KODE","PORTEFØLJE","SEKTOR","BELØP","KODE"]
[null,">=1400000",null,">=90008",null,"<=1400000",{"$f":"ROUND(DSUM('r50'!$A$11:$G$998,\"BELØP\",(Kontroll!$A$152:$F$153)),0)","v":0}]
[]
[]
["POSTER I rapport 51","KODE","PORTEFØLJE","SEKTOR","BELØP","KODE"]
[null,">=601401100",null,null,null,"<=601402200",{"$f":"ROUND(DSUM('r51'!$A$11:$H$998,\"BELØP\",Kontroll!$A$156:$F$157),0)","v":0}]
[]
[null,null,null,null,null,"SUM",{"$f":"G153-G157","v":0}]
[]
["14) Avstemming mellom rapport 50 og 51: Landfordeling finansielle derivater fordringer"]
[]
[]
["POSTER I rapport 50","KODE","PORTEFØLJE","SEKTOR","BELØP","KODE"]
[null,">=1880000",null,">=90008",null,"<=1880000",{"$f":"ROUND(DSUM('r50'!$A$11:$G$998,\"BELØP\",(Kontroll!$A$164:$F$165)),0)","v":0}]
[]
[]
["POSTER I rapport 51","KODE","PORTEFØLJE","SEKTOR","BELØP","KODE"]
[null,">=601880000",null,null,null,"<=601880000",{"$f":"ROUND(DSUM('r51'!$A$11:$H$998,\"BELØP\",Kontroll!$A$168:$F$169),0)","v":0}]
[]
[null,null,null,null,null,"SUM",{"$f":"G165-G169","v":0}]
[]
["15) Avstemming mellom rapport 50 og 51: Landfordeling andre verdipapirer/finansielle eiendeler"]
[]
[]
["POSTER I rapport 50","KODE","PORTEFØLJE","SEKTOR","BELØP","KODE"]
[null,">=1899000",null,">=90008",null,"<=1899000",{"$f":"ROUND(DSUM('r50'!$A$11:$G$998,\"BELØP\",(Kontroll!$A$176:$F$177)),0)","v":0}]
[]
[]
["POSTER I rapport 51","KODE","PORTEFØLJE","SEKTOR","BELØP","KODE"]
[null,">=601890000",null,null,null,"<=601890000",{"$f":"ROUND(DSUM('r51'!$A$11:$H$998,\"BELØP\",Kontroll!$A$180:$F$181),0)","v":0}]
[]
[null,null,null,null,null,"SUM",{"$f":"G177-G181","v":0}]
[]
["16) Avstemming mellom rapport 50 og 51: Landfordeling utlån"]
[]
[]
["POSTER I rapport 50","KODE","PORTEFØLJE","SEKTOR","BELØP","KODE"]
[null,">=2554600",null,">=90008",null,"<=2559700",{"$f":"ROUND(DSUM('r50'!$A$11:$G$998,\"BELØP\",(Kontroll!$A$188:$F$189)),0)","v":0}]
[]
[]
["POSTER I rapport 51","KODE","PORTEFØLJE","SEKTOR","BELØP","KODE"]
[null,">=602550000",null,null,null,"<=602550000",{"$f":"ROUND(DSUM('r51'!$A$11:$H$998,\"BELØP\",Kontroll!$A$192:$F$193),0)","v":0}]
[]
[null,null,null,null,null,"SUM",{"$f":"G189-G193","v":0}]
[]
["17) Avstemming mellom rapport 50 og 51: Landfordeling øvrige fordringer og finansielle eiendeler"]
[]
[]
["POSTER I rapport 50","KODE","PORTEFØLJE","SEKTOR","BELØP","KODE"]
[null,">=3080000",null,90000,null,"<=3899000",{"$f":"ROUND(DSUM('r50'!$A$11:$G$998,\"BELØP\",(Kontroll!$A$200:$F$201)),0)","v":0}]
[]
[]
["POSTER I rapport 51","KODE","PORTEFØLJE","SEKTOR","BELØP","KODE"]
[null,">=603990000",null,null,null,"<=603990000",{"$f":"ROUND(DSUM('r51'!$A$11:$H$998,\"BELØP\",Kontroll!$A$204:$F$205),0)","v":0}]
[]
[null,null,null,null,null,"SUM",{"$f":"G201-G205","v":0}]
[]
["18) Avstemming mellom rapport 50 og 51: Landfordeling bygninger og annen fast eiendom"]
[]
[]
["POSTER I rapport 50","KODE","PORTEFØLJE","SEKTOR","BELØP","KODE"]
[null,">=5860000",null,90000,null,"<=5860000",{"$f":"ROUND(DSUM('r50'!$A$11:$G$998,\"BELØP\",(Kontroll!$A$212:$F$213)),)","v":0}]
[]
[]
["POSTER I rapport 51","KODE","PORTEFØLJE","SEKTOR","BELØP","KODE"]
[null,">=605860000",null,null,null,"<=605860000",{"$f":"ROUND(DSUM('r51'!$A$11:$H$998,\"BELØP\",Kontroll!$A$216:$F$217),0)","v":0}]
[]
[null,null,null,null,null,"SUM",{"$f":"G213-G217","v":0}]
[]
["19) Avstemming mellom rapport 50 og 51: Landfordeling likviditetslån"]
[]
[]
["POSTER I rapport 50","KODE","PORTEFØLJE","SEKTOR","BELØP","KODE"]
[null,">=7559000",null,">=90008",null,"<=7559000",{"$f":"ROUND(DSUM('r50'!$A$11:$G$998,\"BELØP\",(Kontroll!$A$224:$F$225)),0)","v":0}]
[]
[]
["POSTER I rapport 51","KODE","PORTEFØLJE","SEKTOR","BELØP","KODE"]
[null,">=607550000",null,null,null,"<=607550000",{"$f":"ROUND(DSUM('r51'!$A$11:$H$998,\"BELØP\",Kontroll!$A$228:$F$229),0)","v":0}]
[]
[null,null,null,null,null,"SUM",{"$f":"G225-G229","v":0}]
[]
["20) Avstemming mellom rapport 50 og 51: Landfordeling øvrig gjeld"]
[]
[]
["POSTER I rapport 50","KODE","PORTEFØLJE","SEKTOR","BELØP","KODE"]
[null,">=7629000",null,90000,null,"<=7759000",{"$f":"ROUND(DSUM('r50'!$A$11:$G$998,\"BELØP\",(Kontroll!$A$236:$F$237)),0)","v":0}]
[]
[]
["POSTER I rapport 51","KODE","PORTEFØLJE","SEKTOR","BELØP","KODE"]
[null,">=607790000",null,null,null,"<=607790000",{"$f":"ROUND(DSUM('r51'!$A$11:$H$998,\"BELØP\",Kontroll!$A$240:$F$241),0)","v":0}]
[]
[null,null,null,null,null,"SUM",{"$f":"G237-G241","v":0}]
[]
["21) Avstemming mellom rapport 50 og 51: Landfordeling finansielle derivater gjeld"]
[]
[]
["POSTER I rapport 50","KODE","PORTEFØLJE","SEKTOR","BELØP","KODE"]
[null,">=7880000",null,">=90008",null,"<=7880000",{"$f":"ROUND(DSUM('r50'!$A$11:$G$998,\"BELØP\",(Kontroll!$A$248:$F$249)),0)","v":0}]
[]
[]
["POSTER I rapport 51","KODE","PORTEFØLJE","SEKTOR","BELØP","KODE"]
[null,">=607880000",null,null,null,"<=607880000",{"$f":"ROUND(DSUM('r51'!$A$11:$H$998,\"BELØP\",Kontroll!$A$252:$F$253),0)","v":0}]
[]
[null,null,null,null,null,"SUM",{"$f":"G249-G253","v":0}]
[]
["22) Avstemming mellom rapport 50 og 51: Landfordeling ansvarlig lånekapital"]
[]
[]
["POSTER I rapport 50","KODE","PORTEFØLJE","SEKTOR","BELØP","KODE"]
[null,">=8551200",null,">=90008",null,"<=8552200",{"$f":"ROUND(DSUM('r50'!$A$11:$G$998,\"BELØP\",(Kontroll!$A$260:$F$261)),0)","v":0}]
[]
[]
["POSTER I rapport 51","KODE","PORTEFØLJE","SEKTOR","BELØP","KODE"]
[null,">=608550000",null,null,null,"<=608550000",{"$f":"ROUND(DSUM('r51'!$A$11:$H$998,\"BELØP\",Kontroll!$A$264:$F$265),0)","v":0}]
[]
[null,null,null,null,null,"SUM",{"$f":"G261-G265","v":0}]
[]
["23) Avstemming mellom rapport 50 og 51: Landfordeling eierandelskapital"]
[]
[]
["POSTER I rapport 50","KODE","PORTEFØLJE","SEKTOR","BELØP","KODE"]
[null,">=9921200",null,">=90008",null,"<=9921200",{"$f":"ROUND(DSUM('r50'!$A$11:$G$998,\"BELØP\",(Kontroll!$A$272:$F$273)),0)","v":0}]
[]
[]
["POSTER I rapport 51","KODE","PORTEFØLJE","SEKTOR","BELØP","KODE"]
[null,">=609921200",null,null,null,"<=609921200",{"$f":"ROUND(DSUM('r51'!$A$11:$H$998,\"BELØP\",Kontroll!$A$276:$F$277),0)","v":0}]
[]
[null,null,null,null,null,"SUM",{"$f":"G273-G277","v":0}]
[]
["24) Avstemming mellom rapport 50 og 51: Landfordeling annen innskutt egenkapital"]
[]
[]
["POSTER I rapport 50","KODE","PORTEFØLJE","SEKTOR","BELØP","KODE"]
[null,">=9933000",null,90000,null,"<=9933000",{"$f":"ROUND(DSUM('r50'!$A$11:$G$998,\"BELØP\",(Kontroll!$A$284:$F$285)),0)","v":0}]
[]
[]
["POSTER I rapport 51","KODE","PORTEFØLJE","SEKTOR","BELØP","KODE"]
[null,">=609933000",null,null,null,"<=609933000",{"$f":"ROUND(DSUM('r51'!$A$11:$H$998,\"BELØP\",Kontroll!$A$288:$F$289),0)","v":0}]
[]
[null,null,null,null,null,"SUM",{"$f":"G285-G289","v":0}]
[]
["25) Avstemming mellom rapport 50 og 51: Landfordeling gjenforsikringsandel av forsikringsmessige avsetninger"]
[]
[]
["POSTER I rapport 50","KODE","PORTEFØLJE","SEKTOR","BELØP","KODE"]
[null,">=3080000",null,90000,null,"<=3080000",{"$f":"ROUND(DSUM('r50'!$A$11:$G$998,\"BELØP\",(Kontroll!$A$296:$F$297)),0)","v":0}]
[]
[]
["POSTER I rapport 51","KODE","PORTEFØLJE","SEKTOR","BELØP","KODE"]
[null,">=603080000",null,null,null,"<=603080000",{"$f":"ROUND(DSUM('r51'!$A$11:$H$998,\"BELØP\",Kontroll!$A$300:$F$301),0)","v":0}]
[]
[null,null,null,null,null,"SUM",{"$f":"G297-G301","v":0}]
[]
["26) Kontroll r51: Sum av finansielle derivater skal være positiv"]
[]
["Innaktiv, ikke slett denne kontrollen"]
["POSTER I rapport 50","KODE","PORTEFØLJE","SEKTOR","BELØP","KODE"]
[null,{"$f":"1880000","v":1880000},null,null,null,null,{"$f":"ROUND(DSUM('r50'!$A$11:$G$998,\"BELØP\",(Kontroll!$A$308:$F$309)),0)","v":0}]
["POSTER I rapport 50","KODE","PORTEFØLJE","SEKTOR","BELØP","KODE"]
[null,{"$f":"7880000","v":7880000},null,null,null,null,{"$f":"ROUND(DSUM('r50'!$A$11:$G$998,\"BELØP\",(Kontroll!$A$310:$F$311)),0)","v":0}]
[]
["POSTER I rapport 51","KODE","PORTEFØLJE","SEKTOR","BELØP","KODE"]
[null,">=401881000",null,null,null,"<=401889000",{"$f":"ROUND(DSUM('r51'!$A$11:$H$998,\"BELØP\",Kontroll!$A$313:$F$314),0)","v":0}]
["POSTER I rapport 51","KODE","PORTEFØLJE","SEKTOR","BELØP","KODE"]
[null,">=407881000",null,null,null,"<=407889000",{"$f":"ROUND(DSUM('r51'!$A$11:$H$998,\"BELØP\",Kontroll!$A$315:$F$316),0)","v":0}]
["POSTER I rapport 51","KODE","PORTEFØLJE","SEKTOR","BELØP","KODE"]
[null,601880000,null,null,null,null,{"$f":"ROUND(DSUM('r51'!$A$11:$H$998,\"BELØP\",Kontroll!$A$317:$F$318),0)","v":0}]
["POSTER I rapport 51","KODE","PORTEFØLJE","SEKTOR","BELØP","KODE"]
[null,607880000,null,null,null,null,{"$f":"ROUND(DSUM('r51'!$A$11:$H$998,\"BELØP\",Kontroll!$A$319:$F$320),0)","v":0}]
[]
[]
["27) Kontroll r51: Sum av art 86 skal være større enn 1"]
[]
[]
["POSTER I rapport 51","KODE","PORTEFØLJE","SEKTOR","BELØP","KODE"]
[null,">=860109010",null,null,null,"<=860509020",{"$f":"ROUND(DSUM('r51'!$A$11:$H$998,\"BELØP\",Kontroll!$A$326:$F$327),0)","v":0}]
[]
[]
["28) Avstemming mellom rapport 50 og 51: Landfordeling andeler i fond (se rad 137 for kontroll av andeler i KS og ANS inkl. eiendomsselsk. (136.31-32, 60.136.30)"]
[]
[]
["POSTER I rapport 50","KODE","PORTEFØLJE","SEKTOR","BELØP","KODE"]
[null,">=1368200",null,90000,null,"<=1368900",{"$f":"ROUND(DSUM('r50'!$A$11:$G$998,\"BELØP\",(Kontroll!$A$333:$F$334)),0)","v":0}]
[]
[]
["POSTER I rapport 51","KODE","PORTEFØLJE","SEKTOR","BELØP","KODE"]
[null,">=601368000",null,null,null,"<=601368000",{"$f":"ROUND(DSUM('r51'!$A$11:$H$998,\"BELØP\",Kontroll!$A$337:$F$338),0)","v":0}]
[]
[null,null,null,null,null,"SUM",{"$f":"G334-G338","v":0}]
[]
["Innaktiv, ikke slett denne kontrollen"]
["POSTER I rapport 20","KODE","PORTEFØLJE","SEKTOR","BELØP","KODE"]
[null,">= 56508800",null,null,null,"<=56508800",{"$f":"ROUND(DSUM('r20'!$A$11:$G$999,\"BELØP\",(Kontroll!$A$343:$F$344)),0)","v":0}]
[]
[]
["29) Avstemming mellom rapport 50 og 51: Børsnoterte aksjer"]
["Revidert kontroll, tidligere kontroll 9"]
[]
["POSTER I rapport 50","KODE","PORTEFØLJE","SEKTOR","BELØP","KODE"]
[null,">=1362100",null,null,null,"<=1362200",{"$f":"ROUND(DSUM('r50'!$A$11:$G$998,\"BELØP\",Kontroll!$A350:$F351),0)","v":0}]
[]
["POSTER I rapport 50","KODE","PORTEFØLJE","SEKTOR","BELØP","KODE"]
[null,{"$f":"1369000","v":1369000},null,null,null,null,{"$f":"ROUND(DSUM('r50'!$A$11:$G$998,\"BELØP\",Kontroll!$A353:$F354),0)","v":0}]
[]
[]
["POSTER I rapport 51","KODE","PORTEFØLJE","SEKTOR","BELØP","KODE"]
[null,">=401362700",null,null,null,"<=401362800",{"$f":"ROUND(DSUM('r51'!$A$11:$H$998,\"BELØP\",Kontroll!$A$108:$F$109),0)","v":0}]
[]
[null,null,null,null,null,"SUM",{"$f":"G351+G354-G358","v":0}]
[]
["30) Avstemming mellom sertifikater i art 40 og art 60"]
[]
[]
["POSTER I rapport 51","KODE","PORTEFØLJE","SEKTOR","BELØP","KODE"]
[null,401400130,null,">=90008",null,null,{"$f":"ROUND(DSUM('r51'!$A$11:$H$998,\"BELØP\",Kontroll!$A365:$F366),0)","v":0}]
[]
["POSTER I rapport 51","KODE","PORTEFØLJE","SEKTOR","BELØP","KODE"]
[null,">=601401100",null,null,null,"<=601401200",{"$f":"ROUND(DSUM('r51'!$A$11:$H$998,\"BELØP\",Kontroll!$A368:$F369),0)","v":0}]
[]
[]
[]
[null,null,null,null,null,"SUM",{"$f":"G366-G369","v":0}]
[]
["31) Rapport 20: Inntekter= Kostnader"]
[]
[]
[]
["POSTER I ÅRSRESULTATREGNSKAPET","KODE","PORTEFØLJE","SEKTOR","BELØP","KODE"]
[null,">=10501010",null,null,null,"<=36500000",{"$f":"ROUND(DSUM('r20'!$A$11:$E$999,\"BELØP\",Kontroll!$A$379:$F$380),0)","v":0}]
[]
["POSTER I ÅRSRESULTATREGNSKAPET","KODE","PORTEFØLJE","SEKTOR","BELØP","KODE"]
[null,">=89103000",null,null,null,"<=89278900",{"$f":"ROUND(DSUM('r20'!$A$11:$E$999,\"BELØP\",Kontroll!$A$382:$F$383),0)","v":0}]
[]
[]
["POSTER I ÅRSRESULTATREGNSKAPET","KODE","PORTEFØLJE","SEKTOR","BELØP","KODE"]
[null,">=40501010",null,null,null,"<=80509260",{"$f":"ROUND(DSUM('r20'!$A$11:$E$999,\"BELØP\",Kontroll!$A$386:$F$387),0)","v":0}]
[]
["POSTER I ÅRSRESULTATREGNSKAPET","KODE","PORTEFØLJE","SEKTOR","BELØP","KODE"]
[null,{"$f":"99900000","v":99900000},null,null,null,null,{"$f":"ROUND(DSUM('r20'!$A$11:$E$999,\"BELØP\",Kontroll!$A$389:$F$390),0)","v":0}]
[]
[null,null,null,null,null,"SUM",{"$f":"G380+G383-G387-G390","v":0}]
[]
["32) Avstemming mellom rapport 50 og 51: Landfordeling aksjekapital"]
[]
[]
["POSTER I rapport 50","KODE","PORTEFØLJE","SEKTOR","BELØP","KODE"]
[null,{"$f":"9921000","v":9921000},null,">=90008",null,null,{"$f":"ROUND(DSUM('r50'!$A$11:$G$998,\"BELØP\",(Kontroll!$A$397:$F$398)),0)","v":0}]
[]
[]
["POSTER I rapport 51","KODE","PORTEFØLJE","SEKTOR","BELØP","KODE"]
[null,{"$f":"609921000","v":609921000},null,null,null,null,{"$f":"ROUND(DSUM('r51'!$A$11:$H$998,\"BELØP\",Kontroll!$A$401:$F$402),0)","v":0}]
[]
[null,null,null,null,null,"SUM",{"$f":"G398-G402","v":0}]